{"text_format":"1","workbook":"xlsx","n_sheets":36,"sheets":["Team Lead Only","Message Board","AboutThisTemplate","Instructions","GeneralInfo","Sources & Uses","Reserve Sizing","Rents & Operations","Dashboard Report","DashData","Documentation","Trending 15 years","AgencyReviewPortal","CNAExeSum","CNASite","CNAArchitectural","CNAMech & Electric","CNADwelling Units","MFIS ProjectA","MFIS ProjectB","MFIS ProjectC","MFIS ProjectD","MFIS ProjectE","MFIS ProjectF","MFIS","CNAArchive","Sheet2","MPRStaffOnly","9% Rent Floor Counties","QA","QA Analysis","XferArchivePreMPR","FY Comparisons FY12_FY13","LIHTC","Bev's Work Space","Servicing Info Print Page"],"not_rendered":{"charts":5,"images":46,"macros":1,"external_links":4,"defined_names":19,"comments":5,"pivot_tables":0},"unopened":[],"bounds":{"document_bytes":16777216,"sheet_cells":100000,"rows_first":2000,"rows_last":500,"rows_between":2000,"halvings":0,"cell_chars":16384,"cell_head_chars":4096},"cells_cut":0,"cells_raw":0,"read":"whole","date_system":"1900"}

{"sheet":"Team Lead Only","index":0,"n_rows":20,"n_cols":8,"rows_kept":20,"cut":false,"hidden":true,"merged":[[8,7,8,14]]}
[null,null,"Note - This page will be not be in the final template - this is for our use during testing"]
[null,null,"This Sheet is used to copy data from a UWT to the Prelminary Assessment"]
[null,null,"Use this to Unprotect all Sheets: "]
[]
[null,null,"Copy Data from a UWT for the purpose of comparison and error trapping"]
[]
[null,null,"Open your UWT and return here to type the name of it:"]
[]
[]
[null,null,null,null,null,null,null,"Type the File Name Above i.e., GA-PIGEON BLUFF APARTMENTS-797202913014-xfer.xlsm"]
[null,null,null,null,null,null,null,"you must type this correctly and it must include the file extension such as .xlsm"]
[]
[]
[null,null,"Then click to Copy from UWT button:"]
[null,null,"Wait (1 mins or so) for \"Import Complete\""]
[null,null,"Save this file with a new name"]
[null,null,"Check over for omissions"]
[null,null,"Correct omissions as necessary"]
[null,null,"Compare results for RTO etc."]
[null,null,"Close and do not save UWT",null,null,null,null,"(Not all features of Rents & Operations Page enabled with this feature)"]

{"sheet":"Message Board","index":1,"n_rows":0,"n_cols":0,"rows_kept":0,"cut":false,"hidden":false,"merged":[]}

{"sheet":"AboutThisTemplate","index":2,"n_rows":0,"n_cols":0,"rows_kept":0,"cut":false,"hidden":false,"merged":[]}

{"sheet":"Instructions","index":3,"n_rows":30,"n_cols":14,"rows_kept":30,"cut":false,"hidden":false,"merged":[[0,1,1,17],[2,1,2,16]]}
[null,"Preliminary  Transfer Assessment  Template"]
[]
[null,"This Spreadsheet is a tool to assist our Partners and Agency Officials to determine the possible scenarios for structuring a transfer.  It does not replace policy, regulation or good judgment.  Some situations could result in a miscalculation or unanticipated result.  Careful analysis of the results is necessary.  Submission of this tool to the agency does not constitute approval."]
[null,null,null,null,null,null,null,null,null,null,null,"(You must have macros enabled - Excel Options, Trust Center Settings, Enable All Macros)"]
[null,null,null,null,null,null,null,null,null,null,2,"Upload the Rents & Operations Page with your MFIS FIN1700 Report"]
[null,null,null,null,null,null,null,null,null,null,null,null,null,"Click \"Project A\" Button and Navigate to Your MFIS FIN1700 Report"]
[null,null,null,null,null,null,null,null,null,null,null,null,null,"This Template can consolidate operations of up to 6 Projects"]
[1,"The User can enter  historial data and budget directly on Rents and Operations Page.",null,null,null,null,null,null,null,null,null,"Consult with Agency Staff regarding eligibility and consolidation of properties in like markets"]
[null," A MFIS FIN1700 Report can also be used for each Project. Each must be saved as an",null,null,null,null,null,null,null,null,null,"(Stop at Project A if you don’t have a consolidation, or use the buttons below for "]
[null,"Excel Workbook.  This will be used populate your Rents and Operations Page. ",null,null,null,null,null,null,null,null,null,"Consolidation of Additional MFIS FIN1700 Reports)"]
[null,"The RD Field Staff must pull Report after proper authorization to release"]
[null," information is received.  "]
[null,"The Screen Print here gives details for obtaining the report from MFIS:",null,null,null,null,null,null,null,null,3,"Upload the Reserve Sizing Page with your CNA data."]
[null,null,null,null,null,null,null,null,null,null,null,"A CNA in excel format is required for this feature.  This should be a \"Post Rehab CNA\""]
[null,null,null,null,null,null,null,null,null,null,null,"                                   Click \"Project A\" Button and Navigate to Your Excel CNA "]
[null,null,null,null,null,null,null,null,null,null,null,null,null,"(Click Don't Update if message box appears)  "]
[null,null,null,null,null,null,null,null,null,null,null,"This Template can consolidate CNA Executive Summary pages for up to 6 Projects"]
[null,null,null,null,null,null,null,null,null,null,null,"(Stop at Project A if you don't have a consolidation, or use the buttons below for"]
[null,null,null,null,null,null,null,null,null,null,null,"Consolidation of Additional CNA Executive Summary Pages. View results on Reserve Sizing Page"]
[]
[]
[null,null,null,null,null,null,null,null,null,null,4,"Complete General Info, Sources & Uses, "]
[null,null,null,null,null,null,null,null,null,null,null,"Rents & Operations, Reserve Sizing"]
[null,null,null,null,null,null,null,null,null,null,null," by typing in data as instructed in light yellow cells"]
[null,null,null,null,null,null,null,null,null,null,null,"Look for 2 drop down boxes on Rents & Operations for"]
[null,null,null,null,null,null,null,null,null,null,null,"LIHTC Rents and State Averages.  Make your selections"]
[]
[null,null,null,null,null,null,null,null,null,null,5,"View results on the \"Dashboard Report\""]
[null,null,null,null,null,null,null,null,null,null,null,"Save your template with a unique name. Change \"Save as Type” "]
[null,null,null,null,null,null,null,null,null,null,null,"to Excel Macro-Enabled Workbook (*.xlsm)"]

{"sheet":"GeneralInfo","index":4,"n_rows":82,"n_cols":12,"rows_kept":82,"cut":false,"hidden":false,"merged":[[68,8,70,8],[68,7,70,7],[64,1,64,10],[53,1,60,10],[3,7,3,9],[4,7,4,9],[68,9,70,9],[68,10,70,10],[68,4,70,4],[68,5,70,5],[68,6,70,6],[68,1,70,1],[68,2,70,2],[68,3,70,3],[27,8,27,10],[18,8,18,10],[27,1,27,2],[27,3,27,5],[27,6,27,7],[26,1,26,2],[21,1,21,2],[24,1,24,2],[26,3,26,5],[26,6,26,7],[25,1,25,2],[22,1,22,2],[24,6,24,7],[25,6,25,7],[24,3,24,5],[25,3,25,5],[28,3,28,5],[28,6,28,7],[28,8,28,10],[39,1,39,10],[40,1,49,10],[11,2,11,5],[11,7,11,9],[12,2,12,5],[12,7,12,9],[5,2,5,4],[5,7,5,9],[6,2,6,9],[7,2,7,9],[8,2,8,9],[5,0,5,1],[22,6,22,7],[18,3,18,5],[19,3,19,5],[20,3,20,5],[20,1,20,2],[6,0,6,1],[7,0,7,1],[19,6,19,7],[16,2,16,5],[9,2,9,5],[9,7,9,9],[14,8,14,9],[17,8,17,10],[17,1,17,2],[10,2,10,9],[17,3,17,5],[18,1,18,2],[19,8,19,10],[23,1,23,2],[23,6,23,7],[21,3,21,5],[22,3,22,5],[20,8,20,10],[20,6,20,7],[18,6,18,7],[19,1,19,2],[21,8,21,10],[21,6,21,7]]}
[]
[]
[]
[null,null,null,null,null,null,"Property State:"]
[null,null,null,null,null,null,"Property Town:"]
["PROPERTY NAME",null,"Forest View Apartments",null,null,null,"Current Ownership Entity","Forest View Limited Partnership"]
["APPLICANT"]
["(Legal Name):",null,"New Forest View Apartments LLLP"]
[null,"Address:","123 Affordable Lane, Somewhere City, GA 30222"]
[null,null,null,null,null,null,"Current Case Number:","10-31-012345678"]
[null,"Principal(s):","Johnny Football, GP"]
[null,"Contact Person:","Johnny Football, GP",null,null,null,"Email Address:","jfootball@nfl.com"]
[null,"Telephone Number:","555-555-5555",null,null,null,"Cell Number:"]
[]
["    Identity of interests Buyer & Seller:",null,null,true,null,null,null,"Non Profit:"]
[null,null,null,null,null,null,null,false]
[null,"Management Agent:","ABC Management Inc"]
[null,"HUD CBSA (Core Based Statistical Area) for AMI - Typically County",null,"Fulton County",null,null,"Initial Investment Per Loan Agreement",null,63000]
[null,"Property Location",null,"Somewhere City, GA",null,null,"As Is Market Appraised Value",null,1375000]
[null,"Compliance Status (A, B, C) Per MFIS",null,{"$f":"'MFIS ProjectA'!L2","v":"A"},null,null,"As Improved Security Value (includes ICS)",null,1797000]
[null,"Date Placed In Service",null,"1998-07-10",null,null,"Date of Appraisal",null,"2014-05-15"]
[null,"Existing Reserve Balance",null,30000,null,null,"Date Current Approved Rents ",null,"2014-01-01"]
[null,"RD Required Reserve Balance",null,29999,null,null,"Revenue Units  Current Rental & Utility Rates",null,"# Units","Rent","Utility"]
[null,"Number Non Revenue Units",null,1,null,null,"1 Bedroom",null,10,471,128]
[null,"Est. Beginning General Fund",null,25000,null,null,"2 Bedroom",null,20,511,142]
[null,"Date of Capital Needs Assessment",null,"2014-08-08",null,null,"3 Bedroom",null,5,574,153]
[null,"CNA Prepared As Improved?",null,null,null,null,"4 Bedroom"]
[null,"Current Authorized RTO",null,30000,null,null,"RA Units to Be Transferred",null,35]
[null,"Balances As Of:",null,{"$f":"'Sources & Uses'!H32","v":0},null,null,"Number Vouchers or Other Subsidy",null,0]
[null,"2014-12-31","Obligation Date Prior to \n10/1/91\n (Yes or No)","Original Monthly  Payment\n(Subsidized Amt)","Original Amt:","Balance:","Outstanding RD Loan","Obligation Date Prior to \n10/1/91\n (Yes or No)","Original Monthly  Payment\n(Subsidized Amt)","Original Amt:","Balance:"]
[null,"Loan 1","Yes",2000,1201000,1114909,"Loan 6",null,null,0,0]
[null,"Loan 2","No",22,35000,10000,"Loan 7"]
[null,"Loan 3",null,null,null,0,"Loan 8"]
[null,"Loan 4",null,null,null,0,"Loan 9"]
[null,"Loan 5",null,null,null,null,"Loan 10",null,null,null,0]
[null,"Lenders Required Reserve Unit/Year",null,350,null,null,"Lender's Required Operating Vacancy & Bad Debt",null,7.0000000000000007E-2]
[null,"HFA's Required Reserve Unit/Year",null,350,null,null,"HFA's Required Operating Vacancy & Bad Debt",null,7.0000000000000007E-2]
[null,"Lenders Required O & M Per Unit",null,3500,null,null,"HFA's Required O & M Per Unit",null,3000]
[null,"% Cushion for Operations & incidental",null,0.01]
[null,"Additional Information About this Transaction:  Will this involve multiple properties, is this part of a portfolio?  Is this a Consolidation? What repairs are being proposed?"]
[]
[]
[]
[]
[]
[]
[]
[]
[]
[]
[]
[null,"Include information below about tenant protection and affect of the proposed rent increase on the tenant population.  "]
[null,"Proposed rents supported in the community? Document Need and Demand.  Discuss issues with vacancy losses and how mitigated by this transaction"]
[]
[]
[]
[]
[]
[]
[]
[]
[]
[]
[]
[null,"Agency Loans Additional Information (Optional for Prelminary Assessment)"]
[null,"New Rates & Terms can be offered for Assumed Agency Loans.  Term can not exceed 30 years.  Amortization period can be extended to the remaining",null,null,null,null,null,null,null,null,"Yes","New"]
[null," useful life (per  Appraisal) or 50 years which ever is less.  Enter the Amortization Period in Months to use below",null,null,null,null,null,600,{"$f":"IF(OR(H67=\"\",H67=0),600,H67)","v":600},"No entry = 600)","No","Same"]
[]
[null,"Loan Number","Original Loan Amount","Original Loan Term (Months)","Current Note  Interest Rate","Original Closing Date","Amt UPB ","Obligation Date Prior to 10/1/91\nYes or No","Original Monthly Loan Payment (Subdized)","Selection: New Rates & Terms\nOR Same Rates & Terms","Installments "]
[]
[]
[null,{"$f":"B31","v":"Loan 1"},{"$f":"E31","v":1201000},600,0.09,null,{"$f":"F31","v":1114909},{"$f":"IF(C31=\"Yes\",\"Yes\",\"No\")","v":"Yes"},{"$f":"D31","v":2000},"New",{"$f":"IF(J72=\"New\",PMT(1%/12,$I$67,-G72),I72)","v":2362.0370682840489}]
[null,{"$f":"B32","v":"Loan 2"},{"$f":"E32","v":35000},600,6.5000000000000002E-2,null,{"$f":"F32","v":10000},{"$f":"IF(C32=\"Yes\",\"Yes\",\"No\")","v":"No"},{"$f":"IF(D32=\"\",\"\",D32)","v":22},"New",{"$f":"IF(J73=\"New\",PMT(1%/12,$I$67,-G73),I73)","v":21.185918028144442}]
[null,"Loan 3",0,null,null,null,0,"No",{"$f":"IF(D33=\"\",\"\",D33)","v":""},"New",0]
[null,"Loan 4",0,null,null,null,0,"No",{"$f":"IF(D34=\"\",\"\",D34)","v":""},"New",0]
[null,"Loan 5",0,null,null,null,0,"No",{"$f":"IF(D35=\"\",\"\",D35)","v":""},"New",0]
[null,{"$f":"G31","v":"Loan 6"},{"$f":"J31","v":0},null,null,null,{"$f":"K31","v":0},"No",{"$f":"IF(I31=\"\",\"\",I31)","v":""},"New",0]
[null,{"$f":"G32","v":"Loan 7"},{"$f":"J32","v":0},null,null,null,{"$f":"K32","v":0},"No",{"$f":"IF(I32=\"\",\"\",I32)","v":""},"New",0]
[null,"Loan 8",0,null,null,null,0,"No",{"$f":"IF(I33=\"\",\"\",I33)","v":""},"New",0]
[null,"Loan 9",0,null,null,null,0,"No",{"$f":"IF(I34=\"\",\"\",I34)","v":""},"New",0]
[null,"Loan 10",0,null,null,null,0,"No",{"$f":"IF(I35=\"\",\"\",I35)","v":""},"New",0]
[null,"TOTALS",{"$f":"SUM(C72:C81)","v":1236000},null,null,null,{"$f":"SUM(G72:G81)","v":1124909},null,{"$f":"SUM(I72:I81)","v":2022},null,{"$f":"SUM(K72:K81)","v":2383.2229863121934}]

{"sheet":"Sources & Uses","index":5,"n_rows":109,"n_cols":9,"rows_kept":109,"cut":false,"hidden":false,"merged":[[4,3,4,6],[72,4,72,7],[102,4,102,7],[107,4,107,7],[59,4,59,7],[64,4,64,7],[60,4,60,7],[65,4,65,7],[71,4,71,7],[13,7,14,7],[11,7,12,7],[17,7,18,7],[15,7,16,7],[19,5,20,5],[19,6,20,6],[1,1,1,7],[109,9,109,10],[103,1,103,7],[79,9,79,10],[80,9,80,10],[81,9,81,10],[102,9,102,10],[108,9,108,10],[72,9,72,10],[6,7,7,7],[9,2,10,2],[9,3,10,3],[9,4,10,4],[9,5,10,5],[9,6,10,6],[9,7,10,7],[6,2,7,2],[6,3,7,3],[6,4,7,4],[6,5,7,5],[6,6,7,6],[11,2,12,2],[11,3,12,3],[11,4,12,4],[11,5,12,5],[11,6,12,6],[13,2,14,2],[13,3,14,3],[13,4,14,4],[13,5,14,5],[13,6,14,6],[15,2,16,2],[15,3,16,3],[15,4,16,4],[15,5,16,5],[15,6,16,6],[17,2,18,2],[17,3,18,3],[17,4,18,4],[17,5,18,5],[17,6,18,6],[29,2,30,2],[31,2,32,2],[26,4,26,7],[31,4,31,6],[19,7,20,7],[19,2,20,2],[19,3,20,3],[19,4,20,4]]}
[]
[null,{"$f":"IF(GeneralInfo!C6>0,GeneralInfo!C6,\"\")","v":"Forest View Apartments"}]
[null,"Funding Sources",{"$f":"IF(I24>0,\"Warning A Balloon Payment is Due on the 3rd Party Loan Prior to RD Term\",\"\")","v":""}]
[null,null,{"$f":"IF(D37=D39,\"\", \"Warning Sources & Uses Do Not Balance\")","v":""}]
[null,"Agency Loans Assumed \n(As Completed on \"General Information\")","Amount \n","See General Information Tab and Loan Detail Section by Using Link below for Lagency Loan Details",null,null,null,"Annual\n Debt\n Service"]
[{"$f":"SUMIF(GeneralInfo!$H$72:$H$81,\"Yes\",GeneralInfo!$K$72:$K$81)*12","v":28344.444819408585},"Assume Existing RD 515 Loan(s)\n(Pre Credit Reform)",{"$f":"SUMIF(GeneralInfo!H72:H81,\"Yes\",GeneralInfo!G72:G81)","v":1114909},false,null,null,null,{"$f":"IF(D6=FALSE,SUMIF(GeneralInfo!$H$72:$H$81,\"Yes\",GeneralInfo!$K$72:$K$81)*12,0)","v":28344.444819408585}]
[{"$f":"SUMIF(GeneralInfo!$H$72:$H$81,\"Yes\",GeneralInfo!$K$72:$K$81)*12","v":28344.444819408585},"Assume Existing RD 515 Loan(s)",{"$f":"SUMIF(GeneralInfo!H72:H81,\"=No\",GeneralInfo!G72:G81)","v":10000},false,null,null,null,{"$f":"IF(D7=FALSE,SUMIF(GeneralInfo!H72:H81,\"No\",GeneralInfo!K72:K81)*12,0)","v":254.23101633773331}]
[null,"(Post Credit Reform)",null,null,null,null,null,null,{"$f":"IF(F6>F7,F6,F7)","v":0}]
[null,"Source of New Funding",null,"Check \nIf Non-Amortizing","Rate\n(%)","Term \n(Years)","Amort. \nPeriod\n (Years)","Annual\n Debt\n Service"]
[null,"RD 538 Loan - Specify Lender:",350000,false,4.8000000000000001E-2,40,40,{"$f":"IFERROR(IF(D10=FALSE,PMT(E10/12,G10*12,-C10,0)*12,0),\" \")","v":19699.108145092396}]
[null,"Churchill Mortgage Investors",null,null,null,null,null,null,{"$f":"IF(F10<G10,IF(AND(F10>0,F10<I8),1,\"\"),\"\")","v":""}]
[null,"Specify Lender:",250000,false,0.05,40,40,{"$f":"IFERROR(IF(D12=FALSE,PMT(E12/12,G12*12,-C12,0)*12,0),\" \")","v":14465.898017386879}]
[null,"Another Loan",null,null,null,null,null,null,{"$f":"IF(F12<G12,IF(AND(F12>0,F12<I8),1,\"\"),\"\")","v":""}]
[null,"Specify Lender:",null,false,null,null,null,{"$f":"IFERROR(IF(D14=FALSE,PMT(E14/12,G14*12,-C14,0)*12,0),\" \")","v":" "}]
[null,null,null,null,null,null,null,null,{"$f":"IF(F14<G14,IF(AND(F14>0,F14<I8),1,\"\"),\"\")","v":""}]
[null,"Specify Lender:",null,false,null,null,null,{"$f":"IFERROR(IF(D16=FALSE,PMT(E16/12,G16*12,-C16,0)*12,0),\" \")","v":" "}]
[null,null,null,null,null,null,null,null,{"$f":"IF(F16<G16,IF(AND(F16>0,F16<I8),1,\"\"),\"\")","v":""}]
[null,"Specify Lender:",null,false,null,null,null,{"$f":"IFERROR(IF(D18=FALSE,PMT(E18/12,G18*12,-C18,0)*12,0),\" \")","v":" "}]
[null,null,null,null,null,null,null,null,{"$f":"IF(F18<G18,IF(AND(F18>0,F18<I8),1,\"\"),\"\")","v":""}]
[null,"Specify Lender:",null,false,null,null,null,{"$f":"IFERROR(IF(D20=FALSE,PMT(E20/12,G20*12,-C20,0)*12,0),\" \")","v":" "}]
[null,null,null,null,null,null,null,null,{"$f":"IF(F20<G20,IF(AND(F20>0,F20<I8),1,\"\"),\"\")","v":""}]
[null,"Reserve Funds Used for Rehab",0,{"$f":"\"Estimated pricing on sale of Federal Tax Credits:  \"&G22","v":"Estimated pricing on sale of Federal Tax Credits:  0.85"},null,null,0.85]
[null,"Excess Reserve Funds Used for Seller Equity",0]
[null,"Equity: Federal 9% LIHTC",2746672,null,null,null,null,{"$f":"SUM(H10:H23)","v":34165.006162479272},{"$f":"SUM(I10:I21)","v":0}]
[null,"Equity: Federal 4% LIHTC"]
[null,"Equity: Historic Tax Credits"]
[null,"Equity: State Tax Credits",1136127,null,"Project Reserve for Replacement Account"]
[null,"Deferred Developer Fees",11739,null,"Existing Reserve Balance     (GeneralInfo)",null,null,{"$f":"GeneralInfo!D22","v":30000}]
[null,"Owner Investment",null,null,"   RD Required Balance         (GeneralInfo)",null,null,{"$f":"GeneralInfo!D23","v":29999}]
[null,"Other Specify:",null,null,"Initial Up Front Reserve Deposit  (IDRR)",null,null,{"$f":"C99","v":230000}]
[null,null,null,null,"Reserve Funds Used for Rehab",null,null,{"$f":"C22","v":0}]
[null,"Other Specify:",null,null,"Excess Reserve Funds Used for Seller Equity",null,null,{"$f":"C23","v":0}]
[null,null,null,null,"Estimated Balance at Transfer",null,null,{"$f":"H28+H30-H31-H32","v":260000}]
[null,"Total Sources:",{"$f":"SUM(C6:C33)","v":5619447},null,{"$f":"IF(AND(H32>1,H28-H29>=H32),\"Excess Reserve to Seller From Ahead Status\",IF(H32=0,\"\",\"Excess Reserve to Seller Exceeds Allowed Amt\"))","v":""}]
[]
[]
[null,"Funding Sources",null,{"$f":"C34","v":5619447}]
[]
[null,"Development Cost and Acquisition",null,{"$f":"C109","v":5619447}]
[]
[null,null,null,{"$f":"IF(D37=D39,\"Sources & Uses in Balance\", \"Sources & Uses Do Not Balance\")","v":"Sources & Uses in Balance"}]
[null,null,null,{"$f":"D39-D37","v":0}]
[]
[]
[]
[]
[null,"Development Cost and Acquisition"]
[]
[null,"Development Cost Element",null,"Total","Comment"]
[null,"Hard Costs"]
[null,"1. On site improvements",null,{"$f":"C51","v":0}]
[null,"2. Rehabilitation",1737280,{"$f":"C52","v":1737280}]
[null,"3. Accessory Buildings",146000,{"$f":"C53","v":146000}]
[null," SUBTOTAL  (items 1 to 3)",{"$f":"SUM(C51:C53)","v":1883280},{"$f":"C54","v":1883280}]
[null,"Contractor Fees"]
[null,"4. General Requirements",112996,{"$f":"C56","v":112996}]
[null,"5. General Overhead",37665,{"$f":"C57","v":37665}]
[null,"6. Other Fees Paid by Contractor",null,{"$f":"C58","v":0}]
[null,"7. Builders Profit",112296,{"$f":"C59","v":112296}]
[null," SUBTOTAL  (items 4 to 7)",{"$f":"SUM(C56:C59)","v":262957},{"$f":"C60","v":262957}]
[null,"Architect /Engineer / Survey"]
[null,"8. Architectural Fees",64800,{"$f":"C62","v":64800}]
[null,"9. Survey and Engineering",25000,{"$f":"C63","v":25000}]
[null,"10. Other",null,{"$f":"C64","v":0}]
[null," SUBTOTAL  (items 8 to 10)",{"$f":"SUM(C62:C64)","v":89800},{"$f":"C65","v":89800}]
[null,"Financing & Interim Cost"]
[null,"11. Interest - Construction",98300,{"$f":"C67","v":98300}]
[null,"12. Loan Origination / Commit Fees",27303,27303]
[null,"13. Other Fees (comment)",93667,93667]
[null,"14. Other Fees (comment)",null,0]
[null,"15. Other Fees (comment)",null,0]
[null," SUBTOTAL  (items 11 to 15)",{"$f":"SUM(C67:C71)","v":219270},219270]
[null,"Soft Cost & Other Expenses"]
[null,"16. Legal Counsel - Real Estate \n(Closing Docs and Title Work)",89998,{"$f":"C74","v":89998}]
[null,"17. Title Insur & Recording Fees",null,{"$f":"C75","v":0}]
[null,"18. Appraisals",10000,10000]
[null,"19. Market Study",7500,7500]
[null,"20. Environmental Reports and Testing",18000,18000]
[null,"21. Other (comment)",5000,5000,"C N A / PNA"]
[null,"22. Other (comment)",null,0]
[null,"23. Other (comment)",null,0]
[null,"24. Other (comment",null,0]
[null,"25. Other (comment)",null,0]
[null," SUBTOTAL  (items 16 to 25)",{"$f":"SUM(C74:C83)","v":130498},{"$f":"C84","v":130498}]
[null,"TOTAL ELIGIBLE COST (RD 515 & 538 Program) Items 1 to 25",{"$f":"SUM(C54,C60,C65,C72,C84)","v":2585805},{"$f":"C85","v":2585805}]
[null,"Entity and Syndication",null,"Total","Comment"]
[null,"26. Developer Fee",667754,{"$f":"C87","v":667754},"(Eligible for RD 538 Program)"]
[null,"27. Entity Organization & Legal",55367,{"$f":"C88","v":55367}]
[null,"28. External Legal Counsel",50000,{"$f":"C89","v":50000}]
[null,"29. Syndication Fees / Commissions",null,0]
[null,"30. Tax Opinion & Entity Accounting",250000,250000,"Addedd to balance"]
[null,"31. Tax Credit Application Fees",49712,49712]
[null,"32. Bond Cost of Issuance",null,{"$f":"C93","v":0}]
[null,"33. Construction Monitoring Fees",40500,{"$f":"C94","v":40500}]
[null,"34. Operating Reserves, 2% Operating",88800,88800,"(Eligible for RD 538 Program)"]
[null,"35. Hard Cost Contingency",150286,{"$f":"C96","v":150286},"(Eligible for RD 538 Program)"]
[null,"36. Tenant Rent Increase Protection",null,0,"Required must cover 2 years of increase for  affected tenants"]
[null,"37. Relocation, Lease Up, Marketing",164314,164314]
[null,"38. Initial Up Front Reserve Deposit (IDRR)",230000,230000]
[null,"39. Other Fees (comment)",null,0]
[null,"40. Other Fees (comment)",18000,18000,"Furniture"]
[null," SUBTOTAL  (items 26 to 40)",{"$f":"SUM(C87:C101)","v":1764733},{"$f":"C102","v":1764733}]
[null,"Acquistion of Building & Land",null,"Total","Comment"]
[null,"Not to Exceed Appraised \"As Is\" Market Value plus Project Reserve Account"]
[null,"41. Assumption of RD Loan",{"$f":"C6+C7","v":1124909},{"$f":"C105","v":1124909},"(equals source \"Assume Existing RD Loan\")"]
[null,"42. Seller's Equity",144000,{"$f":"C106","v":144000},"(Eligible for RD 538 Program)"]
[null," SUBTOTAL (items 41 to 42)",{"$f":"SUM(C105:C106)","v":1268909},{"$f":"C107","v":1268909}]
[null,"TOTAL USES",null,null,"Comment"]
[null,"Total All Uses Above",{"$f":"SUM(C107,C102,C85)","v":5619447},{"$f":"C109","v":5619447}]

{"sheet":"Reserve Sizing","index":6,"n_rows":59,"n_cols":24,"rows_kept":59,"cut":false,"hidden":false,"merged":[[34,6,34,7],[31,0,31,5],[1,0,1,3],[2,1,2,4],[31,6,31,7],[32,6,32,7],[33,6,33,7]]}
[]
["Project Information"]
["Project Name",{"$f":"GeneralInfo!C6","v":"Forest View Apartments"},null,null,null,null,null,null,null,{"$f":"IF(B4<>C4,\"Warning CNA Revenue Units Do Not Match Revenue Units in this Template, Validate and Correct in Cell B4 to avoid Flag on Dashboard\", \"\")","v":""}]
["# Revenue Units Per CNA ",35,{"$f":"'Rents & Operations'!E18","v":35},"# Revenue Units Per General Information"]
["See Instruction page to upload your CNA's Executive Summary"]
["CNA Raw Data as Uploaded from CNA(s) Executive Summary Pages"]
[null,null,1,{"$f":"C7+1","v":2},3,4,5,6,7,8,9,10,11,12,13,14,15,16,17,18,19,20]
["Item","H & S",{"$f":"CNAExeSum!C8","v":2015},{"$f":"CNAExeSum!D8","v":2016},{"$f":"CNAExeSum!E8","v":2017},{"$f":"CNAExeSum!F8","v":2018},{"$f":"CNAExeSum!G8","v":2019},{"$f":"CNAExeSum!H8","v":2020},{"$f":"CNAExeSum!I8","v":2021},{"$f":"CNAExeSum!J8","v":2022},{"$f":"CNAExeSum!K8","v":2023},{"$f":"CNAExeSum!L8","v":2024},{"$f":"CNAExeSum!M8","v":2025},{"$f":"CNAExeSum!N8","v":2026},{"$f":"CNAExeSum!O8","v":2027},{"$f":"CNAExeSum!P8","v":2028},{"$f":"CNAExeSum!Q8","v":2029},{"$f":"CNAExeSum!R8","v":2030},{"$f":"CNAExeSum!S8","v":2031},{"$f":"CNAExeSum!T8","v":2032},{"$f":"CNAExeSum!U8","v":2033},{"$f":"CNAExeSum!V8","v":2034},"Total",0]
["Site",{"$f":"CNAExeSum!B9+CNAExeSum!B19+CNAExeSum!B29+CNAExeSum!B39+CNAExeSum!B49","v":0},{"$f":"CNAExeSum!C9+CNAExeSum!C19+CNAExeSum!C29+CNAExeSum!C39+CNAExeSum!C49","v":0},{"$f":"CNAExeSum!D9+CNAExeSum!D19+CNAExeSum!D29+CNAExeSum!D39+CNAExeSum!D49","v":0},{"$f":"CNAExeSum!E9+CNAExeSum!E19+CNAExeSum!E29+CNAExeSum!E39+CNAExeSum!E49","v":0},{"$f":"CNAExeSum!F9+CNAExeSum!F19+CNAExeSum!F29+CNAExeSum!F39+CNAExeSum!F49","v":0},{"$f":"CNAExeSum!G9+CNAExeSum!G19+CNAExeSum!G29+CNAExeSum!G39+CNAExeSum!G49","v":0},{"$f":"CNAExeSum!H9+CNAExeSum!H19+CNAExeSum!H29+CNAExeSum!H39+CNAExeSum!H49","v":0},{"$f":"CNAExeSum!I9+CNAExeSum!I19+CNAExeSum!I29+CNAExeSum!I39+CNAExeSum!I49","v":3750},{"$f":"CNAExeSum!J9+CNAExeSum!J19+CNAExeSum!J29+CNAExeSum!J39+CNAExeSum!J49","v":0},{"$f":"CNAExeSum!K9+CNAExeSum!K19+CNAExeSum!K29+CNAExeSum!K39+CNAExeSum!K49","v":0},{"$f":"CNAExeSum!L9+CNAExeSum!L19+CNAExeSum!L29+CNAExeSum!L39+CNAExeSum!L49","v":0},{"$f":"CNAExeSum!M9+CNAExeSum!M19+CNAExeSum!M29+CNAExeSum!M39+CNAExeSum!M49","v":6000},{"$f":"CNAExeSum!N9+CNAExeSum!N19+CNAExeSum!N29+CNAExeSum!N39+CNAExeSum!N49","v":2000},{"$f":"CNAExeSum!O9+CNAExeSum!O19+CNAExeSum!O29+CNAExeSum!O39+CNAExeSum!O49","v":0},{"$f":"CNAExeSum!P9+CNAExeSum!P19+CNAExeSum!P29+CNAExeSum!P39+CNAExeSum!P49","v":3750},{"$f":"CNAExeSum!Q9+CNAExeSum!Q19+CNAExeSum!Q29+CNAExeSum!Q39+CNAExeSum!Q49","v":0},{"$f":"CNAExeSum!R9+CNAExeSum!R19+CNAExeSum!R29+CNAExeSum!R39+CNAExeSum!R49","v":0},{"$f":"CNAExeSum!S9+CNAExeSum!S19+CNAExeSum!S29+CNAExeSum!S39+CNAExeSum!S49","v":0},{"$f":"CNAExeSum!T9+CNAExeSum!T19+CNAExeSum!T29+CNAExeSum!T39+CNAExeSum!T49","v":0},{"$f":"CNAExeSum!U9+CNAExeSum!U19+CNAExeSum!U29+CNAExeSum!U39+CNAExeSum!U49","v":0},{"$f":"CNAExeSum!V9+CNAExeSum!V19+CNAExeSum!V29+CNAExeSum!V39+CNAExeSum!V49","v":5000},{"$f":"SUM(B9:V9)","v":20500}]
["Architecture",{"$f":"CNAExeSum!B10+CNAExeSum!B20+CNAExeSum!B30+CNAExeSum!B40+CNAExeSum!B50","v":0},{"$f":"CNAExeSum!C10+CNAExeSum!C20+CNAExeSum!C30+CNAExeSum!C40+CNAExeSum!C50","v":0},{"$f":"CNAExeSum!D10+CNAExeSum!D20+CNAExeSum!D30+CNAExeSum!D40+CNAExeSum!D50","v":0},{"$f":"CNAExeSum!E10+CNAExeSum!E20+CNAExeSum!E30+CNAExeSum!E40+CNAExeSum!E50","v":0},{"$f":"CNAExeSum!F10+CNAExeSum!F20+CNAExeSum!F30+CNAExeSum!F40+CNAExeSum!F50","v":0},{"$f":"CNAExeSum!G10+CNAExeSum!G20+CNAExeSum!G30+CNAExeSum!G40+CNAExeSum!G50","v":0},{"$f":"CNAExeSum!H10+CNAExeSum!H20+CNAExeSum!H30+CNAExeSum!H40+CNAExeSum!H50","v":0},{"$f":"CNAExeSum!I10+CNAExeSum!I20+CNAExeSum!I30+CNAExeSum!I40+CNAExeSum!I50","v":0},{"$f":"CNAExeSum!J10+CNAExeSum!J20+CNAExeSum!J30+CNAExeSum!J40+CNAExeSum!J50","v":0},{"$f":"CNAExeSum!K10+CNAExeSum!K20+CNAExeSum!K30+CNAExeSum!K40+CNAExeSum!K50","v":0},{"$f":"CNAExeSum!L10+CNAExeSum!L20+CNAExeSum!L30+CNAExeSum!L40+CNAExeSum!L50","v":0},{"$f":"CNAExeSum!M10+CNAExeSum!M20+CNAExeSum!M30+CNAExeSum!M40+CNAExeSum!M50","v":0},{"$f":"CNAExeSum!N10+CNAExeSum!N20+CNAExeSum!N30+CNAExeSum!N40+CNAExeSum!N50","v":0},{"$f":"CNAExeSum!O10+CNAExeSum!O20+CNAExeSum!O30+CNAExeSum!O40+CNAExeSum!O50","v":0},{"$f":"CNAExeSum!P10+CNAExeSum!P20+CNAExeSum!P30+CNAExeSum!P40+CNAExeSum!P50","v":0},{"$f":"CNAExeSum!Q10+CNAExeSum!Q20+CNAExeSum!Q30+CNAExeSum!Q40+CNAExeSum!Q50","v":16000},{"$f":"CNAExeSum!R10+CNAExeSum!R20+CNAExeSum!R30+CNAExeSum!R40+CNAExeSum!R50","v":0},{"$f":"CNAExeSum!S10+CNAExeSum!S20+CNAExeSum!S30+CNAExeSum!S40+CNAExeSum!S50","v":0},{"$f":"CNAExeSum!T10+CNAExeSum!T20+CNAExeSum!T30+CNAExeSum!T40+CNAExeSum!T50","v":0},{"$f":"CNAExeSum!U10+CNAExeSum!U20+CNAExeSum!U30+CNAExeSum!U40+CNAExeSum!U50","v":0},{"$f":"CNAExeSum!V10+CNAExeSum!V20+CNAExeSum!V30+CNAExeSum!V40+CNAExeSum!V50","v":0},{"$f":"SUM(B10:V10)","v":16000}]
["Mech & Electric",{"$f":"CNAExeSum!B11+CNAExeSum!B21+CNAExeSum!B31+CNAExeSum!B41+CNAExeSum!B51","v":0},{"$f":"CNAExeSum!C11+CNAExeSum!C21+CNAExeSum!C31+CNAExeSum!C41+CNAExeSum!C51","v":0},{"$f":"CNAExeSum!D11+CNAExeSum!D21+CNAExeSum!D31+CNAExeSum!D41+CNAExeSum!D51","v":0},{"$f":"CNAExeSum!E11+CNAExeSum!E21+CNAExeSum!E31+CNAExeSum!E41+CNAExeSum!E51","v":0},{"$f":"CNAExeSum!F11+CNAExeSum!F21+CNAExeSum!F31+CNAExeSum!F41+CNAExeSum!F51","v":0},{"$f":"CNAExeSum!G11+CNAExeSum!G21+CNAExeSum!G31+CNAExeSum!G41+CNAExeSum!G51","v":0},{"$f":"CNAExeSum!H11+CNAExeSum!H21+CNAExeSum!H31+CNAExeSum!H41+CNAExeSum!H51","v":0},{"$f":"CNAExeSum!I11+CNAExeSum!I21+CNAExeSum!I31+CNAExeSum!I41+CNAExeSum!I51","v":0},{"$f":"CNAExeSum!J11+CNAExeSum!J21+CNAExeSum!J31+CNAExeSum!J41+CNAExeSum!J51","v":0},{"$f":"CNAExeSum!K11+CNAExeSum!K21+CNAExeSum!K31+CNAExeSum!K41+CNAExeSum!K51","v":0},{"$f":"CNAExeSum!L11+CNAExeSum!L21+CNAExeSum!L31+CNAExeSum!L41+CNAExeSum!L51","v":0},{"$f":"CNAExeSum!M11+CNAExeSum!M21+CNAExeSum!M31+CNAExeSum!M41+CNAExeSum!M51","v":0},{"$f":"CNAExeSum!N11+CNAExeSum!N21+CNAExeSum!N31+CNAExeSum!N41+CNAExeSum!N51","v":0},{"$f":"CNAExeSum!O11+CNAExeSum!O21+CNAExeSum!O31+CNAExeSum!O41+CNAExeSum!O51","v":0},{"$f":"CNAExeSum!P11+CNAExeSum!P21+CNAExeSum!P31+CNAExeSum!P41+CNAExeSum!P51","v":0},{"$f":"CNAExeSum!Q11+CNAExeSum!Q21+CNAExeSum!Q31+CNAExeSum!Q41+CNAExeSum!Q51","v":0},{"$f":"CNAExeSum!R11+CNAExeSum!R21+CNAExeSum!R31+CNAExeSum!R41+CNAExeSum!R51","v":0},{"$f":"CNAExeSum!S11+CNAExeSum!S21+CNAExeSum!S31+CNAExeSum!S41+CNAExeSum!S51","v":0},{"$f":"CNAExeSum!T11+CNAExeSum!T21+CNAExeSum!T31+CNAExeSum!T41+CNAExeSum!T51","v":0},{"$f":"CNAExeSum!U11+CNAExeSum!U21+CNAExeSum!U31+CNAExeSum!U41+CNAExeSum!U51","v":0},{"$f":"CNAExeSum!V11+CNAExeSum!V21+CNAExeSum!V31+CNAExeSum!V41+CNAExeSum!V51","v":0},0]
["Dwelling Units",{"$f":"CNAExeSum!B12+CNAExeSum!B22+CNAExeSum!B32+CNAExeSum!B42+CNAExeSum!B52","v":0},{"$f":"CNAExeSum!C12+CNAExeSum!C22+CNAExeSum!C32+CNAExeSum!C42+CNAExeSum!C52","v":0},{"$f":"CNAExeSum!D12+CNAExeSum!D22+CNAExeSum!D32+CNAExeSum!D42+CNAExeSum!D52","v":0},{"$f":"CNAExeSum!E12+CNAExeSum!E22+CNAExeSum!E32+CNAExeSum!E42+CNAExeSum!E52","v":0},{"$f":"CNAExeSum!F12+CNAExeSum!F22+CNAExeSum!F32+CNAExeSum!F42+CNAExeSum!F52","v":0},{"$f":"CNAExeSum!G12+CNAExeSum!G22+CNAExeSum!G32+CNAExeSum!G42+CNAExeSum!G52","v":0},{"$f":"CNAExeSum!H12+CNAExeSum!H22+CNAExeSum!H32+CNAExeSum!H42+CNAExeSum!H52","v":0},{"$f":"CNAExeSum!I12+CNAExeSum!I22+CNAExeSum!I32+CNAExeSum!I42+CNAExeSum!I52","v":11400},{"$f":"CNAExeSum!J12+CNAExeSum!J22+CNAExeSum!J32+CNAExeSum!J42+CNAExeSum!J52","v":11400},{"$f":"CNAExeSum!K12+CNAExeSum!K22+CNAExeSum!K32+CNAExeSum!K42+CNAExeSum!K52","v":11400},{"$f":"CNAExeSum!L12+CNAExeSum!L22+CNAExeSum!L32+CNAExeSum!L42+CNAExeSum!L52","v":9000},{"$f":"CNAExeSum!M12+CNAExeSum!M22+CNAExeSum!M32+CNAExeSum!M42+CNAExeSum!M52","v":13800},{"$f":"CNAExeSum!N12+CNAExeSum!N22+CNAExeSum!N32+CNAExeSum!N42+CNAExeSum!N52","v":13800},{"$f":"CNAExeSum!O12+CNAExeSum!O22+CNAExeSum!O32+CNAExeSum!O42+CNAExeSum!O52","v":10200},{"$f":"CNAExeSum!P12+CNAExeSum!P22+CNAExeSum!P32+CNAExeSum!P42+CNAExeSum!P52","v":11400},{"$f":"CNAExeSum!Q12+CNAExeSum!Q22+CNAExeSum!Q32+CNAExeSum!Q42+CNAExeSum!Q52","v":55873},{"$f":"CNAExeSum!R12+CNAExeSum!R22+CNAExeSum!R32+CNAExeSum!R42+CNAExeSum!R52","v":55873},{"$f":"CNAExeSum!S12+CNAExeSum!S22+CNAExeSum!S32+CNAExeSum!S42+CNAExeSum!S52","v":44473},{"$f":"CNAExeSum!T12+CNAExeSum!T22+CNAExeSum!T32+CNAExeSum!T42+CNAExeSum!T52","v":25200},{"$f":"CNAExeSum!U12+CNAExeSum!U22+CNAExeSum!U32+CNAExeSum!U42+CNAExeSum!U52","v":25200},{"$f":"CNAExeSum!V12+CNAExeSum!V22+CNAExeSum!V32+CNAExeSum!V42+CNAExeSum!V52","v":5400},304419,{"$f":"CNAExeSum!X12+CNAExeSum!X22+CNAExeSum!X32+CNAExeSum!X42+CNAExeSum!X52","v":0}]
["Uninflated Totals",{"$f":"CNAExeSum!B13+CNAExeSum!B23+CNAExeSum!B33+CNAExeSum!B43+CNAExeSum!B53","v":0},{"$f":"CNAExeSum!C13+CNAExeSum!C23+CNAExeSum!C33+CNAExeSum!C43+CNAExeSum!C53","v":0},{"$f":"CNAExeSum!D13+CNAExeSum!D23+CNAExeSum!D33+CNAExeSum!D43+CNAExeSum!D53","v":0},{"$f":"CNAExeSum!E13+CNAExeSum!E23+CNAExeSum!E33+CNAExeSum!E43+CNAExeSum!E53","v":0},{"$f":"CNAExeSum!F13+CNAExeSum!F23+CNAExeSum!F33+CNAExeSum!F43+CNAExeSum!F53","v":0},{"$f":"CNAExeSum!G13+CNAExeSum!G23+CNAExeSum!G33+CNAExeSum!G43+CNAExeSum!G53","v":0},{"$f":"CNAExeSum!H13+CNAExeSum!H23+CNAExeSum!H33+CNAExeSum!H43+CNAExeSum!H53","v":0},{"$f":"CNAExeSum!I13+CNAExeSum!I23+CNAExeSum!I33+CNAExeSum!I43+CNAExeSum!I53","v":15150},{"$f":"CNAExeSum!J13+CNAExeSum!J23+CNAExeSum!J33+CNAExeSum!J43+CNAExeSum!J53","v":11400},{"$f":"CNAExeSum!K13+CNAExeSum!K23+CNAExeSum!K33+CNAExeSum!K43+CNAExeSum!K53","v":11400},{"$f":"CNAExeSum!L13+CNAExeSum!L23+CNAExeSum!L33+CNAExeSum!L43+CNAExeSum!L53","v":9000},{"$f":"CNAExeSum!M13+CNAExeSum!M23+CNAExeSum!M33+CNAExeSum!M43+CNAExeSum!M53","v":19800},{"$f":"CNAExeSum!N13+CNAExeSum!N23+CNAExeSum!N33+CNAExeSum!N43+CNAExeSum!N53","v":15800},{"$f":"CNAExeSum!O13+CNAExeSum!O23+CNAExeSum!O33+CNAExeSum!O43+CNAExeSum!O53","v":10200},{"$f":"CNAExeSum!P13+CNAExeSum!P23+CNAExeSum!P33+CNAExeSum!P43+CNAExeSum!P53","v":15150},{"$f":"CNAExeSum!Q13+CNAExeSum!Q23+CNAExeSum!Q33+CNAExeSum!Q43+CNAExeSum!Q53","v":71873},{"$f":"CNAExeSum!R13+CNAExeSum!R23+CNAExeSum!R33+CNAExeSum!R43+CNAExeSum!R53","v":55873},{"$f":"CNAExeSum!S13+CNAExeSum!S23+CNAExeSum!S33+CNAExeSum!S43+CNAExeSum!S53","v":44473},{"$f":"CNAExeSum!T13+CNAExeSum!T23+CNAExeSum!T33+CNAExeSum!T43+CNAExeSum!T53","v":25200},{"$f":"CNAExeSum!U13+CNAExeSum!U23+CNAExeSum!U33+CNAExeSum!U43+CNAExeSum!U53","v":25200},{"$f":"CNAExeSum!V13+CNAExeSum!V23+CNAExeSum!V33+CNAExeSum!V43+CNAExeSum!V53","v":10400},340919]
["Inflation Factor (3%)",{"$f":"1","v":1},{"$f":"1","v":1},{"$f":"1+3%","v":1.03},{"$f":"D14*$D$14","v":1.0609},{"$f":"E14*$D$14","v":1.092727},1.1255088100000001,1.1592740743000001,1.1940522965290001,1.2298738654248702,1.2667700813876164,1.3047731838292449,1.3439163793441222,1.3842338707244459,1.4257608868461793,1.4685337134515648,1.5125897248551119,1.5579674166007653,1.6047064390987884,1.652847632271752,1.7024330612399046,1.7535060530771018]
["Inflated Totals",{"$f":"B13*B14","v":0},{"$f":"C13*C14","v":0},0,0,0,0,0,18089.892292414352,14020.56206584352,14441.178927818826,11742.958654463204,26609.544311013618,21870.895157446244,14542.761045831028,22248.285758791208,108714.36129451146,87048.313467734566,71366.10946604042,41651.760333248152,42901.313143245592,18236.462952001861,{"$f":"SUM(B15:V15)","v":513484.39887040405}]
[]
[]
["Underwritten Schedule - Changes Made by Underwriter on Individual CNA Pages Are Highlighted Red"]
[null,null,{"$f":"C7","v":1},2,3,4,5,6,7,8,9,10,11,12,13,14,15,16,17,18,19,20]
[{"$f":"A8","v":"Item"},{"$f":"B8","v":"H & S"},2015,2016,2017,2018,2019,2020,2021,2022,2023,2024,2025,2026,2027,2028,2029,2030,2031,2032,2033,2034,"Total"]
["Site",{"$f":"IF(CNASite!N8>6,CNASite!N8,0)","v":0},{"$f":"IF(CNASite!O8>6,CNASite!O8,0)","v":0},{"$f":"IF(CNASite!P8>6,CNASite!P8,0)","v":0},{"$f":"IF(CNASite!Q8>6,CNASite!Q8,0)","v":0},{"$f":"IF(CNASite!R8>6,CNASite!R8,0)","v":0},{"$f":"IF(CNASite!S8>6,CNASite!S8,0)","v":0},{"$f":"IF(CNASite!T8>6,CNASite!T8,0)","v":0},{"$f":"IF(CNASite!U8>6,CNASite!U8,0)","v":3750},{"$f":"IF(CNASite!V8>6,CNASite!V8,0)","v":0},{"$f":"IF(CNASite!W8>6,CNASite!W8,0)","v":0},{"$f":"IF(CNASite!X8>6,CNASite!X8,0)","v":0},{"$f":"IF(CNASite!Y8>6,CNASite!Y8,0)","v":6000},{"$f":"IF(CNASite!Z8>6,CNASite!Z8,0)","v":2000},{"$f":"IF(CNASite!AA8>6,CNASite!AA8,0)","v":0},{"$f":"IF(CNASite!AB8>6,CNASite!AB8,0)","v":3750},{"$f":"IF(CNASite!AC8>6,CNASite!AC8,0)","v":0},{"$f":"IF(CNASite!AD8>6,CNASite!AD8,0)","v":0},{"$f":"IF(CNASite!AE8>6,CNASite!AE8,0)","v":0},{"$f":"IF(CNASite!AF8>6,CNASite!AF8,0)","v":0},{"$f":"IF(CNASite!AG8>6,CNASite!AG8,0)","v":0},{"$f":"IF(CNASite!AH8>6,CNASite!AH8,0)","v":5000},{"$f":"SUM(B21:V21)","v":20500}]
["Architecture",{"$f":"IF(CNAArchitectural!N8>6,CNAArchitectural!N8,0)","v":0},{"$f":"IF(CNAArchitectural!O8>6,CNAArchitectural!O8,0)","v":10000},{"$f":"IF(CNAArchitectural!P8>6,CNAArchitectural!P8,0)","v":0},{"$f":"IF(CNAArchitectural!Q8>6,CNAArchitectural!Q8,0)","v":0},{"$f":"IF(CNAArchitectural!R8>6,CNAArchitectural!R8,0)","v":0},{"$f":"IF(CNAArchitectural!S8>6,CNAArchitectural!S8,0)","v":0},{"$f":"IF(CNAArchitectural!T8>6,CNAArchitectural!T8,0)","v":0},{"$f":"IF(CNAArchitectural!U8>6,CNAArchitectural!U8,0)","v":0},{"$f":"IF(CNAArchitectural!V8>6,CNAArchitectural!V8,0)","v":0},{"$f":"IF(CNAArchitectural!W8>6,CNAArchitectural!W8,0)","v":0},{"$f":"IF(CNAArchitectural!X8>6,CNAArchitectural!X8,0)","v":0},{"$f":"IF(CNAArchitectural!Y8>6,CNAArchitectural!Y8,0)","v":0},{"$f":"IF(CNAArchitectural!Z8>6,CNAArchitectural!Z8,0)","v":0},{"$f":"IF(CNAArchitectural!AA8>6,CNAArchitectural!AA8,0)","v":0},{"$f":"IF(CNAArchitectural!AB8>6,CNAArchitectural!AB8,0)","v":0},{"$f":"IF(CNAArchitectural!AC8>6,CNAArchitectural!AC8,0)","v":16000},{"$f":"IF(CNAArchitectural!AD8>6,CNAArchitectural!AD8,0)","v":0},{"$f":"IF(CNAArchitectural!AE8>6,CNAArchitectural!AE8,0)","v":0},{"$f":"IF(CNAArchitectural!AF8>6,CNAArchitectural!AF8,0)","v":0},{"$f":"IF(CNAArchitectural!AG8>6,CNAArchitectural!AG8,0)","v":0},{"$f":"IF(CNAArchitectural!AH8>6,CNAArchitectural!AH8,0)","v":0},{"$f":"SUM(B22:V22)","v":26000}]
["Mech & Electric",{"$f":"IF('CNAMech & Electric'!N8>6,'CNAMech & Electric'!N8,0)","v":0},{"$f":"IF('CNAMech & Electric'!O8>6,'CNAMech & Electric'!O8,0)","v":0},{"$f":"IF('CNAMech & Electric'!P8>6,'CNAMech & Electric'!P8,0)","v":0},{"$f":"IF('CNAMech & Electric'!Q8>6,'CNAMech & Electric'!Q8,0)","v":0},{"$f":"IF('CNAMech & Electric'!R8>6,'CNAMech & Electric'!R8,0)","v":0},{"$f":"IF('CNAMech & Electric'!S8>6,'CNAMech & Electric'!S8,0)","v":0},{"$f":"IF('CNAMech & Electric'!T8>6,'CNAMech & Electric'!T8,0)","v":0},{"$f":"IF('CNAMech & Electric'!U8>6,'CNAMech & Electric'!U8,0)","v":0},{"$f":"IF('CNAMech & Electric'!V8>6,'CNAMech & Electric'!V8,0)","v":0},{"$f":"IF('CNAMech & Electric'!W8>6,'CNAMech & Electric'!W8,0)","v":0},{"$f":"IF('CNAMech & Electric'!X8>6,'CNAMech & Electric'!X8,0)","v":0},{"$f":"IF('CNAMech & Electric'!Y8>6,'CNAMech & Electric'!Y8,0)","v":0},{"$f":"IF('CNAMech & Electric'!Z8>6,'CNAMech & Electric'!Z8,0)","v":0},{"$f":"IF('CNAMech & Electric'!AA8>6,'CNAMech & Electric'!AA8,0)","v":0},{"$f":"IF('CNAMech & Electric'!AB8>6,'CNAMech & Electric'!AB8,0)","v":0},{"$f":"IF('CNAMech & Electric'!AC8>6,'CNAMech & Electric'!AC8,0)","v":0},{"$f":"IF('CNAMech & Electric'!AD8>6,'CNAMech & Electric'!AD8,0)","v":0},{"$f":"IF('CNAMech & Electric'!AE8>6,'CNAMech & Electric'!AE8,0)","v":0},{"$f":"IF('CNAMech & Electric'!AF8>6,'CNAMech & Electric'!AF8,0)","v":0},{"$f":"IF('CNAMech & Electric'!AG8>6,'CNAMech & Electric'!AG8,0)","v":0},{"$f":"IF('CNAMech & Electric'!AH8>6,'CNAMech & Electric'!AH8,0)","v":0},0]
["Dwelling Units",{"$f":"IF('CNADwelling Units'!N8>6,'CNADwelling Units'!N8,0)","v":0},{"$f":"IF('CNADwelling Units'!O8>6,'CNADwelling Units'!O8,0)","v":0},{"$f":"IF('CNADwelling Units'!P8>6,'CNADwelling Units'!P8,0)","v":0},{"$f":"IF('CNADwelling Units'!Q8>6,'CNADwelling Units'!Q8,0)","v":0},{"$f":"IF('CNADwelling Units'!R8>6,'CNADwelling Units'!R8,0)","v":0},{"$f":"IF('CNADwelling Units'!S8>6,'CNADwelling Units'!S8,0)","v":0},{"$f":"IF('CNADwelling Units'!T8>6,'CNADwelling Units'!T8,0)","v":0},{"$f":"IF('CNADwelling Units'!U8>6,'CNADwelling Units'!U8,0)","v":11400},{"$f":"IF('CNADwelling Units'!V8>6,'CNADwelling Units'!V8,0)","v":11400},{"$f":"IF('CNADwelling Units'!W8>6,'CNADwelling Units'!W8,0)","v":11400},{"$f":"IF('CNADwelling Units'!X8>6,'CNADwelling Units'!X8,0)","v":9000},{"$f":"IF('CNADwelling Units'!Y8>6,'CNADwelling Units'!Y8,0)","v":13800},{"$f":"IF('CNADwelling Units'!Z8>6,'CNADwelling Units'!Z8,0)","v":13800},{"$f":"IF('CNADwelling Units'!AA8>6,'CNADwelling Units'!AA8,0)","v":10200},{"$f":"IF('CNADwelling Units'!AB8>6,'CNADwelling Units'!AB8,0)","v":11400},{"$f":"IF('CNADwelling Units'!AC8>6,'CNADwelling Units'!AC8,0)","v":55873},{"$f":"IF('CNADwelling Units'!AD8>6,'CNADwelling Units'!AD8,0)","v":55873},{"$f":"IF('CNADwelling Units'!AE8>6,'CNADwelling Units'!AE8,0)","v":44473},{"$f":"IF('CNADwelling Units'!AF8>6,'CNADwelling Units'!AF8,0)","v":25200},{"$f":"IF('CNADwelling Units'!AG8>6,'CNADwelling Units'!AG8,0)","v":25200},{"$f":"IF('CNADwelling Units'!AH8>6,'CNADwelling Units'!AH8,0)","v":5400},304419,{"$f":"'CNADwelling Units'!AJ8","v":0}]
["Uninflated Totals",{"$f":"SUM(B21:B24)","v":0},{"$f":"SUM(C21:C24)","v":10000},0,0,0,0,0,15150,11400,11400,9000,19800,15800,10200,15150,71873,55873,44473,25200,25200,10400,350919]
["Inflation Factor (3%)",{"$f":"B14","v":1},{"$f":"C14","v":1},1.03,1.0609,1.092727,1.1255088100000001,1.1592740743000001,1.1940522965290001,1.2298738654248702,1.2667700813876164,1.3047731838292449,1.3439163793441222,1.3842338707244459,1.4257608868461793,1.4685337134515648,1.5125897248551119,1.5579674166007653,1.6047064390987884,1.652847632271752,1.7024330612399046,1.7535060530771018]
["Inflated Totals",{"$f":"B25*B26","v":0},{"$f":"C25*C26","v":10000},0,0,0,0,0,18089.892292414352,14020.56206584352,14441.178927818826,11742.958654463204,26609.544311013618,21870.895157446244,14542.761045831028,22248.285758791208,108714.36129451146,87048.313467734566,71366.10946604042,41651.760333248152,42901.313143245592,18236.462952001861,{"$f":"SUM(B27:V27)","v":523484.39887040405}]
[]
[null,null,null,null,null,null,null,null,null,null,null,null,null,null,null,null,null,null,null,null,null,null,null,"PROBLEM: Minimum Balance Violation"]
[null,null,null,null,null,null,null,null,null,null,null,null,null,null,null,null,null,null,null,null,null,null,null,"Balance is Adequate in All Years"]
["Conclusions Regarding Reserve Funding Levels",null,null,null,null,null,null,null,null,null,null,"Lenders Required Reserve Unit/Year",null,null,null,null,{"$f":"GeneralInfo!D36","v":350},"/ unit / year"]
["Estimated Beginning Reserve Balance",null,null,null,null,null,{"$f":"'Sources & Uses'!H33","v":260000},null,{"$f":"IF($C$4=0,0,G32/$C$4)","v":7428.5714285714284},"/ unit / year",null,"HFA's Requried Reserve Unit/Year",null,null,null,null,{"$f":"GeneralInfo!D37","v":350},"/ unit / year"]
[null,null,null,null,null,"Current Annual Deposit:",{"$f":"'Rents & Operations'!G54","v":11970},null,{"$f":"IF($C$4=0,0,G33/$C$4)","v":342},"/ unit / year",null,"Per Reserve Sizing Tool",null,null,null,null,{"$f":"I34","v":357.14285714285717},"/ unit / year"]
[null,null,null,null,null,"New Annual R4R Deposit (ADRR) After CNA:",12500,null,{"$f":"IF($C$4=0,0,G34/$C$4)","v":357.14285714285717},"/ unit / year",null,"Minimum Required Deposit :",null,null,null,null,{"$f":"MAX(Q31,Q32)","v":350},"/unit/ year"]
[null,null,null,null,null,"Initial Upfront Deposit (IDRR) at Closing:",{"$f":"'Sources & Uses'!H30","v":230000},null,{"$f":"IF($C$4=0,0,G35/$C$4)","v":6571.4285714285716},"/ unit",null,"Minimum Annual Deposit:",null,null,null,null,{"$f":"Q34*C4","v":12250}]
[null,null,null,null,null,null,null,null,null,null,{"$f":"IF(Q35>G34,\"Warning Minimum Requirement Not Met\",\"Minimum Requirement Met\")","v":"Minimum Requirement Met"}]
[]
[]
[]
[]
[]
[]
[]
[]
[]
["Year",0,1,2,3,4,5,6,7,8,9,10,11,12,13,14,15,16,17,18,19,20,"Average"]
["Reserve","H&S",{"$f":"C8","v":2015},{"$f":"D8","v":2016},2017,2018,2019,2020,2021,2022,2023,2024,2025,2026,2027,2028,2029,2030,2031,2032,2033,2034,"Yrs 1-20"]
["Beginning balance",{"$f":"G32","v":260000},{"$f":"+B53","v":260000},{"$f":"+C53","v":265100},280626,296693,313319,330521,348317,348605.10770758567,353444.54564174218,358372.36671392334,366523.40805946011,360279.86374844651,359268.96859100024,366141.20754516922,365871.92178637802,278826.56049186655,213366.247024132,163680.13755809158,144116.37722484343,123721.06408159784,{"$f":"AVERAGE(C48:V48)","v":294839.68880871183}]
[]
["Plus annual deposit",null,{"$f":"G34","v":12500},{"$f":"ROUND(C50*(1+$A$59),0)","v":12875},{"$f":"ROUND(D50*(1+$A$59),0)","v":13261},13659,14069,14491,14926,15374,15835,16310,16799,17303,17822,18357,18908,19475,20059,20661,21281,21919,{"$f":"AVERAGE(C50:V50)","v":16794.2}]
["Minus needs (inflated)",{"$f":"-B27","v":0},{"$f":"-C27","v":-10000},0,0,0,0,0,-18089.892292414352,-14020.56206584352,-14441.178927818826,-11742.958654463204,-26609.544311013618,-21870.895157446244,-14542.761045831028,-22248.285758791208,-108714.36129451146,-87048.313467734566,-71366.10946604042,-41651.760333248152,-42901.313143245592,-18236.462952001861,{"$f":"AVERAGE(C51:V51)","v":-26174.219943520202}]
["Plus interest",null,{"$f":"ROUND(MIN(C48,SUM(C48:C51))*$F$59,0)","v":2600},{"$f":"ROUND(MIN(D48,SUM(D48:D51))*$F$59,0)","v":2651},2806,2967,3133,3305,3452,3486,3534,3584,3567,3557,3593,3622,2761,2113,1621,1427,1225,1237,{"$f":"AVERAGE(C52:V52)","v":2812.05}]
["Ending balance",{"$f":"SUM(B48:B52)","v":260000},{"$f":"SUM(C48:C52)","v":265100},{"$f":"SUM(D48:D52)","v":280626},296693,313319,330521,348317,348605.10770758567,353444.54564174218,358372.36671392334,366523.40805946011,360279.86374844651,359268.96859100024,366141.20754516922,365871.92178637802,278826.56049186655,213366.247024132,163680.13755809158,144116.37722484343,123721.06408159784,128640.60112959598,{"$f":"AVERAGE(C53:V53)","v":288271.71886519168}]
[null,null,{"$f":"IF(C53<0,1,0)","v":0},{"$f":"IF(D53<0,1,0)","v":0},0,0,0,0,0,0,0,0,0,0,0,0,0,0,0,0,0,0,{"$f":"IFERROR(\"Yr 20 Ending Balance is \"&TEXT(V53/(W15/20),\"0.0\")&\" years of AAIN\",\"Upload CNA\")","v":"Yr 20 Ending Balance is 5.0 years of AAIN"}]
["Ending balance per unit",null,{"$f":"IF(W15>1,IF(MIN(C56:V56)<$M$59,$X$29,$X$30),\"Edit Link to CNA for Results\")","v":"Balance is Adequate in All Years"},null,null,null,null,null,null,null,null,null,null,null,null,null,null,null,null,null,null,"AAIN = Average Annual Inflated Needs"]
["(in future dollars)",null,{"$f":"C53/$C$4","v":7574.2857142857147},8017.8857142857141,8476.942857142858,8951.971428571429,9443.4571428571435,9951.9142857142851,9960.1459345024487,10098.415589764063,10239.210477540668,10472.097373127432,10293.710392812758,10264.827674028578,10461.177358433406,10453.483479610801,7966.4731569104724,6096.1784864037718,4676.5753588026164,4117.6107778526693,3534.8875451885096,3675.4457465598848,{"$f":"AVERAGE(C56:V56)","v":8236.3348247197609}]
["Low Balance?",null,{"$f":"IF(C56<$M$59,\"LOW\",\"\")","v":""},{"$f":"IF(D56<$M$59,\"LOW\",\"\")","v":""},"","","","","","","","","","","","","","","","","",""]
[]
[0.03,"Trending for Reserve Deposits",null,null,null,0.01,"interest earned on beginning balance",null,null,null,null,null,1,"Must be Positive Ending Balance All Years"]

{"sheet":"Rents & Operations","index":7,"n_rows":69,"n_cols":26,"rows_kept":69,"cut":false,"hidden":false,"merged":[[12,17,12,18],[13,17,13,18],[14,17,14,18],[15,17,15,18],[16,17,16,18],[17,2,17,3],[22,2,22,5],[21,12,22,15],[22,21,22,23],[21,17,22,17],[21,18,22,18],[18,2,18,5],[19,10,19,12],[12,2,12,3],[13,2,13,3],[14,2,14,3],[15,2,15,3],[16,2,16,3],[13,15,13,16],[14,15,14,16],[15,15,15,16],[16,15,16,16],[12,15,12,16],[12,11,12,12],[13,13,13,14],[14,13,14,14],[15,13,15,14],[16,13,16,14],[12,13,12,14],[13,11,13,12],[14,11,14,12],[15,11,15,12],[16,11,16,12]]}
[]
[null,null,null,null,"Select The State and County / Town from List to Display LIHTC Limits"]
[609,null,null,null,{"$f":"\"(Currently Displaying  Calculations Based Upon \"&LIHTC!C1&\")\"","v":"(Currently Displaying  Calculations Based Upon 2014 HUD Data LIHTC)"},null,null,null,null,"Utility Allowance",null,"1 BR","2 BR","3 BR","4 BR"]
[null,null,null,null,null,null,null,null,null,null,"Per Unit",128,142,153]
[null,null,null,null,null,null,null,null,null,null,null,null,null,null,"Enter AMI % for below if applicable",null,null,null,"Enter AMI % for below if applicable"]
[null,null,null,null,{"$f":"INDEX(LIHTC,A3,1)","v":"GEORGIA"},{"$f":"INDEX(LIHTC,$A$3,2)","v":"Fulton County"},null,{"$f":"INDEX(LIHTC,$A$3,3)","v":"Fulton County"},null,"(Validate All with Local HFA)",null,null,null,"(Enter values for Additional Target AMI Levels)"]
[null,null,null,null,"HUD Median Income (AMI)","50% AMI 1BR","50% AMI\n 2BR","50% AMI 3BR","50% AMI\n 4BR","60% AMI 1BR","60% AMI 2BR","60% AMI 3BR","60% AMI 4BR",{"$f":"TEXT(N5,\"0%\")&\" AMI 1BR\"","v":"0% AMI 1BR"},{"$f":"TEXT(N5,\"0%\")&\" AMI 2BR\"","v":"0% AMI 2BR"},{"$f":"TEXT(N5,\"0%\")&\" AMI 3BR\"","v":"0% AMI 3BR"},{"$f":"TEXT(N5,\"0%\")&\" AMI 4BR\"","v":"0% AMI 4BR"},{"$f":"TEXT(R5,\"0%\")&\" AMI 1BR\"","v":"0% AMI 1BR"},{"$f":"TEXT(R5,\"0%\")&\" AMI 2BR\"","v":"0% AMI 2BR"},{"$f":"TEXT(R5,\"0%\")&\"  AMI 3BR\"","v":"0%  AMI 3BR"},{"$f":"TEXT(R5,\"0%\")&\"  AMI 4BR\"","v":"0%  AMI 4BR"}]
[null,null,null,null,{"$f":"INDEX(LIHTC,$A$3,4)","v":64400},{"$f":"INDEX(LIHTC,$A$3,5)","v":604},{"$f":"INDEX(LIHTC,$A$3,6)","v":725},{"$f":"INDEX(LIHTC,$A$3,7)","v":837},{"$f":"INDEX(LIHTC,$A$3,8)","v":935},{"$f":"INDEX(LIHTC,$A$3,9)","v":725},{"$f":"INDEX(LIHTC,$A$3,10)","v":870},{"$f":"INDEX(LIHTC,$A$3,11)","v":1005},{"$f":"INDEX(LIHTC,$A$3,12)","v":1122}]
[null,null,null,null,"Total Utility Allowance",{"$f":"L4","v":128},{"$f":"M4","v":142},{"$f":"N4","v":153},{"$f":"O4","v":0},{"$f":"L4","v":128},{"$f":"M4","v":142},{"$f":"N4","v":153},{"$f":"O4","v":0},{"$f":"IF(N8>0,L4,\"\")","v":""},"","","","","","",""]
[null,null,null,null,"Net LIHTC Rents",{"$f":"F8-F9","v":476},{"$f":"G8-G9","v":583},684,935,597,728,852,1122,{"$f":"IF(N8>0,N8-N9,\"\")","v":""},"","","","","","",""]
[null,null,null,null,"Total Revenue Units\n Per AMI % ",6,0,0,0,4,20,5,0,0,0,0,0,0,0,0,0]
[]
[null,null,"Summary",null,"Post Transfer Rev Units","Pre Transfer Rev Units","Pre Transfer Rents","Weighted Avg LIHTC Rents Elected ","CRCU \"As Prospective Appraisal\"","Post Transfer Rents","LIHTC Rents",0.5,null,0.6,null,{"$f":"N5","v":0},null,{"$f":"R5","v":0},null,null,null,null,null,"Rents Reduced for Debt Deferral:",true,"Pre- Debt Deferral Rents"]
[null,null,"1 Br Units",null,{"$f":"IF(F11+J11+N11+R11>0,F11+J11+N11+R11,\"\")","v":10},{"$f":"IF(GeneralInfo!I24>0,GeneralInfo!I24,\"\")","v":10},{"$f":"GeneralInfo!J24","v":471},{"$f":"IF(E14<>\"\",(PRODUCT(F10,F11)+PRODUCT(J10,J11)+PRODUCT(N10,N11)+PRODUCT(R10,R11))/E14,\"\")","v":524.4},500,500,"1 Br Units",{"$f":"IF(F11>0,\"$\"&F10&\" -  \"&F11&\" units\",\"\")","v":"$476 -  6 units"},null,{"$f":"IF(J$11>0,\"$\"&J$10&\" -  \"&J$11&\" units\",\"\")","v":"$597 -  4 units"},null,{"$f":"IF(N$11>0,\"$\"&N$10&\" -  \"&N$11&\" units\",\"\")","v":""},null,{"$f":"IF(R$11>0,\"$\"&R$10&\" -  \"&R$11&\" units\",\"\")","v":""},null,null,null,null,{"$f":"J14","v":500},{"$f":"DashData!$G$21","v":0},{"$f":"IF(W14>0,W14+X14,0)","v":500},500]
[null,null,"2 Br Units",null,{"$f":"IF(G11+K11+O11+S11>0,G11+K11+O11+S11,\"\")","v":20},{"$f":"IF(GeneralInfo!I25>0,GeneralInfo!I25,\"\")","v":20},{"$f":"IF(GeneralInfo!J25>0,GeneralInfo!J25,\"\")","v":511},{"$f":"IF(E15<>\"\",(PRODUCT(G10,G11)+PRODUCT(K10,K11)+PRODUCT(O10,O11)+PRODUCT(S10,S11))/E15,\"\")","v":728},575,575,"2 Br Units",{"$f":"IF(G11>0,\"$\"&G10&\" -  \"&G11&\" units\",\"\")","v":""},null,{"$f":"IF(K$11>0,\"$\"&K$10&\" -  \"&K$11&\" units\",\"\")","v":"$728 -  20 units"},null,{"$f":"IF(O$11>0,\"$\"&O$10&\" -  \"&O$11&\" units\",\"\")","v":""},null,{"$f":"IF(S$11>0,\"$\"&S$10&\" -  \"&S$11&\" units\",\"\")","v":""},null,null,null,null,{"$f":"J15","v":575},{"$f":"DashData!$G$21","v":0},{"$f":"IF(W15>0,W15+X15,0)","v":575},575]
[null,null,"3 Br Units",null,{"$f":"IF(H11+L11+P11+T11>0,H11+L11+P11+T11,\"\")","v":5},{"$f":"IF(GeneralInfo!I26>0,GeneralInfo!I26,\"\")","v":5},{"$f":"IF(GeneralInfo!J26>0,GeneralInfo!J26,\"\")","v":574},{"$f":"IF(E16<>\"\",(PRODUCT(H10,H11)+PRODUCT(L10,L11)+PRODUCT(P10,P11)+PRODUCT(T10,T11))/E16,\"\")","v":852},675,676,"3 Br Units",{"$f":"IF(H$11>0,\"$\"&H$10&\" -  \"&H$11&\" units\",\"\")","v":""},null,{"$f":"IF(L$11>0,\"$\"&L$10&\" -  \"&L$11&\" units\",\"\")","v":"$852 -  5 units"},null,{"$f":"IF(P$11>0,\"$\"&P$10&\" -  \"&P$11&\" units\",\"\")","v":""},null,{"$f":"IF(T$11>0,\"$\"&T$10&\" -  \"&T$11&\" units\",\"\")","v":""},null,null,null,null,{"$f":"J16","v":676},{"$f":"DashData!$G$21","v":0},{"$f":"IF(W16>0,W16+X16,0)","v":676},675]
[null,null,"4 Br Units",null,{"$f":"IF(I11+M11+Q11+U11>0,I11+M11+Q11+U11,\"\")","v":""},{"$f":"IF(GeneralInfo!I27>0,GeneralInfo!I27,\"\")","v":""},{"$f":"IF(GeneralInfo!J27>0,GeneralInfo!J27,\"\")","v":""},{"$f":"IF(E17<>\"\",(PRODUCT(I10,I11)+PRODUCT(M10,M11)+PRODUCT(Q10,Q11)+PRODUCT(U10,U11))/E17,\"\")","v":""},null,0,"4 Br Units",{"$f":"IF(I$11>0,\"$\"&I$10&\" -  \"&I$11&\" units\",\"\")","v":""},null,{"$f":"IF(M$11>0,\"$\"&M$10&\" -  \"&M$11&\" units\",\"\")","v":""},null,{"$f":"IF(Q$11>0,\"$\"&Q$10&\" -  \"&Q$11&\" units\",\"\")","v":""},null,{"$f":"IF(U$11>0,\"$\"&U$10&\" -  \"&U$11&\" units\",\"\")","v":""},null,null,null,null,{"$f":"J17","v":0},{"$f":"-DashData!$G$21","v":0},{"$f":"IF(W17>0,W17+X17,0)","v":0},0]
[{"$f":"IF(E18>15,10%,15%)","v":0.1},null,"TOTAL",null,{"$f":"SUM(E14:E17)","v":35},{"$f":"SUM(F14:F17)","v":35},{"$f":"(PRODUCT(F14,G14)+PRODUCT(F15,G15)+PRODUCT(F16,G16)+PRODUCT(F17,G17))/F18","v":508.57142857142856},{"$f":"ROUND((PRODUCT(E14,H14)+PRODUCT(E15,H15)+PRODUCT(E16,H16)+PRODUCT(E17,H17))/E18,0)","v":688},{"$f":"ROUND((PRODUCT(E14,I14)+PRODUCT(E15,I15)+PRODUCT(E16,I16)+PRODUCT(E17,I17))/E18,0)","v":568},{"$f":"ROUND((PRODUCT(E14,J14)+PRODUCT(E15,J15)+PRODUCT(E16,J16)+PRODUCT(E17,J17))/E18,0)","v":568},{"$f":"IF($J$18>$I$18,\"Warning Rents Exceed CRCU\",IF($J$18>$H$18,\"Warning Rents Exceed LIHTC\",\"\"))","v":""},null,null,null,true,null,null,null,null,null,null,null,null,null,5767.28,568]
[{"$f":"MIN(G20,H20,I20)","v":5.57E-2},null,{"$f":"\"Maximum Vacancy Loss & Bad Debt  \"&TEXT(A18,\"00.0%\")\n\n&\"  Minimum Vacancy Loss & Bad Debt  \"&TEXT(A19,\"00.0%\")","v":"Maximum Vacancy Loss & Bad Debt  10.0%  Minimum Vacancy Loss & Bad Debt  05.6%"},null,null,null,"(Avg Vacancy last 3 yrs plus 2%)","Lenders Required Vacancy","HFA's Required Vacancy","Underwritten Vacancy & Bad Debt",{"$f":"DashData!C30","v":"Rents Higher than Needed for Cash Flow by $0"}]
[null,null,null,null,null,null,{"$f":"-ROUND(('Rents & Operations'!$H$30+'Rents & Operations'!$H$31-'Rents & Operations'!$H$50-'Rents & Operations'!$H$53)/(AVERAGE(MFIS!$T$2,MFIS!$W$2,MFIS!$Z$2))-1,4)+2%","v":5.57E-2},{"$f":"GeneralInfo!I36","v":7.0000000000000007E-2},{"$f":"GeneralInfo!I37","v":7.0000000000000007E-2},5.6399999999999999E-2,{"$f":"IF(J20>A18,\"Warning Vacancy Exceeds Maximum Threshold\",IF(J20<A19,\"Warning Vacancy Lower Than Minimum Threshold\",\"\"))","v":""},null,null,{"$f":"TEXT(GeneralInfo!I28/'Rents & Operations'!E18,\"0.00%\")&\" RA\"","v":"100.00% RA"},{"$f":"GeneralInfo!I28&\" Number RA Units\"","v":"35 Number RA Units"}]
[null,null,"From Form RD 3560-7",null,null,null,null,null,null,null,null,null,"PART II - OPERATING AND MAINETNANCE EXPENSE SCHEDULE",null,null,null,null,null,null,null,null,12]
[null,null,null,null,null,null,null,null,null,null,null,null,{"$f":"C23","v":"Project(s)  Below  FOREST VIEW APTS               "},null,null,null,{"$f":"MFIS!Q2","v":2015},{"$f":"IF(U2<1,\"Avg Last 2 yrs ACTUAL\",\"Avg Last 3 yrs ACTUAL\")","v":"Avg Last 2 yrs ACTUAL"},"PROPOSED","COMMENTS",null,"Select State To Display"]
[null,null,{"$f":"\"Project(s)  Below  \"&'MFIS ProjectA'!G2\n&\"  \"&'MFIS ProjectB'!G2&\"   \"&'MFIS ProjectC'!G2&\n\"   \"&'MFIS ProjectD'!G2&\"   \"&'MFIS ProjectD'!G2&\"   \"&'MFIS ProjectF'!G2","v":"Project(s)  Below  FOREST VIEW APTS               "},null,null,null,null,null,null,null,null,null,null,null,null,null," CURRENT \nBUDGET",null,null,"or (YTD)",null,{"$f":"\"Select State Average To Display  \"&'FY Comparisons FY12_FY13'!C2&\"  Actuals for Project & State\"","v":"Select State Average To Display  2013  Actuals for Project & State"}]
[null,null,"PART I - CASH FLOW STATEMENT",null,null,null,null,null,null,null,null,null,null,null,null,null,null,null,null,null,null,{"$f":"\"Project Actuals \"&MFIS!S2","v":"Project Actuals 2014"},"Project Underwritten","State Avg"]
[null,null,null,null,null,null,"CURRENT",null,"PROPOSED","COMMENTS ",null,null,1,"MAINTENANCE & REPAIRS PAYROLL ",null,null,20050,18778.5,19450,null,null,{"$f":"IF($E$18=0,\"\",IF(MFIS!U35>1,MFIS!U35/$E$18,MFIS!X35/$E$18))","v":549.91428571428571},{"$f":"IF(E18=0,\"\",S25/$E$18)","v":555.71428571428567}]
[null,null,null,null,null,null,"BUDGET","ACTUAL","BUDGET","or YTD",null,null,2,"MAINTENANCE & REPAIRS SUPPLY",null,null,5500,12389,5500,null,null,{"$f":"IF($E$18=0,\"\",IF(MFIS!U36>1,MFIS!U36/$E$18,MFIS!X36/$E$18))","v":329.08571428571429},{"$f":"IF(E18=0,\"\",S26/$E$18)","v":157.14285714285714}]
[null,null,null,null,null,null,{"$f":"MFIS!Q2","v":2015},{"$f":"IF('MFIS ProjectA'!U2<1,\"Avg Last 2\",\"Avg Last 3\")","v":"Avg Last 2"},"Underwritten","(   -   -   )",null,null,3,"MAINTENANCE & REPAIRS CONTRACT",null,null,3000,3451.5,3000,null,null,{"$f":"IF($E$18=0,\"\",IF(MFIS!U37>1,MFIS!U37/$E$18,MFIS!X37/$E$18))","v":126.31428571428572},{"$f":"IF(E18=0,\"\",S27/$E$18)","v":85.714285714285708}]
[null,null,null,null,null,null,null,"Yrs",null,"(   -   -   )",null,null,4,"PAINTING AND DECORATING ……..",null,null,4000,1870,2000,null,null,{"$f":"IF($E$18=0,\"\",IF(MFIS!U38>1,MFIS!U38/$E$18,MFIS!X38/$E$18))","v":13.571428571428571},{"$f":"IF(E18=0,\"\",S28/$E$18)","v":57.142857142857146}]
[null,null,"OPERATIONAL CASH SOURCES",null,null,null,null,null,"(12 Month Budget)",null,null,null,5,"SNOW REMOVAL   . . . . . . . . . . . . . . . .",null,null,0,0,null,null,null,{"$f":"IF($E$18=0,\"\",IF(MFIS!U39>1,MFIS!U39/$E$18,MFIS!X39/$E$18))","v":0},{"$f":"IF(E18=0,\"\",S29/$E$18)","v":0}]
[null,null,1,"RENTAL INCOME . . . . . . .",null,null,215700,129305.5,{"$f":"(PRODUCT(E14,J14)+PRODUCT(E15,J15)+PRODUCT(E16,J16)+PRODUCT(E17,J17))*12","v":238560},"COMMENTS ",null,null,6,"ELEVATOR MAINT/CONTRACT……..",null,null,0,0,null,null,null,{"$f":"IF($E$18=0,\"\",IF(MFIS!U40>1,MFIS!U40/$E$18,MFIS!X40/$E$18))","v":0},{"$f":"IF(E18=0,\"\",S30/$E$18)","v":0}]
[null,null,2,"RHS RENTAL ASSISTANCE RECEIVED  . .",null,null,null,77229.5,null,null,null,null,7,"GROUNDS   . . . . . . . . . . . . . . . . . . ",null,null,7500,8145,7500,null,null,{"$f":"IF($E$18=0,\"\",IF(MFIS!U41>1,MFIS!U41/$E$18,MFIS!X41/$E$18))","v":238.34285714285716},{"$f":"IF(E18=0,\"\",S31/$E$18)","v":214.28571428571428}]
[null,null,3,"APPLICATION FEES RECEIVED . . . . . .",null,null,0,247.5,null,null,null,null,8,"SERVICES  . . . . . . . . . . . . .",null,null,1665,1669,1632,null,null,{"$f":"IF($E$18=0,\"\",IF(MFIS!U42>1,MFIS!U42/$E$18,MFIS!X42/$E$18))","v":46.628571428571426},{"$f":"IF(E18=0,\"\",S32/$E$18)","v":46.628571428571426}]
[null,null,4,"LAUNDRY AND VENDING . . . . . . . . .",null,null,180,80,null,null,null,null,9,"CAPITAL BUDGET (Part V operating) ",null,null,0,0,null,null,null,{"$f":"IF($E$18=0,\"\",IF(MFIS!U43>1,MFIS!U43/$E$18,MFIS!X43/$E$18))","v":0},{"$f":"IF(E18=0,\"\",S33/$E$18)","v":0}]
[null,null,5,"INTEREST INCOME . . . . . . . .",null,null,218,82,null,null,null,null,10,"OTHER OPERATING EXPENSES (Itemize)",null,null,1090,1290.5,{"$f":"ROUND(SUM(S25,S26,S27,S28,S29,S30,S31,S32,S43,S59,S67)*GeneralInfo!D39,0)","v":1387},{"$f":"TEXT(GeneralInfo!D39,\"0.0%\")&\"   operations & incidentals\"","v":"1.0%   operations & incidentals"},null,{"$f":"IF($E$18=0,\"\",IF(MFIS!U44>1,MFIS!U44/$E$18,MFIS!X44/$E$18))","v":30.62857142857143},{"$f":"IF(E18=0,\"\",S34/$E$18)","v":39.628571428571426}]
[null,null,6,"TENANT CHARGES . . . . . . . . . . . . . .",null,null,1042,2438.5,null,null,null,null,11,"SUB-TOTAL MAINT. & OPERATING (1 thru 10) . . . . . . . . . ",null,null,{"$f":"SUM(Q25:Q34)","v":42805},{"$f":"SUM(R25:R34)","v":47593.5},{"$f":"SUM(S25:S34)","v":40469},null,null,{"$f":"IF($E$18=0,\"\",IF(MFIS!U45>1,MFIS!U45/$E$18,MFIS!X45/$E$18))","v":1334.4857142857143},{"$f":"IF(E18=0,\"\",S35/$E$18)","v":1156.2571428571428},{"$f":"INDEX(StateAvg,$V$21,3)","v":968.08627118644029}]
[null,null,7,"OTHER - PROJECT SOURCES . . . . . . . . . . . ",null,null,0,91.5]
[null,null,8,"LESS (Vacancy and Contingency Allowance) . ",null,null,-10785,null,{"$f":"-I30*J37","v":-13454.784},{"$f":"J20","v":5.6399999999999999E-2},"Vacancy",null,12,"ELECTRICITY    . . . . . . . . ",null,null,10061,9447.5,9500,null,null,{"$f":"IF($E$18=0,\"\",IF(MFIS!U46>1,MFIS!U46/$E$18,MFIS!X46/$E$18))","v":270.82857142857142},{"$f":"IF($E$18=0,\"\",S37/$E$18)","v":271.42857142857144}]
[null,null,9,"LESS (Agency Approved Incentive Allowances)",null,null,0,null,null,null,null,null,13,"WATER  . . . . . . . . . . ",null,null,979,907,970,null,null,{"$f":"IF($E$18=0,\"\",IF(MFIS!U47>1,MFIS!U47/$E$18,MFIS!X47/$E$18))","v":25.828571428571429},27.714285714285715]
[null,null,10,"  SUB-TOTAL [(1 thru 7) - (8 & 9)] . . . . . . . . . . . . . . . . . . . . . . . . .",null,null,{"$f":"SUM(G30:G38)","v":206355},{"$f":"SUM(H30:H38)","v":209474.5},{"$f":"SUM(I30:I38)","v":225105.21600000001},null,null,null,14,"SEWER  . . . . . . . . . . . . . . . .",null,null,878,835.5,880,null,null,{"$f":"IF($E$18=0,\"\",IF(MFIS!U48>1,MFIS!U48/$E$18,MFIS!X48/$E$18))","v":23.114285714285714},25.142857142857142]
[null,null,"NON-OPERATIONAL CASH SOURCES",null,null,null,null,null,null,null,null,null,15,"FUEL (Oil/Coal/Gas)  . . . . . . ",null,null,0,0,null,null,null,{"$f":"IF($E$18=0,\"\",IF(MFIS!U49>1,MFIS!U49/$E$18,MFIS!X49/$E$18))","v":0},0]
[null,null,11,"CASH - NON PROJECT  . . . . . . . . . . ",null,null,0,0,null,null,null,null,16,"GARBAGE & TRASH REMOVAL  . ",null,null,2734,2531,2520,null,null,{"$f":"IF($E$18=0,\"\",IF(MFIS!U50>1,MFIS!U50/$E$18,MFIS!X50/$E$18))","v":73},72]
[null,null,12,"AUTHORIZED LOAN (Non-RHS). . . . . . . . ",null,null,0,0,null,null,null,null,17,"OTHER UTILITIES    . . . . ",null,null,0,0,null,null,null,{"$f":"IF($E$18=0,\"\",IF(MFIS!U51>1,MFIS!U51/$E$18,MFIS!X51/$E$18))","v":0},0]
[null,null,13,"TRANSFER FROM RESERVE . . . . . . . . ",null,null,41200,34897,null,null,null,null,18,"SUB-TOTAL UTILITIES (12 thru 17) . . . . . . . . . . . . . . . . . .",null,null,{"$f":"SUM(Q37:Q42)","v":14652},{"$f":"SUM(R37:R42)","v":13721},{"$f":"SUM(S37:S42)","v":13870},null,null,{"$f":"IF($E$18=0,\"\",IF(MFIS!U52>1,MFIS!U52/$E$18,MFIS!X52/$E$18))","v":392.77142857142854},396.28571428571428,{"$f":"INDEX(StateAvg,$V$21,6)","v":455.96216867469877}]
[null,null,14,"   SUB-TOTAL (11 thru 13)  . . . . ",null,null,{"$f":"SUM(G41:G43)","v":41200},{"$f":"SUM(H41:H43)","v":34897},{"$f":"SUM(I41:I43)","v":0}]
[null,null,null,null,null,null,null,null,null,null,null,null,19,"SITE MANAGEMENT PAYROLL  .",null,null,20080,18046,7000,null,null,{"$f":"IF($E$18=0,\"\",IF(MFIS!U53>1,MFIS!U53/$E$18,MFIS!X53/$E$18))","v":512.68571428571431},{"$f":"IF($E$18=0,\"\",S45/$E$18)","v":200}]
[null,null,15,"TOTAL CASH SOURCES (10 + 14)   . . . . . . . . . . . . . . . . . . . . . . . ",null,null,{"$f":"G39+G44","v":247555},{"$f":"H39+H44","v":244371.5},{"$f":"I39+I44","v":225105.21600000001},null,null,null,20,"MANAGEMENT FEE",null,null,19320,18312,{"$f":"T46*$E$18*12","v":23100},55,"PUMP",{"$f":"IF($E$18=0,\"\",IF(MFIS!U54>1,MFIS!U54/$E$18,MFIS!X54/$E$18))","v":521.28571428571433},660]
[null,null,"OPERATIONAL  CASH USES",null,null,null,null,null,null,null,null,null,21,"PROJECT AUDITING EXPENSE  . . . . . . . ",null,null,4374,4374,4375,null,null,{"$f":"IF($E$18=0,\"\",IF(MFIS!U55>1,MFIS!U55/$E$18,MFIS!X55/$E$18))","v":124.97142857142858},125]
[null,null,16,"TOTAL O&M EXPENSES (From Part II) . . . . . . . . . . . . . . . . . . . .",null,null,{"$f":"Q69","v":157877},{"$f":"R69","v":153583},{"$f":"S69","v":140051},null,null,null,22,"COMPUTER EXPENSE & UPDATES",null,null,0,0,null,null,null,{"$f":"IF($E$18=0,\"\",IF(MFIS!U56>1,MFIS!U56/$E$18,MFIS!X56/$E$18))","v":0},0]
[null,null,17,"RHS DEBT PAYMENT . . . . . . . . . . . . . . ",null,null,30584,30584,{"$f":"'Sources & Uses'!H6+'Sources & Uses'!H7","v":28598.675835746319},null,null,null,23,"LEGAL EXPENSES  . . . . . . . . . . . . . .",null,null,500,176,300,null,null,{"$f":"IF($E$18=0,\"\",IF(MFIS!U57>1,MFIS!U57/$E$18,MFIS!X57/$E$18))","v":1.4571428571428571},8.5714285714285712]
[null,null,18,"RHS PAYMENT (Overage)  . . . . . . .",null,null,null,32.5,null,null,null,null,24,"ADVERTISING  . . . . . . . . . . .",null,null,500,202.5,300,null,null,{"$f":"IF($E$18=0,\"\",IF(MFIS!U58>1,MFIS!U58/$E$18,MFIS!X58/$E$18))","v":5.8},8.5714285714285712]
[null,null,19,"RHS PAYMENT (Late Fee)  . . . . . . . . .",null,null,null,0,null,null,null,null,25,"TELEPHONE & ANSWERING SERVICE  ",null,null,2300,2322.5,2300,null,null,{"$f":"IF($E$18=0,\"\",IF(MFIS!U59>1,MFIS!U59/$E$18,MFIS!X59/$E$18))","v":62.914285714285711},65.714285714285708]
[null,null,20,"REDUCTION IN PRIOR YEAR PAYABLES . . ",null,null,null,0,null,null,null,null,26,"OFFICE SUPPLIES . . . ",null,null,2000,1901,2000,null,null,{"$f":"IF($E$18=0,\"\",IF(MFIS!U60>1,MFIS!U60/$E$18,MFIS!X60/$E$18))","v":53.457142857142856},57.142857142857146]
[null,null,21,"TENANT UTILITY PAYMENTS . . ",null,null,null,3233.5,null,null,null,null,27,"OFFICE FURNITURE & EQUIPMENT",null,null,0,0,null,null,null,{"$f":"IF($E$18=0,\"\",IF(MFIS!U61>1,MFIS!U61/$E$18,MFIS!X61/$E$18))","v":0},0]
[null,null,22,"TRANSFER TO RESERVE . .  . . . . . . ",null,null,11970,22273.5,{"$f":"'Reserve Sizing'!C50","v":12500},null,null,null,28,"TRAINING EXPENSE  . . .",null,null,2000,1898,1800,null,null,{"$f":"IF($E$18=0,\"\",IF(MFIS!U62>1,MFIS!U62/$E$18,MFIS!X62/$E$18))","v":55.228571428571428},51.428571428571431]
[null,null,23,"RETURN TO OWNER . . . . . . . . . . . . . . .",null,null,5040,5040,{"$f":"K55","v":5767.28},"Calculated:",{"$f":"DashData!D27","v":5767.28},null,29,"HEALTH INS & OTHER EMP. BENEFITS",null,null,12336,12019.5,11500,null,null,{"$f":"IF($E$18=0,\"\",IF(MFIS!U63>1,MFIS!U63/$E$18,MFIS!X63/$E$18))","v":373.05714285714288},328.57142857142856]
[null,null,24,"  SUB-TOTAL (16 thru 23)  . . . . . . . . . ",null,null,{"$f":"SUM(G48:G55)","v":205471},{"$f":"SUM(H48:H55)","v":214746.5},{"$f":"SUM(I48:I55)","v":186916.95583574631},null,null,null,30,"PAYROLL TAXES  . . . ",null,null,3612,3117.5,3080,null,null,{"$f":"IF($E$18=0,\"\",IF(MFIS!U64>1,MFIS!U64/$E$18,MFIS!X64/$E$18))","v":89},88]
[null,null,"NON-OPERATIONAL CASH USES",null,null,null,null,null,null,null,null,null,31,"WORKER'S COMPENSATION  . . ",null,null,1283,1632,1357,null,null,{"$f":"IF($E$18=0,\"\",IF(MFIS!U65>1,MFIS!U65/$E$18,MFIS!X65/$E$18))","v":60.74285714285714},38.771428571428572]
[null,null,25,"AUTHORIZED DEBT PAYMENT (Non-RHS)",null,null,0,0,{"$f":"'Sources & Uses'!H24","v":34165.006162479272},null,null,null,32,"OTHER ADMIN EXPENSES (Itemize)  ",null,null,1113,908.5,950,null,null,{"$f":"IF($E$18=0,\"\",IF(MFIS!U66>1,MFIS!U66/$E$18,MFIS!X66/$E$18))","v":29.228571428571428},27.142857142857142]
[null,null,26,"LONG-TERM IMPROVEMENTS . . . . ",null,null,41200,34897,null,null,null,null,33,"SUB-TOTAL ADMNSTRATVE (19 thru 32) . . . . . . . . . . . . .",null,null,{"$f":"SUM(Q45:Q58)","v":69418},{"$f":"SUM(R45:R58)","v":64909.5},{"$f":"SUM(S45:S58)","v":58062},null,null,{"$f":"IF($E$18=0,\"\",IF(MFIS!U67>1,MFIS!U67/$E$18,MFIS!X67/$E$18))","v":1889.8285714285714},1658.9142857142858,{"$f":"INDEX(StateAvg,$V$21,9)","v":1146.7892512077294}]
[null,null,27,"MISCELLANEOUS . . . .",null,null,0,0]
[null,null,28,"  SUB-TOTAL (25 thru 27) . . . . . . . . . . . . . . . . . . . . . . . . . . . . . . . . ",null,null,{"$f":"SUM(G58:G60)","v":41200},{"$f":"SUM(H58:H60)","v":34897},{"$f":"SUM(I58:I60)","v":34165.006162479272},null,null,null,34,"REAL ESTATE TAXES  . . . . ",null,null,20310,18459.5,18500,null,null,{"$f":"IF($E$18=0,\"\",IF(MFIS!U68>1,MFIS!U68/$E$18,MFIS!X68/$E$18))","v":507.57142857142856},{"$f":"IF($E$18=0,\"\",S61/$E$18)","v":528.57142857142856}]
[null,null,null,null,null,null,null,null,null,null,null,null,35,"SPECIAL ASSESSMENTS  . . . . . . . . . . . .",null,null,300,225,250,null,null,{"$f":"IF($E$18=0,\"\",IF(MFIS!U69>1,MFIS!U69/$E$18,MFIS!X69/$E$18))","v":7.1428571428571432},7.1428571428571432]
[null,null,29,"TOTAL CASH USES  (24 + 28) . . . . . . . . . . . . . . . . . . . . . .",null,null,{"$f":"G56+G61","v":246671},{"$f":"H56+H61","v":249643.5},{"$f":"I56+I61","v":221081.9619982256},null,null,null,36,"OTHER TAXES, LICENSES & PERMITS",null,null,0,0,null,null,null,{"$f":"IF($E$18=0,\"\",IF(MFIS!U70>1,MFIS!U70/$E$18,MFIS!X70/$E$18))","v":0},0]
[null,null,null,null,null,null,null,null,null,null,null,null,37,"PROPERTY & LIABILITY INSURANCE",null,null,10201,8674.5,8800,null,null,{"$f":"IF($E$18=0,\"\",IF(MFIS!U71>1,MFIS!U71/$E$18,MFIS!X71/$E$18))","v":284.34285714285716},251.42857142857142]
[null,null,30,"NET CASH (DEFICIT)  (15 - 29)  . . . . . . . . . . . . . . . . . . . . . . . . . . ",null,null,{"$f":"G46-G63","v":884},{"$f":"H46-H63","v":-5272},{"$f":"I46-I63","v":4023.2540017744177},{"$f":"I65/I48","v":2.8727063725174529E-2},null,null,38,"FIDELITY COVERAGE INSURANCE ",null,null,191,0,100,null,null,{"$f":"IF($E$18=0,\"\",IF(MFIS!U72>1,MFIS!U72/$E$18,MFIS!X72/$E$18))","v":0},2.8571428571428572]
[null,null,"CASH BALANCE",null,null,null,null,null,null,null,null,null,39,"OTHER INSURANCE  . . . .",null,null,0,0,null,null,null,{"$f":"IF($E$18=0,\"\",IF(MFIS!U73>1,MFIS!U73/$E$18,MFIS!X73/$E$18))","v":0},0]
[null,null,31,"BEGINNING CASH BALANCE  . . . . . . ",null,null,null,null,null,null,null,null,40,"SUB-TOTAL TAXES & INSURANCE (34 thru 39)  . . . . . . . .",null,null,{"$f":"SUM(Q61:Q66)","v":31002},{"$f":"SUM(R61:R66)","v":27359},{"$f":"SUM(S61:S66)","v":27650},null,null,{"$f":"IF($E$18=0,\"\",IF(MFIS!U74>1,MFIS!U74/$E$18,MFIS!X74/$E$18))","v":799.05714285714282},790,{"$f":"INDEX(StateAvg,$V$21,12)","v":551.56253012048194}]
[null,null,32,"ACCRUAL TO CASH ADJUSTMENT . . . "]
[null,null,33,"ENDING CASH BALANCE (30+31+32) . . .",null,null,null,null,null,null,null,null,41,"TOTAL O & M EXPENSES  (11+18+33+40)   . . . . . . . . .",null,null,{"$f":"SUM(Q35,Q43,Q59,Q67)","v":157877},{"$f":"SUM(R35,R43,R59,R67)","v":153583},{"$f":"SUM(S35,S43,S59,S67)","v":140051},null,null,{"$f":"IF($E$18=0,\"\",IF(MFIS!U75>1,MFIS!U75/$E$18,MFIS!X75/$E$18))","v":4416.1428571428569},{"$f":"IF(E18=0,\"\",S69/$E$18)","v":4001.457142857143},{"$f":"INDEX(StateAvg,$V$21,15)","v":3041.516513513513}]

{"sheet":"Dashboard Report","index":8,"n_rows":79,"n_cols":2,"rows_kept":79,"cut":false,"hidden":false,"merged":[[0,1,0,12],[39,1,39,12],[41,0,41,2],[40,0,40,2],[78,1,78,12]]}
[null,{"$f":"IF(GeneralInfo!C6>0,GeneralInfo!C6,\"\")","v":"Forest View Apartments"}]
[]
[]
[]
[]
[]
[]
[]
[]
[]
[]
[]
[]
[]
[]
[]
[]
[]
[]
[]
[]
[]
[]
[]
[]
[]
[]
[]
[]
[]
[]
[]
[]
[]
[]
[]
[]
[]
[]
[null,{"$f":"IF(GeneralInfo!C6>0,GeneralInfo!C6,\"\")","v":"Forest View Apartments"}]
["Click Below to "]
["Document Threshold Items"]
[]
[]
[]
[]
[]
[]
[]
[]
[]
[]
[]
[]
[]
[]
[]
[]
[]
[]
[]
[]
[]
[]
[]
[]
[]
[]
[]
[]
[]
[]
[]
[]
[]
[]
[]
[]
[null,{"$f":"IF(GeneralInfo!C6>0,GeneralInfo!C6,\"\")","v":"Forest View Apartments"}]

{"sheet":"DashData","index":9,"n_rows":222,"n_cols":29,"rows_kept":222,"cut":false,"hidden":true,"merged":[[203,2,203,3],[204,2,204,3],[221,2,221,3],[23,5,23,6],[9,5,9,6],[197,4,197,5],[187,4,187,5],[191,4,191,5],[194,4,194,5],[32,5,32,7],[164,2,164,3],[196,2,196,3],[190,2,190,3],[133,16,133,19],[143,16,143,23],[134,16,134,19],[180,4,180,5],[184,4,184,5],[165,4,165,5],[158,2,158,5],[159,4,159,5],[145,2,145,3],[151,2,151,3],[162,4,162,5],[169,2,169,3],[170,4,170,5],[174,4,174,5],[177,4,177,5],[135,16,135,17],[34,8,34,9],[75,2,75,3],[57,2,57,3],[58,2,58,3],[40,2,40,3],[42,2,42,3],[38,5,38,7],[3,2,3,3],[10,2,10,3],[45,2,45,4],[27,2,27,3],[18,2,18,3],[15,2,15,3],[29,2,29,3],[31,2,31,3],[39,2,39,3],[16,2,16,3]]}
[]
[]
[]
[null,null,"Net Operating Income"]
[null,null,"Operational Cash Sources\n (3560-7 Part 1 line 10)",{"$f":"'Rents & Operations'!I39","v":225105.21600000001}]
[null,null,"Less Total Operating & Maintenance Expenses\n3560-7 Part 1 line 16)",{"$f":"-'Rents & Operations'!I48","v":-140051}]
[null,null,"Less Reserve Deposit\n3560-7 Part 1 line 22)",{"$f":"-'Rents & Operations'!I54","v":-12500}]
[null,null,"Less Misc. Expense\n3560-7 Part 1 line 27)",{"$f":"-'Rents & Operations'!I60","v":0}]
[null,null," = Net Operating Income:",{"$f":"SUM(D5:D8)","v":72554.216000000015}]
[null,null,null,null,null,"Rents Needed Calculation"]
[null,null,"Debt Service Coverage Ratio",null,null,"Debt Service",{"$f":"'Rents & Operations'!I49+'Rents & Operations'!I61","v":62763.681998225591}]
[null,null,"Net Operating Income / Total Debt Service = DSCR",null,null,"O&M",{"$f":"'Rents & Operations'!I48","v":140051}]
[null,null,"Net Operating Income",{"$f":"D9","v":72554.216000000015},null,"Reserve",{"$f":"'Rents & Operations'!I54","v":12500}]
[null,null,"Total Debt Service \n3560-7 Part 1 line 17 and 25",{"$f":"'Rents & Operations'!I49+'Rents & Operations'!I58","v":62763.681998225591},null,"RTO",{"$f":"'Rents & Operations'!I55","v":5767.28}]
[null,null,"Debt Service Coverage Ratio",{"$f":"ROUND(D13/D14,2)","v":1.1599999999999999},null,"Balance for 1.15 DSCR",{"$f":"IF(G11*15%-G14>0,G11*15%-G14,0)","v":3647.2722997338378}]
[null,null,{"$f":"IF($D$15<1,\"Deal Not Feasible - Can't Cover Proposed Debt\", \"Adequate Revenue for Debt Service\")","v":"Adequate Revenue for Debt Service"},null,null,"Sum",{"$f":"SUM(G11:G15)","v":224729.23429795943}]
[null,null,{"$f":"IF('Sources & Uses'!C3<>\"\",'Sources & Uses'!C3,\"\")","v":""},null,null,"Less Other Inc",{"$f":"-SUM('Rents & Operations'!I32:I36)","v":0}]
[null,null,null,null,null,"Total ",{"$f":"SUM(G16:G17)","v":224729.23429795943}]
[null,null,"Allowed Return To Owner (RTO)",null,null,"With Vacancy",{"$f":"-G18/H19","v":238161.54546201721},{"$f":"'Rents & Operations'!J37-1","v":-0.94359999999999999},"(don't delete H19 )"]
[null,null,"Cash Flow after Debt Service",{"$f":"IF('Rents & Operations'!Y13,D9-D14+E20,D9-D14)","v":9790.5340017744238},{"$f":"IF('Sources & Uses'!D6,'Sources & Uses'!A6,0)","v":0},"Amt on UW Bud",{"$f":"'Rents & Operations'!I30","v":238560}]
[null,null,"Less Addition Cushion Required (Agency test for vacancy & cushion)",{"$f":"IF(D53>0, -D53,\"\")","v":""},null,"(+) inc (-) dec Rents Per unit",{"$f":"ROUNDDOWN((G19-G20)/'Rents & Operations'!E18/12,0)","v":0}]
[null,null,"Less Budget Above Minimum of CRCU, LIHTC",{"$f":"IF(G28<0,0,-G28)","v":0}]
[null,null,"Less Debt Service for Any Non-Amortizing RD Loan",{"$f":"-IF('Sources & Uses'!D6,'Sources & Uses'!A6,0)+-IF('Sources & Uses'!D7,'Sources & Uses'!A7,0)","v":0}]
[null,null,"Net Cash Flow ",{"$f":"SUM(D20:D23)","v":9790.5340017744238},null,"Underwritten v/s Min CRCU LIHTC"]
[null,null,{"$f":"IFERROR(IF(D27>GeneralInfo!D28,\"Increase\",\"Existing RTO\"),\"not calculating\")","v":"Existing RTO"},{"$f":"IF(C25=\"Increase\",\"Tenant Protection Required\",\"\")","v":""},null,"Rents CRCU",{"$f":"'Rents & Operations'!I18*12*'Rents & Operations'!E18","v":238560}]
[null,null,"New RTO for Underwritten Transfer \n(Minimum afforded from Cash Flow or Allowed from Contribution)",{"$f":"IF(D24<0,0,IF(D24>D75,D75,(MIN(D24,D75))))","v":5767.28},{"$f":"D26","v":5767.28},"Rents LIHTC",{"$f":"'Rents & Operations'!H18*'Rents & Operations'!E18*12","v":288960}]
[null,null,"Total Allowed RTO for This Transaction",{"$f":"IF(GeneralInfo!H16,0,D26)","v":5767.28},null,"Rents UW",{"$f":"'Rents & Operations'!I30","v":238560}]
[null,null,{"$f":"IF('Rents & Operations'!J18>'Rents & Operations'!H18,\"Warning This Calculation is Based Upon Rents that Exceed LIHTC\",IF('Rents & Operations'!J18>'Rents & Operations'!I18,\"Warning this Calculation is Based Upon Rents Exceed CRUC\",\"Rents Are Within CRCU and LIHTC Rates\"))","v":"Rents Are Within CRCU and LIHTC Rates"},null,null,null,{"$f":"G27-MIN(G25,G26)","v":0}]
[null,null,"Owner Contribution Recognized For Loan Agreement",{"$f":"ROUND(D27/0.08,0)","v":72091}]
[null,null,{"$f":"IF(G21>0,\"Rents Lower than Needed for Cash Flow by\"&TEXT(G21,\"$0\"),\"Rents Higher than Needed for Cash Flow by \"&TEXT(-G21,\"$0\"))","v":"Rents Higher than Needed for Cash Flow by $0"}]
[null,null,{"$f":"\"Estimated annual amount required to pay off DFF over 15 yrs $\"&TEXT('Sources & Uses'!C28/15,0)","v":"Estimated annual amount required to pay off DFF over 15 yrs $783"}]
[null,null,"Sellers Equity"]
[null,null,"   Current RD Debt",{"$f":"'Sources & Uses'!C6+'Sources & Uses'!C7","v":1124909},null,"Loan to Value"]
[null,null,"   Sellers Equity",{"$f":"'Sources & Uses'!C106","v":144000},null,"Agency Security Value from Appraisal",null,{"$f":"GeneralInfo!I20","v":1797000}]
[null,null,"Debt & Sellers Equity",{"$f":"SUM(D33:D34)","v":1268909},null,"RD Assumed Loan",null,{"$f":"'Sources & Uses'!C6+'Sources & Uses'!C7","v":1124909},{"$f":"IF($D$69<=0,\"New Loan(s) Must be Reduced, Exceeds Eligible Purposes\", \"\")","v":""}]
[null,null,"   Reserve Funds (less any withdrawn for Equity)",{"$f":"GeneralInfo!D22-'Sources & Uses'!H32","v":30000},null,"Other Proposed Loans",null,{"$f":"SUM('Sources & Uses'!C10:C20)","v":600000}]
[null,null,"   Market Value As Is ",{"$f":"GeneralInfo!I19","v":1375000},null,"  Total Loans",null,{"$f":"SUM(H35:H36)","v":1724909},{"$f":"H34-H37","v":72091},"(amt above Security Value)"]
[null,null,"Total Reserve Plus Market Value As Is",{"$f":"SUM(D36:D37)","v":1405000},null,"Loan to Value",null,{"$f":"H37/H34","v":0.95988258208124655}]
[null,null,"Sellers Equity Allowed Per Appraisal",{"$f":"D38-D33","v":280091}]
[null,null,{"$f":"IF(AND($D$39<=0,('Rents & Operations'!$I$58>0)),\"No Seller Equity Allowed with New Loans on Property\",IF(AND($D$39<=0,('Rents & Operations'!$I$58<0)),\"Sellers Equity Paid with no New Loans on the Property\",\"\"))","v":""}]
[null,null,{"$f":"IF(C40=\"No Seller Equity Allowed with New Loans on Property\", \"Transferor Incentive\", \"\")","v":""}]
[null,null,{"$f":"IF(AND(D160=1,D163=1,D166=1,D171=1,D175=1,D178=1,D181=1,D185=1,D188=1,D192=1,D195=1,D198=1),\"All Thresholds Met\",\"Thresholds Not Met\")","v":"All Thresholds Met"},{"$f":"IF(C42=\"All Thresholds Met\",D34,\"\")","v":144000}]
[null,null,{"$f":"IF(C42=\"All Thresholds Met\",IF(AND(D62>=0,D69>=0),\"4 Test Met:  1. All Thresholds Met. 2. Transfer Incentive available from Tax Credits, 3. New Loan for 515 Eligible Purposes  4. All Loans Secured\"),\"No Transferor Incentive Allowed\")","v":"4 Test Met:  1. All Thresholds Met. 2. Transfer Incentive available from Tax Credits, 3. New Loan for 515 Eligible Purposes  4. All Loans Secured"}]
[]
[]
[null,null,"Vacancy Loss Comparison of \nIndustry Standard with Agency Requirement for Vacancy & Cushion",null,null,"(Cap)"]
[null,null,"Vacancy Loss as Underwritten",{"$f":"-'Rents & Operations'!$I$37","v":13454.784},{"$f":"'Rents & Operations'!$J$37","v":5.6399999999999999E-2},{"$f":"IF('Rents & Operations'!E18>15,10%,15%)","v":0.1}]
[null,null,"Vacancy Loss 3 yr Avg Actual",{"$f":"IF((AVERAGE(MFIS!$T$2,MFIS!$W$2,MFIS!$Z$2))-('Rents & Operations'!$H$30+'Rents & Operations'!$H$31-'Rents & Operations'!$H$50-'Rents & Operations'!$H$53)>0,(AVERAGE(MFIS!$T$2,MFIS!$W$2,MFIS!$Z$2))-('Rents & Operations'!$H$30+'Rents & Operations'!$H$31-'Rents & Operations'!$H$50-'Rents & Operations'!$H$53),0)","v":7531},{"$f":"-ROUND(('Rents & Operations'!$H$30+'Rents & Operations'!$H$31-'Rents & Operations'!$H$50-'Rents & Operations'!$H$53)/(AVERAGE(MFIS!$T$2,MFIS!$W$2,MFIS!$Z$2))-1,4)","v":3.5700000000000003E-2},{"$f":"E48+2%","v":5.57E-2}]
[null,null,"Vacancy Loss Agency Standard (Actual plus 2%) not to exceed 10% for 16 or more units and or 15% for less than 16 units",{"$f":"'Rents & Operations'!I30*E49","v":13287.791999999999},{"$f":"MIN(F47,F48)","v":5.57E-2}]
[null,null,{"$f":"\"5% O&M for Cushion & Turn Over in Budget (line 10)\"","v":"5% O&M for Cushion & Turn Over in Budget (line 10)"},{"$f":"('Rents & Operations'!S69-'Rents & Operations'!S34)*5%","v":6933.2000000000007},null,{"$f":"'Rents & Operations'!S34","v":1387}]
[null,null,"Total Allowances = Vacancy & Cushion (agency test)",{"$f":"SUM($D$49,$D$50)","v":20220.991999999998}]
[null,null,"Less Industry Standard  (of 5%)",{"$f":"'Rents & Operations'!I30*5%","v":11928}]
[null,null,"Mimimum of Agency Test or Industry Standard, Less Actual Budgeted Amount\nIf positive Reduce Net Cash for RTO.",{"$f":"MIN(D52,D51)-D47-F50","v":-2913.7839999999997},{"$f":"$D$53/'Rents & Operations'!$I$30","v":-1.2214050972501675E-2},"(minimum of \"total allowance, or industry standard\" Less actual budgeted amount"]
[null,null,{"$f":"IF(E48-2%>E47,\"Underwritten Vacancy not Supported by Historical Actual\", \"\")","v":""}]
[]
[]
[]
[null,null,"Contribution Above New Loans  & Within Security Value\n"]
[]
[null,null,"Security Value (As Improved with added Value of Interest Credit)",{"$f":"GeneralInfo!I20","v":1797000}]
[null,null,"Less All Loans on the Property",{"$f":"-SUM('Sources & Uses'!C6:C21)","v":-1724909}]
[null,null,"  (1) Security Value in Excess of Loans",{"$f":"SUM(D60:D61)","v":72091}]
[]
[]
[]
[]
[null,null,"Total Tax Credits Deferred Developers Fee",{"$f":"SUM('Sources & Uses'!C24:C29)","v":3894538}]
[null,null,"Less Sellers Equity & Ineligible Expenses for 515",{"$f":"-SUM('Sources & Uses'!C106+'Sources & Uses'!C102)","v":-1908733}]
[null,null,"  (2) Contribution Provided for All 515 Eligible Cost",{"$f":"SUM($D$67:$D$68)","v":1985805}]
[null,null,"  (3) Hard Cost of Construction (Sources & Uses)",{"$f":"'Sources & Uses'!C54","v":1883280}]
[]
[null,null,"Contribution not in excess of  Security Value or Hard Cost of Construction",{"$f":"MIN($D$62,$D$69,D70)","v":72091}]
[]
[null,null,"Maximum Possible Contribution Recognized for Additional RTO",{"$f":"$D$72","v":72091}]
[null,null,{"$f":"IF(GeneralInfo!H16,\"Non-Profit - RTO Not Applicable\",8%)","v":0.08},{"$f":"IF(GeneralInfo!H16,0,IF($D$74>0,$D$74*8%,0))","v":5767.28}]
[null,null,{"$f":"IF('Sources & Uses'!$D$42<>0,\"Sources and Uses Are Out of Balance\", \"Sources & Uses Balanced\")","v":"Sources & Uses Balanced"}]
[]
[]
[null,null,"Operating Expenses","Current Budget","Average 3 Yr History","Underwritten","State Avg"]
[null,null,"MAINTENANCE & OPERATING",{"$f":"'Rents & Operations'!Q35/'Rents & Operations'!E18","v":1223},{"$f":"'Rents & Operations'!R35/'Rents & Operations'!E18","v":1359.8142857142857},{"$f":"'Rents & Operations'!S35/'Rents & Operations'!E18","v":1156.2571428571428},{"$f":"'Rents & Operations'!X35","v":968.08627118644029}]
[null,null,"TOTAL UTILITIES",{"$f":"'Rents & Operations'!Q43/'Rents & Operations'!E18","v":418.62857142857143},{"$f":"'Rents & Operations'!R43/'Rents & Operations'!E18","v":392.02857142857141},{"$f":"'Rents & Operations'!S43/'Rents & Operations'!E18","v":396.28571428571428},{"$f":"'Rents & Operations'!X43","v":455.96216867469877}]
[null,null,"ADMNSTRATVE",{"$f":"'Rents & Operations'!Q59/'Rents & Operations'!E18","v":1983.3714285714286},{"$f":"'Rents & Operations'!R59/'Rents & Operations'!E18","v":1854.5571428571429},{"$f":"'Rents & Operations'!S59/'Rents & Operations'!E18","v":1658.9142857142858},{"$f":"'Rents & Operations'!X59","v":1146.7892512077294}]
[null,null,"TAXES & INSURANCE",{"$f":"'Rents & Operations'!Q67/'Rents & Operations'!E18","v":885.7714285714286},{"$f":"'Rents & Operations'!R67/'Rents & Operations'!E18","v":781.68571428571431},{"$f":"'Rents & Operations'!S67/'Rents & Operations'!E18","v":790},{"$f":"'Rents & Operations'!X67","v":551.56253012048194}]
[null,null,"TOTAL O & M EXPENSES ",{"$f":"'Rents & Operations'!Q69/'Rents & Operations'!E18","v":4510.7714285714283},{"$f":"'Rents & Operations'!R69/'Rents & Operations'!E18","v":4388.0857142857139},{"$f":"'Rents & Operations'!S69/'Rents & Operations'!E18","v":4001.457142857143},{"$f":"'Rents & Operations'!X69","v":3041.516513513513}]
[]
[null,null,{"$f":"C79","v":"Operating Expenses"},{"$f":"D79","v":"Current Budget"},{"$f":"E79","v":"Average 3 Yr History"},{"$f":"F79","v":"Underwritten"},{"$f":"G79","v":"State Avg"}]
[null,null,{"$f":"C84","v":"TOTAL O & M EXPENSES "},{"$f":"D84","v":4510.7714285714283},{"$f":"E84","v":4388.0857142857139},{"$f":"F84","v":4001.457142857143},{"$f":"G84","v":3041.516513513513}]
[]
[]
[]
[]
[]
[]
[null,null,"Transaction Cost Comparison",{"$f":"'Sources & Uses'!D49","v":"Total"}]
[null,null,{"$f":"'Sources & Uses'!B50&\" For Repair / Rehab\"","v":"Hard Costs For Repair / Rehab"},{"$f":"'Sources & Uses'!C54","v":1883280}]
[null,null,{"$f":"'Sources & Uses'!B55","v":"Contractor Fees"},{"$f":"'Sources & Uses'!C60","v":262957}]
[null,null,{"$f":"'Sources & Uses'!B61","v":"Architect /Engineer / Survey"},{"$f":"'Sources & Uses'!C65","v":89800}]
[null,null,{"$f":"'Sources & Uses'!B66","v":"Financing & Interim Cost"},{"$f":"'Sources & Uses'!C72","v":219270}]
[null,null,{"$f":"'Sources & Uses'!B73","v":"Soft Cost & Other Expenses"},{"$f":"'Sources & Uses'!C84","v":130498}]
[null,null,{"$f":"'Sources & Uses'!B86","v":"Entity and Syndication"},{"$f":"'Sources & Uses'!C102","v":1764733}]
[null,null,"Sellers Equity",{"$f":"'Sources & Uses'!C106","v":144000}]
[null,null,"Assumption of RD Loan",{"$f":"'Sources & Uses'!C105","v":1124909}]
[]
[null,null,"Total Development Cost",{"$f":"SUM(D95:D103)","v":5619447}]
[]
[]
[null,null,"Sources","Total"]
[null,null,"Assume Existing RD Loans",{"$f":"'Sources & Uses'!C6+'Sources & Uses'!C7","v":1124909}]
[null,null,"3rd Party Loans",{"$f":"SUM('Sources & Uses'!C10:C20)","v":600000}]
[null,null,"Federal Tax Credit Equity",{"$f":"SUM('Sources & Uses'!C24:C26)","v":2746672}]
[null,null,"State Tax Credits",{"$f":"'Sources & Uses'!C27","v":1136127}]
[null,null,"Deferred Developer Fees",{"$f":"'Sources & Uses'!C28","v":11739}]
[null,null,{"$f":"IF('Sources & Uses'!C29>0,'Sources & Uses'!B29,\"\")","v":""},{"$f":"IF('Sources & Uses'!C29<>0,'Sources & Uses'!C29,\"\")","v":""}]
[null,null,{"$f":"IF(D114<>\"\",\"Reserve\",\"\")","v":""},{"$f":"IF('Sources & Uses'!C22+'Sources & Uses'!C23>0,'Sources & Uses'!C22+'Sources & Uses'!C23,\"\")","v":""}]
[null,null,{"$f":"IF(D115<>\"\",\"Other\",\"\")","v":""}]
[null,null,"Total Sources",{"$f":"SUM(D108:D115)","v":5619447}]
[]
[]
[]
[]
[]
[]
[]
[]
[]
[]
[]
[]
[]
[]
[]
[]
[]
[null,null,null,null,null,null,null,null,null,null,null,null,null,null,null,null,"O & M Expense Changes "]
[null,null,null,null,null,null,null,null,null,null,null,null,null,null,null,null,"Underwritten v/s Historical Avg -  %Change"]
[null,null,null,null,null,null,null,null,null,null,null,null,null,null,null,null,"Maintenance & Operating (Excludes line 9 & 10)",null,{"$f":"$Z$145-$AC$145","v":-7221},{"$f":"AA145","v":-0.15595101829255123}]
[null,null,null,null,null,null,null,null,null,null,null,null,null,null,null,null,null,"Utilities",{"$f":"$Z$146-$AC$146","v":149},1.0859266817287369E-2]
[null,null,null,null,null,null,null,null,null,null,null,null,null,null,null,null,null,"Total Administrative",{"$f":"$Z$147-$AC$147","v":-6847.5},-0.10549303260693735]
[null,null,null,null,null,null,null,null,null,null,null,null,null,null,null,null,null,"Total Tax & Insurance",{"$f":"$Z$148-$AC$148","v":291},1.0636353667897218E-2]
[null,null,null,null,null,null,null,null,null,null,null,null,null,null,null,null,null,"Total O & M",{"$f":"$Z$149-$AC$149","v":-13628.5},-8.9488976804504489E-2]
[null,null,null,null,null,null,null,null,null,null,null,null,null,null,null,null,null,"Reserve Deposit",{"$f":"$Z$150-$AC$150","v":-9773.5},-0.43879498058230632]
[]
[]
[null,null,null,null,null,null,null,null,null,null,null,null,null,null,null,null,"O&M Expense Changes (Transfer UW minus 3 Yr Average Actuals) Change of 10% Flagged",null,null,null,null,null,null,null,null,"UW",null,null,"3 yr Avg Actual"]
[null,null,null,null,null,null,null,null,null,null,null,null,null,null,null,null,null,"Maintenance & Operating",{"$f":"$Z$145-$AC$145","v":-7221},{"$f":"TEXT(AC145,\"$0\")&\" versus \"&TEXT(Z145,\"$0\")&\" underwritten \"&\"(\"&TEXT(AA145,\"0.0%\")& \" change)\"","v":"$46303 versus $39082 underwritten (-15.6% change)"},null,null,null,null,null,{"$f":"ROUND('Rents & Operations'!S35-'Rents & Operations'!S34-'Rents & Operations'!S33,0)","v":39082},{"$f":"S145/AC145","v":-0.15595101829255123},null,{"$f":"'Rents & Operations'!R35-'Rents & Operations'!R34-'Rents & Operations'!R33","v":46303}]
[null,null,"Rents & Tenant Impact",null,null,null,null,null,null,null,null,null,null,null,null,null,null,"Utilities",{"$f":"$Z$146-$AC$146","v":149},"$13721 versus $13870 underwritten (1.1% change)",null,null,null,null,null,{"$f":"'Rents & Operations'!S43","v":13870},1.0859266817287369E-2,null,{"$f":"'Rents & Operations'!R43","v":13721}]
[null,null,"Rent Increase Proposed",{"$f":"'Rents & Operations'!J18-'Rents & Operations'!G18","v":59.428571428571445},null,null,null,null,null,null,null,null,null,null,null,null,null,"Total Administrative",{"$f":"$Z$147-$AC$147","v":-6847.5},"$64910 versus $58062 underwritten (-10.5% change)",null,null,null,null,null,{"$f":"'Rents & Operations'!S59","v":58062},-0.10549303260693735,null,{"$f":"'Rents & Operations'!R59","v":64909.5}]
[null,null,"Number RA Units",{"$f":"GeneralInfo!I28","v":35},null,null,null,null,null,null,null,null,null,null,null,null,null,"Total Tax & Insurance",{"$f":"$Z$148-$AC$148","v":291},"$27359 versus $27650 underwritten (1.1% change)",null,null,null,null,null,{"$f":"'Rents & Operations'!S67","v":27650},1.0636353667897218E-2,null,{"$f":"'Rents & Operations'!R67","v":27359}]
[null,null,"Vouchers or Other Tenant Subsidy",{"$f":"GeneralInfo!I29","v":0},null,null,null,null,null,null,null,null,null,null,null,null,null,"Total O & M",{"$f":"$Z$149-$AC$149","v":-13628.5},"$152293 versus $138664 underwritten (-8.9% change)",null,null,null,null,null,{"$f":"'Rents & Operations'!S69-'Rents & Operations'!S34-'Rents & Operations'!S33","v":138664},-8.9488976804504489E-2,null,{"$f":"'Rents & Operations'!R69-'Rents & Operations'!R34-'Rents & Operations'!R33","v":152292.5}]
[null,null,"Total Project Units",{"$f":"'Rents & Operations'!E18","v":35},null,null,null,null,null,null,null,null,null,null,null,null,null,"Reserve Deposit",{"$f":"$Z$150-$AC$150","v":-9773.5},"$22274 versus $12500 underwritten (-43.9% change)",null,null,null,null,null,{"$f":"'Rents & Operations'!I54","v":12500},-0.43879498058230632,null,{"$f":"'Rents & Operations'!H54","v":22273.5}]
[null,null,"Potential Tenant Impact",{"$f":"D150-D149-D148","v":0}]
[]
[]
[]
[]
[]
[]
[]
[null,null,"Thresholds"]
[null,null,"Post Transfer Rents ",{"$f":"IF(F162>F161,2,1)","v":1},"This Transaction"]
[null,null,"   Maximum allowed by HFA not to exceed CRCU",null,"Max Allowed",{"$f":"IFERROR(IF('Rents & Operations'!H18<'Rents & Operations'!I18,'Rents & Operations'!H18,'Rents & Operations'!I18),\"not calculating\")","v":568}]
[null,null,null,null,"Underwritten",{"$f":"IFERROR('Rents & Operations'!J18,\"not calculating\")","v":568}]
[null,null,"Rents Cash Flow Proposed Operations",{"$f":"IF(OR(G21>1,G21<0),2,1)","v":1},"This Transaction"]
[null,null,"   Expenses met within underwritten Rents",null,"Cushion ",0.05]
[null,null,{"$f":"IFERROR(C30,\"   not calculating\")","v":"Rents Higher than Needed for Cash Flow by $0"},null,"Underwritten",{"$f":"GeneralInfo!D39","v":0.01}]
[null,null,"Vacancy Loss",{"$f":"IF(OR(F169<F168,F169>F167,C170=\"Underwritten Vacancy not Supported by Historical Actual\"),2,1)","v":1},"This Transaction"]
[null,null,"   Maximum allowance 10% (16 or more units) 15% (Less than 16 units)",null,"Max Allowed",{"$f":"IF('Rents & Operations'!E18>15,10%,15%)","v":0.1}]
[null,null,"   Minimum allowance: Lesser of Historical average of collected rents for ",null,"Min Allowed",{"$f":"IFERROR(MIN('Rents & Operations'!G20:I20),\"not caculating\")","v":5.57E-2}]
[null,null,"   most recent 3 yrs plus 2%, or HFA / Lender Requirement","=","Underwritten",{"$f":"'Rents & Operations'!J20","v":5.6399999999999999E-2}]
[null,null,{"$f":"IFERROR(IF(C54<>\"\",C54,\"\"),\"Not Calculating\")","v":""}]
[null,null,"Operating Expenses",{"$f":"IF(OR(F174<F172,F173=\"Yes\"),2,1)","v":1},"This Transaction"]
[null,null,"   Minimum required per unit cost is greater of HFA or Lender must be budgeted",null,"Min Allowed",{"$f":"MAX(GeneralInfo!I38,GeneralInfo!D38)","v":3500}]
[null,null,"   No more than 10% change from historical actual without justification",null,"Changed 10%",{"$f":"IFERROR(IF(OR(T140<-10%,T140>10%),\"Yes\",\"No\"),\"not calculating\")","v":"No"}]
[null,null,null,null,"Underwritten",{"$f":"IFERROR('Rents & Operations'!I48/'Rents & Operations'!E18,0)","v":4001.457142857143}]
[null,null,"GOA Minimum Requirement",{"$f":"IF(F177<F176,2,1)","v":1},"This Transaction"]
[null,null,"    General Operating Account must be equal to 20% ",null,"Min Required",{"$f":"('Rents & Operations'!I48-'Rents & Operations'!S67)*20%","v":22480.2}]
[null,null,"    total operating expense as underwritten at time of transfer",null,"GOA",{"$f":"GeneralInfo!D25","v":25000}]
[null,null,"Tenant Protection",{"$f":"IF(AND(F179>F180,C25=\"Increase\"),2,1)","v":1},"This Transaction"]
[null,null,"  Protect tenants for full 2 year increase for affected tenants if RTO increased",null,"Min Funding",{"$f":"IFERROR((IF(D27>GeneralInfo!D28,(D151*('Rents & Operations'!J18-'Rents & Operations'!G18)*2*12),0)),\"Not Calculating\")","v":0}]
[null,null,"   Tenant Protection item 36 of Sources & Uses",null,null,{"$f":"'Sources & Uses'!C97","v":0}]
[null,null,"CNA Funding & Reserve Deposit",{"$f":"IF(AND(F184>=F182,F183=\"Yes\",C184=\"CNA Unit Count & Post Transfer the Same\"),1,2)","v":1},"This Transaction"]
[null,null,"   Minimum Requirement Per Unit is greater of HFA or Lender",null,"Min Allowed",{"$f":"MIN('Reserve Sizing'!Q34)","v":350}]
[null,null,"   Reserve ending balance forecast positive all 20 yrs of CNA forecast",null,"CNA Positive $",{"$f":"IF(SUM('Reserve Sizing'!C54:V54)>1,\"Not Met\", \"Yes\")","v":"Yes"}]
[null,null,{"$f":"IF('Reserve Sizing'!C4='Reserve Sizing'!B4,\"CNA Unit Count & Post Transfer the Same\",\"CNA Unit Count & Post Transfer Not the Same\")","v":"CNA Unit Count & Post Transfer the Same"},null,"Underwritten",{"$f":"IFERROR('Reserve Sizing'!C50/'Reserve Sizing'!C4,0)","v":357.14285714285717}]
[null,null,"New Loans for RD 515 Eligible Purposes",{"$f":"IF(F187>F186,2,1)","v":1},"This Transaction"]
[null,null,"   New Loans must be for 515 Eligible Purposes",null,"Max Allowed",{"$f":"DashData!D67","v":3894538}]
[null,null,"    See Sources & Uses (total eligible cost)",null,"Underwritten",{"$f":"-D68","v":1908733}]
[null,null,"DSCR",{"$f":"IF(AND(F190>=F189,F191=\"Yes\"),1,2)","v":1},"This Transaction"]
[null,null,"   Minimum Requirement 1.15",null,"Min Allowed",1.1499999999999999]
[null,null,"   Underwritten Yr 1 must be 1.15",null,"Yr 1",{"$f":"IFERROR(D15,0)","v":1.1599999999999999}]
[null,null,"   Trending Revenue 2%, Expenses 3% (including reserve) 1.15 to yr 3\n    1.1 to yr 5 and 1.0 to yr 15",null,1.1499999999999999,{"$f":"IFERROR(IF('Trending 15 years'!U26>1,\"No\",\"Yes\"),0)","v":"Yes"}]
[null,null,"Loan to Value",{"$f":"IF(F194>1,2,1)","v":1},"This Transaction"]
[null,null,"   All Debts must be secured within Prospective (As Improved) Appraised Value",null,"Min LVT",1]
[null,null,"  ",null,"Underwritten",{"$f":"IFERROR(H38,\"not calculating\")","v":0.95988258208124655}]
[null,null,"Loan Terms of 3rd Party Debt",{"$f":"IF(C197<>\"\",2,1)","v":1},"This Transaction"]
[null,null,"   No Balloon Payment of 3rd Party Debt Prior to RD Loan Term",null,"Max Allowed",{"$f":"IF('Sources & Uses'!F6>'Sources & Uses'!F7,'Sources & Uses'!F6,'Sources & Uses'!F7)","v":0}]
[null,null,{"$f":"'Sources & Uses'!C3","v":""}]
[null,null,"Sources & Uses Balance",{"$f":"IF('Sources & Uses'!D42=0,1,2)","v":1},"This Transaction"]
[null,null,"   Adequate funds for Proposed Rehab & Acquisition",null,"Sources",{"$f":"'Sources & Uses'!D37","v":5619447}]
[null,null,"   Sources & Uses must Balance",null,"Uses",{"$f":"'Sources & Uses'!D39","v":5619447}]
[]
[]
[]
[null,null,"Allocation of Credits and DDF for \nReturn To Owner (RTO)"]
[]
[null,null,"Tax Credits and Deferred Developer Fee",{"$f":"SUM('Sources & Uses'!$C$24:$C$28)","v":3894538}]
[null,null,"Less Sellers Equity",{"$f":"-'Sources & Uses'!$C$106","v":-144000}]
[null,null,"Less Other Cost Not Eligible for 515 Program",{"$f":"-'Sources & Uses'!$C$102","v":-1764733}]
[null,null,"Contribution Available for Hard Cost",{"$f":"SUM(D206:D208)","v":1985805}]
[null,null,"Total Hard Cost",{"$f":"'Sources & Uses'!$C$54","v":1883280}]
[null,null,"Lower of Contribution or Total Hard Cost",{"$f":"MIN(D209,D210)","v":1883280}]
[]
[null,null,"Cost Eligible for 515 Program:",{"$f":"'Sources & Uses'!$C$85","v":2585805}]
[null,null,"New Loans ",{"$f":"-SUM('Sources & Uses'!$C$8:$C$23)","v":-600000}]
[null,null,"Equity Provided above New Loans",{"$f":"SUM(D213:D214)","v":1985805}]
[null,null,"Amount Not to Exceed Security Value",{"$f":"IF(D215<=I37,D215,I37)","v":72091}]
[]
[null,null,"Lower of Contribution v/s New Loan Test",{"$f":"MIN(D211,D216)","v":72091}]
[]
[null,null,"Maximum Possible Contribution Recognized for Additional RTO",{"$f":"D218","v":72091}]
[null,null,{"$f":"IF(GeneralInfo!H161,\"Non-Profit - RTO Not Applicable\",8%)","v":0.08},{"$f":"IF(GeneralInfo!H16,0,IF($D$220>0,$D$220*8%,0))","v":5767.28}]
[null,null,{"$f":"IF('Sources & Uses'!$D$42<>0,\"Sources and Uses Are Out of Balance\", \"Sources & Uses Balanced\")","v":"Sources & Uses Balanced"}]

{"sheet":"Documentation","index":10,"n_rows":7,"n_cols":12,"rows_kept":7,"cut":false,"hidden":false,"merged":[[5,11,7,12]]}
[]
[]
[]
[]
[]
[null,null,null,null,null,null,null,null,null,null,null,"Return to Dashboard Report"]
[null,null,"Respond below with Documentation as appropriate:"]

{"sheet":"Trending 15 years","index":11,"n_rows":53,"n_cols":21,"rows_kept":53,"cut":false,"hidden":false,"merged":[]}
[null,{"$f":"GeneralInfo!C6","v":"Forest View Apartments"},null,null,null,null,"Income Escalator",null,0.02,null,"Expense Escalator",null,0.03]
[null,{"$f":"IF(SUM(F26:T26)>1,\"Debt Coverage Ratio of Threshold Not Achieved in All 30 Years\",\"Debt Coverage Ratio Thresdhold  Achieved \")","v":"Debt Coverage Ratio Thresdhold  Achieved "}]
[null,"Year number",null,null,null,{"$f":"1","v":1},{"$f":"F3+1","v":2},{"$f":"G3+1","v":3},4,5,6,7,8,9,10,11,12,13,14,15]
[null,"Calendar Year",null,null,null,{"$f":"YEAR(TODAY())","v":2015},{"$f":"F4+1","v":2016},{"$f":"G4+1","v":2017},2018,2019,2020,2021,2022,2023,2024,2025,2026,2027,2028,2029]
[]
["Gross Rental Income ",null,null,null,null,{"$f":"'Rents & Operations'!I30","v":238560},{"$f":"F6*$I$1+F6","v":243331.20000000001},{"$f":"G6*$I$1+G6","v":248197.82400000002},253161.78048000002,258225.01608960002,263389.51641139202,268657.30673961987,274030.45287441229,279511.06193190056,285101.28317053855,290803.30883394933,296619.37501062831,302551.7625108409,308602.79776105774,314774.85371627891]
["Other Income - Apartments",null,null,null,null,{"$f":"SUM('Rents & Operations'!I32:I36)","v":0},{"$f":"F7*$I$1+F7","v":0},{"$f":"G7*$I$1+G7","v":0},0,0,0,0,0,0,0,0,0,0,0,0]
["Other Income - not from Apartments",null,null,null,null,{"$f":"'Rents & Operations'!I41","v":0},{"$f":"F8*$I$1+F8","v":0},{"$f":"G8*$I$1+G8","v":0},0,0,0,0,0,0,0,0,0,0,0,0]
[null,"Maximum Gross Income",null,null,null,{"$f":"SUM(F6:F8)","v":238560},{"$f":"SUM(G6:G8)","v":243331.20000000001},248197.82400000002,253161.78048000002,258225.01608960002,263389.51641139202,268657.30673961987,274030.45287441229,279511.06193190056,285101.28317053855,290803.30883394933,296619.37501062831,302551.7625108409,308602.79776105774,314774.85371627891]
[]
["less vacancy ",null,null,null,{"$f":"F11/F6","v":-5.6399999999999999E-2},{"$f":"'Rents & Operations'!I37","v":-13454.784},{"$f":"G6*$E$11","v":-13723.87968},{"$f":"H6*$E$11","v":-13998.357273600001},-14278.324419072,-14563.89090745344,-14855.168725602509,-15152.27210011456,-15455.317542116853,-15764.423892959192,-16079.712370818374,-16401.306618234743,-16729.332750599435,-17063.919405611425,-17405.197793723655,-17753.301749598129]
[null,"Net Collected Income and Cash",null,null,null,{"$f":"SUM(F9,F11)","v":225105.21600000001},{"$f":"SUM(G9,G11)","v":229607.32032},234199.46672640002,238883.456060928,243661.12518214658,248534.34768578951,253505.03463950532,258575.13533229544,263746.63803894137,269021.57079972018,274402.0022157146,279890.04226002889,285487.84310522949,291197.59996733407,297021.5519666808]
[null,"     (Less) Operating Expenses",null,null,null,{"$f":"-'Rents & Operations'!I48","v":-140051},{"$f":"F13*$M$1+F13","v":-144252.53},{"$f":"G13*$M$1+G13","v":-148580.1059},-153037.509077,-157628.63434930998,-162357.49337978929,-167228.21818118298,-172245.06472661847,-177412.41666841702,-182734.78916846952,-188216.83284352362,-193863.33782882933,-199679.23796369421,-205669.61510260502,-211839.70355568317]
[null,"Cash from Operations",null,null,null,{"$f":"SUM(F12:F13)","v":85054.216000000015},{"$f":"SUM(G12:G13)","v":85354.79032},85619.360826400021,85845.946983928006,86032.4908328366,86176.854306000227,86276.816458322341,86330.07060567697,86334.221370524348,86286.781631250662,86185.169372190983,86026.704431199556,85808.605141535285,85527.984864729049,85181.848410997627]
[null,"     (Less) Transfer to Replacement Reserves",null,null,null,{"$f":"-'Rents & Operations'!I54","v":-12500},{"$f":"F15*$M$1+F15","v":-12875},{"$f":"G15*$M$1+G15","v":-13261.25},-13659.0875,-14068.860124999999,-14490.925928749999,-14925.653706612498,-15373.423317810873,-15834.626017345199,-16309.664797865555,-16798.954741801521,-17302.923384055568,-17822.011085577236,-18356.671418144553,-18907.371560688891]
[null,"Net Operating Income after Reserves",null,null,null,{"$f":"SUM(F14:F15)","v":72554.216000000015},{"$f":"SUM(G14:G15)","v":72479.79032},72358.110826400021,72186.859483928012,71963.630707836594,71685.928377250224,71351.162751709839,70956.647287866101,70499.595353179146,69977.116833385109,69386.21463038947,68723.781047143988,67986.594055958049,67171.313446584492,66274.47685030874]
["Debt Service"]
[null,"RD",null,null,null,{"$f":"-'Rents & Operations'!$I$49","v":-28598.675835746319},{"$f":"-'Rents & Operations'!$I$49","v":-28598.675835746319},{"$f":"-'Rents & Operations'!$I$49","v":-28598.675835746319},{"$f":"-'Rents & Operations'!$I$49","v":-28598.675835746319},{"$f":"-'Rents & Operations'!$I$49","v":-28598.675835746319},{"$f":"-'Rents & Operations'!$I$49","v":-28598.675835746319},{"$f":"-'Rents & Operations'!$I$49","v":-28598.675835746319},{"$f":"-'Rents & Operations'!$I$49","v":-28598.675835746319},{"$f":"-'Rents & Operations'!$I$49","v":-28598.675835746319},{"$f":"-'Rents & Operations'!$I$49","v":-28598.675835746319},{"$f":"-'Rents & Operations'!$I$49","v":-28598.675835746319},{"$f":"-'Rents & Operations'!$I$49","v":-28598.675835746319},{"$f":"-'Rents & Operations'!$I$49","v":-28598.675835746319},{"$f":"-'Rents & Operations'!$I$49","v":-28598.675835746319},{"$f":"-'Rents & Operations'!$I$49","v":-28598.675835746319}]
[null,"Other Authorized Loans",null,null,null,{"$f":"-'Rents & Operations'!$I$58","v":-34165.006162479272},{"$f":"-'Rents & Operations'!$I$58","v":-34165.006162479272},{"$f":"-'Rents & Operations'!$I$58","v":-34165.006162479272},{"$f":"-'Rents & Operations'!$I$58","v":-34165.006162479272},{"$f":"-'Rents & Operations'!$I$58","v":-34165.006162479272},{"$f":"-'Rents & Operations'!$I$58","v":-34165.006162479272},{"$f":"-'Rents & Operations'!$I$58","v":-34165.006162479272},{"$f":"-'Rents & Operations'!$I$58","v":-34165.006162479272},{"$f":"-'Rents & Operations'!$I$58","v":-34165.006162479272},{"$f":"-'Rents & Operations'!$I$58","v":-34165.006162479272},{"$f":"-'Rents & Operations'!$I$58","v":-34165.006162479272},{"$f":"-'Rents & Operations'!$I$58","v":-34165.006162479272},{"$f":"-'Rents & Operations'!$I$58","v":-34165.006162479272},{"$f":"-'Rents & Operations'!$I$58","v":-34165.006162479272},{"$f":"-'Rents & Operations'!$I$58","v":-34165.006162479272}]
[]
["Remaining Cash Flow",null,null,null,null,{"$f":"SUM(F16:F19)","v":9790.5340017744238},{"$f":"SUM(G16:G19)","v":9716.108321774409},9594.4288281744302,9423.1774857024211,9199.9487096110024,8922.2463790246329,8587.4807534842475,8192.9652896405096,7735.9133549535545,7213.4348351595181,6622.5326321638786,5960.0990489183969,5222.9120577324575,4407.6314483589013,3510.7948520831487]
[null,"RTO",null,null,null,{"$f":"-'Rents & Operations'!$I$55","v":-5767.28},{"$f":"-'Rents & Operations'!$I$55","v":-5767.28},{"$f":"-'Rents & Operations'!$I$55","v":-5767.28},{"$f":"-'Rents & Operations'!$I$55","v":-5767.28},{"$f":"-'Rents & Operations'!$I$55","v":-5767.28},{"$f":"-'Rents & Operations'!$I$55","v":-5767.28},{"$f":"-'Rents & Operations'!$I$55","v":-5767.28},{"$f":"-'Rents & Operations'!$I$55","v":-5767.28},{"$f":"-'Rents & Operations'!$I$55","v":-5767.28},{"$f":"-'Rents & Operations'!$I$55","v":-5767.28},{"$f":"-'Rents & Operations'!$I$55","v":-5767.28},{"$f":"-'Rents & Operations'!$I$55","v":-5767.28},{"$f":"-'Rents & Operations'!$I$55","v":-5767.28},{"$f":"-'Rents & Operations'!$I$55","v":-5767.28},{"$f":"-'Rents & Operations'!$I$55","v":-5767.28}]
[null,"Cushion",null,null,null,{"$f":"SUM(F21:F22)","v":4023.2540017744241},{"$f":"SUM(G21:G22)","v":3948.8283217744092},3827.1488281744305,3655.8974857024214,3432.6687096110027,3154.9663790246332,2820.2007534842478,2425.6852896405098,1968.6333549535548,1446.1548351595184,855.25263216387884,192.81904891839713,-544.36794226754228,-1359.6485516410985,-2256.485147916851]
[]
[null,"Debt Coverage. Ratio",null,null,null,{"$f":"ROUND(F16/(-F18+-F19),2)","v":1.1599999999999999},{"$f":"ROUND(G16/(-G18+-G19),2)","v":1.1499999999999999},1.1499999999999999,1.1499999999999999,1.1499999999999999,1.1399999999999999,1.1399999999999999,1.1299999999999999,1.1200000000000001,1.1100000000000001,1.1100000000000001,1.0900000000000001,1.08,1.07,1.06]
[null,null,null,null,null,{"$f":"IF(F25<1.15,1,\"\")","v":""},{"$f":"IF(G25<1.15,1,\"\")","v":""},{"$f":"IF(H25<1.15,1,\"\")","v":""},{"$f":"IF(I25<1.1,1,\"\")","v":""},{"$f":"IF(J25<1.1,1,\"\")","v":""},{"$f":"IF(K25<1,1,\"\")","v":""},"","","","","","","","","",{"$f":"SUM(F26:T26)","v":0}]
[]
[]
[]
[null,"Year number",null,null,null,{"$f":"T3+1","v":16},{"$f":"F30+1","v":17},18,19,20,21,22,23,24,25,26,27,28,29,30]
[null,"Calendar Year",null,null,null,{"$f":"T4+1","v":2030},{"$f":"F31+1","v":2031},2032,2033,2034,2035,2036,2037,2038,2039,2040,2041,2042,2043,2044]
[]
["Gross Rental Income ",null,null,null,null,{"$f":"T6*$I$1+T6","v":321070.35079060448},{"$f":"F33*$I$1+F33","v":327491.7578064166},334041.59296254494,340722.42482179584,347536.87331823178,354487.61078459641,361577.36300028831,368808.9102602941,376185.08846549998,383708.79023480997,391382.96603950619,399210.62536029634,407194.83786750224,415338.73462485231,423645.50931734935]
["Other Income - Apartments",null,null,null,null,{"$f":"T7*$I$1+T7","v":0},{"$f":"F34*$I$1+F34","v":0},0,0,0,0,0,0,0,0,0,0,0,0,0]
["Other Income - not from Apartments",null,null,null,null,{"$f":"T8*$I$1+T8","v":0},{"$f":"F35*$I$1+F35","v":0},0,0,0,0,0,0,0,0,0,0,0,0,0]
[null,"Maximum Gross Income",null,null,null,{"$f":"SUM(F33:F35)","v":321070.35079060448},327491.7578064166,334041.59296254494,340722.42482179584,347536.87331823178,354487.61078459641,361577.36300028831,368808.9102602941,376185.08846549998,383708.79023480997,391382.96603950619,399210.62536029634,407194.83786750224,415338.73462485231,423645.50931734935]
[]
["less vacancy ",null,null,null,null,{"$f":"F33*$E$11","v":-18108.367784590093},-18470.535140281896,-18839.945843087535,-19216.744759949284,-19601.079655148271,-19993.101248251238,-20392.963273216261,-20800.822538680586,-21216.838989454198,-21641.175769243284,-22073.999284628149,-22515.479270320713,-22965.788855727125,-23425.104632841671,-23893.606725498503]
[null,"Net Collected Income and Cash",null,null,null,{"$f":"SUM(F36,F38)","v":302961.98300601437},309021.22266613471,315201.64711945743,321505.68006184656,327935.79366308352,334494.5095363452,341184.39972707204,348008.08772161353,354968.24947604578,362067.6144655667,369308.96675487806,376695.14608997561,384229.04901177512,391913.62999201065,399751.90259185084]
[null,"     (Less) Operating Expenses",null,null,null,{"$f":"T13*$M$1+T13","v":-218194.89466235368},{"$f":"F40*$M$1+F40","v":-224740.74150222429},-231482.96374729101,-238427.45265970973,-245580.27623950102,-252947.68452668606,-260536.11506248664,-268352.19851436123,-276402.76446979208,-284694.84740388585,-293235.69282600243,-302032.76361078251,-311093.74651910597,-320426.55891467916,-330039.35568211955]
[null,"Cash from Operations",null,null,null,{"$f":"SUM(F39:F40)","v":84767.088343660696},84280.481163910415,83718.683372166415,83078.227402136836,82355.517423582496,81546.825009659136,80648.284664585401,79655.889207252301,78565.485006253701,77372.767061680846,76073.273928875627,74662.382479193097,73135.302492669143,71487.071077331493,69712.546909731289]
[null,"     (Less) Transfer to Replacement Reserves",null,null,null,{"$f":"T15*$M$1+T15","v":-19474.592707509557},{"$f":"F42*$M$1+F42","v":-20058.830488734842},-20660.595403396888,-21280.413265498795,-21918.825663463758,-22576.390433367669,-23253.682146368701,-23951.292610759763,-24669.831389082556,-25409.926330755032,-26172.224120677682,-26957.390844298014,-27766.112569626956,-28599.095946715763,-29457.068825117236]
[null,"Net Operating Income after Reserves",null,null,null,{"$f":"SUM(F41:F42)","v":65292.495636151143},64221.650675175573,63058.087968769527,61797.814136638044,60436.691760118738,58970.434576291467,57394.6025182167,55704.596596492542,53895.653617171149,51962.840730925818,49901.049808197946,47704.991634895079,45369.189923042184,42887.975130615727,40255.478084614049]
["Debt Service"]
[null,"RD",null,null,null,{"$f":"-'Rents & Operations'!$I$49","v":-28598.675835746319},{"$f":"-'Rents & Operations'!$I$49","v":-28598.675835746319},{"$f":"-'Rents & Operations'!$I$49","v":-28598.675835746319},{"$f":"-'Rents & Operations'!$I$49","v":-28598.675835746319},{"$f":"-'Rents & Operations'!$I$49","v":-28598.675835746319},{"$f":"-'Rents & Operations'!$I$49","v":-28598.675835746319},{"$f":"-'Rents & Operations'!$I$49","v":-28598.675835746319},{"$f":"-'Rents & Operations'!$I$49","v":-28598.675835746319},{"$f":"-'Rents & Operations'!$I$49","v":-28598.675835746319},{"$f":"-'Rents & Operations'!$I$49","v":-28598.675835746319},{"$f":"-'Rents & Operations'!$I$49","v":-28598.675835746319},{"$f":"-'Rents & Operations'!$I$49","v":-28598.675835746319},{"$f":"-'Rents & Operations'!$I$49","v":-28598.675835746319},{"$f":"-'Rents & Operations'!$I$49","v":-28598.675835746319},{"$f":"-'Rents & Operations'!$I$49","v":-28598.675835746319}]
[null,"Other Authorized Loans",null,null,null,{"$f":"-'Rents & Operations'!$I$58","v":-34165.006162479272},{"$f":"-'Rents & Operations'!$I$58","v":-34165.006162479272},{"$f":"-'Rents & Operations'!$I$58","v":-34165.006162479272},{"$f":"-'Rents & Operations'!$I$58","v":-34165.006162479272},{"$f":"-'Rents & Operations'!$I$58","v":-34165.006162479272},{"$f":"-'Rents & Operations'!$I$58","v":-34165.006162479272},{"$f":"-'Rents & Operations'!$I$58","v":-34165.006162479272},{"$f":"-'Rents & Operations'!$I$58","v":-34165.006162479272},{"$f":"-'Rents & Operations'!$I$58","v":-34165.006162479272},{"$f":"-'Rents & Operations'!$I$58","v":-34165.006162479272},{"$f":"-'Rents & Operations'!$I$58","v":-34165.006162479272},{"$f":"-'Rents & Operations'!$I$58","v":-34165.006162479272},{"$f":"-'Rents & Operations'!$I$58","v":-34165.006162479272},{"$f":"-'Rents & Operations'!$I$58","v":-34165.006162479272},{"$f":"-'Rents & Operations'!$I$58","v":-34165.006162479272}]
[]
["Remaining Cash Flow",null,null,null,null,{"$f":"SUM(F43:F46)","v":2528.813637925552},1457.9686769499822,294.40597054393584,-965.86786158754694,-2326.9902381068532,-3793.2474219341238,-5369.0794800088916,-7059.0854017330494,-8868.0283810544424,-10800.841267299773,-12862.632190027645,-15058.690363330512,-17394.492075183407,-19875.706867609864,-22508.203913611542]
[null,"RTO",null,null,null,{"$f":"-'Rents & Operations'!$I$55","v":-5767.28},{"$f":"-'Rents & Operations'!$I$55","v":-5767.28},{"$f":"-'Rents & Operations'!$I$55","v":-5767.28},{"$f":"-'Rents & Operations'!$I$55","v":-5767.28},{"$f":"-'Rents & Operations'!$I$55","v":-5767.28},{"$f":"-'Rents & Operations'!$I$55","v":-5767.28},{"$f":"-'Rents & Operations'!$I$55","v":-5767.28},{"$f":"-'Rents & Operations'!$I$55","v":-5767.28},{"$f":"-'Rents & Operations'!$I$55","v":-5767.28},{"$f":"-'Rents & Operations'!$I$55","v":-5767.28},{"$f":"-'Rents & Operations'!$I$55","v":-5767.28},{"$f":"-'Rents & Operations'!$I$55","v":-5767.28},{"$f":"-'Rents & Operations'!$I$55","v":-5767.28},{"$f":"-'Rents & Operations'!$I$55","v":-5767.28},{"$f":"-'Rents & Operations'!$I$55","v":-5767.28}]
[null,"Cushion",null,null,null,{"$f":"SUM(F48:F49)","v":-3238.4663620744477},-4309.3113230500176,-5472.8740294560639,-6733.1478615875467,-8094.270238106853,-9560.5274219341227,-11136.35948000889,-12826.365401733048,-14635.308381054441,-16568.121267299772,-18629.912190027644,-20825.970363330511,-23161.772075183406,-25642.986867609863,-28275.483913611541]
[]
[null,"Debt Coverage. Ratio",null,null,null,{"$f":"ROUND(F43/(-F45+-F46),2)","v":1.04},{"$f":"ROUND(G43/(-G45+-G46),2)","v":1.02},1,0.98,0.96,0.94,0.91,0.89,0.86,0.83,0.8,0.76,0.72,0.68,0.64]
[null,null,null,null,null,{"$f":"IF(F52<1.15,1,\"\")","v":1},1,1,1,1,1,1,1,1,1,1,1,1,1,1]

{"sheet":"AgencyReviewPortal","index":12,"n_rows":18,"n_cols":27,"rows_kept":18,"cut":false,"hidden":false,"merged":[[8,6,8,7],[10,9,13,9],[10,11,13,11],[2,6,2,8]]}
[]
[null,null,null,null,null,null,null,null,null,"Portal Page for Agency Underwriting Template",null,null,null,null,null,null,null,null,null,null,null,null,null,null,null,null,"Re-Hides Admin Pages"]
[null,null,null,null,null,null,"UnHide Agency Review Features ",null,null,null,null,"ReHide Agency Review Features"]
[null,null,null,null,null,null,null,null,null,"Additonal Features are availble for Agency Review and Underwriting"]
[null,null,null,null,null,null,null,null,null,"Pages and brief descritpion and how used are listed below"]
[null,null,null,null,null,null,null,null,null,null,null,null,null,null,null,null,null,null,null,null,null,null,null,null,"Unhides Admin Pages"]
[]
[]
[null,null,null,null,null,null,"Page",null,null,"Description",null,"How Used"]
[null,null,null,null,null,null,"XferArchivePreMPR",null,null,"This  Page will Archive  the Rents & Operations  when the MPR debt Deferral Option is Used\nStores  information to allow  reporting of how the Agency's Debt Deferral was used for the Transaction",null,"For Review of How MPR Deferral was Used.  Reduced Rents, Increased Rehab / Loans"]
[null,null,null,null,null,null,"CNA Site",null,null,"These Pages contain Raw Data from the CNA Pages.  imports all pages of the CNA for up to 6 properties with  buttons on the \"Instructions\"  page.  Individual sheets of the CNAs can be edited by staff to move repair schedule for underwriting.  Added table on \"Reserve Sizing Page\" to show Underwriters changes to CNA schedule which are made on CNA sheet pages.",null,"Review to assure all necessary repairs have been captued with the rehab.  If to the advantage of the Gov and Tenants, alter the schedule within good judgement."]
[null,null,null,null,null,null,"CNA Architectural"]
[null,null,null,null,null,null,"CNA Mech & Electric"]
[null,null,null,null,null,null,"CNA Dwelling Units"]
[null,null,null,null,null,null,"CNA Archive",null,null,"The Page will Archive up to 6 CNAs upon import.  ",null,"Reference should the CNA be altered for underwriting.  Provides Conditional format of cells changed on each page"]
[null,null,null,null,null,null,"MPR Staff Only",null,null,"MPR Selection Under 2014 NOFA:  Contains Tool Box of Agency Loans",null,"If funds available and in the best interest of the Government; make selection for rehab loans from the tool box.  "]
[null,null,null,null,null,null,"QA",null,null,"QA Sheet has list of Questions about the Transaction for the State to Complete along with comments for known issues",null,"State to fill this sheet for Review Underwriter's Review."]
[null,null,null,null,null,null,"QA Analysis",null,null,"QA Analysis Page will provide Data for reporting out to Committee and making Portfolio and Annual Reports",null,"Review for Accuracy of the template and deal "]

{"sheet":"CNAExeSum","index":13,"n_rows":15,"n_cols":23,"rows_kept":15,"cut":false,"hidden":true,"merged":[[2,4,2,12]]}
[]
[]
[null,null,null,null,"Executive Summary"]
[]
[null,"Project:","Forest View Apartments",null,null,null,null,null,null,36]
[]
[null,null,1,2,3,4,5,6,7,8,9,10,11,12,13,14,15,16,17,18,19,20]
["Item","H & S",2015,2016,2017,2018,2019,2020,2021,2022,2023,2024,2025,2026,2027,2028,2029,2030,2031,2032,2033,2034,"Total"]
["Site",0,0,0,0,0,0,0,3750,0,0,0,6000,2000,0,3750,0,0,0,0,0,5000,20500]
["Architecture",0,0,0,0,0,0,0,0,0,0,0,0,0,0,0,16000,0,0,0,0,0,16000]
["Mech & Electric",0,0,0,0,0,0,0,0,0,0,0,0,0,0,0,0,0,0,0,0,0,0]
["Dwelling Units",0,0,0,0,0,0,0,11400,11400,11400,9000,13800,13800,10200,11400,55873,55873,44473,25200,25200,5400,304419]
["Uninflated Totals",0,0,0,0,0,0,0,15150,11400,11400,9000,19800,15800,10200,15150,71873,55873,44473,25200,25200,10400,340919]
["Inflation Factor (3%)",1,1,1.03,1.0609,1.092727,1.1255088099999999,1.1592740742999998,1.1940522965289999,1.22987386542487,1.2667700813876159,1.3047731838292445,1.3439163793441218,1.3842338707244455,1.4257608868461786,1.4685337134515639,1.512589724855111,1.5579674166007644,1.6047064390987871,1.6528476322717507,1.7024330612399032,1.7535060530771003]
["Inflated Totals",0,0,0,0,0,0,0,18089.892292414348,14020.562065843518,14441.178927818821,11742.9586544632,26609.544311013611,21870.895157446237,14542.761045831023,22248.285758791193,108714.3612945114,87048.313467734508,71366.109466040361,41651.760333248116,42901.313143245563,18236.462952001842,513484.4]

{"sheet":"CNASite","index":14,"n_rows":22,"n_cols":35,"rows_kept":22,"cut":false,"hidden":true,"merged":[]}
[]
[]
[]
[]
[null,null,null,null,null,null,null,null,null,null,null,null,"Site - Sum of all CNAs with Changes by Underwriter - Site"]
[null,null,null,null,null,null,null,null,null,null,null,null,"Year",0,1,2,3,4,5,6,7,8,9,10,11,12,13,14,15,16,17,18,19,20]
[null,null,null,null,null,null,null,null,null,null,null,null,"Item",{"$f":"N12","v":"H & S"},{"$f":"O12","v":2015},2016,2017,2018,2019,2020,2021,2022,2023,2024,2025,2026,2027,2028,2029,2030,2031,2032,2033,2034,"Total"]
[null,null,null,null,null,null,null,null,null,null,null,null,"Uninflated Totals",{"$f":"SUM(N13:N500)","v":0},{"$f":"SUM(O13:O500)","v":0},0,0,0,0,0,3750,0,0,0,6000,2000,0,3750,0,0,0,0,0,5000,{"$f":"SUM(N8:AH8)","v":20500}]
[null,null,null,null,null,null,null,null,null,null,null,null,"Inflation Factor (3%)",1,1,1.03,1.0609,1.092727,1.1255088099999999,1.1592740742999998,1.1940522965289999,1.22987386542487,1.2667700813876159,1.3047731838292445,1.3439163793441218,1.3842338707244455,1.4257608868461786,1.4685337134515639,1.512589724855111,1.5579674166007644,1.6047064390987871,1.6528476322717507,1.7024330612399032,1.7535060530771003]
[null,null,null,null,null,null,null,null,null,null,null,null,"Inflated Totals",{"$f":"N8*N9","v":0},{"$f":"O8*O9","v":0},0,0,0,0,0,4477.6961119837497,0,0,0,8063.4982760647308,2768.467741448891,0,5507.0014254433645,0,0,0,0,0,8767.5302653855015,{"$f":"SUM(N10:AH10)","v":29584.19382032624}]
["Forest View Apartments"]
["Item","EUL","AGE","RUL","Cond","Action","DUR","QTY","Unit","Cost","Cost","Comments","Item","H & S",2015,2016,2017,2018,2019,2020,2021,2022,2023,2024,2025,2026,2027,2028,2029,2030,2031,2032,2033,2034]
["Mail Facilities",20,0,20,"Good ","Maintain",0,1,"ea",5000,5000,"No issues with the mail center were noted","Mail Facilities",0,null,0,0,0,0,0,0,0,0,null,0,0,0,0,0,0,0,0,0,0,{"$f":"SUM(N13:AH13)","v":0}]
["Roadways: Asphalt (Sealing)",5,0,5,"Good ","Repair",1,2500,"sy",1.5,3750,"Seal, stripe","Roadways: Asphalt (Sealing)",0,null,0,0,0,0,null,3750,0,0,0,null,0,0,3750,0,null,null,0,0,0,7500]
["Parking: Asphalt",25,0,25,"Good ","Maintain",0,2500,"sy",23,57500,"Overlay is a part of the planned renovation","Parking: Asphalt",0,null,0,0,0,0,0,0,0,null,0,0,0,0,0,0,0,0,0,0,0,0]
["HC Parking",25,0,25,"Good ","Maintain",0,6,"ea",null,0,"Handicapped parking was a part of the planned renovation","HC Parking",0,null,0,0,0,0,0,0,0,0,0,0,0,0,0,0,0,0,0,0,0,0]
["Curb Ramps",30,0,30,"Good ","Maintain",0,4,"ea",null,0,"Re-working of ramps is a part of the planned renovation","Curb Ramps",0,null,0,0,0,0,0,0,0,0,0,0,0,0,0,0,0,0,0,0,0,0]
["Pedestrian Paving: Concrete",30,16,20,"Good ","Maintain",0,null,"sf",null,0,"Concrete sidewalks are in good overall condition.  Grinding activities have been completed at previous trip hazard areas. We included some costs during the term for future repairs","Pedestrian Paving: Concrete",0,null,0,0,0,0,0,0,0,0,0,0,2000,0,0,0,0,0,0,0,0,2000]
["Dumpster Enclosure",10,0,10,"Good ","Maintain",0,1,null,1000,1000,"Repair dumpster enclosures","Dumpster Enclosure",0,null,0,0,0,0,0,0,0,0,0,1000,0,0,0,0,0,0,0,0,0,1000]
["Earthwork",50,16,34,"Good ","Maintain",0,1,"ea",null,0,"No drainage or erosion problems were noted","Earthwork",0,null,0,0,0,0,0,0,0,0,0,0,0,0,0,0,0,0,0,0,0,0]
["Landscaping",50,16,34,"Good ","Repair",0,1,"ea",5000,5000,"Prune trees & cover bare yard areas","Landscaping",0,null,0,0,0,null,0,0,0,0,0,5000,0,0,0,0,0,0,0,0,5000,10000]
["Site Lighting",25,0,25,"Good ","Maintain",0,5,"ea",600,3000,"Replace existing lighting fixtures","Site Lighting",0,0,0,0,0,0,0,0,0,0,0,0,0,0,0,0,0,0,0,0,0,0]

{"sheet":"CNAArchitectural","index":15,"n_rows":21,"n_cols":36,"rows_kept":21,"cut":false,"hidden":true,"merged":[]}
[]
[]
[]
[]
[null,null,null,null,null,null,null,null,null,null,null,null,"Architectural - Sum of all CNAs with Changes by Underwriter - Architectural"]
[null,null,null,null,null,null,null,null,null,null,null,null,"Year",0,1,2,3,4,5,6,7,8,9,10,11,12,13,14,15,16,17,18,19,20]
[null,null,null,null,null,null,null,null,null,null,null,null,"Item",{"$f":"N12","v":"H & S"},{"$f":"O12","v":2015},2016,2017,2018,2019,2020,2021,2022,2023,2024,2025,2026,2027,2028,2029,2030,2031,2032,2033,2034,{"$f":"AI12","v":0}]
[null,null,null,null,null,null,null,null,null,null,null,null,"Uninflated Totals",{"$f":"SUM(N13:N500)","v":0},{"$f":"SUM(O13:O500)","v":10000},0,0,0,0,0,0,0,0,0,0,0,0,0,16000,0,0,0,0,0,{"$f":"SUM(N8:AH8)","v":26000},{"$f":"SUM(N11:AH488)","v":66490}]
[null,null,null,null,null,null,null,null,null,null,null,null,"Inflation Factor (3%)",1,1,1.03,1.0609,1.092727,1.1255088099999999,1.1592740742999998,1.1940522965289999,1.22987386542487,1.2667700813876159,1.3047731838292445,1.3439163793441218,1.3842338707244455,1.4257608868461786,1.4685337134515639,1.512589724855111,1.5579674166007644,1.6047064390987871,1.6528476322717507,1.7024330612399032,1.7535060530771003]
[null,null,null,null,null,null,null,null,null,null,null,null,"Inflated Totals",{"$f":"N8*N9","v":0},{"$f":"O8*O9","v":10000},0,0,0,0,0,0,0,0,0,0,0,0,0,24201.435597681775,0,0,0,0,0,{"$f":"SUM(N10:AH10)","v":34201.435597681775}]
["Forest View Apartments"]
["Item","EUL","AGE","RUL","Cond","Action","DUR","QTY","Unit","Cost","Cost","Comments","Item","H & S",2015,2016,2017,2018,2019,2020,2021,2022,2023,2024,2025,2026,2027,2028,2029,2030,2031,2032,2033,2034]
["Roof Covering: Asphalt Shingles",25,1,24,"Excellent","No Action",0,0,0,0,0,"Roofing shingles were reportedly replaced 1 year prior to our site visit","Roof Covering: Asphalt Shingles",0,10000,0,0,0,0,0,0,0,0,0,0,0,0,0,0,0,0,0,0,0,{"$f":"SUM(N13:AH13)","v":10000}]
["Roof Drainage Exterior (gutter and downspout)",25,0,25,"Good ","Construct",0,3500,"lf",8,28000,"Installation of gutters and downspouts are a part of the planned renovation","Roof Drainage Exterior (gutter and downspout)",0,null,0,0,0,0,0,0,0,0,0,0,0,0,0,0,0,0,0,0,0,0]
["Soffits: Aluminum or Vinyl",25,0,25,"Good ","Maintain",0,2200,"sf",4,8800,"Soffits and fascia replaclement are a part of the planned renovation","Soffits: Aluminum or Vinyl",0,null,0,0,0,0,0,0,0,null,0,0,0,0,0,0,0,0,0,0,0,0]
["Exterior Walls: Brick or Block",40,16,24,"Good ","Maintain",0,null,"sf",4,0,"The masonry/brick is in good overall condition and will exceed the EUL - no required repairs noted","Exterior Walls: Brick or Block",0,null,0,0,0,0,0,0,0,0,0,0,0,0,0,0,0,0,0,0,0,0]
["Exterior Walls: Cementious Siding",20,0,20,"Good ","Maintain",0,10000,"sf",1,10000,"Cementious siding was installation is a part of the planned renovation.  Painting will be required throughout the term","Exterior Walls: Cementious Siding",0,null,0,0,0,0,0,0,0,0,null,0,0,0,0,10000,null,0,0,0,0,10000]
["Exterior Unit Doors",25,0,25,"Good ","Maintain",0,70,"ea",350,24500,"Wholesale replacement of all exterior doors including Leasing Office is a part of the planned renovation","Exterior Unit Doors",0,null,null,null,0,0,0,0,0,null,null,null,0,0,0,0,0,0,0,0,0,0]
["Windows (Frames and Glazing)",30,0,30,"Good ","Maintain",0,96,"ea",290,27840,"Window replacement is a part of the planned renovation","Windows (Frames and Glazing)",0,null,null,null,0,0,0,0,null,null,null,0,0,0,null,null,null,0,0,0,0,0]
["Stair Structure",50,0,50,"Good ","Maintain",0,5,"ea",null,0,"Metal stairs are in good condition - additions to current code are a part of the planned renovation","Stair Structure",0,null,0,0,0,0,0,0,0,0,0,0,0,0,0,0,0,0,0,0,0,0]
["Building Mounted Exterior Lighting",15,0,15,"Good ","Maintain",0,12,"ea",500,6000,"Lighting upgrade and replacement is a part of the planned renovation","Building Mounted Exterior Lighting",0,null,0,0,0,0,0,0,0,0,0,0,0,0,0,6000,0,0,0,0,0,6000]

{"sheet":"CNAMech & Electric","index":16,"n_rows":17,"n_cols":35,"rows_kept":17,"cut":false,"hidden":true,"merged":[]}
[]
[]
[]
[]
[null,null,null,null,null,null,null,null,null,null,null,null,"Mech & Electric - Sum of all CNAs with Changes by Underwriter - Mech & Electric"]
[null,null,null,null,null,null,null,null,null,null,null,null,"Year",0,1,2,3,4,5,6,7,8,9,10,11,12,13,14,15,16,17,18,19,20]
[null,null,null,null,null,null,null,null,null,null,null,null,"Item",{"$f":"N12","v":"H & S"},{"$f":"O12","v":2015},2016,2017,2018,2019,2020,2021,2022,2023,2024,2025,2026,2027,2028,2029,2030,2031,2032,2033,2034,0]
[null,null,null,null,null,null,null,null,null,null,null,null,"Uninflated Totals",{"$f":"SUM(N13:N500)","v":1},{"$f":"SUM(O13:O500)","v":1},1.03,1.0609,1.092727,1.1255088100000001,1.1592740743000001,1.1940522965290001,1.2298738654248702,1.2667700813876164,1.3047731838292449,1.3439163793441222,1.3842338707244459,1.4257608868461793,1.4685337134515648,1.5125897248551119,1.5579674166007653,1.6047064390987884,1.652847632271752,1.7024330612399046,1.7535060530771018,{"$f":"SUM(N8:AH8)","v":27.870374488980467}]
[null,null,null,null,null,null,null,null,null,null,null,null,"Inflation Factor (3%)",1,1,1.03,1.0609,1.092727,1.1255088099999999,1.1592740742999998,1.1940522965289999,1.22987386542487,1.2667700813876159,1.3047731838292445,1.3439163793441218,1.3842338707244455,1.4257608868461786,1.4685337134515639,1.512589724855111,1.5579674166007644,1.6047064390987871,1.6528476322717507,1.7024330612399032,1.7535060530771003]
[null,null,null,null,null,null,null,null,null,null,null,null,"Inflated Totals",{"$f":"N8*N9","v":1},{"$f":"O8*O9","v":1},1.0609,1.1255088099999999,1.1940522965289999,1.2667700813876162,1.3439163793441218,1.4257608868461791,1.5125897248551115,1.6047064390987877,1.7024330612399039,1.8061112346694139,1.9161034088607816,2.0327941064604027,2.1565912675438415,2.287927675737262,2.4272624711896613,2.5750827556851115,2.7319052955063348,2.8982783280026703,3.0747834781780332,{"$f":"SUM(N10:AH10)","v":38.143477701134231}]
["Forest View Apartments"]
["Item","EUL","AGE","RUL","Cond","Action","DUR","QTY","Unit","Cost","Cost","Comments","Item","H & S",2015,2016,2017,2018,2019,2020,2021,2022,2023,2024,2025,2026,2027,2028,2029,2030,2031,2032,2033,2034,{"$f":"SUM(N13:AH13)","v":0}]
[null,0,0,0,null,null,0,0,"ea",0,0,null,"",0,0,0,0,0,0,0,0,0,0,0,0,0,0,0,0,0,0,0,0,0,0]
[null,0,0,0,null,null,0,0,"ea",0,0,null,"",0,0,0,0,0,0,0,0,0,0,0,0,0,0,0,0,0,0,0,0,0]
[null,null,null,null,null,null,null,null,null,null,null,null,"Uninflated Totals",0,0,0,0,0,0,0,0,0,0,0,0,0,0,0,0,0,0,0,0,0]
[null,null,null,null,null,null,null,null,null,null,null,null,"Inflation Factor (3%)",1,1,1.03,1.0609,1.092727,1.1255088100000001,1.1592740743000001,1.1940522965290001,1.2298738654248702,1.2667700813876164,1.3047731838292449,1.3439163793441222,1.3842338707244459,1.4257608868461793,1.4685337134515648,1.5125897248551119,1.5579674166007653,1.6047064390987884,1.652847632271752,1.7024330612399046,1.7535060530771018]
[null,null,null,null,null,null,null,null,null,null,null,null,"Inflated Totals",0,0,0,0,0,0,0,0,0,0,0,0,0,0,0,0,0,0,0,0,0]

{"sheet":"CNADwelling Units","index":17,"n_rows":36,"n_cols":35,"rows_kept":36,"cut":false,"hidden":true,"merged":[]}
[]
[]
[]
[]
[null,null,null,null,null,null,null,null,null,null,null,null,"Dwelling - Sum of all CNAs with Changes by Underwriter - Dwelling"]
[null,null,null,null,null,null,null,null,null,null,null,null,"Year",0,1,2,3,4,5,6,7,8,9,10,11,12,13,14,15,16,17,18,19,20]
[null,null,null,null,null,null,null,null,null,null,null,null,"Item","H & S",2013,2014,2015,2016,2017,2018,2019,2020,2021,2022,2023,2024,2025,2026,2027,2028,2029,2030,2031,2032,"Total"]
[null,null,null,null,null,null,null,null,null,null,null,null,"Uninflated Totals",{"$f":"SUM(N13:N500)","v":0},{"$f":"SUM(O13:O500)","v":0},0,0,0,0,0,11400,11400,11400,9000,13800,13800,10200,11400,55873,55873,44473,25200,25200,5400,{"$f":"SUM(N8:AH8)","v":304419}]
[null,null,null,null,null,null,null,null,null,null,null,null,"Inflation Factor (3%)",1,1,1.03,1.0609,1.092727,1.1255088099999999,1.1592740742999998,1.1940522965289999,1.22987386542487,1.2667700813876159,1.3047731838292445,1.3439163793441218,1.3842338707244455,1.4257608868461786,1.4685337134515639,1.512589724855111,1.5579674166007644,1.6047064390987871,1.6528476322717507,1.7024330612399032,1.7535060530771003]
[null,null,null,null,null,null,null,null,null,null,null,null,"Inflated Totals",{"$f":"N8*N9","v":0},{"$f":"O8*O9","v":0},0,0,0,0,0,13612.196180430599,14020.562065843518,14441.178927818821,11742.9586544632,18546.046034948882,19102.427415997347,14542.761045831023,16741.28433334783,84512.92569682961,87048.313467734508,71366.109466040361,41651.760333248116,42901.313143245563,9468.932686616341,{"$f":"SUM(N10:AH10)","v":459698.76945239573}]
["Forest View Apartments"]
["Item","EUL","AGE","RUL","Cond","Action","DUR","QTY","Unit","Cost","Cost","Comments","Item","H & S",2015,2016,2017,2018,2019,2020,2021,2022,2023,2024,2025,2026,2027,2028,2029,2030,2031,2032,2033,2034]
["Bath Accessories",10,0,10,"Good ","Maintain",10,36,"ea",275,9900,"Bath accessories replacement is a part of the planned renovation","Bath Accessories",0,null,null,null,0,0,0,0,0,0,null,3300,3300,3300,0,0,0,0,0,0,0,{"$f":"SUM(N13:AH13)","v":9900}]
["Bath Fixtures (sink, toilet, tub)",20,0,20,"Good ","Maintain",20,36,"ea",850,30600,"Replacement of fixtures including tubs are a part of the planned renovation","Bath Fixtures (sink, toilet, tub)",0,null,null,null,0,0,0,0,0,0,0,0,0,0,0,0,0,0,0,0,0,0]
["Countertop and Sink",25,0,25,"Good ","Maintain",10,36,"ea",600,21600,"Countertop replacment is a part of the planned renovation - age related replacement will occur during the term","Countertop and Sink",0,null,null,null,0,0,0,0,0,0,0,0,0,0,0,0,0,0,0,0,0,0]
["Electric Fixtures",20,0,20,"Good ","Maintain",0,36,"ea",450,16200,"Fixture replacement is a part of the planned renovation","Electric Fixtures",0,null,null,null,0,0,0,0,0,0,0,0,0,0,0,0,0,0,0,0,0,0]
["GFI",20,0,20,"Good ","Maintain",0,36,"ea",75,2700,"GFI outlets are in place in the kitchen and bath areas","GFI",0,null,0,0,0,0,0,0,0,0,0,0,0,0,0,0,0,0,0,0,0,0]
["Smoke/Fire Detectors",10,0,10,"Good ","Maintain",0,36,"ea",150,5400,"Replacement of smoke detectors are a part of the planned renovation - additional replacment will occur during the term","Smoke/Fire Detectors",0,null,0,0,0,0,0,0,0,0,5400,null,0,0,0,0,0,0,0,0,5400,10800]
[null,null,null,null,null,null,null,null,null,null,null,null,"",0,null,null,0,0,0,0,0,0,0,0,null,0,0,0,0,0,0,0,0,0,0]
["Interior Door",30,0,30,"Good ","Maintain",0,192,"ea",150,28800,"Replacement of interior doors is a part of the planned renovation","Interior Door",0,null,0,0,0,0,0,0,0,0,0,0,0,0,null,null,null,0,0,0,0,0]
["Kitchen Cabinets",25,0,25,"Good ","Maintain",0,36,"ea",2000,72000,"Replacement of all kitchen and bath cabinets are a part of the proposed renovation","Kitchen Cabinets",0,null,null,null,0,0,0,0,0,0,0,0,0,0,0,0,0,0,0,0,0,0]
["Living Area Floors: Carpet",7,0,7,"Good ","Maintain",7,36,"ea",950,34200,"Carpets have exceeded the EUL and will be replaced as a part of the planned renovation with additional replacments over the term","Living Area Floors: Carpet",0,null,null,null,0,0,0,11400,11400,11400,null,null,null,0,11400,11400,11400,0,0,0,0,68400]
[null,0,0,0,null,null,null,null,null,null,null,null,"",0,0,0,0,0,0,0,null,null,null,null,null,null,null,null,null,null,null,null,null,null,0]
[null,null,null,null,null,null,null,null,null,null,null,null,"",0,null,0,0,0,0,0,0,0,0,0,0,0,0,0,0,0,0,0,0,0,0]
["Living Area Floors: Resilient Flooring (tile or sheet)",15,0,15,"Good ","Maintain",15,36,"ea",500,18000,"Anticipated replacements spread over the term following initial replacement","Living Area Floors: Resilient Flooring (tile or sheet)",0,null,null,null,0,0,0,0,0,0,null,null,null,0,0,6000,6000,6000,null,null,null,18000]
["Local HVAC: Heat Pump w/ Supplementary Electric",15,0,15,"Good ","Maintain",0,36,"ea",3500,126000,"Replacement of HVAC systems are a part of the planned renovation","Local HVAC: Heat Pump w/ Supplementary Electric",0,null,null,null,0,0,0,0,0,0,0,0,0,0,0,25200,25200,25200,25200,25200,0,126000]
[null,null,null,null,null,null,null,null,null,null,null,null,"",0,0,0,0,0,0,0,0,0,0,null,null,null,null,null,0,0,0,0,0,0,0]
["Range",15,0,15,"Good ","Maintain",15,36,"ea",400,14400,"Replacment of all ranges are a part of the planned renovation","Range",0,null,null,null,0,0,0,0,0,0,0,0,0,0,0,4813,4813,4813,0,0,0,14439]
["Rangehood",15,0,15,"Good ","Maintain",15,36,"ea",120,4320,"Most range hoods are original and replacment is a part of the planned renovation","Rangehood",0,null,null,null,0,0,0,0,0,0,0,0,0,0,0,1440,1440,1440,0,0,0,4320]
["Refrigerator",15,0,15,"Good ","Maintain",15,36,"ea",585,21060,"Most refrigerators are estimated to have exceeded the EUL with replacement being a part of the proposed renovation","Refrigerator",0,null,null,null,0,0,0,0,0,0,0,0,0,0,0,7020,7020,7020,0,0,0,21060]
["Dishwasher",10,0,10,"Good ","Maintain",10,36,"ea",300,10800,"Addition of dishwashers are a part of the planned renovation","Dishwasher",0,0,0,0,0,0,0,null,null,null,3600,3600,3600,0,0,0,0,0,0,0,0,10800]
["Unit Level DHW",10,0,10,"Good ","Maintain",10,36,"ea",500,18000,"Most water heaters are estimated to have exceeded the EUL and will be replaced as a part of the planned renovation","Unit Level DHW",0,null,null,null,0,0,0,0,0,0,0,6000,6000,6000,0,0,0,0,0,0,0,18000]
["Window Covering",10,0,10,"Good ","Maintain",10,36,"ea",75,2700,"Replacement is a part of the planned renovation","Window Covering",0,null,null,null,0,0,0,0,0,0,0,900,900,900,0,0,0,0,0,0,0,2700]
["Living Area Walls",50,0,50,"Good ","Maintain",0,36,"ea",250,9000,"Repair drywall as needed in the units prior to repaint is a part of the planned renovation","Living Area Walls",0,null,null,null,0,0,0,0,0,0,0,0,0,0,0,0,0,0,0,0,0,0]
["HC Units",30,0,30,"Good ","Maintain",0,4,"ea",4000,16000,"Modifications to existing units (roll-in shower, etc.) is a part of the planned renovation","HC Units",0,null,0,0,0,0,0,0,0,0,0,0,0,0,0,0,0,0,0,0,0,0]
["AV Units",30,0,30,"Good ","Maintain",0,1,"ea",2500,2500,"Modify unit for audiovisual impaired is a part of the planned renovation","AV Units",0,null,0,0,0,0,0,0,0,0,0,0,0,0,0,0,0,0,0,0,0,0]

{"sheet":"MFIS ProjectA","index":18,"n_rows":144,"n_cols":123,"rows_kept":144,"cut":false,"hidden":true,"merged":[]}
["St","St Name","Srv Off","Cnty","Borrower ID","Proj Number","Prj Name","Borr Name","Mgmt Name","Pay Desc","Labor Hsg Typ","Class","Oprtn Date","Part","Section","Item","Curr FY","Prp Bdgt","FY1","Prp Bdgt 1","Actl Bdgt 1","FY2","Prp Bdgt 2","Actl Bdgt 2","FY3","Prp Bdgt 3","Actl Bdgt 3","Total Units","504 Rehabilitation Act of 1973","Fair Housing Amendment","American w/ Disabilities","Operation DT","Fully Paid DT","Paid CD","Prj Note CD","RUP Flag","RUP Exp DT","Revit Ind","Ad Cnt","RTO Flg","RTO Amt","Tax Credit Flag","Tax Credit Exp DT","Tax Exempt","Tax Inst Jan","Tax Inst Feb","Tax Inst Mar","Tax Inst Apr","Tax Inst May","Tax Inst Jun","Tax Inst Jul","Tax Inst Aug","Tax Inst Sep","Tax Inst Oct","Tax Inst Nov","Tax Inst Dec","DUNS Nbr","Proj Status","Pmt Status","Install Typ","Pmt Amount","Other Pmt Amt","Delinquent DT","Delinquent Amt","Current Class","Current Start Date","Current End Date","Current Class Comment","Prev Class","Prev Start Date","Prev End Date","Prev Class Comment","Curr FY","Curr FY Effective Date","Curr FY End Date","Next FY","NEXT FY Effective Date","Next FY End Date","Prev FY","Prev FY Effective Date","Prev FY End Date","Curr PB Rate","Curr PB Effective Date","Prev PB Rate","Prev PB Effective Date","Addr Type","Addr Ref","Address","City","State","Zip","Directions","Contact Name","Contact Phone","Contact Ext","Contact Fax","Contact Email","Addr Type","Addr Ref","Address","City","State","Zip","Directions","Addr Type","Addr Ref","Address","City","State","Zip","Directions","Consolidated Eff DT","Consolidated Borr ID","Consolidated Name","Consolidated Proj ID","Transfered Eff DT","Transfered Borr ID","Transfered Name","Transfered Proj ID","Special Servicing Code","Spec Eff Date","Spec End Date","Declaration Num"]
[{"$f":"\"10\"","v":"10"},"GEORGIA ",{"$f":"\"604\"","v":"604"},{"$f":"\"81\"","v":"81"},{"$f":"\"747432507\"","v":"747432507"},{"$f":"\"01-0\"","v":"01-0"},"FOREST VIEW APTS ","WADLEY HOUSING L.P. ","MORROW REALTY COMPANY, INC ","Active ","NA","A","1998-07-10","PART I - CASH FLOW STATEMENT ","Operational Cash Sources ","1. Rental Income ",2015,215700,2014,213600,null,2013,209400,49109,2012,209400,209502,48,"Y","Y2","Y","1977-10-13",null,"Active","10-PASS Monthly","Y","2040-12-15","Y",240,"Y",7286,"Y","2030-12-15","N",null,null,null,null,null,null,null,null,null,null,null,"X",966843091,"Normal","Delinquent","MONTHLY OTHER",3533.14,3533.14,"2015-01-01",1777.27,"C","2015-01-02","9999-12-31","Classify for Automatic Finding. ","A","2014-04-04","2015-01-02","Classify for Automatic Finding. ",2015,"2015-01-01","2015-12-31",2016,"2016-01-01","2016-12-31",2014,"2014-01-01","2014-12-31",2,"2005-05-01",null,null,"SITE","MAIN","100 SUSAN TART ROAD ","DUNN","NC",{"$f":"\"28334 \"","v":"28334 "},null,null,null,null,null,null,null,null,null,null,null,{"$f":"\"\"","v":""},null,null,null,null,null,null,{"$f":"\"\"","v":""},null,null,null,null,null,"2010-12-15",532984217,"AMITY PLACE APTS ","02 2"]
["10","GEORGIA ","604","81","747432507","01-0","FOREST VIEW APTS ","WADLEY HOUSING L.P. ","MORROW REALTY COMPANY, INC ","Active ","NA","A","1998-07-10","PART I - CASH FLOW STATEMENT ","Operational Cash Sources ","2. RHS Rental Assist. Received",2015,null,2014,0,null,2013,0,154459,2012,0,0]
["10","GEORGIA ","604","81","747432507","01-0","FOREST VIEW APTS ","WADLEY HOUSING L.P. ","MORROW REALTY COMPANY, INC ","Active ","NA","A","1998-07-10","PART I - CASH FLOW STATEMENT ","Operational Cash Sources ","3. Application Fee Received ",2015,null,2014,0,null,2013,0,465,2012,0,30]
["10","GEORGIA ","604","81","747432507","01-0","FOREST VIEW APTS ","WADLEY HOUSING L.P. ","MORROW REALTY COMPANY, INC ","Active ","NA","A","1998-07-10","PART I - CASH FLOW STATEMENT ","Operational Cash Sources ","4. Laundry And Vending ",2015,180,2014,180,null,2013,40,120,2012,120,40]
["10","GEORGIA ","604","81","747432507","01-0","FOREST VIEW APTS ","WADLEY HOUSING L.P. ","MORROW REALTY COMPANY, INC ","Active ","NA","A","1998-07-10","PART I - CASH FLOW STATEMENT ","Operational Cash Sources ","5. Interest Income ",2015,218,2014,218,null,2013,26,129,2012,30,35]
["10","GEORGIA ","604","81","747432507","01-0","FOREST VIEW APTS ","WADLEY HOUSING L.P. ","MORROW REALTY COMPANY, INC ","Active ","NA","A","1998-07-10","PART I - CASH FLOW STATEMENT ","Operational Cash Sources ","6. Tenant Charges ",2015,1042,2014,500,null,2013,500,1521,2012,500,3356]
["10","GEORGIA ","604","81","747432507","01-0","FOREST VIEW APTS ","WADLEY HOUSING L.P. ","MORROW REALTY COMPANY, INC ","Active ","NA","A","1998-07-10","PART I - CASH FLOW STATEMENT ","Operational Cash Sources ","7. Other - Project Sources ",2015,0,2014,0,null,2013,0,89,2012,3,94]
["10","GEORGIA ","604","81","747432507","01-0","FOREST VIEW APTS ","WADLEY HOUSING L.P. ","MORROW REALTY COMPANY, INC ","Active ","NA","A","1998-07-10","PART I - CASH FLOW STATEMENT ","Operational Cash Sources ","8. Less (Vcncy @ Cntgncy Allw)",2015,-10785,2014,-10680,null,2013,-10470,null,2012,-10470]
["10","GEORGIA ","604","81","747432507","01-0","FOREST VIEW APTS ","WADLEY HOUSING L.P. ","MORROW REALTY COMPANY, INC ","Active ","NA","A","1998-07-10","PART I - CASH FLOW STATEMENT ","Operational Cash Sources ","9. Less (Agncy Aprvd Incentv) ",2015,0,2014,0,null,2013,0,null,2012,0]
["10","GEORGIA ","604","81","747432507","01-0","FOREST VIEW APTS ","WADLEY HOUSING L.P. ","MORROW REALTY COMPANY, INC ","Active ","NA","A","1998-07-10","PART I - CASH FLOW STATEMENT ","Operational Cash Sources ","10. Sub-Ttl [(1 thru 7)-(8@9)]",2015,206355,2014,203818,null,2013,199496,205892,2012,199583,213057]
["10","GEORGIA ","604","81","747432507","01-0","FOREST VIEW APTS ","WADLEY HOUSING L.P. ","MORROW REALTY COMPANY, INC ","Active ","NA","A","1998-07-10","PART I - CASH FLOW STATEMENT ","Non-Operational Cash Sources ","11. Cash - Non Project ",2015,0,2014,0,null,2013,0,0,2012,0,0]
["10","GEORGIA ","604","81","747432507","01-0","FOREST VIEW APTS ","WADLEY HOUSING L.P. ","MORROW REALTY COMPANY, INC ","Active ","NA","A","1998-07-10","PART I - CASH FLOW STATEMENT ","Non-Operational Cash Sources ","12. Authorized Loan (Non-RHS) ",2015,0,2014,0,null,2013,0,0,2012,0,0]
["10","GEORGIA ","604","81","747432507","01-0","FOREST VIEW APTS ","WADLEY HOUSING L.P. ","MORROW REALTY COMPANY, INC ","Active ","NA","A","1998-07-10","PART I - CASH FLOW STATEMENT ","Non-Operational Cash Sources ","13. Transfer From Reserve ",2015,41200,2014,58950,null,2013,51900,44693,2012,30250,25101]
["10","GEORGIA ","604","81","747432507","01-0","FOREST VIEW APTS ","WADLEY HOUSING L.P. ","MORROW REALTY COMPANY, INC ","Active ","NA","A","1998-07-10","PART I - CASH FLOW STATEMENT ","Non-Operational Cash Sources ","14. Sub-Total (11 thru 13) ",2015,41200,2014,58950,null,2013,51900,44693,2012,30250,25101]
["10","GEORGIA ","604","81","747432507","01-0","FOREST VIEW APTS ","WADLEY HOUSING L.P. ","MORROW REALTY COMPANY, INC ","Active ","NA","A","1998-07-10","PART I - CASH FLOW STATEMENT ","Non-Operational Cash Sources ","15. Total Cash Sources (10+14)",2015,247555,2014,262768,null,2013,251396,250585,2012,229833,238158]
["10","GEORGIA ","604","81","747432507","01-0","FOREST VIEW APTS ","WADLEY HOUSING L.P. ","MORROW REALTY COMPANY, INC ","Active ","NA","A","1998-07-10","PART I - CASH FLOW STATEMENT ","Operational Cash Uses ","16. Ttl O@M Exp (From Part II)",2015,157877,2014,156018,null,2013,150900,154565,2012,151585,152601]
["10","GEORGIA ","604","81","747432507","01-0","FOREST VIEW APTS ","WADLEY HOUSING L.P. ","MORROW REALTY COMPANY, INC ","Active ","NA","A","1998-07-10","PART I - CASH FLOW STATEMENT ","Operational Cash Uses ","17. RHS Debt Payment ",2015,30584,2014,30584,null,2013,30584,30584,2012,30584,30584]
["10","GEORGIA ","604","81","747432507","01-0","FOREST VIEW APTS ","WADLEY HOUSING L.P. ","MORROW REALTY COMPANY, INC ","Active ","NA","A","1998-07-10","PART I - CASH FLOW STATEMENT ","Operational Cash Uses ","18. RHS Payment (Overage) ",2015,null,2014,0,null,2013,0,65,2012,0,0]
["10","GEORGIA ","604","81","747432507","01-0","FOREST VIEW APTS ","WADLEY HOUSING L.P. ","MORROW REALTY COMPANY, INC ","Active ","NA","A","1998-07-10","PART I - CASH FLOW STATEMENT ","Operational Cash Uses ","19. RHS Payment (Late Fee) ",2015,null,2014,0,null,2013,0,0,2012,0,0]
["10","GEORGIA ","604","81","747432507","01-0","FOREST VIEW APTS ","WADLEY HOUSING L.P. ","MORROW REALTY COMPANY, INC ","Active ","NA","A","1998-07-10","PART I - CASH FLOW STATEMENT ","Operational Cash Uses ","20. Reductn In Prior Yr Pybles",2015,null,2014,0,null,2013,0,0,2012,0,0]
["10","GEORGIA ","604","81","747432507","01-0","FOREST VIEW APTS ","WADLEY HOUSING L.P. ","MORROW REALTY COMPANY, INC ","Active ","NA","A","1998-07-10","PART I - CASH FLOW STATEMENT ","Operational Cash Uses ","21. Tenant Utility Payments ",2015,null,2014,0,null,2013,0,1982,2012,0,4485]
["10","GEORGIA ","604","81","747432507","01-0","FOREST VIEW APTS ","WADLEY HOUSING L.P. ","MORROW REALTY COMPANY, INC ","Active ","NA","A","1998-07-10","PART I - CASH FLOW STATEMENT ","Operational Cash Uses ","22. Transfer to Reserve ",2015,11970,2014,11970,null,2013,11970,12008,2012,11970,32539]
["10","GEORGIA ","604","81","747432507","01-0","FOREST VIEW APTS ","WADLEY HOUSING L.P. ","MORROW REALTY COMPANY, INC ","Active ","NA","A","1998-07-10","PART I - CASH FLOW STATEMENT ","Operational Cash Uses ","23. RTN Owner/NP Asset Mgt Fee",2015,5040,2014,5040,null,2013,5040,5040,2012,5040,5040]
["10","GEORGIA ","604","81","747432507","01-0","FOREST VIEW APTS ","WADLEY HOUSING L.P. ","MORROW REALTY COMPANY, INC ","Active ","NA","A","1998-07-10","PART I - CASH FLOW STATEMENT ","Operational Cash Uses ","24. Sub-Total (16 thru 23) ",2015,205471,2014,203612,null,2013,198494,204244,2012,199179,225249]
["10","GEORGIA ","604","81","747432507","01-0","FOREST VIEW APTS ","WADLEY HOUSING L.P. ","MORROW REALTY COMPANY, INC ","Active ","NA","A","1998-07-10","PART I - CASH FLOW STATEMENT ","Non-Operational Cash Uses ","25. Authzd Debt Pymnt (NonRHS)",2015,0,2014,0,null,2013,0,0,2012,0,0]
["10","GEORGIA ","604","81","747432507","01-0","FOREST VIEW APTS ","WADLEY HOUSING L.P. ","MORROW REALTY COMPANY, INC ","Active ","NA","A","1998-07-10","PART I - CASH FLOW STATEMENT ","Non-Operational Cash Uses ","26. Capital Budget (III 4-6) ",2015,41200,2014,58950,null,2013,51900,44693,2012,30250,25101]
["10","GEORGIA ","604","81","747432507","01-0","FOREST VIEW APTS ","WADLEY HOUSING L.P. ","MORROW REALTY COMPANY, INC ","Active ","NA","A","1998-07-10","PART I - CASH FLOW STATEMENT ","Non-Operational Cash Uses ","27. Miscellaneous ",2015,0,2014,0,null,2013,0,0,2012,0,0]
["10","GEORGIA ","604","81","747432507","01-0","FOREST VIEW APTS ","WADLEY HOUSING L.P. ","MORROW REALTY COMPANY, INC ","Active ","NA","A","1998-07-10","PART I - CASH FLOW STATEMENT ","Non-Operational Cash Uses ","28. Sub-Total (25 thru 27) ",2015,41200,2014,58950,null,2013,51900,44693,2012,30250,25101]
["10","GEORGIA ","604","81","747432507","01-0","FOREST VIEW APTS ","WADLEY HOUSING L.P. ","MORROW REALTY COMPANY, INC ","Active ","NA","A","1998-07-10","PART I - CASH FLOW STATEMENT ","Non-Operational Cash Uses ","29. Total Cash Uses (24+28) ",2015,246671,2014,262562,null,2013,250394,248937,2012,229429,250350]
["10","GEORGIA ","604","81","747432507","01-0","FOREST VIEW APTS ","WADLEY HOUSING L.P. ","MORROW REALTY COMPANY, INC ","Active ","NA","A","1998-07-10","PART I - CASH FLOW STATEMENT ","Non-Operational Cash Uses ","30. Net (Deficit) (15-29) ",2015,884,2014,206,null,2013,1002,1648,2012,404,-12192]
["10","GEORGIA ","604","81","747432507","01-0","FOREST VIEW APTS ","WADLEY HOUSING L.P. ","MORROW REALTY COMPANY, INC ","Active ","NA","A","1998-07-10","PART I - CASH FLOW STATEMENT ","Cash Balance ","31. Beginning Cash Balance ",2015,25372,2014,23096,null,2013,27397,20932,2012,24440,46521]
["10","GEORGIA ","604","81","747432507","01-0","FOREST VIEW APTS ","WADLEY HOUSING L.P. ","MORROW REALTY COMPANY, INC ","Active ","NA","A","1998-07-10","PART I - CASH FLOW STATEMENT ","Cash Balance ","32. Accrual To Cash Adjustment",2015,null,2014,0,null,2013,0,48,2012,0,-13397]
["10","GEORGIA ","604","81","747432507","01-0","FOREST VIEW APTS ","WADLEY HOUSING L.P. ","MORROW REALTY COMPANY, INC ","Active ","NA","A","1998-07-10","PART I - CASH FLOW STATEMENT ","Cash Balance ","33. Ending Cash Bal (30+31+32)",2015,26256,2014,23302,null,2013,28399,22628,2012,24844,20932]
["10","GEORGIA ","604","81","747432507","01-0","FOREST VIEW APTS ","WADLEY HOUSING L.P. ","MORROW REALTY COMPANY, INC ","Active ","NA","A","1998-07-10","PART II - O@M EXPENSE SCHEDULE",null,"1. Maint. @ Repairs Payroll ",2015,20050,2014,19450,null,2013,19450,19247,2012,19450,18310]
["10","GEORGIA ","604","81","747432507","01-0","FOREST VIEW APTS ","WADLEY HOUSING L.P. ","MORROW REALTY COMPANY, INC ","Active ","NA","A","1998-07-10","PART II - O@M EXPENSE SCHEDULE",null,"2. Maint. @ Repairs Supply ",2015,5500,2014,5500,null,2013,5000,11518,2012,5000,13260]
["10","GEORGIA ","604","81","747432507","01-0","FOREST VIEW APTS ","WADLEY HOUSING L.P. ","MORROW REALTY COMPANY, INC ","Active ","NA","A","1998-07-10","PART II - O@M EXPENSE SCHEDULE",null,"3. Maint. @ Repairs Contract ",2015,3000,2014,3000,null,2013,4000,4421,2012,4000,2482]
["10","GEORGIA ","604","81","747432507","01-0","FOREST VIEW APTS ","WADLEY HOUSING L.P. ","MORROW REALTY COMPANY, INC ","Active ","NA","A","1998-07-10","PART II - O@M EXPENSE SCHEDULE",null,"4. Painting ",2015,4000,2014,2000,null,2013,2000,475,2012,2000,3265]
["10","GEORGIA ","604","81","747432507","01-0","FOREST VIEW APTS ","WADLEY HOUSING L.P. ","MORROW REALTY COMPANY, INC ","Active ","NA","A","1998-07-10","PART II - O@M EXPENSE SCHEDULE",null,"5. Snow Removal ",2015,0,2014,0,null,2013,0,0,2012,0,0]
["10","GEORGIA ","604","81","747432507","01-0","FOREST VIEW APTS ","WADLEY HOUSING L.P. ","MORROW REALTY COMPANY, INC ","Active ","NA","A","1998-07-10","PART II - O@M EXPENSE SCHEDULE",null,"6. Elevator Maint./Contract ",2015,0,2014,0,null,2013,0,0,2012,0,0]
["10","GEORGIA ","604","81","747432507","01-0","FOREST VIEW APTS ","WADLEY HOUSING L.P. ","MORROW REALTY COMPANY, INC ","Active ","NA","A","1998-07-10","PART II - O@M EXPENSE SCHEDULE",null,"7. Grounds ",2015,7500,2014,7500,null,2013,7500,8342,2012,7500,7948]
["10","GEORGIA ","604","81","747432507","01-0","FOREST VIEW APTS ","WADLEY HOUSING L.P. ","MORROW REALTY COMPANY, INC ","Active ","NA","A","1998-07-10","PART II - O@M EXPENSE SCHEDULE",null,"8. Services ",2015,1665,2014,1665,null,2013,1665,1632,2012,1693,1706]
["10","GEORGIA ","604","81","747432507","01-0","FOREST VIEW APTS ","WADLEY HOUSING L.P. ","MORROW REALTY COMPANY, INC ","Active ","NA","A","1998-07-10","PART II - O@M EXPENSE SCHEDULE",null,"9. Cptl Bgt(Part V operating) ",2015,0,2014,0,null,2013,0,0,2012,2230,0]
["10","GEORGIA ","604","81","747432507","01-0","FOREST VIEW APTS ","WADLEY HOUSING L.P. ","MORROW REALTY COMPANY, INC ","Active ","NA","A","1998-07-10","PART II - O@M EXPENSE SCHEDULE",null,"10. Other Operating Expenses ",2015,1090,2014,1090,null,2013,1041,1072,2012,1329,1509]
["10","GEORGIA ","604","81","747432507","01-0","FOREST VIEW APTS ","WADLEY HOUSING L.P. ","MORROW REALTY COMPANY, INC ","Active ","NA","A","1998-07-10","PART II - O@M EXPENSE SCHEDULE",null,"11. Sub-Ttl O@M (1 thru 10) ",2015,42805,2014,40205,null,2013,40656,46707,2012,43202,48480]
["10","GEORGIA ","604","81","747432507","01-0","FOREST VIEW APTS ","WADLEY HOUSING L.P. ","MORROW REALTY COMPANY, INC ","Active ","NA","A","1998-07-10","PART II - O@M EXPENSE SCHEDULE",null,"12. Electricity ",2015,10061,2014,10061,null,2013,10061,9479,2012,10061,9416]
["10","GEORGIA ","604","81","747432507","01-0","FOREST VIEW APTS ","WADLEY HOUSING L.P. ","MORROW REALTY COMPANY, INC ","Active ","NA","A","1998-07-10","PART II - O@M EXPENSE SCHEDULE",null,"13. Water ",2015,979,2014,979,null,2013,957,904,2012,888,910]
["10","GEORGIA ","604","81","747432507","01-0","FOREST VIEW APTS ","WADLEY HOUSING L.P. ","MORROW REALTY COMPANY, INC ","Active ","NA","A","1998-07-10","PART II - O@M EXPENSE SCHEDULE",null,"14. Sewer ",2015,878,2014,878,null,2013,840,809,2012,826,862]
["10","GEORGIA ","604","81","747432507","01-0","FOREST VIEW APTS ","WADLEY HOUSING L.P. ","MORROW REALTY COMPANY, INC ","Active ","NA","A","1998-07-10","PART II - O@M EXPENSE SCHEDULE",null,"15. Fuel (Oil/Coal/Gas) ",2015,0,2014,0,null,2013,0,0,2012,0,0]
["10","GEORGIA ","604","81","747432507","01-0","FOREST VIEW APTS ","WADLEY HOUSING L.P. ","MORROW REALTY COMPANY, INC ","Active ","NA","A","1998-07-10","PART II - O@M EXPENSE SCHEDULE",null,"16. Garbage @ Trash Removal ",2015,2734,2014,2673,null,2013,2621,2555,2012,2621,2507]
["10","GEORGIA ","604","81","747432507","01-0","FOREST VIEW APTS ","WADLEY HOUSING L.P. ","MORROW REALTY COMPANY, INC ","Active ","NA","A","1998-07-10","PART II - O@M EXPENSE SCHEDULE",null,"17. Other Utilities ",2015,0,2014,0,null,2013,0,0,2012,0,0]
["10","GEORGIA ","604","81","747432507","01-0","FOREST VIEW APTS ","WADLEY HOUSING L.P. ","MORROW REALTY COMPANY, INC ","Active ","NA","A","1998-07-10","PART II - O@M EXPENSE SCHEDULE",null,"18. Sub-Ttl Util. (12 thru 17)",2015,14652,2014,14591,null,2013,14479,13747,2012,14396,13695]
["10","GEORGIA ","604","81","747432507","01-0","FOREST VIEW APTS ","WADLEY HOUSING L.P. ","MORROW REALTY COMPANY, INC ","Active ","NA","A","1998-07-10","PART II - O@M EXPENSE SCHEDULE",null,"19. Site Management Payroll ",2015,20080,2014,20080,null,2013,20080,17944,2012,20410,18148]
["10","GEORGIA ","604","81","747432507","01-0","FOREST VIEW APTS ","WADLEY HOUSING L.P. ","MORROW REALTY COMPANY, INC ","Active ","NA","A","1998-07-10","PART II - O@M EXPENSE SCHEDULE",null,"20. Management Fee ",2015,19320,2014,18690,null,2013,18690,18245,2012,18690,18379]
["10","GEORGIA ","604","81","747432507","01-0","FOREST VIEW APTS ","WADLEY HOUSING L.P. ","MORROW REALTY COMPANY, INC ","Active ","NA","A","1998-07-10","PART II - O@M EXPENSE SCHEDULE",null,"21. Project Auditing Expense ",2015,4374,2014,4374,null,2013,4374,4374,2012,4374,4374]
["10","GEORGIA ","604","81","747432507","01-0","FOREST VIEW APTS ","WADLEY HOUSING L.P. ","MORROW REALTY COMPANY, INC ","Active ","NA","A","1998-07-10","PART II - O@M EXPENSE SCHEDULE",null,"22. Proj. Bookkeeping/Accnting",2015,0,2014,0,null,2013,0,0,2012,0,0]
["10","GEORGIA ","604","81","747432507","01-0","FOREST VIEW APTS ","WADLEY HOUSING L.P. ","MORROW REALTY COMPANY, INC ","Active ","NA","A","1998-07-10","PART II - O@M EXPENSE SCHEDULE",null,"23. Legal Expenses ",2015,500,2014,500,null,2013,500,51,2012,500,301]
["10","GEORGIA ","604","81","747432507","01-0","FOREST VIEW APTS ","WADLEY HOUSING L.P. ","MORROW REALTY COMPANY, INC ","Active ","NA","A","1998-07-10","PART II - O@M EXPENSE SCHEDULE",null,"24. Advertising ",2015,500,2014,500,null,2013,500,203,2012,250,202]
["10","GEORGIA ","604","81","747432507","01-0","FOREST VIEW APTS ","WADLEY HOUSING L.P. ","MORROW REALTY COMPANY, INC ","Active ","NA","A","1998-07-10","PART II - O@M EXPENSE SCHEDULE",null,"25. Phone @ Answering Service ",2015,2300,2014,2300,null,2013,2300,2202,2012,2300,2443]
["10","GEORGIA ","604","81","747432507","01-0","FOREST VIEW APTS ","WADLEY HOUSING L.P. ","MORROW REALTY COMPANY, INC ","Active ","NA","A","1998-07-10","PART II - O@M EXPENSE SCHEDULE",null,"26. Office Supplies ",2015,2000,2014,2000,null,2013,2000,1871,2012,2000,1931]
["10","GEORGIA ","604","81","747432507","01-0","FOREST VIEW APTS ","WADLEY HOUSING L.P. ","MORROW REALTY COMPANY, INC ","Active ","NA","A","1998-07-10","PART II - O@M EXPENSE SCHEDULE",null,"27. Office Furniture @ Equip. ",2015,0,2014,0,null,2013,0,0,2012,0,0]
["10","GEORGIA ","604","81","747432507","01-0","FOREST VIEW APTS ","WADLEY HOUSING L.P. ","MORROW REALTY COMPANY, INC ","Active ","NA","A","1998-07-10","PART II - O@M EXPENSE SCHEDULE",null,"28. Training Expense ",2015,2000,2014,1800,null,2013,1800,1933,2012,1800,1863]
["10","GEORGIA ","604","81","747432507","01-0","FOREST VIEW APTS ","WADLEY HOUSING L.P. ","MORROW REALTY COMPANY, INC ","Active ","NA","A","1998-07-10","PART II - O@M EXPENSE SCHEDULE",null,"29. Hlth Ins. @ Other Benefits",2015,12336,2014,12336,null,2013,11976,13057,2012,11976,10982]
["10","GEORGIA ","604","81","747432507","01-0","FOREST VIEW APTS ","WADLEY HOUSING L.P. ","MORROW REALTY COMPANY, INC ","Active ","NA","A","1998-07-10","PART II - O@M EXPENSE SCHEDULE",null,"30. Payroll Taxes ",2015,3612,2014,3558,null,2013,3337,3115,2012,3587,3120]
["10","GEORGIA ","604","81","747432507","01-0","FOREST VIEW APTS ","WADLEY HOUSING L.P. ","MORROW REALTY COMPANY, INC ","Active ","NA","A","1998-07-10","PART II - O@M EXPENSE SCHEDULE",null,"31. Workmans Compensation ",2015,1283,2014,2085,null,2013,1240,2126,2012,1975,1138]
[{"$f":"\"10\"","v":"10"},"GEORGIA ",{"$f":"\"604\"","v":"604"},{"$f":"\"81\"","v":"81"},{"$f":"\"747432507\"","v":"747432507"},{"$f":"\"01-0\"","v":"01-0"},"FOREST VIEW APTS ","WADLEY HOUSING L.P. ","MORROW REALTY COMPANY, INC ","Active ","NA","A","1998-07-10","PART II - O@M EXPENSE SCHEDULE",null,"32. Other Admin.Expenses ",2015,1113,2014,1045,null,2013,604,1023,2012,499,794]
["10","GEORGIA ","604","81","747432507","01-0","FOREST VIEW APTS ","WADLEY HOUSING L.P. ","MORROW REALTY COMPANY, INC ","Active ","NA","A","1998-07-10","PART II - O@M EXPENSE SCHEDULE",null,"33. Sub-Ttl Admin (19 thru 32)",2015,69418,2014,69268,null,2013,67401,66144,2012,68361,63675]
["10","GEORGIA ","604","81","747432507","01-0","FOREST VIEW APTS ","WADLEY HOUSING L.P. ","MORROW REALTY COMPANY, INC ","Active ","NA","A","1998-07-10","PART II - O@M EXPENSE SCHEDULE",null,"34. Real Estate Taxes ",2015,20310,2014,19257,null,2013,19257,17765,2012,18274,19154]
["10","GEORGIA ","604","81","747432507","01-0","FOREST VIEW APTS ","WADLEY HOUSING L.P. ","MORROW REALTY COMPANY, INC ","Active ","NA","A","1998-07-10","PART II - O@M EXPENSE SCHEDULE",null,"35. Special Assessments ",2015,300,2014,250,null,2013,100,250,2012,200,200]
["10","GEORGIA ","604","81","747432507","01-0","FOREST VIEW APTS ","WADLEY HOUSING L.P. ","MORROW REALTY COMPANY, INC ","Active ","NA","A","1998-07-10","PART II - O@M EXPENSE SCHEDULE",null,"36. Othr Taxes, Lcnses, Permts",2015,0,2014,0,null,2013,0,0,2012,0,0]
["10","GEORGIA ","604","81","747432507","01-0","FOREST VIEW APTS ","WADLEY HOUSING L.P. ","MORROW REALTY COMPANY, INC ","Active ","NA","A","1998-07-10","PART II - O@M EXPENSE SCHEDULE",null,"37. Property @ Liability Ins. ",2015,10201,2014,12256,null,2013,8816,9952,2012,6961,7397]
["10","GEORGIA ","604","81","747432507","01-0","FOREST VIEW APTS ","WADLEY HOUSING L.P. ","MORROW REALTY COMPANY, INC ","Active ","NA","A","1998-07-10","PART II - O@M EXPENSE SCHEDULE",null,"38. Fidelity Coverage Ins. ",2015,191,2014,191,null,2013,191,0,2012,191,0]
["10","GEORGIA ","604","81","747432507","01-0","FOREST VIEW APTS ","WADLEY HOUSING L.P. ","MORROW REALTY COMPANY, INC ","Active ","NA","A","1998-07-10","PART II - O@M EXPENSE SCHEDULE",null,"39. Other Insurance ",2015,0,2014,0,null,2013,0,0,2012,0,0]
["10","GEORGIA ","604","81","747432507","01-0","FOREST VIEW APTS ","WADLEY HOUSING L.P. ","MORROW REALTY COMPANY, INC ","Active ","NA","A","1998-07-10","PART II - O@M EXPENSE SCHEDULE",null,"40. Sub-Ttl Tx/In (34 thru 39)",2015,31002,2014,31954,null,2013,28364,27967,2012,25626,26751]
["10","GEORGIA ","604","81","747432507","01-0","FOREST VIEW APTS ","WADLEY HOUSING L.P. ","MORROW REALTY COMPANY, INC ","Active ","NA","A","1998-07-10","PART II - O@M EXPENSE SCHEDULE",null,"41. Ttl O@M Exps (11+18+33+40)",2015,157877,2014,156018,null,2013,150900,154565,2012,151585,152601]
["10","GEORGIA ","604","81","747432507","01-0","FOREST VIEW APTS ","WADLEY HOUSING L.P. ","MORROW REALTY COMPANY, INC ","Active ","NA","A","1998-07-10","PART III - ACCT BUDGET/STATUS ","Reserve Account ","1.Beginning Balance ",2015,44204,2014,57116,null,2013,95048,68419,2012,72102,60981]
["10","GEORGIA ","604","81","747432507","01-0","FOREST VIEW APTS ","WADLEY HOUSING L.P. ","MORROW REALTY COMPANY, INC ","Active ","NA","A","1998-07-10","PART III - ACCT BUDGET/STATUS ","Reserve Account ","2. Transfer to Reserve ",2015,11970,2014,11970,null,2013,11970,12008,2012,11970,32539]
["10","GEORGIA ","604","81","747432507","01-0","FOREST VIEW APTS ","WADLEY HOUSING L.P. ","MORROW REALTY COMPANY, INC ","Active ","NA","A","1998-07-10","PART III - ACCT BUDGET/STATUS ","Transfer From Reserve ","3. Operating Deficit ",2015,0,2014,0,null,2013,0,0,2012,0,0]
["10","GEORGIA ","604","81","747432507","01-0","FOREST VIEW APTS ","WADLEY HOUSING L.P. ","MORROW REALTY COMPANY, INC ","Active ","NA","A","1998-07-10","PART III - ACCT BUDGET/STATUS ","Transfer From Reserve ","4. Cptl Bgt (Part V reserve) ",2015,41200,2014,58950,null,2013,51900,0,2012,30250,0]
["10","GEORGIA ","604","81","747432507","01-0","FOREST VIEW APTS ","WADLEY HOUSING L.P. ","MORROW REALTY COMPANY, INC ","Active ","NA","A","1998-07-10","PART III - ACCT BUDGET/STATUS ","Transfer From Reserve ","5. Building @ Equip Repair ",2015,0,2014,0,null,2013,0,44693,2012,0,25101]
["10","GEORGIA ","604","81","747432507","01-0","FOREST VIEW APTS ","WADLEY HOUSING L.P. ","MORROW REALTY COMPANY, INC ","Active ","NA","A","1998-07-10","PART III - ACCT BUDGET/STATUS ","Transfer From Reserve ","6. Othr Non-Operating Expenses",2015,0,2014,0,null,2013,0,0,2012,0,0]
["10","GEORGIA ","604","81","747432507","01-0","FOREST VIEW APTS ","WADLEY HOUSING L.P. ","MORROW REALTY COMPANY, INC ","Active ","NA","A","1998-07-10","PART III - ACCT BUDGET/STATUS ","Transfer From Reserve ","7. Total (3 thru 6) ",2015,41200,2014,58950,null,2013,51900,44693,2012,30250,25101]
["10","GEORGIA ","604","81","747432507","01-0","FOREST VIEW APTS ","WADLEY HOUSING L.P. ","MORROW REALTY COMPANY, INC ","Active ","NA","A","1998-07-10","PART III - ACCT BUDGET/STATUS ","Transfer From Reserve ","8. Ending Balance [(1+2)-7)] ",2015,14974,2014,10136,null,2013,55118,35734,2012,53822,68419]
["10","GEORGIA ","604","81","747432507","01-0","FOREST VIEW APTS ","WADLEY HOUSING L.P. ","MORROW REALTY COMPANY, INC ","Active ","NA","A","1998-07-10","PART III - ACCT BUDGET/STATUS ","General Operating Account ","Beginning Balance ",2015,null,2014,0,null,2013,0,15533,2012,0,42317]
["10","GEORGIA ","604","81","747432507","01-0","FOREST VIEW APTS ","WADLEY HOUSING L.P. ","MORROW REALTY COMPANY, INC ","Active ","NA","A","1998-07-10","PART III - ACCT BUDGET/STATUS ","General Operating Account ","Ending Balance ",2015,null,2014,0,null,2013,0,14086,2012,0,20932]
["10","GEORGIA ","604","81","747432507","01-0","FOREST VIEW APTS ","WADLEY HOUSING L.P. ","MORROW REALTY COMPANY, INC ","Active ","NA","A","1998-07-10","PART III - ACCT BUDGET/STATUS ","Real Estate Tax And Ins Escrow","Beginning Balance ",2015,null,2014,0,null,2013,0,5399,2012,0,4204]
["10","GEORGIA ","604","81","747432507","01-0","FOREST VIEW APTS ","WADLEY HOUSING L.P. ","MORROW REALTY COMPANY, INC ","Active ","NA","A","1998-07-10","PART III - ACCT BUDGET/STATUS ","Real Estate Tax And Ins Escrow","Ending Balance ",2015,null,2014,0,null,2013,0,8542,2012,0,0]
["10","GEORGIA ","604","81","747432507","01-0","FOREST VIEW APTS ","WADLEY HOUSING L.P. ","MORROW REALTY COMPANY, INC ","Active ","NA","A","1998-07-10","PART III - ACCT BUDGET/STATUS ","Tenant Security Deposit Acct ","Beginning Balance ",2015,null,2014,0,null,2013,0,6600,2012,0,5800]
["10","GEORGIA ","604","81","747432507","01-0","FOREST VIEW APTS ","WADLEY HOUSING L.P. ","MORROW REALTY COMPANY, INC ","Active ","NA","A","1998-07-10","PART III - ACCT BUDGET/STATUS ","Tenant Security Deposit Acct ","Ending Balance ",2015,null,2014,0,null,2013,0,7550,2012,0,6600]
["10","GEORGIA ","604","81","747432507","01-0","FOREST VIEW APTS ","WADLEY HOUSING L.P. ","MORROW REALTY COMPANY, INC ","Active ","NA","A","1998-07-10","ANNUAL CAPITAL BUDGET ","Appliances ","Appliances - Range ",2015,900,2014,900,null,2013,650,0,2012,650,0]
["10","GEORGIA ","604","81","747432507","01-0","FOREST VIEW APTS ","WADLEY HOUSING L.P. ","MORROW REALTY COMPANY, INC ","Active ","NA","A","1998-07-10","ANNUAL CAPITAL BUDGET ","Appliances ","Appliances - Refrigerator ",2015,1100,2014,1100,null,2013,1100,0,2012,1000,0]
["10","GEORGIA ","604","81","747432507","01-0","FOREST VIEW APTS ","WADLEY HOUSING L.P. ","MORROW REALTY COMPANY, INC ","Active ","NA","A","1998-07-10","ANNUAL CAPITAL BUDGET ","Appliances ","Appliances - Range Hood ",2015,0,2014,0,null,2013,0,0,2012,0,0]
["10","GEORGIA ","604","81","747432507","01-0","FOREST VIEW APTS ","WADLEY HOUSING L.P. ","MORROW REALTY COMPANY, INC ","Active ","NA","A","1998-07-10","ANNUAL CAPITAL BUDGET ","Appliances ","Appliances - Washers @ Dryers ",2015,0,2014,0,null,2013,0,0,2012,0,0]
["10","GEORGIA ","604","81","747432507","01-0","FOREST VIEW APTS ","WADLEY HOUSING L.P. ","MORROW REALTY COMPANY, INC ","Active ","NA","A","1998-07-10","ANNUAL CAPITAL BUDGET ","Appliances ","Appliances - Other ",2015,0,2014,0,null,2013,0,0,2012,0,0]
["10","GEORGIA ","604","81","747432507","01-0","FOREST VIEW APTS ","WADLEY HOUSING L.P. ","MORROW REALTY COMPANY, INC ","Active ","NA","A","1998-07-10","ANNUAL CAPITAL BUDGET ","Carpet and Vinyl ","Carpet @ Vinyl - 1 Br. ",2015,1400,2014,2800,null,2013,2800,0,2012,1400,0]
["10","GEORGIA ","604","81","747432507","01-0","FOREST VIEW APTS ","WADLEY HOUSING L.P. ","MORROW REALTY COMPANY, INC ","Active ","NA","A","1998-07-10","ANNUAL CAPITAL BUDGET ","Carpet and Vinyl ","Carpet @ Vinyl - 2 Br. ",2015,3200,2014,3100,null,2013,3100,0,2012,4650,0]
["10","GEORGIA ","604","81","747432507","01-0","FOREST VIEW APTS ","WADLEY HOUSING L.P. ","MORROW REALTY COMPANY, INC ","Active ","NA","A","1998-07-10","ANNUAL CAPITAL BUDGET ","Carpet and Vinyl ","Carpet @ Vinyl - 3 Br. ",2015,4800,2014,4400,null,2013,4400,0,2012,4400,0]
["10","GEORGIA ","604","81","747432507","01-0","FOREST VIEW APTS ","WADLEY HOUSING L.P. ","MORROW REALTY COMPANY, INC ","Active ","NA","A","1998-07-10","ANNUAL CAPITAL BUDGET ","Carpet and Vinyl ","Carpet @ Vinyl - 4 Br. ",2015,0,2014,0,null,2013,0,0,2012,0,0]
["10","GEORGIA ","604","81","747432507","01-0","FOREST VIEW APTS ","WADLEY HOUSING L.P. ","MORROW REALTY COMPANY, INC ","Active ","NA","A","1998-07-10","ANNUAL CAPITAL BUDGET ","Carpet and Vinyl ","Carpet @ Vinyl - Other ",2015,0,2014,0,null,2013,0,0,2012,0,0]
["10","GEORGIA ","604","81","747432507","01-0","FOREST VIEW APTS ","WADLEY HOUSING L.P. ","MORROW REALTY COMPANY, INC ","Active ","NA","A","1998-07-10","ANNUAL CAPITAL BUDGET ","Cabinets ","Cabinets - Kitchens ",2015,8800,2014,17600,null,2013,17600,0,2012,4400,0]
["10","GEORGIA ","604","81","747432507","01-0","FOREST VIEW APTS ","WADLEY HOUSING L.P. ","MORROW REALTY COMPANY, INC ","Active ","NA","A","1998-07-10","ANNUAL CAPITAL BUDGET ","Cabinets ","Cabinets - Bathroom ",2015,2500,2014,0,null,2013,4000,0,2012,2000,0]
["10","GEORGIA ","604","81","747432507","01-0","FOREST VIEW APTS ","WADLEY HOUSING L.P. ","MORROW REALTY COMPANY, INC ","Active ","NA","A","1998-07-10","ANNUAL CAPITAL BUDGET ","Cabinets ","Cabinets - Other ",2015,0,2014,2800,null,2013,0,0,2012,0,0]
["10","GEORGIA ","604","81","747432507","01-0","FOREST VIEW APTS ","WADLEY HOUSING L.P. ","MORROW REALTY COMPANY, INC ","Active ","NA","A","1998-07-10","ANNUAL CAPITAL BUDGET ","Doors ","Doors - Exterior ",2015,0,2014,0,null,2013,0,0,2012,0,0]
["10","GEORGIA ","604","81","747432507","01-0","FOREST VIEW APTS ","WADLEY HOUSING L.P. ","MORROW REALTY COMPANY, INC ","Active ","NA","A","1998-07-10","ANNUAL CAPITAL BUDGET ","Doors ","Doors - Interior ",2015,0,2014,0,null,2013,0,0,2012,0,0]
["10","GEORGIA ","604","81","747432507","01-0","FOREST VIEW APTS ","WADLEY HOUSING L.P. ","MORROW REALTY COMPANY, INC ","Active ","NA","A","1998-07-10","ANNUAL CAPITAL BUDGET ","Doors ","Doors - Other ",2015,0,2014,0,null,2013,0,0,2012,0,0]
["10","GEORGIA ","604","81","747432507","01-0","FOREST VIEW APTS ","WADLEY HOUSING L.P. ","MORROW REALTY COMPANY, INC ","Active ","NA","A","1998-07-10","ANNUAL CAPITAL BUDGET ","Window Coverings ","Window Coverings - Detail ",2015,0,2014,0,null,2013,0,0,2012,0,0]
["10","GEORGIA ","604","81","747432507","01-0","FOREST VIEW APTS ","WADLEY HOUSING L.P. ","MORROW REALTY COMPANY, INC ","Active ","NA","A","1998-07-10","ANNUAL CAPITAL BUDGET ","Window Coverings ","Window Coverings - Other ",2015,0,2014,0,null,2013,0,0,2012,0,0]
["10","GEORGIA ","604","81","747432507","01-0","FOREST VIEW APTS ","WADLEY HOUSING L.P. ","MORROW REALTY COMPANY, INC ","Active ","NA","A","1998-07-10","ANNUAL CAPITAL BUDGET ","Heat and Air Conditioning ","Heat @ Air - Heating ",2015,0,2014,0,null,2013,0,0,2012,0,0]
["10","GEORGIA ","604","81","747432507","01-0","FOREST VIEW APTS ","WADLEY HOUSING L.P. ","MORROW REALTY COMPANY, INC ","Active ","NA","A","1998-07-10","ANNUAL CAPITAL BUDGET ","Heat and Air Conditioning ","Heat @ Air - Air Conditioning ",2015,16800,2014,7200,null,2013,7200,0,2012,7200,0]
["10","GEORGIA ","604","81","747432507","01-0","FOREST VIEW APTS ","WADLEY HOUSING L.P. ","MORROW REALTY COMPANY, INC ","Active ","NA","A","1998-07-10","ANNUAL CAPITAL BUDGET ","Heat and Air Conditioning ","Heat @ Air - Other ",2015,0,2014,0,null,2013,0,0,2012,0,0]
["10","GEORGIA ","604","81","747432507","01-0","FOREST VIEW APTS ","WADLEY HOUSING L.P. ","MORROW REALTY COMPANY, INC ","Active ","NA","A","1998-07-10","ANNUAL CAPITAL BUDGET ","Plumbing ","Plumbing - Water Heater ",2015,1200,2014,1050,null,2013,1050,0,2012,780,0]
["10","GEORGIA ","604","81","747432507","01-0","FOREST VIEW APTS ","WADLEY HOUSING L.P. ","MORROW REALTY COMPANY, INC ","Active ","NA","A","1998-07-10","ANNUAL CAPITAL BUDGET ","Plumbing ","Plumbing - Bath Sinks ",2015,0,2014,0,null,2013,0,0,2012,0,0]
["10","GEORGIA ","604","81","747432507","01-0","FOREST VIEW APTS ","WADLEY HOUSING L.P. ","MORROW REALTY COMPANY, INC ","Active ","NA","A","1998-07-10","ANNUAL CAPITAL BUDGET ","Plumbing ","Plumbing - Kitchen Sinks ",2015,0,2014,0,null,2013,0,0,2012,0,0]
["10","GEORGIA ","604","81","747432507","01-0","FOREST VIEW APTS ","WADLEY HOUSING L.P. ","MORROW REALTY COMPANY, INC ","Active ","NA","A","1998-07-10","ANNUAL CAPITAL BUDGET ","Plumbing ","Plumbing - Faucets ",2015,0,2014,0,null,2013,0,0,2012,0,0]
["10","GEORGIA ","604","81","747432507","01-0","FOREST VIEW APTS ","WADLEY HOUSING L.P. ","MORROW REALTY COMPANY, INC ","Active ","NA","A","1998-07-10","ANNUAL CAPITAL BUDGET ","Plumbing ","Plumbing - Toilets ",2015,0,2014,0,null,2013,0,0,2012,0,0]
["10","GEORGIA ","604","81","747432507","01-0","FOREST VIEW APTS ","WADLEY HOUSING L.P. ","MORROW REALTY COMPANY, INC ","Active ","NA","A","1998-07-10","ANNUAL CAPITAL BUDGET ","Plumbing ","Plumbing - Other ",2015,0,2014,0,null,2013,0,0,2012,0,0]
["10","GEORGIA ","604","81","747432507","01-0","FOREST VIEW APTS ","WADLEY HOUSING L.P. ","MORROW REALTY COMPANY, INC ","Active ","NA","A","1998-07-10","ANNUAL CAPITAL BUDGET ","Major Electrical ","Major Electrical - Detail ",2015,0,2014,0,null,2013,0,0,2012,0,0]
["10","GEORGIA ","604","81","747432507","01-0","FOREST VIEW APTS ","WADLEY HOUSING L.P. ","MORROW REALTY COMPANY, INC ","Active ","NA","A","1998-07-10","ANNUAL CAPITAL BUDGET ","Major Electrical ","Major Electrical - Other ",2015,0,2014,0,null,2013,0,0,2012,0,0]
["10","GEORGIA ","604","81","747432507","01-0","FOREST VIEW APTS ","WADLEY HOUSING L.P. ","MORROW REALTY COMPANY, INC ","Active ","NA","A","1998-07-10","ANNUAL CAPITAL BUDGET ","Structures ","Structures - Windows ",2015,0,2014,0,null,2013,2000,0,2012,800,0]
["10","GEORGIA ","604","81","747432507","01-0","FOREST VIEW APTS ","WADLEY HOUSING L.P. ","MORROW REALTY COMPANY, INC ","Active ","NA","A","1998-07-10","ANNUAL CAPITAL BUDGET ","Structures ","Structures - Screens ",2015,0,2014,0,null,2013,0,0,2012,0,0]
["10","GEORGIA ","604","81","747432507","01-0","FOREST VIEW APTS ","WADLEY HOUSING L.P. ","MORROW REALTY COMPANY, INC ","Active ","NA","A","1998-07-10","ANNUAL CAPITAL BUDGET ","Structures ","Structures - Walls ",2015,0,2014,0,null,2013,0,0,2012,0,0]
["10","GEORGIA ","604","81","747432507","01-0","FOREST VIEW APTS ","WADLEY HOUSING L.P. ","MORROW REALTY COMPANY, INC ","Active ","NA","A","1998-07-10","ANNUAL CAPITAL BUDGET ","Structures ","Structures - Roofing ",2015,0,2014,0,null,2013,0,0,2012,0,0]
["10","GEORGIA ","604","81","747432507","01-0","FOREST VIEW APTS ","WADLEY HOUSING L.P. ","MORROW REALTY COMPANY, INC ","Active ","NA","A","1998-07-10","ANNUAL CAPITAL BUDGET ","Structures ","Structures - Siding ",2015,0,2014,0,null,2013,0,0,2012,0,0]
["10","GEORGIA ","604","81","747432507","01-0","FOREST VIEW APTS ","WADLEY HOUSING L.P. ","MORROW REALTY COMPANY, INC ","Active ","NA","A","1998-07-10","ANNUAL CAPITAL BUDGET ","Structures ","Structures - Exterior Painting",2015,0,2014,0,null,2013,8000,0,2012,0,0]
["10","GEORGIA ","604","81","747432507","01-0","FOREST VIEW APTS ","WADLEY HOUSING L.P. ","MORROW REALTY COMPANY, INC ","Active ","NA","A","1998-07-10","ANNUAL CAPITAL BUDGET ","Structures ","Structures - Other ",2015,0,2014,0,null,2013,0,0,2012,0,0]
["10","GEORGIA ","604","81","747432507","01-0","FOREST VIEW APTS ","WADLEY HOUSING L.P. ","MORROW REALTY COMPANY, INC ","Active ","NA","A","1998-07-10","ANNUAL CAPITAL BUDGET ","Paving ","Paving - Asphalt ",2015,0,2014,15000,null,2013,0,0,2012,0,0]
["10","GEORGIA ","604","81","747432507","01-0","FOREST VIEW APTS ","WADLEY HOUSING L.P. ","MORROW REALTY COMPANY, INC ","Active ","NA","A","1998-07-10","ANNUAL CAPITAL BUDGET ","Paving ","Paving - Concrete ",2015,0,2014,0,null,2013,0,0,2012,0,0]
["10","GEORGIA ","604","81","747432507","01-0","FOREST VIEW APTS ","WADLEY HOUSING L.P. ","MORROW REALTY COMPANY, INC ","Active ","NA","A","1998-07-10","ANNUAL CAPITAL BUDGET ","Paving ","Paving - Seal and Stripe ",2015,0,2014,0,null,2013,0,0,2012,0,0]
["10","GEORGIA ","604","81","747432507","01-0","FOREST VIEW APTS ","WADLEY HOUSING L.P. ","MORROW REALTY COMPANY, INC ","Active ","NA","A","1998-07-10","ANNUAL CAPITAL BUDGET ","Paving ","Paving - Other ",2015,0,2014,0,null,2013,0,0,2012,0,0]
[{"$f":"\"10\"","v":"10"},"GEORGIA ",{"$f":"\"604\"","v":"604"},{"$f":"\"81\"","v":"81"},{"$f":"\"747432507\"","v":"747432507"},{"$f":"\"01-0\"","v":"01-0"},"FOREST VIEW APTS ","WADLEY HOUSING L.P. ","MORROW REALTY COMPANY, INC ","Active ","NA","A","1998-07-10","ANNUAL CAPITAL BUDGET ","Landscape and Grounds ","Lndscp@Grnds - Landscaping ",2015,0,2014,0,null,2013,0,0,2012,3000,0]
["10","GEORGIA ","604","81","747432507","01-0","FOREST VIEW APTS ","WADLEY HOUSING L.P. ","MORROW REALTY COMPANY, INC ","Active ","NA","A","1998-07-10","ANNUAL CAPITAL BUDGET ","Landscape and Grounds ","Lndscp@Grnds - Lawn Equipment ",2015,0,2014,0,null,2013,0,0,2012,0,0]
["10","GEORGIA ","604","81","747432507","01-0","FOREST VIEW APTS ","WADLEY HOUSING L.P. ","MORROW REALTY COMPANY, INC ","Active ","NA","A","1998-07-10","ANNUAL CAPITAL BUDGET ","Landscape and Grounds ","Lndscp@Grnds - Fencin ",2015,0,2014,0,null,2013,0,0,2012,0,0]
["10","GEORGIA ","604","81","747432507","01-0","FOREST VIEW APTS ","WADLEY HOUSING L.P. ","MORROW REALTY COMPANY, INC ","Active ","NA","A","1998-07-10","ANNUAL CAPITAL BUDGET ","Landscape and Grounds ","Lndscp@Grnds - Recreation Area",2015,0,2014,0,null,2013,0,0,2012,0,0]
["10","GEORGIA ","604","81","747432507","01-0","FOREST VIEW APTS ","WADLEY HOUSING L.P. ","MORROW REALTY COMPANY, INC ","Active ","NA","A","1998-07-10","ANNUAL CAPITAL BUDGET ","Landscape and Grounds ","Lndscp@Grnds - Signs ",2015,0,2014,0,null,2013,0,0,2012,0,0]
["10","GEORGIA ","604","81","747432507","01-0","FOREST VIEW APTS ","WADLEY HOUSING L.P. ","MORROW REALTY COMPANY, INC ","Active ","NA","A","1998-07-10","ANNUAL CAPITAL BUDGET ","Landscape and Grounds ","Lndscp@Grnds - Other ",2015,0,2014,0,null,2013,0,0,2012,0,0]
["10","GEORGIA ","604","81","747432507","01-0","FOREST VIEW APTS ","WADLEY HOUSING L.P. ","MORROW REALTY COMPANY, INC ","Active ","NA","A","1998-07-10","ANNUAL CAPITAL BUDGET ","Accessibility Features ","Accessibility Features -Detail",2015,0,2014,0,null,2013,0,0,2012,0,0]
["10","GEORGIA ","604","81","747432507","01-0","FOREST VIEW APTS ","WADLEY HOUSING L.P. ","MORROW REALTY COMPANY, INC ","Active ","NA","A","1998-07-10","ANNUAL CAPITAL BUDGET ","Accessibility Features ","Accessibility Features -Other ",2015,500,2014,3000,null,2013,0,0,2012,0,0]
["10","GEORGIA ","604","81","747432507","01-0","FOREST VIEW APTS ","WADLEY HOUSING L.P. ","MORROW REALTY COMPANY, INC ","Active ","NA","A","1998-07-10","ANNUAL CAPITAL BUDGET ","Automation Equipment ","Automation Equip. -Site Mngt. ",2015,0,2014,0,null,2013,0,0,2012,0,0]
["10","GEORGIA ","604","81","747432507","01-0","FOREST VIEW APTS ","WADLEY HOUSING L.P. ","MORROW REALTY COMPANY, INC ","Active ","NA","A","1998-07-10","ANNUAL CAPITAL BUDGET ","Automation Equipment ","Automation Equip. -Common Area",2015,0,2014,0,null,2013,0,0,2012,0,0]
["10","GEORGIA ","604","81","747432507","01-0","FOREST VIEW APTS ","WADLEY HOUSING L.P. ","MORROW REALTY COMPANY, INC ","Active ","NA","A","1998-07-10","ANNUAL CAPITAL BUDGET ","Automation Equipment ","Automation Equip. -Other ",2015,0,2014,0,null,2013,0,0,2012,0,0]
["10","GEORGIA ","604","81","747432507","01-0","FOREST VIEW APTS ","WADLEY HOUSING L.P. ","MORROW REALTY COMPANY, INC ","Active ","NA","A","1998-07-10","ANNUAL CAPITAL BUDGET ","Other ","List: ? ",2015,0,2014,0,null,2013,0,0,2012,2200,0]
["10","GEORGIA ","604","81","747432507","01-0","FOREST VIEW APTS ","WADLEY HOUSING L.P. ","MORROW REALTY COMPANY, INC ","Active ","NA","A","1998-07-10","ANNUAL CAPITAL BUDGET ","Other ","List: ? ",2015,0,2014,0,null,2013,0,0,2012,0,0]
["10","GEORGIA ","604","81","747432507","01-0","FOREST VIEW APTS ","WADLEY HOUSING L.P. ","MORROW REALTY COMPANY, INC ","Active ","NA","A","1998-07-10","ANNUAL CAPITAL BUDGET ","Other ","List: ? ",2015,0,2014,0,null,2013,0,0,2012,0,0]
["10","GEORGIA ","604","81","747432507","01-0","FOREST VIEW APTS ","WADLEY HOUSING L.P. ","MORROW REALTY COMPANY, INC ","Active ","NA","A","1998-07-10","ANNUAL CAPITAL BUDGET ","Other ","Total Capital Expenses ",2015,41200,2014,58950,null,2013,51900,0,2012,32480,0]

{"sheet":"MFIS ProjectB","index":19,"n_rows":0,"n_cols":0,"rows_kept":0,"cut":false,"hidden":true,"merged":[]}

{"sheet":"MFIS ProjectC","index":20,"n_rows":0,"n_cols":0,"rows_kept":0,"cut":false,"hidden":true,"merged":[]}

{"sheet":"MFIS ProjectD","index":21,"n_rows":0,"n_cols":0,"rows_kept":0,"cut":false,"hidden":true,"merged":[]}

{"sheet":"MFIS ProjectE","index":22,"n_rows":0,"n_cols":0,"rows_kept":0,"cut":false,"hidden":true,"merged":[]}

{"sheet":"MFIS ProjectF","index":23,"n_rows":0,"n_cols":0,"rows_kept":0,"cut":false,"hidden":true,"merged":[]}

{"sheet":"MFIS","index":24,"n_rows":209,"n_cols":37,"rows_kept":209,"cut":false,"hidden":true,"merged":[[199,15,199,36]]}
[null,null,null,null,null,null,null,null,null,null,null,null,null,null,null,"Item","Curr FY","Prp Bdgt","FY1","Prp Bdgt 1","Actl Bdgt 1","FY2","Prp Bdgt 2","Actl Bdgt 2","FY3","Prp Bdgt 3","Actl Bdgt 3",null,null,null,{"$f":"MFIS!Q2","v":2015},{"$f":"IF('MFIS ProjectA'!U2<1,\"Avg Last 2\",\"Avg Last 3\")","v":"Avg Last 2"},"PART II\nBudget","PART II \nActual"]
[null,null,null,null,null,null,null,null,null,null,null,null,null,null,null,"1. Rental Income ",{"$f":"'MFIS ProjectA'!Q2","v":2015},{"$f":"SUM('MFIS ProjectA:MFIS ProjectF'!R2)","v":215700},{"$f":"'MFIS ProjectA'!S2","v":2014},{"$f":"SUM('MFIS ProjectA:MFIS ProjectF'!T2)","v":213600},{"$f":"SUM('MFIS ProjectA:MFIS ProjectF'!U2)","v":0},{"$f":"'MFIS ProjectA'!V2","v":2013},{"$f":"SUM('MFIS ProjectA:MFIS ProjectF'!W2)","v":209400},{"$f":"SUM('MFIS ProjectA:MFIS ProjectF'!X2)","v":49109},{"$f":"'MFIS ProjectA'!Y2","v":2012},{"$f":"SUM('MFIS ProjectA:MFIS ProjectF'!Z2)","v":209400},{"$f":"SUM('MFIS ProjectA:MFIS ProjectF'!AA2)","v":209502},null,null,null,{"$f":"R2","v":215700},{"$f":"IF(U2<1, AVERAGE(X2,AA2),AVERAGE(U2,X2,AA2))","v":129305.5},{"$f":"R35","v":20050},{"$f":"IF(U35<1,AVERAGE(X35,AA35),AVERAGE(U35,X35,AA35))","v":18778.5}]
[null,null,null,null,null,null,null,null,null,null,null,null,null,null,null,"2. RHS Rental Assist. Received",{"$f":"'MFIS ProjectA'!Q3","v":2015},{"$f":"SUM('MFIS ProjectA:MFIS ProjectF'!R3)","v":0},{"$f":"'MFIS ProjectA'!S3","v":2014},{"$f":"SUM('MFIS ProjectA:MFIS ProjectF'!T3)","v":0},{"$f":"SUM('MFIS ProjectA:MFIS ProjectF'!U3)","v":0},{"$f":"'MFIS ProjectA'!V3","v":2013},{"$f":"SUM('MFIS ProjectA:MFIS ProjectF'!W3)","v":0},{"$f":"SUM('MFIS ProjectA:MFIS ProjectF'!X3)","v":154459},{"$f":"'MFIS ProjectA'!Y3","v":2012},{"$f":"SUM('MFIS ProjectA:MFIS ProjectF'!Z3)","v":0},{"$f":"SUM('MFIS ProjectA:MFIS ProjectF'!AA3)","v":0},null,null,null,null,77229.5,5500,12389]
[null,null,null,null,null,null,null,null,null,null,null,null,null,null,null,"3. Application Fee Received ",{"$f":"'MFIS ProjectA'!Q4","v":2015},{"$f":"SUM('MFIS ProjectA:MFIS ProjectF'!R4)","v":0},{"$f":"'MFIS ProjectA'!S4","v":2014},{"$f":"SUM('MFIS ProjectA:MFIS ProjectF'!T4)","v":0},{"$f":"SUM('MFIS ProjectA:MFIS ProjectF'!U4)","v":0},{"$f":"'MFIS ProjectA'!V4","v":2013},{"$f":"SUM('MFIS ProjectA:MFIS ProjectF'!W4)","v":0},{"$f":"SUM('MFIS ProjectA:MFIS ProjectF'!X4)","v":465},{"$f":"'MFIS ProjectA'!Y4","v":2012},{"$f":"SUM('MFIS ProjectA:MFIS ProjectF'!Z4)","v":0},{"$f":"SUM('MFIS ProjectA:MFIS ProjectF'!AA4)","v":30},null,null,null,{"$f":"R4","v":0},247.5,3000,3451.5]
[null,null,null,null,null,null,null,null,null,null,null,null,null,null,null,"4. Laundry And Vending ",{"$f":"'MFIS ProjectA'!Q5","v":2015},{"$f":"SUM('MFIS ProjectA:MFIS ProjectF'!R5)","v":180},{"$f":"'MFIS ProjectA'!S5","v":2014},{"$f":"SUM('MFIS ProjectA:MFIS ProjectF'!T5)","v":180},{"$f":"SUM('MFIS ProjectA:MFIS ProjectF'!U5)","v":0},{"$f":"'MFIS ProjectA'!V5","v":2013},{"$f":"SUM('MFIS ProjectA:MFIS ProjectF'!W5)","v":40},{"$f":"SUM('MFIS ProjectA:MFIS ProjectF'!X5)","v":120},{"$f":"'MFIS ProjectA'!Y5","v":2012},{"$f":"SUM('MFIS ProjectA:MFIS ProjectF'!Z5)","v":120},{"$f":"SUM('MFIS ProjectA:MFIS ProjectF'!AA5)","v":40},null,null,null,180,80,4000,1870]
[null,null,null,null,null,null,null,null,null,null,null,null,null,null,null,"5. Interest Income ",{"$f":"'MFIS ProjectA'!Q6","v":2015},{"$f":"SUM('MFIS ProjectA:MFIS ProjectF'!R6)","v":218},{"$f":"'MFIS ProjectA'!S6","v":2014},{"$f":"SUM('MFIS ProjectA:MFIS ProjectF'!T6)","v":218},{"$f":"SUM('MFIS ProjectA:MFIS ProjectF'!U6)","v":0},{"$f":"'MFIS ProjectA'!V6","v":2013},{"$f":"SUM('MFIS ProjectA:MFIS ProjectF'!W6)","v":26},{"$f":"SUM('MFIS ProjectA:MFIS ProjectF'!X6)","v":129},{"$f":"'MFIS ProjectA'!Y6","v":2012},{"$f":"SUM('MFIS ProjectA:MFIS ProjectF'!Z6)","v":30},{"$f":"SUM('MFIS ProjectA:MFIS ProjectF'!AA6)","v":35},null,null,null,218,82,0,0]
[null,null,null,null,null,null,null,null,null,null,null,null,null,null,null,"6. Tenant Charges ",{"$f":"'MFIS ProjectA'!Q7","v":2015},{"$f":"SUM('MFIS ProjectA:MFIS ProjectF'!R7)","v":1042},{"$f":"'MFIS ProjectA'!S7","v":2014},{"$f":"SUM('MFIS ProjectA:MFIS ProjectF'!T7)","v":500},{"$f":"SUM('MFIS ProjectA:MFIS ProjectF'!U7)","v":0},{"$f":"'MFIS ProjectA'!V7","v":2013},{"$f":"SUM('MFIS ProjectA:MFIS ProjectF'!W7)","v":500},{"$f":"SUM('MFIS ProjectA:MFIS ProjectF'!X7)","v":1521},{"$f":"'MFIS ProjectA'!Y7","v":2012},{"$f":"SUM('MFIS ProjectA:MFIS ProjectF'!Z7)","v":500},{"$f":"SUM('MFIS ProjectA:MFIS ProjectF'!AA7)","v":3356},null,null,null,1042,2438.5,0,0]
[null,null,null,null,null,null,null,null,null,null,null,null,null,null,null,"7. Other - Project Sources ",{"$f":"'MFIS ProjectA'!Q8","v":2015},{"$f":"SUM('MFIS ProjectA:MFIS ProjectF'!R8)","v":0},{"$f":"'MFIS ProjectA'!S8","v":2014},{"$f":"SUM('MFIS ProjectA:MFIS ProjectF'!T8)","v":0},{"$f":"SUM('MFIS ProjectA:MFIS ProjectF'!U8)","v":0},{"$f":"'MFIS ProjectA'!V8","v":2013},{"$f":"SUM('MFIS ProjectA:MFIS ProjectF'!W8)","v":0},{"$f":"SUM('MFIS ProjectA:MFIS ProjectF'!X8)","v":89},{"$f":"'MFIS ProjectA'!Y8","v":2012},{"$f":"SUM('MFIS ProjectA:MFIS ProjectF'!Z8)","v":3},{"$f":"SUM('MFIS ProjectA:MFIS ProjectF'!AA8)","v":94},null,null,null,0,91.5,7500,8145]
[null,null,null,null,null,null,null,null,null,null,null,null,null,null,null,"8. Less (Vcncy @ Cntgncy Allw)",{"$f":"'MFIS ProjectA'!Q9","v":2015},{"$f":"SUM('MFIS ProjectA:MFIS ProjectF'!R9)","v":-10785},{"$f":"'MFIS ProjectA'!S9","v":2014},{"$f":"SUM('MFIS ProjectA:MFIS ProjectF'!T9)","v":-10680},{"$f":"SUM('MFIS ProjectA:MFIS ProjectF'!U9)","v":0},{"$f":"'MFIS ProjectA'!V9","v":2013},{"$f":"SUM('MFIS ProjectA:MFIS ProjectF'!W9)","v":-10470},{"$f":"SUM('MFIS ProjectA:MFIS ProjectF'!X9)","v":0},{"$f":"'MFIS ProjectA'!Y9","v":2012},{"$f":"SUM('MFIS ProjectA:MFIS ProjectF'!Z9)","v":-10470},{"$f":"SUM('MFIS ProjectA:MFIS ProjectF'!AA9)","v":0},null,null,null,-10785,null,1665,1669]
[null,null,null,null,null,null,null,null,null,null,null,null,null,null,null,"9. Less (Agncy Aprvd Incentv) ",{"$f":"'MFIS ProjectA'!Q10","v":2015},{"$f":"SUM('MFIS ProjectA:MFIS ProjectF'!R10)","v":0},{"$f":"'MFIS ProjectA'!S10","v":2014},{"$f":"SUM('MFIS ProjectA:MFIS ProjectF'!T10)","v":0},{"$f":"SUM('MFIS ProjectA:MFIS ProjectF'!U10)","v":0},{"$f":"'MFIS ProjectA'!V10","v":2013},{"$f":"SUM('MFIS ProjectA:MFIS ProjectF'!W10)","v":0},{"$f":"SUM('MFIS ProjectA:MFIS ProjectF'!X10)","v":0},{"$f":"'MFIS ProjectA'!Y10","v":2012},{"$f":"SUM('MFIS ProjectA:MFIS ProjectF'!Z10)","v":0},{"$f":"SUM('MFIS ProjectA:MFIS ProjectF'!AA10)","v":0},null,null,null,0,null,0,0]
[null,null,null,null,null,null,null,null,null,null,null,null,null,null,null,"10. Sub-Ttl [(1 thru 7)-(8@9)]",{"$f":"'MFIS ProjectA'!Q11","v":2015},{"$f":"SUM('MFIS ProjectA:MFIS ProjectF'!R11)","v":206355},{"$f":"'MFIS ProjectA'!S11","v":2014},{"$f":"SUM('MFIS ProjectA:MFIS ProjectF'!T11)","v":203818},{"$f":"SUM('MFIS ProjectA:MFIS ProjectF'!U11)","v":0},{"$f":"'MFIS ProjectA'!V11","v":2013},{"$f":"SUM('MFIS ProjectA:MFIS ProjectF'!W11)","v":199496},{"$f":"SUM('MFIS ProjectA:MFIS ProjectF'!X11)","v":205892},{"$f":"'MFIS ProjectA'!Y11","v":2012},{"$f":"SUM('MFIS ProjectA:MFIS ProjectF'!Z11)","v":199583},{"$f":"SUM('MFIS ProjectA:MFIS ProjectF'!AA11)","v":213057},null,null,null,{"$f":"SUM(AE2:AE10)","v":206355},{"$f":"SUM(AF2:AF10)","v":209474.5},1090,1290.5]
[null,null,null,null,null,null,null,null,null,null,null,null,null,null,null,"11. Cash - Non Project ",{"$f":"'MFIS ProjectA'!Q12","v":2015},{"$f":"SUM('MFIS ProjectA:MFIS ProjectF'!R12)","v":0},{"$f":"'MFIS ProjectA'!S12","v":2014},{"$f":"SUM('MFIS ProjectA:MFIS ProjectF'!T12)","v":0},{"$f":"SUM('MFIS ProjectA:MFIS ProjectF'!U12)","v":0},{"$f":"'MFIS ProjectA'!V12","v":2013},{"$f":"SUM('MFIS ProjectA:MFIS ProjectF'!W12)","v":0},{"$f":"SUM('MFIS ProjectA:MFIS ProjectF'!X12)","v":0},{"$f":"'MFIS ProjectA'!Y12","v":2012},{"$f":"SUM('MFIS ProjectA:MFIS ProjectF'!Z12)","v":0},{"$f":"SUM('MFIS ProjectA:MFIS ProjectF'!AA12)","v":0},null,null,null,null,null,{"$f":"SUM(AG2:AG11)","v":42805},{"$f":"SUM(AH2:AH11)","v":47593.5}]
[null,null,null,null,null,null,null,null,null,null,null,null,null,null,null,"12. Authorized Loan (Non-RHS) ",{"$f":"'MFIS ProjectA'!Q13","v":2015},{"$f":"SUM('MFIS ProjectA:MFIS ProjectF'!R13)","v":0},{"$f":"'MFIS ProjectA'!S13","v":2014},{"$f":"SUM('MFIS ProjectA:MFIS ProjectF'!T13)","v":0},{"$f":"SUM('MFIS ProjectA:MFIS ProjectF'!U13)","v":0},{"$f":"'MFIS ProjectA'!V13","v":2013},{"$f":"SUM('MFIS ProjectA:MFIS ProjectF'!W13)","v":0},{"$f":"SUM('MFIS ProjectA:MFIS ProjectF'!X13)","v":0},{"$f":"'MFIS ProjectA'!Y13","v":2012},{"$f":"SUM('MFIS ProjectA:MFIS ProjectF'!Z13)","v":0},{"$f":"SUM('MFIS ProjectA:MFIS ProjectF'!AA13)","v":0},null,null,null,{"$f":"R12","v":0},{"$f":"IF(U12<1, AVERAGE(X12,AA12),AVERAGE(U12,X12,AA12))","v":0}]
[null,null,null,null,null,null,null,null,null,null,null,null,null,null,null,"13. Transfer From Reserve ",{"$f":"'MFIS ProjectA'!Q14","v":2015},{"$f":"SUM('MFIS ProjectA:MFIS ProjectF'!R14)","v":41200},{"$f":"'MFIS ProjectA'!S14","v":2014},{"$f":"SUM('MFIS ProjectA:MFIS ProjectF'!T14)","v":58950},{"$f":"SUM('MFIS ProjectA:MFIS ProjectF'!U14)","v":0},{"$f":"'MFIS ProjectA'!V14","v":2013},{"$f":"SUM('MFIS ProjectA:MFIS ProjectF'!W14)","v":51900},{"$f":"SUM('MFIS ProjectA:MFIS ProjectF'!X14)","v":44693},{"$f":"'MFIS ProjectA'!Y14","v":2012},{"$f":"SUM('MFIS ProjectA:MFIS ProjectF'!Z14)","v":30250},{"$f":"SUM('MFIS ProjectA:MFIS ProjectF'!AA14)","v":25101},null,null,null,{"$f":"R13","v":0},{"$f":"IF(U13<1, AVERAGE(X13,AA13),AVERAGE(U13,X13,AA13))","v":0},{"$f":"R46","v":10061},{"$f":"IF(U46<1,AVERAGE(X46,AA46),AVERAGE(U46,X46,AA46))","v":9447.5}]
[null,null,null,null,null,null,null,null,null,null,null,null,null,null,null,"14. Sub-Total (11 thru 13) ",{"$f":"'MFIS ProjectA'!Q15","v":2015},{"$f":"SUM('MFIS ProjectA:MFIS ProjectF'!R15)","v":41200},{"$f":"'MFIS ProjectA'!S15","v":2014},{"$f":"SUM('MFIS ProjectA:MFIS ProjectF'!T15)","v":58950},{"$f":"SUM('MFIS ProjectA:MFIS ProjectF'!U15)","v":0},{"$f":"'MFIS ProjectA'!V15","v":2013},{"$f":"SUM('MFIS ProjectA:MFIS ProjectF'!W15)","v":51900},{"$f":"SUM('MFIS ProjectA:MFIS ProjectF'!X15)","v":44693},{"$f":"'MFIS ProjectA'!Y15","v":2012},{"$f":"SUM('MFIS ProjectA:MFIS ProjectF'!Z15)","v":30250},{"$f":"SUM('MFIS ProjectA:MFIS ProjectF'!AA15)","v":25101},null,null,null,{"$f":"R14","v":41200},{"$f":"IF(U14<1, AVERAGE(X14,AA14),AVERAGE(U14,X14,AA14))","v":34897},979,907]
[null,null,null,null,null,null,null,null,null,null,null,null,null,null,null,"15. Total Cash Sources (10+14)",{"$f":"'MFIS ProjectA'!Q16","v":2015},{"$f":"SUM('MFIS ProjectA:MFIS ProjectF'!R16)","v":247555},{"$f":"'MFIS ProjectA'!S16","v":2014},{"$f":"SUM('MFIS ProjectA:MFIS ProjectF'!T16)","v":262768},{"$f":"SUM('MFIS ProjectA:MFIS ProjectF'!U16)","v":0},{"$f":"'MFIS ProjectA'!V16","v":2013},{"$f":"SUM('MFIS ProjectA:MFIS ProjectF'!W16)","v":251396},{"$f":"SUM('MFIS ProjectA:MFIS ProjectF'!X16)","v":250585},{"$f":"'MFIS ProjectA'!Y16","v":2012},{"$f":"SUM('MFIS ProjectA:MFIS ProjectF'!Z16)","v":229833},{"$f":"SUM('MFIS ProjectA:MFIS ProjectF'!AA16)","v":238158},null,null,null,{"$f":"SUM(AE13:AE15)","v":41200},{"$f":"SUM(AF13:AF15)","v":34897},878,835.5]
[null,null,null,null,null,null,null,null,null,null,null,null,null,null,null,"16. Ttl O@M Exp (From Part II)",{"$f":"'MFIS ProjectA'!Q17","v":2015},{"$f":"SUM('MFIS ProjectA:MFIS ProjectF'!R17)","v":157877},{"$f":"'MFIS ProjectA'!S17","v":2014},{"$f":"SUM('MFIS ProjectA:MFIS ProjectF'!T17)","v":156018},{"$f":"SUM('MFIS ProjectA:MFIS ProjectF'!U17)","v":0},{"$f":"'MFIS ProjectA'!V17","v":2013},{"$f":"SUM('MFIS ProjectA:MFIS ProjectF'!W17)","v":150900},{"$f":"SUM('MFIS ProjectA:MFIS ProjectF'!X17)","v":154565},{"$f":"'MFIS ProjectA'!Y17","v":2012},{"$f":"SUM('MFIS ProjectA:MFIS ProjectF'!Z17)","v":151585},{"$f":"SUM('MFIS ProjectA:MFIS ProjectF'!AA17)","v":152601},null,null,null,null,null,0,0]
[null,null,null,null,null,null,null,null,null,null,null,null,null,null,null,"17. RHS Debt Payment ",{"$f":"'MFIS ProjectA'!Q18","v":2015},{"$f":"SUM('MFIS ProjectA:MFIS ProjectF'!R18)","v":30584},{"$f":"'MFIS ProjectA'!S18","v":2014},{"$f":"SUM('MFIS ProjectA:MFIS ProjectF'!T18)","v":30584},{"$f":"SUM('MFIS ProjectA:MFIS ProjectF'!U18)","v":0},{"$f":"'MFIS ProjectA'!V18","v":2013},{"$f":"SUM('MFIS ProjectA:MFIS ProjectF'!W18)","v":30584},{"$f":"SUM('MFIS ProjectA:MFIS ProjectF'!X18)","v":30584},{"$f":"'MFIS ProjectA'!Y18","v":2012},{"$f":"SUM('MFIS ProjectA:MFIS ProjectF'!Z18)","v":30584},{"$f":"SUM('MFIS ProjectA:MFIS ProjectF'!AA18)","v":30584},null,null,null,{"$f":"AE11+AE16","v":247555},{"$f":"AF11+AF16","v":244371.5},2734,2531]
[null,null,null,null,null,null,null,null,null,null,null,null,null,null,null,"18. RHS Payment (Overage) ",{"$f":"'MFIS ProjectA'!Q19","v":2015},{"$f":"SUM('MFIS ProjectA:MFIS ProjectF'!R19)","v":0},{"$f":"'MFIS ProjectA'!S19","v":2014},{"$f":"SUM('MFIS ProjectA:MFIS ProjectF'!T19)","v":0},{"$f":"SUM('MFIS ProjectA:MFIS ProjectF'!U19)","v":0},{"$f":"'MFIS ProjectA'!V19","v":2013},{"$f":"SUM('MFIS ProjectA:MFIS ProjectF'!W19)","v":0},{"$f":"SUM('MFIS ProjectA:MFIS ProjectF'!X19)","v":65},{"$f":"'MFIS ProjectA'!Y19","v":2012},{"$f":"SUM('MFIS ProjectA:MFIS ProjectF'!Z19)","v":0},{"$f":"SUM('MFIS ProjectA:MFIS ProjectF'!AA19)","v":0},null,null,null,null,null,0,0]
[null,null,null,null,null,null,null,null,null,null,null,null,null,null,null,"19. RHS Payment (Late Fee) ",{"$f":"'MFIS ProjectA'!Q20","v":2015},{"$f":"SUM('MFIS ProjectA:MFIS ProjectF'!R20)","v":0},{"$f":"'MFIS ProjectA'!S20","v":2014},{"$f":"SUM('MFIS ProjectA:MFIS ProjectF'!T20)","v":0},{"$f":"SUM('MFIS ProjectA:MFIS ProjectF'!U20)","v":0},{"$f":"'MFIS ProjectA'!V20","v":2013},{"$f":"SUM('MFIS ProjectA:MFIS ProjectF'!W20)","v":0},{"$f":"SUM('MFIS ProjectA:MFIS ProjectF'!X20)","v":0},{"$f":"'MFIS ProjectA'!Y20","v":2012},{"$f":"SUM('MFIS ProjectA:MFIS ProjectF'!Z20)","v":0},{"$f":"SUM('MFIS ProjectA:MFIS ProjectF'!AA20)","v":0},null,null,null,{"$f":"R17","v":157877},{"$f":"IF(U17<1, AVERAGE(X17,AA17),AVERAGE(U17,X17,AA17))","v":153583},{"$f":"SUM(AG14:AG19)","v":14652},{"$f":"SUM(AH14:AH19)","v":13721}]
[null,null,null,null,null,null,null,null,null,null,null,null,null,null,null,"20. Reductn In Prior Yr Pybles",{"$f":"'MFIS ProjectA'!Q21","v":2015},{"$f":"SUM('MFIS ProjectA:MFIS ProjectF'!R21)","v":0},{"$f":"'MFIS ProjectA'!S21","v":2014},{"$f":"SUM('MFIS ProjectA:MFIS ProjectF'!T21)","v":0},{"$f":"SUM('MFIS ProjectA:MFIS ProjectF'!U21)","v":0},{"$f":"'MFIS ProjectA'!V21","v":2013},{"$f":"SUM('MFIS ProjectA:MFIS ProjectF'!W21)","v":0},{"$f":"SUM('MFIS ProjectA:MFIS ProjectF'!X21)","v":0},{"$f":"'MFIS ProjectA'!Y21","v":2012},{"$f":"SUM('MFIS ProjectA:MFIS ProjectF'!Z21)","v":0},{"$f":"SUM('MFIS ProjectA:MFIS ProjectF'!AA21)","v":0},null,null,null,{"$f":"R18","v":30584},30584]
[null,null,null,null,null,null,null,null,null,null,null,null,null,null,null,"21. Tenant Utility Payments ",{"$f":"'MFIS ProjectA'!Q22","v":2015},{"$f":"SUM('MFIS ProjectA:MFIS ProjectF'!R22)","v":0},{"$f":"'MFIS ProjectA'!S22","v":2014},{"$f":"SUM('MFIS ProjectA:MFIS ProjectF'!T22)","v":0},{"$f":"SUM('MFIS ProjectA:MFIS ProjectF'!U22)","v":0},{"$f":"'MFIS ProjectA'!V22","v":2013},{"$f":"SUM('MFIS ProjectA:MFIS ProjectF'!W22)","v":0},{"$f":"SUM('MFIS ProjectA:MFIS ProjectF'!X22)","v":1982},{"$f":"'MFIS ProjectA'!Y22","v":2012},{"$f":"SUM('MFIS ProjectA:MFIS ProjectF'!Z22)","v":0},{"$f":"SUM('MFIS ProjectA:MFIS ProjectF'!AA22)","v":4485},null,null,null,null,32.5,{"$f":"R53","v":20080},{"$f":"IF(U53<1,AVERAGE(X53,AA53),AVERAGE(U53,X53,AA53))","v":18046}]
[null,null,null,null,null,null,null,null,null,null,null,null,null,null,null,"22. Transfer to Reserve ",{"$f":"'MFIS ProjectA'!Q23","v":2015},{"$f":"SUM('MFIS ProjectA:MFIS ProjectF'!R23)","v":11970},{"$f":"'MFIS ProjectA'!S23","v":2014},{"$f":"SUM('MFIS ProjectA:MFIS ProjectF'!T23)","v":11970},{"$f":"SUM('MFIS ProjectA:MFIS ProjectF'!U23)","v":0},{"$f":"'MFIS ProjectA'!V23","v":2013},{"$f":"SUM('MFIS ProjectA:MFIS ProjectF'!W23)","v":11970},{"$f":"SUM('MFIS ProjectA:MFIS ProjectF'!X23)","v":12008},{"$f":"'MFIS ProjectA'!Y23","v":2012},{"$f":"SUM('MFIS ProjectA:MFIS ProjectF'!Z23)","v":11970},{"$f":"SUM('MFIS ProjectA:MFIS ProjectF'!AA23)","v":32539},null,null,null,null,0,19320,18312]
[null,null,null,null,null,null,null,null,null,null,null,null,null,null,null,"23. RTN Owner/NP Asset Mgt Fee",{"$f":"'MFIS ProjectA'!Q24","v":2015},{"$f":"SUM('MFIS ProjectA:MFIS ProjectF'!R24)","v":5040},{"$f":"'MFIS ProjectA'!S24","v":2014},{"$f":"SUM('MFIS ProjectA:MFIS ProjectF'!T24)","v":5040},{"$f":"SUM('MFIS ProjectA:MFIS ProjectF'!U24)","v":0},{"$f":"'MFIS ProjectA'!V24","v":2013},{"$f":"SUM('MFIS ProjectA:MFIS ProjectF'!W24)","v":5040},{"$f":"SUM('MFIS ProjectA:MFIS ProjectF'!X24)","v":5040},{"$f":"'MFIS ProjectA'!Y24","v":2012},{"$f":"SUM('MFIS ProjectA:MFIS ProjectF'!Z24)","v":5040},{"$f":"SUM('MFIS ProjectA:MFIS ProjectF'!AA24)","v":5040},null,null,null,null,0,4374,4374]
[null,null,null,null,null,null,null,null,null,null,null,null,null,null,null,"24. Sub-Total (16 thru 23) ",{"$f":"'MFIS ProjectA'!Q25","v":2015},{"$f":"SUM('MFIS ProjectA:MFIS ProjectF'!R25)","v":205471},{"$f":"'MFIS ProjectA'!S25","v":2014},{"$f":"SUM('MFIS ProjectA:MFIS ProjectF'!T25)","v":203612},{"$f":"SUM('MFIS ProjectA:MFIS ProjectF'!U25)","v":0},{"$f":"'MFIS ProjectA'!V25","v":2013},{"$f":"SUM('MFIS ProjectA:MFIS ProjectF'!W25)","v":198494},{"$f":"SUM('MFIS ProjectA:MFIS ProjectF'!X25)","v":204244},{"$f":"'MFIS ProjectA'!Y25","v":2012},{"$f":"SUM('MFIS ProjectA:MFIS ProjectF'!Z25)","v":199179},{"$f":"SUM('MFIS ProjectA:MFIS ProjectF'!AA25)","v":225249},null,null,null,null,3233.5,0,0]
[null,null,null,null,null,null,null,null,null,null,null,null,null,null,null,"25. Authzd Debt Pymnt (NonRHS)",{"$f":"'MFIS ProjectA'!Q26","v":2015},{"$f":"SUM('MFIS ProjectA:MFIS ProjectF'!R26)","v":0},{"$f":"'MFIS ProjectA'!S26","v":2014},{"$f":"SUM('MFIS ProjectA:MFIS ProjectF'!T26)","v":0},{"$f":"SUM('MFIS ProjectA:MFIS ProjectF'!U26)","v":0},{"$f":"'MFIS ProjectA'!V26","v":2013},{"$f":"SUM('MFIS ProjectA:MFIS ProjectF'!W26)","v":0},{"$f":"SUM('MFIS ProjectA:MFIS ProjectF'!X26)","v":0},{"$f":"'MFIS ProjectA'!Y26","v":2012},{"$f":"SUM('MFIS ProjectA:MFIS ProjectF'!Z26)","v":0},{"$f":"SUM('MFIS ProjectA:MFIS ProjectF'!AA26)","v":0},null,null,null,{"$f":"R23","v":11970},22273.5,500,176]
[null,null,null,null,null,null,null,null,null,null,null,null,null,null,null,"26. Capital Budget (III 4-6) ",{"$f":"'MFIS ProjectA'!Q27","v":2015},{"$f":"SUM('MFIS ProjectA:MFIS ProjectF'!R27)","v":41200},{"$f":"'MFIS ProjectA'!S27","v":2014},{"$f":"SUM('MFIS ProjectA:MFIS ProjectF'!T27)","v":58950},{"$f":"SUM('MFIS ProjectA:MFIS ProjectF'!U27)","v":0},{"$f":"'MFIS ProjectA'!V27","v":2013},{"$f":"SUM('MFIS ProjectA:MFIS ProjectF'!W27)","v":51900},{"$f":"SUM('MFIS ProjectA:MFIS ProjectF'!X27)","v":44693},{"$f":"'MFIS ProjectA'!Y27","v":2012},{"$f":"SUM('MFIS ProjectA:MFIS ProjectF'!Z27)","v":30250},{"$f":"SUM('MFIS ProjectA:MFIS ProjectF'!AA27)","v":25101},null,null,null,{"$f":"R24","v":5040},5040,500,202.5]
[null,null,null,null,null,null,null,null,null,null,null,null,null,null,null,"27. Miscellaneous ",{"$f":"'MFIS ProjectA'!Q28","v":2015},{"$f":"SUM('MFIS ProjectA:MFIS ProjectF'!R28)","v":0},{"$f":"'MFIS ProjectA'!S28","v":2014},{"$f":"SUM('MFIS ProjectA:MFIS ProjectF'!T28)","v":0},{"$f":"SUM('MFIS ProjectA:MFIS ProjectF'!U28)","v":0},{"$f":"'MFIS ProjectA'!V28","v":2013},{"$f":"SUM('MFIS ProjectA:MFIS ProjectF'!W28)","v":0},{"$f":"SUM('MFIS ProjectA:MFIS ProjectF'!X28)","v":0},{"$f":"'MFIS ProjectA'!Y28","v":2012},{"$f":"SUM('MFIS ProjectA:MFIS ProjectF'!Z28)","v":0},{"$f":"SUM('MFIS ProjectA:MFIS ProjectF'!AA28)","v":0},null,null,null,{"$f":"SUM(AE20:AE27)","v":205471},{"$f":"SUM(AF20:AF27)","v":214746.5},2300,2322.5]
[null,null,null,null,null,null,null,null,null,null,null,null,null,null,null,"28. Sub-Total (25 thru 27) ",{"$f":"'MFIS ProjectA'!Q29","v":2015},{"$f":"SUM('MFIS ProjectA:MFIS ProjectF'!R29)","v":41200},{"$f":"'MFIS ProjectA'!S29","v":2014},{"$f":"SUM('MFIS ProjectA:MFIS ProjectF'!T29)","v":58950},{"$f":"SUM('MFIS ProjectA:MFIS ProjectF'!U29)","v":0},{"$f":"'MFIS ProjectA'!V29","v":2013},{"$f":"SUM('MFIS ProjectA:MFIS ProjectF'!W29)","v":51900},{"$f":"SUM('MFIS ProjectA:MFIS ProjectF'!X29)","v":44693},{"$f":"'MFIS ProjectA'!Y29","v":2012},{"$f":"SUM('MFIS ProjectA:MFIS ProjectF'!Z29)","v":30250},{"$f":"SUM('MFIS ProjectA:MFIS ProjectF'!AA29)","v":25101},null,null,null,null,null,2000,1901]
[null,null,null,null,null,null,null,null,null,null,null,null,null,null,null,"29. Total Cash Uses (24+28) ",{"$f":"'MFIS ProjectA'!Q30","v":2015},{"$f":"SUM('MFIS ProjectA:MFIS ProjectF'!R30)","v":246671},{"$f":"'MFIS ProjectA'!S30","v":2014},{"$f":"SUM('MFIS ProjectA:MFIS ProjectF'!T30)","v":262562},{"$f":"SUM('MFIS ProjectA:MFIS ProjectF'!U30)","v":0},{"$f":"'MFIS ProjectA'!V30","v":2013},{"$f":"SUM('MFIS ProjectA:MFIS ProjectF'!W30)","v":250394},{"$f":"SUM('MFIS ProjectA:MFIS ProjectF'!X30)","v":248937},{"$f":"'MFIS ProjectA'!Y30","v":2012},{"$f":"SUM('MFIS ProjectA:MFIS ProjectF'!Z30)","v":229429},{"$f":"SUM('MFIS ProjectA:MFIS ProjectF'!AA30)","v":250350},null,null,null,{"$f":"R26","v":0},{"$f":"IF(U26<1, AVERAGE(X26,AA26),AVERAGE(U26,X26,AA26))","v":0},0,0]
[null,null,null,null,null,null,null,null,null,null,null,null,null,null,null,"30. Net (Deficit) (15-29) ",{"$f":"'MFIS ProjectA'!Q31","v":2015},{"$f":"SUM('MFIS ProjectA:MFIS ProjectF'!R31)","v":884},{"$f":"'MFIS ProjectA'!S31","v":2014},{"$f":"SUM('MFIS ProjectA:MFIS ProjectF'!T31)","v":206},{"$f":"SUM('MFIS ProjectA:MFIS ProjectF'!U31)","v":0},{"$f":"'MFIS ProjectA'!V31","v":2013},{"$f":"SUM('MFIS ProjectA:MFIS ProjectF'!W31)","v":1002},{"$f":"SUM('MFIS ProjectA:MFIS ProjectF'!X31)","v":1648},{"$f":"'MFIS ProjectA'!Y31","v":2012},{"$f":"SUM('MFIS ProjectA:MFIS ProjectF'!Z31)","v":404},{"$f":"SUM('MFIS ProjectA:MFIS ProjectF'!AA31)","v":-12192},null,null,null,{"$f":"R27","v":41200},{"$f":"IF(U27<1, AVERAGE(X27,AA27),AVERAGE(U27,X27,AA27))","v":34897},2000,1898]
[null,null,null,null,null,null,null,null,null,null,null,null,null,null,null,"31. Beginning Cash Balance ",{"$f":"'MFIS ProjectA'!Q32","v":2015},{"$f":"SUM('MFIS ProjectA:MFIS ProjectF'!R32)","v":25372},{"$f":"'MFIS ProjectA'!S32","v":2014},{"$f":"SUM('MFIS ProjectA:MFIS ProjectF'!T32)","v":23096},{"$f":"SUM('MFIS ProjectA:MFIS ProjectF'!U32)","v":0},{"$f":"'MFIS ProjectA'!V32","v":2013},{"$f":"SUM('MFIS ProjectA:MFIS ProjectF'!W32)","v":27397},{"$f":"SUM('MFIS ProjectA:MFIS ProjectF'!X32)","v":20932},{"$f":"'MFIS ProjectA'!Y32","v":2012},{"$f":"SUM('MFIS ProjectA:MFIS ProjectF'!Z32)","v":24440},{"$f":"SUM('MFIS ProjectA:MFIS ProjectF'!AA32)","v":46521},null,null,null,{"$f":"R28","v":0},{"$f":"IF(U28<1, AVERAGE(X28,AA28),AVERAGE(U28,X28,AA28))","v":0},12336,12019.5]
[null,null,null,null,null,null,null,null,null,null,null,null,null,null,null,"32. Accrual To Cash Adjustment",{"$f":"'MFIS ProjectA'!Q33","v":2015},{"$f":"SUM('MFIS ProjectA:MFIS ProjectF'!R33)","v":0},{"$f":"'MFIS ProjectA'!S33","v":2014},{"$f":"SUM('MFIS ProjectA:MFIS ProjectF'!T33)","v":0},{"$f":"SUM('MFIS ProjectA:MFIS ProjectF'!U33)","v":0},{"$f":"'MFIS ProjectA'!V33","v":2013},{"$f":"SUM('MFIS ProjectA:MFIS ProjectF'!W33)","v":0},{"$f":"SUM('MFIS ProjectA:MFIS ProjectF'!X33)","v":48},{"$f":"'MFIS ProjectA'!Y33","v":2012},{"$f":"SUM('MFIS ProjectA:MFIS ProjectF'!Z33)","v":0},{"$f":"SUM('MFIS ProjectA:MFIS ProjectF'!AA33)","v":-13397},null,null,null,{"$f":"SUM(AE30:AE32)","v":41200},{"$f":"SUM(AF30:AF32)","v":34897},3612,3117.5]
[null,null,null,null,null,null,null,null,null,null,null,null,null,null,null,"33. Ending Cash Bal (30+31+32)",{"$f":"'MFIS ProjectA'!Q34","v":2015},{"$f":"SUM('MFIS ProjectA:MFIS ProjectF'!R34)","v":26256},{"$f":"'MFIS ProjectA'!S34","v":2014},{"$f":"SUM('MFIS ProjectA:MFIS ProjectF'!T34)","v":23302},{"$f":"SUM('MFIS ProjectA:MFIS ProjectF'!U34)","v":0},{"$f":"'MFIS ProjectA'!V34","v":2013},{"$f":"SUM('MFIS ProjectA:MFIS ProjectF'!W34)","v":28399},{"$f":"SUM('MFIS ProjectA:MFIS ProjectF'!X34)","v":22628},{"$f":"'MFIS ProjectA'!Y34","v":2012},{"$f":"SUM('MFIS ProjectA:MFIS ProjectF'!Z34)","v":24844},{"$f":"SUM('MFIS ProjectA:MFIS ProjectF'!AA34)","v":20932},null,null,null,null,null,1283,1632]
[null,null,null,null,null,null,null,null,null,null,null,null,null,null,null,"1. Maint. @ Repairs Payroll ",{"$f":"'MFIS ProjectA'!Q35","v":2015},{"$f":"SUM('MFIS ProjectA:MFIS ProjectF'!R35)","v":20050},{"$f":"'MFIS ProjectA'!S35","v":2014},{"$f":"SUM('MFIS ProjectA:MFIS ProjectF'!T35)","v":19450},{"$f":"SUM('MFIS ProjectA:MFIS ProjectF'!U35)","v":0},{"$f":"'MFIS ProjectA'!V35","v":2013},{"$f":"SUM('MFIS ProjectA:MFIS ProjectF'!W35)","v":19450},{"$f":"SUM('MFIS ProjectA:MFIS ProjectF'!X35)","v":19247},{"$f":"'MFIS ProjectA'!Y35","v":2012},{"$f":"SUM('MFIS ProjectA:MFIS ProjectF'!Z35)","v":19450},{"$f":"SUM('MFIS ProjectA:MFIS ProjectF'!AA35)","v":18310},null,null,null,{"$f":"AE28+AE33","v":246671},{"$f":"AF28+AF33","v":249643.5},1113,908.5]
[null,null,null,null,null,null,null,null,null,null,null,null,null,null,null,"2. Maint. @ Repairs Supply ",{"$f":"'MFIS ProjectA'!Q36","v":2015},{"$f":"SUM('MFIS ProjectA:MFIS ProjectF'!R36)","v":5500},{"$f":"'MFIS ProjectA'!S36","v":2014},{"$f":"SUM('MFIS ProjectA:MFIS ProjectF'!T36)","v":5500},{"$f":"SUM('MFIS ProjectA:MFIS ProjectF'!U36)","v":0},{"$f":"'MFIS ProjectA'!V36","v":2013},{"$f":"SUM('MFIS ProjectA:MFIS ProjectF'!W36)","v":5000},{"$f":"SUM('MFIS ProjectA:MFIS ProjectF'!X36)","v":11518},{"$f":"'MFIS ProjectA'!Y36","v":2012},{"$f":"SUM('MFIS ProjectA:MFIS ProjectF'!Z36)","v":5000},{"$f":"SUM('MFIS ProjectA:MFIS ProjectF'!AA36)","v":13260},null,null,null,null,null,{"$f":"SUM(AG22:AG35)","v":69418},{"$f":"SUM(AH22:AH35)","v":64909.5}]
[null,null,null,null,null,null,null,null,null,null,null,null,null,null,null,"3. Maint. @ Repairs Contract ",{"$f":"'MFIS ProjectA'!Q37","v":2015},{"$f":"SUM('MFIS ProjectA:MFIS ProjectF'!R37)","v":3000},{"$f":"'MFIS ProjectA'!S37","v":2014},{"$f":"SUM('MFIS ProjectA:MFIS ProjectF'!T37)","v":3000},{"$f":"SUM('MFIS ProjectA:MFIS ProjectF'!U37)","v":0},{"$f":"'MFIS ProjectA'!V37","v":2013},{"$f":"SUM('MFIS ProjectA:MFIS ProjectF'!W37)","v":4000},{"$f":"SUM('MFIS ProjectA:MFIS ProjectF'!X37)","v":4421},{"$f":"'MFIS ProjectA'!Y37","v":2012},{"$f":"SUM('MFIS ProjectA:MFIS ProjectF'!Z37)","v":4000},{"$f":"SUM('MFIS ProjectA:MFIS ProjectF'!AA37)","v":2482},null,null,null,{"$f":"AE18-AE35","v":884},{"$f":"AF18-AF35","v":-5272}]
[null,null,null,null,null,null,null,null,null,null,null,null,null,null,null,"4. Painting ",{"$f":"'MFIS ProjectA'!Q38","v":2015},{"$f":"SUM('MFIS ProjectA:MFIS ProjectF'!R38)","v":4000},{"$f":"'MFIS ProjectA'!S38","v":2014},{"$f":"SUM('MFIS ProjectA:MFIS ProjectF'!T38)","v":2000},{"$f":"SUM('MFIS ProjectA:MFIS ProjectF'!U38)","v":0},{"$f":"'MFIS ProjectA'!V38","v":2013},{"$f":"SUM('MFIS ProjectA:MFIS ProjectF'!W38)","v":2000},{"$f":"SUM('MFIS ProjectA:MFIS ProjectF'!X38)","v":475},{"$f":"'MFIS ProjectA'!Y38","v":2012},{"$f":"SUM('MFIS ProjectA:MFIS ProjectF'!Z38)","v":2000},{"$f":"SUM('MFIS ProjectA:MFIS ProjectF'!AA38)","v":3265},null,null,null,null,null,{"$f":"R68","v":20310},{"$f":"IF(U68<1,AVERAGE(X68,AA68),AVERAGE(U68,X68,AA68))","v":18459.5}]
[null,null,null,null,null,null,null,null,null,null,null,null,null,null,null,"5. Snow Removal ",{"$f":"'MFIS ProjectA'!Q39","v":2015},{"$f":"SUM('MFIS ProjectA:MFIS ProjectF'!R39)","v":0},{"$f":"'MFIS ProjectA'!S39","v":2014},{"$f":"SUM('MFIS ProjectA:MFIS ProjectF'!T39)","v":0},{"$f":"SUM('MFIS ProjectA:MFIS ProjectF'!U39)","v":0},{"$f":"'MFIS ProjectA'!V39","v":2013},{"$f":"SUM('MFIS ProjectA:MFIS ProjectF'!W39)","v":0},{"$f":"SUM('MFIS ProjectA:MFIS ProjectF'!X39)","v":0},{"$f":"'MFIS ProjectA'!Y39","v":2012},{"$f":"SUM('MFIS ProjectA:MFIS ProjectF'!Z39)","v":0},{"$f":"SUM('MFIS ProjectA:MFIS ProjectF'!AA39)","v":0},null,null,null,{"$f":"R32","v":25372},{"$f":"IF(U32<1, AVERAGE(X32,AA32),AVERAGE(U32,X32,AA32))","v":33726.5},300,225]
[null,null,null,null,null,null,null,null,null,null,null,null,null,null,null,"6. Elevator Maint./Contract ",{"$f":"'MFIS ProjectA'!Q40","v":2015},{"$f":"SUM('MFIS ProjectA:MFIS ProjectF'!R40)","v":0},{"$f":"'MFIS ProjectA'!S40","v":2014},{"$f":"SUM('MFIS ProjectA:MFIS ProjectF'!T40)","v":0},{"$f":"SUM('MFIS ProjectA:MFIS ProjectF'!U40)","v":0},{"$f":"'MFIS ProjectA'!V40","v":2013},{"$f":"SUM('MFIS ProjectA:MFIS ProjectF'!W40)","v":0},{"$f":"SUM('MFIS ProjectA:MFIS ProjectF'!X40)","v":0},{"$f":"'MFIS ProjectA'!Y40","v":2012},{"$f":"SUM('MFIS ProjectA:MFIS ProjectF'!Z40)","v":0},{"$f":"SUM('MFIS ProjectA:MFIS ProjectF'!AA40)","v":0},null,null,null,null,{"$f":"IF(U33<1, AVERAGE(X33,AA33),AVERAGE(U33,X33,AA33))","v":-6674.5},0,0]
[null,null,null,null,null,null,null,null,null,null,null,null,null,null,null,"7. Grounds ",{"$f":"'MFIS ProjectA'!Q41","v":2015},{"$f":"SUM('MFIS ProjectA:MFIS ProjectF'!R41)","v":7500},{"$f":"'MFIS ProjectA'!S41","v":2014},{"$f":"SUM('MFIS ProjectA:MFIS ProjectF'!T41)","v":7500},{"$f":"SUM('MFIS ProjectA:MFIS ProjectF'!U41)","v":0},{"$f":"'MFIS ProjectA'!V41","v":2013},{"$f":"SUM('MFIS ProjectA:MFIS ProjectF'!W41)","v":7500},{"$f":"SUM('MFIS ProjectA:MFIS ProjectF'!X41)","v":8342},{"$f":"'MFIS ProjectA'!Y41","v":2012},{"$f":"SUM('MFIS ProjectA:MFIS ProjectF'!Z41)","v":7500},{"$f":"SUM('MFIS ProjectA:MFIS ProjectF'!AA41)","v":7948},null,null,null,{"$f":"R34","v":26256},{"$f":"IF(MFIS!U34<1, AVERAGE(MFIS!X34,MFIS!AA34),AVERAGE(MFIS!U34,MFIS!X34,MFIS!AA34))","v":21780},10201,8674.5]
[null,null,null,null,null,null,null,null,null,null,null,null,null,null,null,"8. Services ",{"$f":"'MFIS ProjectA'!Q42","v":2015},{"$f":"SUM('MFIS ProjectA:MFIS ProjectF'!R42)","v":1665},{"$f":"'MFIS ProjectA'!S42","v":2014},{"$f":"SUM('MFIS ProjectA:MFIS ProjectF'!T42)","v":1665},{"$f":"SUM('MFIS ProjectA:MFIS ProjectF'!U42)","v":0},{"$f":"'MFIS ProjectA'!V42","v":2013},{"$f":"SUM('MFIS ProjectA:MFIS ProjectF'!W42)","v":1665},{"$f":"SUM('MFIS ProjectA:MFIS ProjectF'!X42)","v":1632},{"$f":"'MFIS ProjectA'!Y42","v":2012},{"$f":"SUM('MFIS ProjectA:MFIS ProjectF'!Z42)","v":1693},{"$f":"SUM('MFIS ProjectA:MFIS ProjectF'!AA42)","v":1706},null,null,null,null,null,191,0]
[null,null,null,null,null,null,null,null,null,null,null,null,null,null,null,"9. Cptl Bgt(Part V operating) ",{"$f":"'MFIS ProjectA'!Q43","v":2015},{"$f":"SUM('MFIS ProjectA:MFIS ProjectF'!R43)","v":0},{"$f":"'MFIS ProjectA'!S43","v":2014},{"$f":"SUM('MFIS ProjectA:MFIS ProjectF'!T43)","v":0},{"$f":"SUM('MFIS ProjectA:MFIS ProjectF'!U43)","v":0},{"$f":"'MFIS ProjectA'!V43","v":2013},{"$f":"SUM('MFIS ProjectA:MFIS ProjectF'!W43)","v":0},{"$f":"SUM('MFIS ProjectA:MFIS ProjectF'!X43)","v":0},{"$f":"'MFIS ProjectA'!Y43","v":2012},{"$f":"SUM('MFIS ProjectA:MFIS ProjectF'!Z43)","v":2230},{"$f":"SUM('MFIS ProjectA:MFIS ProjectF'!AA43)","v":0},null,null,null,null,null,0,0]
[null,null,null,null,null,null,null,null,null,null,null,null,null,null,null,"10. Other Operating Expenses ",{"$f":"'MFIS ProjectA'!Q44","v":2015},{"$f":"SUM('MFIS ProjectA:MFIS ProjectF'!R44)","v":1090},{"$f":"'MFIS ProjectA'!S44","v":2014},{"$f":"SUM('MFIS ProjectA:MFIS ProjectF'!T44)","v":1090},{"$f":"SUM('MFIS ProjectA:MFIS ProjectF'!U44)","v":0},{"$f":"'MFIS ProjectA'!V44","v":2013},{"$f":"SUM('MFIS ProjectA:MFIS ProjectF'!W44)","v":1041},{"$f":"SUM('MFIS ProjectA:MFIS ProjectF'!X44)","v":1072},{"$f":"'MFIS ProjectA'!Y44","v":2012},{"$f":"SUM('MFIS ProjectA:MFIS ProjectF'!Z44)","v":1329},{"$f":"SUM('MFIS ProjectA:MFIS ProjectF'!AA44)","v":1509},null,null,null,null,null,{"$f":"SUM(AG38:AG43)","v":31002},{"$f":"SUM(AH38:AH43)","v":27359}]
[null,null,null,null,null,null,null,null,null,null,null,null,null,null,null,"11. Sub-Ttl O@M (1 thru 10) ",{"$f":"'MFIS ProjectA'!Q45","v":2015},{"$f":"SUM('MFIS ProjectA:MFIS ProjectF'!R45)","v":42805},{"$f":"'MFIS ProjectA'!S45","v":2014},{"$f":"SUM('MFIS ProjectA:MFIS ProjectF'!T45)","v":40205},{"$f":"SUM('MFIS ProjectA:MFIS ProjectF'!U45)","v":0},{"$f":"'MFIS ProjectA'!V45","v":2013},{"$f":"SUM('MFIS ProjectA:MFIS ProjectF'!W45)","v":40656},{"$f":"SUM('MFIS ProjectA:MFIS ProjectF'!X45)","v":46707},{"$f":"'MFIS ProjectA'!Y45","v":2012},{"$f":"SUM('MFIS ProjectA:MFIS ProjectF'!Z45)","v":43202},{"$f":"SUM('MFIS ProjectA:MFIS ProjectF'!AA45)","v":48480}]
[null,null,null,null,null,null,null,null,null,null,null,null,null,null,null,"12. Electricity ",{"$f":"'MFIS ProjectA'!Q46","v":2015},{"$f":"SUM('MFIS ProjectA:MFIS ProjectF'!R46)","v":10061},{"$f":"'MFIS ProjectA'!S46","v":2014},{"$f":"SUM('MFIS ProjectA:MFIS ProjectF'!T46)","v":10061},{"$f":"SUM('MFIS ProjectA:MFIS ProjectF'!U46)","v":0},{"$f":"'MFIS ProjectA'!V46","v":2013},{"$f":"SUM('MFIS ProjectA:MFIS ProjectF'!W46)","v":10061},{"$f":"SUM('MFIS ProjectA:MFIS ProjectF'!X46)","v":9479},{"$f":"'MFIS ProjectA'!Y46","v":2012},{"$f":"SUM('MFIS ProjectA:MFIS ProjectF'!Z46)","v":10061},{"$f":"SUM('MFIS ProjectA:MFIS ProjectF'!AA46)","v":9416},null,null,null,null,null,{"$f":"SUM(AG12,AG20,AG36,AG44)","v":157877},{"$f":"SUM(AH12,AH20,AH36,AH44)","v":153583}]
[null,null,null,null,null,null,null,null,null,null,null,null,null,null,null,"13. Water ",{"$f":"'MFIS ProjectA'!Q47","v":2015},{"$f":"SUM('MFIS ProjectA:MFIS ProjectF'!R47)","v":979},{"$f":"'MFIS ProjectA'!S47","v":2014},{"$f":"SUM('MFIS ProjectA:MFIS ProjectF'!T47)","v":979},{"$f":"SUM('MFIS ProjectA:MFIS ProjectF'!U47)","v":0},{"$f":"'MFIS ProjectA'!V47","v":2013},{"$f":"SUM('MFIS ProjectA:MFIS ProjectF'!W47)","v":957},{"$f":"SUM('MFIS ProjectA:MFIS ProjectF'!X47)","v":904},{"$f":"'MFIS ProjectA'!Y47","v":2012},{"$f":"SUM('MFIS ProjectA:MFIS ProjectF'!Z47)","v":888},{"$f":"SUM('MFIS ProjectA:MFIS ProjectF'!AA47)","v":910}]
[null,null,null,null,null,null,null,null,null,null,null,null,null,null,null,"14. Sewer ",{"$f":"'MFIS ProjectA'!Q48","v":2015},{"$f":"SUM('MFIS ProjectA:MFIS ProjectF'!R48)","v":878},{"$f":"'MFIS ProjectA'!S48","v":2014},{"$f":"SUM('MFIS ProjectA:MFIS ProjectF'!T48)","v":878},{"$f":"SUM('MFIS ProjectA:MFIS ProjectF'!U48)","v":0},{"$f":"'MFIS ProjectA'!V48","v":2013},{"$f":"SUM('MFIS ProjectA:MFIS ProjectF'!W48)","v":840},{"$f":"SUM('MFIS ProjectA:MFIS ProjectF'!X48)","v":809},{"$f":"'MFIS ProjectA'!Y48","v":2012},{"$f":"SUM('MFIS ProjectA:MFIS ProjectF'!Z48)","v":826},{"$f":"SUM('MFIS ProjectA:MFIS ProjectF'!AA48)","v":862}]
[null,null,null,null,null,null,null,null,null,null,null,null,null,null,null,"15. Fuel (Oil/Coal/Gas) ",{"$f":"'MFIS ProjectA'!Q49","v":2015},{"$f":"SUM('MFIS ProjectA:MFIS ProjectF'!R49)","v":0},{"$f":"'MFIS ProjectA'!S49","v":2014},{"$f":"SUM('MFIS ProjectA:MFIS ProjectF'!T49)","v":0},{"$f":"SUM('MFIS ProjectA:MFIS ProjectF'!U49)","v":0},{"$f":"'MFIS ProjectA'!V49","v":2013},{"$f":"SUM('MFIS ProjectA:MFIS ProjectF'!W49)","v":0},{"$f":"SUM('MFIS ProjectA:MFIS ProjectF'!X49)","v":0},{"$f":"'MFIS ProjectA'!Y49","v":2012},{"$f":"SUM('MFIS ProjectA:MFIS ProjectF'!Z49)","v":0},{"$f":"SUM('MFIS ProjectA:MFIS ProjectF'!AA49)","v":0}]
[null,null,null,null,null,null,null,null,null,null,null,null,null,null,null,"16. Garbage @ Trash Removal ",{"$f":"'MFIS ProjectA'!Q50","v":2015},{"$f":"SUM('MFIS ProjectA:MFIS ProjectF'!R50)","v":2734},{"$f":"'MFIS ProjectA'!S50","v":2014},{"$f":"SUM('MFIS ProjectA:MFIS ProjectF'!T50)","v":2673},{"$f":"SUM('MFIS ProjectA:MFIS ProjectF'!U50)","v":0},{"$f":"'MFIS ProjectA'!V50","v":2013},{"$f":"SUM('MFIS ProjectA:MFIS ProjectF'!W50)","v":2621},{"$f":"SUM('MFIS ProjectA:MFIS ProjectF'!X50)","v":2555},{"$f":"'MFIS ProjectA'!Y50","v":2012},{"$f":"SUM('MFIS ProjectA:MFIS ProjectF'!Z50)","v":2621},{"$f":"SUM('MFIS ProjectA:MFIS ProjectF'!AA50)","v":2507}]
[null,null,null,null,null,null,null,null,null,null,null,null,null,null,null,"17. Other Utilities ",{"$f":"'MFIS ProjectA'!Q51","v":2015},{"$f":"SUM('MFIS ProjectA:MFIS ProjectF'!R51)","v":0},{"$f":"'MFIS ProjectA'!S51","v":2014},{"$f":"SUM('MFIS ProjectA:MFIS ProjectF'!T51)","v":0},{"$f":"SUM('MFIS ProjectA:MFIS ProjectF'!U51)","v":0},{"$f":"'MFIS ProjectA'!V51","v":2013},{"$f":"SUM('MFIS ProjectA:MFIS ProjectF'!W51)","v":0},{"$f":"SUM('MFIS ProjectA:MFIS ProjectF'!X51)","v":0},{"$f":"'MFIS ProjectA'!Y51","v":2012},{"$f":"SUM('MFIS ProjectA:MFIS ProjectF'!Z51)","v":0},{"$f":"SUM('MFIS ProjectA:MFIS ProjectF'!AA51)","v":0}]
[null,null,null,null,null,null,null,null,null,null,null,null,null,null,null,"18. Sub-Ttl Util. (12 thru 17)",{"$f":"'MFIS ProjectA'!Q52","v":2015},{"$f":"SUM('MFIS ProjectA:MFIS ProjectF'!R52)","v":14652},{"$f":"'MFIS ProjectA'!S52","v":2014},{"$f":"SUM('MFIS ProjectA:MFIS ProjectF'!T52)","v":14591},{"$f":"SUM('MFIS ProjectA:MFIS ProjectF'!U52)","v":0},{"$f":"'MFIS ProjectA'!V52","v":2013},{"$f":"SUM('MFIS ProjectA:MFIS ProjectF'!W52)","v":14479},{"$f":"SUM('MFIS ProjectA:MFIS ProjectF'!X52)","v":13747},{"$f":"'MFIS ProjectA'!Y52","v":2012},{"$f":"SUM('MFIS ProjectA:MFIS ProjectF'!Z52)","v":14396},{"$f":"SUM('MFIS ProjectA:MFIS ProjectF'!AA52)","v":13695}]
[null,null,null,null,null,null,null,null,null,null,null,null,null,null,null,"19. Site Management Payroll ",{"$f":"'MFIS ProjectA'!Q53","v":2015},{"$f":"SUM('MFIS ProjectA:MFIS ProjectF'!R53)","v":20080},{"$f":"'MFIS ProjectA'!S53","v":2014},{"$f":"SUM('MFIS ProjectA:MFIS ProjectF'!T53)","v":20080},{"$f":"SUM('MFIS ProjectA:MFIS ProjectF'!U53)","v":0},{"$f":"'MFIS ProjectA'!V53","v":2013},{"$f":"SUM('MFIS ProjectA:MFIS ProjectF'!W53)","v":20080},{"$f":"SUM('MFIS ProjectA:MFIS ProjectF'!X53)","v":17944},{"$f":"'MFIS ProjectA'!Y53","v":2012},{"$f":"SUM('MFIS ProjectA:MFIS ProjectF'!Z53)","v":20410},{"$f":"SUM('MFIS ProjectA:MFIS ProjectF'!AA53)","v":18148}]
[null,null,null,null,null,null,null,null,null,null,null,null,null,null,null,"20. Management Fee ",{"$f":"'MFIS ProjectA'!Q54","v":2015},{"$f":"SUM('MFIS ProjectA:MFIS ProjectF'!R54)","v":19320},{"$f":"'MFIS ProjectA'!S54","v":2014},{"$f":"SUM('MFIS ProjectA:MFIS ProjectF'!T54)","v":18690},{"$f":"SUM('MFIS ProjectA:MFIS ProjectF'!U54)","v":0},{"$f":"'MFIS ProjectA'!V54","v":2013},{"$f":"SUM('MFIS ProjectA:MFIS ProjectF'!W54)","v":18690},{"$f":"SUM('MFIS ProjectA:MFIS ProjectF'!X54)","v":18245},{"$f":"'MFIS ProjectA'!Y54","v":2012},{"$f":"SUM('MFIS ProjectA:MFIS ProjectF'!Z54)","v":18690},{"$f":"SUM('MFIS ProjectA:MFIS ProjectF'!AA54)","v":18379}]
[null,null,null,null,null,null,null,null,null,null,null,null,null,null,null,"21. Project Auditing Expense ",{"$f":"'MFIS ProjectA'!Q55","v":2015},{"$f":"SUM('MFIS ProjectA:MFIS ProjectF'!R55)","v":4374},{"$f":"'MFIS ProjectA'!S55","v":2014},{"$f":"SUM('MFIS ProjectA:MFIS ProjectF'!T55)","v":4374},{"$f":"SUM('MFIS ProjectA:MFIS ProjectF'!U55)","v":0},{"$f":"'MFIS ProjectA'!V55","v":2013},{"$f":"SUM('MFIS ProjectA:MFIS ProjectF'!W55)","v":4374},{"$f":"SUM('MFIS ProjectA:MFIS ProjectF'!X55)","v":4374},{"$f":"'MFIS ProjectA'!Y55","v":2012},{"$f":"SUM('MFIS ProjectA:MFIS ProjectF'!Z55)","v":4374},{"$f":"SUM('MFIS ProjectA:MFIS ProjectF'!AA55)","v":4374}]
[null,null,null,null,null,null,null,null,null,null,null,null,null,null,null,"22. Proj. Bookkeeping/Accnting",{"$f":"'MFIS ProjectA'!Q56","v":2015},{"$f":"SUM('MFIS ProjectA:MFIS ProjectF'!R56)","v":0},{"$f":"'MFIS ProjectA'!S56","v":2014},{"$f":"SUM('MFIS ProjectA:MFIS ProjectF'!T56)","v":0},{"$f":"SUM('MFIS ProjectA:MFIS ProjectF'!U56)","v":0},{"$f":"'MFIS ProjectA'!V56","v":2013},{"$f":"SUM('MFIS ProjectA:MFIS ProjectF'!W56)","v":0},{"$f":"SUM('MFIS ProjectA:MFIS ProjectF'!X56)","v":0},{"$f":"'MFIS ProjectA'!Y56","v":2012},{"$f":"SUM('MFIS ProjectA:MFIS ProjectF'!Z56)","v":0},{"$f":"SUM('MFIS ProjectA:MFIS ProjectF'!AA56)","v":0}]
[null,null,null,null,null,null,null,null,null,null,null,null,null,null,null,"23. Legal Expenses ",{"$f":"'MFIS ProjectA'!Q57","v":2015},{"$f":"SUM('MFIS ProjectA:MFIS ProjectF'!R57)","v":500},{"$f":"'MFIS ProjectA'!S57","v":2014},{"$f":"SUM('MFIS ProjectA:MFIS ProjectF'!T57)","v":500},{"$f":"SUM('MFIS ProjectA:MFIS ProjectF'!U57)","v":0},{"$f":"'MFIS ProjectA'!V57","v":2013},{"$f":"SUM('MFIS ProjectA:MFIS ProjectF'!W57)","v":500},{"$f":"SUM('MFIS ProjectA:MFIS ProjectF'!X57)","v":51},{"$f":"'MFIS ProjectA'!Y57","v":2012},{"$f":"SUM('MFIS ProjectA:MFIS ProjectF'!Z57)","v":500},{"$f":"SUM('MFIS ProjectA:MFIS ProjectF'!AA57)","v":301}]
[null,null,null,null,null,null,null,null,null,null,null,null,null,null,null,"24. Advertising ",{"$f":"'MFIS ProjectA'!Q58","v":2015},{"$f":"SUM('MFIS ProjectA:MFIS ProjectF'!R58)","v":500},{"$f":"'MFIS ProjectA'!S58","v":2014},{"$f":"SUM('MFIS ProjectA:MFIS ProjectF'!T58)","v":500},{"$f":"SUM('MFIS ProjectA:MFIS ProjectF'!U58)","v":0},{"$f":"'MFIS ProjectA'!V58","v":2013},{"$f":"SUM('MFIS ProjectA:MFIS ProjectF'!W58)","v":500},{"$f":"SUM('MFIS ProjectA:MFIS ProjectF'!X58)","v":203},{"$f":"'MFIS ProjectA'!Y58","v":2012},{"$f":"SUM('MFIS ProjectA:MFIS ProjectF'!Z58)","v":250},{"$f":"SUM('MFIS ProjectA:MFIS ProjectF'!AA58)","v":202}]
[null,null,null,null,null,null,null,null,null,null,null,null,null,null,null,"25. Phone @ Answering Service ",{"$f":"'MFIS ProjectA'!Q59","v":2015},{"$f":"SUM('MFIS ProjectA:MFIS ProjectF'!R59)","v":2300},{"$f":"'MFIS ProjectA'!S59","v":2014},{"$f":"SUM('MFIS ProjectA:MFIS ProjectF'!T59)","v":2300},{"$f":"SUM('MFIS ProjectA:MFIS ProjectF'!U59)","v":0},{"$f":"'MFIS ProjectA'!V59","v":2013},{"$f":"SUM('MFIS ProjectA:MFIS ProjectF'!W59)","v":2300},{"$f":"SUM('MFIS ProjectA:MFIS ProjectF'!X59)","v":2202},{"$f":"'MFIS ProjectA'!Y59","v":2012},{"$f":"SUM('MFIS ProjectA:MFIS ProjectF'!Z59)","v":2300},{"$f":"SUM('MFIS ProjectA:MFIS ProjectF'!AA59)","v":2443}]
[null,null,null,null,null,null,null,null,null,null,null,null,null,null,null,"26. Office Supplies ",{"$f":"'MFIS ProjectA'!Q60","v":2015},{"$f":"SUM('MFIS ProjectA:MFIS ProjectF'!R60)","v":2000},{"$f":"'MFIS ProjectA'!S60","v":2014},{"$f":"SUM('MFIS ProjectA:MFIS ProjectF'!T60)","v":2000},{"$f":"SUM('MFIS ProjectA:MFIS ProjectF'!U60)","v":0},{"$f":"'MFIS ProjectA'!V60","v":2013},{"$f":"SUM('MFIS ProjectA:MFIS ProjectF'!W60)","v":2000},{"$f":"SUM('MFIS ProjectA:MFIS ProjectF'!X60)","v":1871},{"$f":"'MFIS ProjectA'!Y60","v":2012},{"$f":"SUM('MFIS ProjectA:MFIS ProjectF'!Z60)","v":2000},{"$f":"SUM('MFIS ProjectA:MFIS ProjectF'!AA60)","v":1931}]
[null,null,null,null,null,null,null,null,null,null,null,null,null,null,null,"27. Office Furniture @ Equip. ",{"$f":"'MFIS ProjectA'!Q61","v":2015},{"$f":"SUM('MFIS ProjectA:MFIS ProjectF'!R61)","v":0},{"$f":"'MFIS ProjectA'!S61","v":2014},{"$f":"SUM('MFIS ProjectA:MFIS ProjectF'!T61)","v":0},{"$f":"SUM('MFIS ProjectA:MFIS ProjectF'!U61)","v":0},{"$f":"'MFIS ProjectA'!V61","v":2013},{"$f":"SUM('MFIS ProjectA:MFIS ProjectF'!W61)","v":0},{"$f":"SUM('MFIS ProjectA:MFIS ProjectF'!X61)","v":0},{"$f":"'MFIS ProjectA'!Y61","v":2012},{"$f":"SUM('MFIS ProjectA:MFIS ProjectF'!Z61)","v":0},{"$f":"SUM('MFIS ProjectA:MFIS ProjectF'!AA61)","v":0}]
[null,null,null,null,null,null,null,null,null,null,null,null,null,null,null,"28. Training Expense ",{"$f":"'MFIS ProjectA'!Q62","v":2015},{"$f":"SUM('MFIS ProjectA:MFIS ProjectF'!R62)","v":2000},{"$f":"'MFIS ProjectA'!S62","v":2014},{"$f":"SUM('MFIS ProjectA:MFIS ProjectF'!T62)","v":1800},{"$f":"SUM('MFIS ProjectA:MFIS ProjectF'!U62)","v":0},{"$f":"'MFIS ProjectA'!V62","v":2013},{"$f":"SUM('MFIS ProjectA:MFIS ProjectF'!W62)","v":1800},{"$f":"SUM('MFIS ProjectA:MFIS ProjectF'!X62)","v":1933},{"$f":"'MFIS ProjectA'!Y62","v":2012},{"$f":"SUM('MFIS ProjectA:MFIS ProjectF'!Z62)","v":1800},{"$f":"SUM('MFIS ProjectA:MFIS ProjectF'!AA62)","v":1863}]
[null,null,null,null,null,null,null,null,null,null,null,null,null,null,null,"29. Hlth Ins. @ Other Benefits",{"$f":"'MFIS ProjectA'!Q63","v":2015},{"$f":"SUM('MFIS ProjectA:MFIS ProjectF'!R63)","v":12336},{"$f":"'MFIS ProjectA'!S63","v":2014},{"$f":"SUM('MFIS ProjectA:MFIS ProjectF'!T63)","v":12336},{"$f":"SUM('MFIS ProjectA:MFIS ProjectF'!U63)","v":0},{"$f":"'MFIS ProjectA'!V63","v":2013},{"$f":"SUM('MFIS ProjectA:MFIS ProjectF'!W63)","v":11976},{"$f":"SUM('MFIS ProjectA:MFIS ProjectF'!X63)","v":13057},{"$f":"'MFIS ProjectA'!Y63","v":2012},{"$f":"SUM('MFIS ProjectA:MFIS ProjectF'!Z63)","v":11976},{"$f":"SUM('MFIS ProjectA:MFIS ProjectF'!AA63)","v":10982}]
[null,null,null,null,null,null,null,null,null,null,null,null,null,null,null,"30. Payroll Taxes ",{"$f":"'MFIS ProjectA'!Q64","v":2015},{"$f":"SUM('MFIS ProjectA:MFIS ProjectF'!R64)","v":3612},{"$f":"'MFIS ProjectA'!S64","v":2014},{"$f":"SUM('MFIS ProjectA:MFIS ProjectF'!T64)","v":3558},{"$f":"SUM('MFIS ProjectA:MFIS ProjectF'!U64)","v":0},{"$f":"'MFIS ProjectA'!V64","v":2013},{"$f":"SUM('MFIS ProjectA:MFIS ProjectF'!W64)","v":3337},{"$f":"SUM('MFIS ProjectA:MFIS ProjectF'!X64)","v":3115},{"$f":"'MFIS ProjectA'!Y64","v":2012},{"$f":"SUM('MFIS ProjectA:MFIS ProjectF'!Z64)","v":3587},{"$f":"SUM('MFIS ProjectA:MFIS ProjectF'!AA64)","v":3120}]
[null,null,null,null,null,null,null,null,null,null,null,null,null,null,null,"31. Workmans Compensation ",{"$f":"'MFIS ProjectA'!Q65","v":2015},{"$f":"SUM('MFIS ProjectA:MFIS ProjectF'!R65)","v":1283},{"$f":"'MFIS ProjectA'!S65","v":2014},{"$f":"SUM('MFIS ProjectA:MFIS ProjectF'!T65)","v":2085},{"$f":"SUM('MFIS ProjectA:MFIS ProjectF'!U65)","v":0},{"$f":"'MFIS ProjectA'!V65","v":2013},{"$f":"SUM('MFIS ProjectA:MFIS ProjectF'!W65)","v":1240},{"$f":"SUM('MFIS ProjectA:MFIS ProjectF'!X65)","v":2126},{"$f":"'MFIS ProjectA'!Y65","v":2012},{"$f":"SUM('MFIS ProjectA:MFIS ProjectF'!Z65)","v":1975},{"$f":"SUM('MFIS ProjectA:MFIS ProjectF'!AA65)","v":1138}]
[null,null,null,null,null,null,null,null,null,null,null,null,null,null,null,"32. Other Admin.Expenses ",{"$f":"'MFIS ProjectA'!Q66","v":2015},{"$f":"SUM('MFIS ProjectA:MFIS ProjectF'!R66)","v":1113},{"$f":"'MFIS ProjectA'!S66","v":2014},{"$f":"SUM('MFIS ProjectA:MFIS ProjectF'!T66)","v":1045},{"$f":"SUM('MFIS ProjectA:MFIS ProjectF'!U66)","v":0},{"$f":"'MFIS ProjectA'!V66","v":2013},{"$f":"SUM('MFIS ProjectA:MFIS ProjectF'!W66)","v":604},{"$f":"SUM('MFIS ProjectA:MFIS ProjectF'!X66)","v":1023},{"$f":"'MFIS ProjectA'!Y66","v":2012},{"$f":"SUM('MFIS ProjectA:MFIS ProjectF'!Z66)","v":499},{"$f":"SUM('MFIS ProjectA:MFIS ProjectF'!AA66)","v":794}]
[null,null,null,null,null,null,null,null,null,null,null,null,null,null,null,"33. Sub-Ttl Admin (19 thru 32)",{"$f":"'MFIS ProjectA'!Q67","v":2015},{"$f":"SUM('MFIS ProjectA:MFIS ProjectF'!R67)","v":69418},{"$f":"'MFIS ProjectA'!S67","v":2014},{"$f":"SUM('MFIS ProjectA:MFIS ProjectF'!T67)","v":69268},{"$f":"SUM('MFIS ProjectA:MFIS ProjectF'!U67)","v":0},{"$f":"'MFIS ProjectA'!V67","v":2013},{"$f":"SUM('MFIS ProjectA:MFIS ProjectF'!W67)","v":67401},{"$f":"SUM('MFIS ProjectA:MFIS ProjectF'!X67)","v":66144},{"$f":"'MFIS ProjectA'!Y67","v":2012},{"$f":"SUM('MFIS ProjectA:MFIS ProjectF'!Z67)","v":68361},{"$f":"SUM('MFIS ProjectA:MFIS ProjectF'!AA67)","v":63675}]
[null,null,null,null,null,null,null,null,null,null,null,null,null,null,null,"34. Real Estate Taxes ",{"$f":"'MFIS ProjectA'!Q68","v":2015},{"$f":"SUM('MFIS ProjectA:MFIS ProjectF'!R68)","v":20310},{"$f":"'MFIS ProjectA'!S68","v":2014},{"$f":"SUM('MFIS ProjectA:MFIS ProjectF'!T68)","v":19257},{"$f":"SUM('MFIS ProjectA:MFIS ProjectF'!U68)","v":0},{"$f":"'MFIS ProjectA'!V68","v":2013},{"$f":"SUM('MFIS ProjectA:MFIS ProjectF'!W68)","v":19257},{"$f":"SUM('MFIS ProjectA:MFIS ProjectF'!X68)","v":17765},{"$f":"'MFIS ProjectA'!Y68","v":2012},{"$f":"SUM('MFIS ProjectA:MFIS ProjectF'!Z68)","v":18274},{"$f":"SUM('MFIS ProjectA:MFIS ProjectF'!AA68)","v":19154}]
[null,null,null,null,null,null,null,null,null,null,null,null,null,null,null,"35. Special Assessments ",{"$f":"'MFIS ProjectA'!Q69","v":2015},{"$f":"SUM('MFIS ProjectA:MFIS ProjectF'!R69)","v":300},{"$f":"'MFIS ProjectA'!S69","v":2014},{"$f":"SUM('MFIS ProjectA:MFIS ProjectF'!T69)","v":250},{"$f":"SUM('MFIS ProjectA:MFIS ProjectF'!U69)","v":0},{"$f":"'MFIS ProjectA'!V69","v":2013},{"$f":"SUM('MFIS ProjectA:MFIS ProjectF'!W69)","v":100},{"$f":"SUM('MFIS ProjectA:MFIS ProjectF'!X69)","v":250},{"$f":"'MFIS ProjectA'!Y69","v":2012},{"$f":"SUM('MFIS ProjectA:MFIS ProjectF'!Z69)","v":200},{"$f":"SUM('MFIS ProjectA:MFIS ProjectF'!AA69)","v":200}]
[null,null,null,null,null,null,null,null,null,null,null,null,null,null,null,"36. Othr Taxes, Lcnses, Permts",{"$f":"'MFIS ProjectA'!Q70","v":2015},{"$f":"SUM('MFIS ProjectA:MFIS ProjectF'!R70)","v":0},{"$f":"'MFIS ProjectA'!S70","v":2014},{"$f":"SUM('MFIS ProjectA:MFIS ProjectF'!T70)","v":0},{"$f":"SUM('MFIS ProjectA:MFIS ProjectF'!U70)","v":0},{"$f":"'MFIS ProjectA'!V70","v":2013},{"$f":"SUM('MFIS ProjectA:MFIS ProjectF'!W70)","v":0},{"$f":"SUM('MFIS ProjectA:MFIS ProjectF'!X70)","v":0},{"$f":"'MFIS ProjectA'!Y70","v":2012},{"$f":"SUM('MFIS ProjectA:MFIS ProjectF'!Z70)","v":0},{"$f":"SUM('MFIS ProjectA:MFIS ProjectF'!AA70)","v":0}]
[null,null,null,null,null,null,null,null,null,null,null,null,null,null,null,"37. Property @ Liability Ins. ",{"$f":"'MFIS ProjectA'!Q71","v":2015},{"$f":"SUM('MFIS ProjectA:MFIS ProjectF'!R71)","v":10201},{"$f":"'MFIS ProjectA'!S71","v":2014},{"$f":"SUM('MFIS ProjectA:MFIS ProjectF'!T71)","v":12256},{"$f":"SUM('MFIS ProjectA:MFIS ProjectF'!U71)","v":0},{"$f":"'MFIS ProjectA'!V71","v":2013},{"$f":"SUM('MFIS ProjectA:MFIS ProjectF'!W71)","v":8816},{"$f":"SUM('MFIS ProjectA:MFIS ProjectF'!X71)","v":9952},{"$f":"'MFIS ProjectA'!Y71","v":2012},{"$f":"SUM('MFIS ProjectA:MFIS ProjectF'!Z71)","v":6961},{"$f":"SUM('MFIS ProjectA:MFIS ProjectF'!AA71)","v":7397}]
[null,null,null,null,null,null,null,null,null,null,null,null,null,null,null,"38. Fidelity Coverage Ins. ",{"$f":"'MFIS ProjectA'!Q72","v":2015},{"$f":"SUM('MFIS ProjectA:MFIS ProjectF'!R72)","v":191},{"$f":"'MFIS ProjectA'!S72","v":2014},{"$f":"SUM('MFIS ProjectA:MFIS ProjectF'!T72)","v":191},{"$f":"SUM('MFIS ProjectA:MFIS ProjectF'!U72)","v":0},{"$f":"'MFIS ProjectA'!V72","v":2013},{"$f":"SUM('MFIS ProjectA:MFIS ProjectF'!W72)","v":191},{"$f":"SUM('MFIS ProjectA:MFIS ProjectF'!X72)","v":0},{"$f":"'MFIS ProjectA'!Y72","v":2012},{"$f":"SUM('MFIS ProjectA:MFIS ProjectF'!Z72)","v":191},{"$f":"SUM('MFIS ProjectA:MFIS ProjectF'!AA72)","v":0}]
[null,null,null,null,null,null,null,null,null,null,null,null,null,null,null,"39. Other Insurance ",{"$f":"'MFIS ProjectA'!Q73","v":2015},{"$f":"SUM('MFIS ProjectA:MFIS ProjectF'!R73)","v":0},{"$f":"'MFIS ProjectA'!S73","v":2014},{"$f":"SUM('MFIS ProjectA:MFIS ProjectF'!T73)","v":0},{"$f":"SUM('MFIS ProjectA:MFIS ProjectF'!U73)","v":0},{"$f":"'MFIS ProjectA'!V73","v":2013},{"$f":"SUM('MFIS ProjectA:MFIS ProjectF'!W73)","v":0},{"$f":"SUM('MFIS ProjectA:MFIS ProjectF'!X73)","v":0},{"$f":"'MFIS ProjectA'!Y73","v":2012},{"$f":"SUM('MFIS ProjectA:MFIS ProjectF'!Z73)","v":0},{"$f":"SUM('MFIS ProjectA:MFIS ProjectF'!AA73)","v":0}]
[null,null,null,null,null,null,null,null,null,null,null,null,null,null,null,"40. Sub-Ttl Tx/In (34 thru 39)",{"$f":"'MFIS ProjectA'!Q74","v":2015},{"$f":"SUM('MFIS ProjectA:MFIS ProjectF'!R74)","v":31002},{"$f":"'MFIS ProjectA'!S74","v":2014},{"$f":"SUM('MFIS ProjectA:MFIS ProjectF'!T74)","v":31954},{"$f":"SUM('MFIS ProjectA:MFIS ProjectF'!U74)","v":0},{"$f":"'MFIS ProjectA'!V74","v":2013},{"$f":"SUM('MFIS ProjectA:MFIS ProjectF'!W74)","v":28364},{"$f":"SUM('MFIS ProjectA:MFIS ProjectF'!X74)","v":27967},{"$f":"'MFIS ProjectA'!Y74","v":2012},{"$f":"SUM('MFIS ProjectA:MFIS ProjectF'!Z74)","v":25626},{"$f":"SUM('MFIS ProjectA:MFIS ProjectF'!AA74)","v":26751}]
[null,null,null,null,null,null,null,null,null,null,null,null,null,null,null,"41. Ttl O@M Exps (11+18+33+40)",{"$f":"'MFIS ProjectA'!Q75","v":2015},{"$f":"SUM('MFIS ProjectA:MFIS ProjectF'!R75)","v":157877},{"$f":"'MFIS ProjectA'!S75","v":2014},{"$f":"SUM('MFIS ProjectA:MFIS ProjectF'!T75)","v":156018},{"$f":"SUM('MFIS ProjectA:MFIS ProjectF'!U75)","v":0},{"$f":"'MFIS ProjectA'!V75","v":2013},{"$f":"SUM('MFIS ProjectA:MFIS ProjectF'!W75)","v":150900},{"$f":"SUM('MFIS ProjectA:MFIS ProjectF'!X75)","v":154565},{"$f":"'MFIS ProjectA'!Y75","v":2012},{"$f":"SUM('MFIS ProjectA:MFIS ProjectF'!Z75)","v":151585},{"$f":"SUM('MFIS ProjectA:MFIS ProjectF'!AA75)","v":152601}]
[null,null,null,null,null,null,null,null,null,null,null,null,null,null,null,"1.Beginning Balance ",{"$f":"'MFIS ProjectA'!Q76","v":2015},{"$f":"SUM('MFIS ProjectA:MFIS ProjectF'!R76)","v":44204},{"$f":"'MFIS ProjectA'!S76","v":2014},{"$f":"SUM('MFIS ProjectA:MFIS ProjectF'!T76)","v":57116},{"$f":"SUM('MFIS ProjectA:MFIS ProjectF'!U76)","v":0},{"$f":"'MFIS ProjectA'!V76","v":2013},{"$f":"SUM('MFIS ProjectA:MFIS ProjectF'!W76)","v":95048},{"$f":"SUM('MFIS ProjectA:MFIS ProjectF'!X76)","v":68419},{"$f":"'MFIS ProjectA'!Y76","v":2012},{"$f":"SUM('MFIS ProjectA:MFIS ProjectF'!Z76)","v":72102},{"$f":"SUM('MFIS ProjectA:MFIS ProjectF'!AA76)","v":60981}]
[null,null,null,null,null,null,null,null,null,null,null,null,null,null,null,"2. Transfer to Reserve ",{"$f":"'MFIS ProjectA'!Q77","v":2015},{"$f":"SUM('MFIS ProjectA:MFIS ProjectF'!R77)","v":11970},{"$f":"'MFIS ProjectA'!S77","v":2014},{"$f":"SUM('MFIS ProjectA:MFIS ProjectF'!T77)","v":11970},{"$f":"SUM('MFIS ProjectA:MFIS ProjectF'!U77)","v":0},{"$f":"'MFIS ProjectA'!V77","v":2013},{"$f":"SUM('MFIS ProjectA:MFIS ProjectF'!W77)","v":11970},{"$f":"SUM('MFIS ProjectA:MFIS ProjectF'!X77)","v":12008},{"$f":"'MFIS ProjectA'!Y77","v":2012},{"$f":"SUM('MFIS ProjectA:MFIS ProjectF'!Z77)","v":11970},{"$f":"SUM('MFIS ProjectA:MFIS ProjectF'!AA77)","v":32539}]
[null,null,null,null,null,null,null,null,null,null,null,null,null,null,null,"3. Operating Deficit ",{"$f":"'MFIS ProjectA'!Q78","v":2015},{"$f":"SUM('MFIS ProjectA:MFIS ProjectF'!R78)","v":0},{"$f":"'MFIS ProjectA'!S78","v":2014},{"$f":"SUM('MFIS ProjectA:MFIS ProjectF'!T78)","v":0},{"$f":"SUM('MFIS ProjectA:MFIS ProjectF'!U78)","v":0},{"$f":"'MFIS ProjectA'!V78","v":2013},{"$f":"SUM('MFIS ProjectA:MFIS ProjectF'!W78)","v":0},{"$f":"SUM('MFIS ProjectA:MFIS ProjectF'!X78)","v":0},{"$f":"'MFIS ProjectA'!Y78","v":2012},{"$f":"SUM('MFIS ProjectA:MFIS ProjectF'!Z78)","v":0},{"$f":"SUM('MFIS ProjectA:MFIS ProjectF'!AA78)","v":0}]
[null,null,null,null,null,null,null,null,null,null,null,null,null,null,null,"4. Cptl Bgt (Part V reserve) ",{"$f":"'MFIS ProjectA'!Q79","v":2015},{"$f":"SUM('MFIS ProjectA:MFIS ProjectF'!R79)","v":41200},{"$f":"'MFIS ProjectA'!S79","v":2014},{"$f":"SUM('MFIS ProjectA:MFIS ProjectF'!T79)","v":58950},{"$f":"SUM('MFIS ProjectA:MFIS ProjectF'!U79)","v":0},{"$f":"'MFIS ProjectA'!V79","v":2013},{"$f":"SUM('MFIS ProjectA:MFIS ProjectF'!W79)","v":51900},{"$f":"SUM('MFIS ProjectA:MFIS ProjectF'!X79)","v":0},{"$f":"'MFIS ProjectA'!Y79","v":2012},{"$f":"SUM('MFIS ProjectA:MFIS ProjectF'!Z79)","v":30250},{"$f":"SUM('MFIS ProjectA:MFIS ProjectF'!AA79)","v":0}]
[null,null,null,null,null,null,null,null,null,null,null,null,null,null,null,"5. Building @ Equip Repair ",{"$f":"'MFIS ProjectA'!Q80","v":2015},{"$f":"SUM('MFIS ProjectA:MFIS ProjectF'!R80)","v":0},{"$f":"'MFIS ProjectA'!S80","v":2014},{"$f":"SUM('MFIS ProjectA:MFIS ProjectF'!T80)","v":0},{"$f":"SUM('MFIS ProjectA:MFIS ProjectF'!U80)","v":0},{"$f":"'MFIS ProjectA'!V80","v":2013},{"$f":"SUM('MFIS ProjectA:MFIS ProjectF'!W80)","v":0},{"$f":"SUM('MFIS ProjectA:MFIS ProjectF'!X80)","v":44693},{"$f":"'MFIS ProjectA'!Y80","v":2012},{"$f":"SUM('MFIS ProjectA:MFIS ProjectF'!Z80)","v":0},{"$f":"SUM('MFIS ProjectA:MFIS ProjectF'!AA80)","v":25101}]
[null,null,null,null,null,null,null,null,null,null,null,null,null,null,null,"6. Othr Non-Operating Expenses",{"$f":"'MFIS ProjectA'!Q81","v":2015},{"$f":"SUM('MFIS ProjectA:MFIS ProjectF'!R81)","v":0},{"$f":"'MFIS ProjectA'!S81","v":2014},{"$f":"SUM('MFIS ProjectA:MFIS ProjectF'!T81)","v":0},{"$f":"SUM('MFIS ProjectA:MFIS ProjectF'!U81)","v":0},{"$f":"'MFIS ProjectA'!V81","v":2013},{"$f":"SUM('MFIS ProjectA:MFIS ProjectF'!W81)","v":0},{"$f":"SUM('MFIS ProjectA:MFIS ProjectF'!X81)","v":0},{"$f":"'MFIS ProjectA'!Y81","v":2012},{"$f":"SUM('MFIS ProjectA:MFIS ProjectF'!Z81)","v":0},{"$f":"SUM('MFIS ProjectA:MFIS ProjectF'!AA81)","v":0}]
[null,null,null,null,null,null,null,null,null,null,null,null,null,null,null,"7. Total (3 thru 6) ",{"$f":"'MFIS ProjectA'!Q82","v":2015},{"$f":"SUM('MFIS ProjectA:MFIS ProjectF'!R82)","v":41200},{"$f":"'MFIS ProjectA'!S82","v":2014},{"$f":"SUM('MFIS ProjectA:MFIS ProjectF'!T82)","v":58950},{"$f":"SUM('MFIS ProjectA:MFIS ProjectF'!U82)","v":0},{"$f":"'MFIS ProjectA'!V82","v":2013},{"$f":"SUM('MFIS ProjectA:MFIS ProjectF'!W82)","v":51900},{"$f":"SUM('MFIS ProjectA:MFIS ProjectF'!X82)","v":44693},{"$f":"'MFIS ProjectA'!Y82","v":2012},{"$f":"SUM('MFIS ProjectA:MFIS ProjectF'!Z82)","v":30250},{"$f":"SUM('MFIS ProjectA:MFIS ProjectF'!AA82)","v":25101}]
[null,null,null,null,null,null,null,null,null,null,null,null,null,null,null,"8. Ending Balance [(1+2)-7)] ",{"$f":"'MFIS ProjectA'!Q83","v":2015},{"$f":"SUM('MFIS ProjectA:MFIS ProjectF'!R83)","v":14974},{"$f":"'MFIS ProjectA'!S83","v":2014},{"$f":"SUM('MFIS ProjectA:MFIS ProjectF'!T83)","v":10136},{"$f":"SUM('MFIS ProjectA:MFIS ProjectF'!U83)","v":0},{"$f":"'MFIS ProjectA'!V83","v":2013},{"$f":"SUM('MFIS ProjectA:MFIS ProjectF'!W83)","v":55118},{"$f":"SUM('MFIS ProjectA:MFIS ProjectF'!X83)","v":35734},{"$f":"'MFIS ProjectA'!Y83","v":2012},{"$f":"SUM('MFIS ProjectA:MFIS ProjectF'!Z83)","v":53822},{"$f":"SUM('MFIS ProjectA:MFIS ProjectF'!AA83)","v":68419}]
[null,null,null,null,null,null,null,null,null,null,null,null,null,null,null,"Beginning Balance ",{"$f":"'MFIS ProjectA'!Q84","v":2015},{"$f":"SUM('MFIS ProjectA:MFIS ProjectF'!R84)","v":0},{"$f":"'MFIS ProjectA'!S84","v":2014},{"$f":"SUM('MFIS ProjectA:MFIS ProjectF'!T84)","v":0},{"$f":"SUM('MFIS ProjectA:MFIS ProjectF'!U84)","v":0},{"$f":"'MFIS ProjectA'!V84","v":2013},{"$f":"SUM('MFIS ProjectA:MFIS ProjectF'!W84)","v":0},{"$f":"SUM('MFIS ProjectA:MFIS ProjectF'!X84)","v":15533},{"$f":"'MFIS ProjectA'!Y84","v":2012},{"$f":"SUM('MFIS ProjectA:MFIS ProjectF'!Z84)","v":0},{"$f":"SUM('MFIS ProjectA:MFIS ProjectF'!AA84)","v":42317}]
[null,null,null,null,null,null,null,null,null,null,null,null,null,null,null,"Ending Balance ",{"$f":"'MFIS ProjectA'!Q85","v":2015},{"$f":"SUM('MFIS ProjectA:MFIS ProjectF'!R85)","v":0},{"$f":"'MFIS ProjectA'!S85","v":2014},{"$f":"SUM('MFIS ProjectA:MFIS ProjectF'!T85)","v":0},{"$f":"SUM('MFIS ProjectA:MFIS ProjectF'!U85)","v":0},{"$f":"'MFIS ProjectA'!V85","v":2013},{"$f":"SUM('MFIS ProjectA:MFIS ProjectF'!W85)","v":0},{"$f":"SUM('MFIS ProjectA:MFIS ProjectF'!X85)","v":14086},{"$f":"'MFIS ProjectA'!Y85","v":2012},{"$f":"SUM('MFIS ProjectA:MFIS ProjectF'!Z85)","v":0},{"$f":"SUM('MFIS ProjectA:MFIS ProjectF'!AA85)","v":20932}]
[null,null,null,null,null,null,null,null,null,null,null,null,null,null,null,"Beginning Balance ",{"$f":"'MFIS ProjectA'!Q86","v":2015},{"$f":"SUM('MFIS ProjectA:MFIS ProjectF'!R86)","v":0},{"$f":"'MFIS ProjectA'!S86","v":2014},{"$f":"SUM('MFIS ProjectA:MFIS ProjectF'!T86)","v":0},{"$f":"SUM('MFIS ProjectA:MFIS ProjectF'!U86)","v":0},{"$f":"'MFIS ProjectA'!V86","v":2013},{"$f":"SUM('MFIS ProjectA:MFIS ProjectF'!W86)","v":0},{"$f":"SUM('MFIS ProjectA:MFIS ProjectF'!X86)","v":5399},{"$f":"'MFIS ProjectA'!Y86","v":2012},{"$f":"SUM('MFIS ProjectA:MFIS ProjectF'!Z86)","v":0},{"$f":"SUM('MFIS ProjectA:MFIS ProjectF'!AA86)","v":4204}]
[null,null,null,null,null,null,null,null,null,null,null,null,null,null,null,"Ending Balance ",{"$f":"'MFIS ProjectA'!Q87","v":2015},{"$f":"SUM('MFIS ProjectA:MFIS ProjectF'!R87)","v":0},{"$f":"'MFIS ProjectA'!S87","v":2014},{"$f":"SUM('MFIS ProjectA:MFIS ProjectF'!T87)","v":0},{"$f":"SUM('MFIS ProjectA:MFIS ProjectF'!U87)","v":0},{"$f":"'MFIS ProjectA'!V87","v":2013},{"$f":"SUM('MFIS ProjectA:MFIS ProjectF'!W87)","v":0},{"$f":"SUM('MFIS ProjectA:MFIS ProjectF'!X87)","v":8542},{"$f":"'MFIS ProjectA'!Y87","v":2012},{"$f":"SUM('MFIS ProjectA:MFIS ProjectF'!Z87)","v":0},{"$f":"SUM('MFIS ProjectA:MFIS ProjectF'!AA87)","v":0}]
[null,null,null,null,null,null,null,null,null,null,null,null,null,null,null,"Beginning Balance ",{"$f":"'MFIS ProjectA'!Q88","v":2015},{"$f":"SUM('MFIS ProjectA:MFIS ProjectF'!R88)","v":0},{"$f":"'MFIS ProjectA'!S88","v":2014},{"$f":"SUM('MFIS ProjectA:MFIS ProjectF'!T88)","v":0},{"$f":"SUM('MFIS ProjectA:MFIS ProjectF'!U88)","v":0},{"$f":"'MFIS ProjectA'!V88","v":2013},{"$f":"SUM('MFIS ProjectA:MFIS ProjectF'!W88)","v":0},{"$f":"SUM('MFIS ProjectA:MFIS ProjectF'!X88)","v":6600},{"$f":"'MFIS ProjectA'!Y88","v":2012},{"$f":"SUM('MFIS ProjectA:MFIS ProjectF'!Z88)","v":0},{"$f":"SUM('MFIS ProjectA:MFIS ProjectF'!AA88)","v":5800}]
[null,null,null,null,null,null,null,null,null,null,null,null,null,null,null,"Ending Balance ",{"$f":"'MFIS ProjectA'!Q89","v":2015},{"$f":"SUM('MFIS ProjectA:MFIS ProjectF'!R89)","v":0},{"$f":"'MFIS ProjectA'!S89","v":2014},{"$f":"SUM('MFIS ProjectA:MFIS ProjectF'!T89)","v":0},{"$f":"SUM('MFIS ProjectA:MFIS ProjectF'!U89)","v":0},{"$f":"'MFIS ProjectA'!V89","v":2013},{"$f":"SUM('MFIS ProjectA:MFIS ProjectF'!W89)","v":0},{"$f":"SUM('MFIS ProjectA:MFIS ProjectF'!X89)","v":7550},{"$f":"'MFIS ProjectA'!Y89","v":2012},{"$f":"SUM('MFIS ProjectA:MFIS ProjectF'!Z89)","v":0},{"$f":"SUM('MFIS ProjectA:MFIS ProjectF'!AA89)","v":6600}]
[null,null,null,null,null,null,null,null,null,null,null,null,null,null,null,"Appliances - Range ",{"$f":"'MFIS ProjectA'!Q90","v":2015},{"$f":"SUM('MFIS ProjectA:MFIS ProjectF'!R90)","v":900},{"$f":"'MFIS ProjectA'!S90","v":2014},{"$f":"SUM('MFIS ProjectA:MFIS ProjectF'!T90)","v":900},{"$f":"SUM('MFIS ProjectA:MFIS ProjectF'!U90)","v":0},{"$f":"'MFIS ProjectA'!V90","v":2013},{"$f":"SUM('MFIS ProjectA:MFIS ProjectF'!W90)","v":650},{"$f":"SUM('MFIS ProjectA:MFIS ProjectF'!X90)","v":0},{"$f":"'MFIS ProjectA'!Y90","v":2012},{"$f":"SUM('MFIS ProjectA:MFIS ProjectF'!Z90)","v":650},{"$f":"SUM('MFIS ProjectA:MFIS ProjectF'!AA90)","v":0}]
[null,null,null,null,null,null,null,null,null,null,null,null,null,null,null,"Appliances - Refrigerator ",{"$f":"'MFIS ProjectA'!Q91","v":2015},{"$f":"SUM('MFIS ProjectA:MFIS ProjectF'!R91)","v":1100},{"$f":"'MFIS ProjectA'!S91","v":2014},{"$f":"SUM('MFIS ProjectA:MFIS ProjectF'!T91)","v":1100},{"$f":"SUM('MFIS ProjectA:MFIS ProjectF'!U91)","v":0},{"$f":"'MFIS ProjectA'!V91","v":2013},{"$f":"SUM('MFIS ProjectA:MFIS ProjectF'!W91)","v":1100},{"$f":"SUM('MFIS ProjectA:MFIS ProjectF'!X91)","v":0},{"$f":"'MFIS ProjectA'!Y91","v":2012},{"$f":"SUM('MFIS ProjectA:MFIS ProjectF'!Z91)","v":1000},{"$f":"SUM('MFIS ProjectA:MFIS ProjectF'!AA91)","v":0}]
[null,null,null,null,null,null,null,null,null,null,null,null,null,null,null,"Appliances - Range Hood ",{"$f":"'MFIS ProjectA'!Q92","v":2015},{"$f":"SUM('MFIS ProjectA:MFIS ProjectF'!R92)","v":0},{"$f":"'MFIS ProjectA'!S92","v":2014},{"$f":"SUM('MFIS ProjectA:MFIS ProjectF'!T92)","v":0},{"$f":"SUM('MFIS ProjectA:MFIS ProjectF'!U92)","v":0},{"$f":"'MFIS ProjectA'!V92","v":2013},{"$f":"SUM('MFIS ProjectA:MFIS ProjectF'!W92)","v":0},{"$f":"SUM('MFIS ProjectA:MFIS ProjectF'!X92)","v":0},{"$f":"'MFIS ProjectA'!Y92","v":2012},{"$f":"SUM('MFIS ProjectA:MFIS ProjectF'!Z92)","v":0},{"$f":"SUM('MFIS ProjectA:MFIS ProjectF'!AA92)","v":0}]
[null,null,null,null,null,null,null,null,null,null,null,null,null,null,null,"Appliances - Washers @ Dryers ",{"$f":"'MFIS ProjectA'!Q93","v":2015},{"$f":"SUM('MFIS ProjectA:MFIS ProjectF'!R93)","v":0},{"$f":"'MFIS ProjectA'!S93","v":2014},{"$f":"SUM('MFIS ProjectA:MFIS ProjectF'!T93)","v":0},{"$f":"SUM('MFIS ProjectA:MFIS ProjectF'!U93)","v":0},{"$f":"'MFIS ProjectA'!V93","v":2013},{"$f":"SUM('MFIS ProjectA:MFIS ProjectF'!W93)","v":0},{"$f":"SUM('MFIS ProjectA:MFIS ProjectF'!X93)","v":0},{"$f":"'MFIS ProjectA'!Y93","v":2012},{"$f":"SUM('MFIS ProjectA:MFIS ProjectF'!Z93)","v":0},{"$f":"SUM('MFIS ProjectA:MFIS ProjectF'!AA93)","v":0}]
[null,null,null,null,null,null,null,null,null,null,null,null,null,null,null,"Appliances - Other ",{"$f":"'MFIS ProjectA'!Q94","v":2015},{"$f":"SUM('MFIS ProjectA:MFIS ProjectF'!R94)","v":0},{"$f":"'MFIS ProjectA'!S94","v":2014},{"$f":"SUM('MFIS ProjectA:MFIS ProjectF'!T94)","v":0},{"$f":"SUM('MFIS ProjectA:MFIS ProjectF'!U94)","v":0},{"$f":"'MFIS ProjectA'!V94","v":2013},{"$f":"SUM('MFIS ProjectA:MFIS ProjectF'!W94)","v":0},{"$f":"SUM('MFIS ProjectA:MFIS ProjectF'!X94)","v":0},{"$f":"'MFIS ProjectA'!Y94","v":2012},{"$f":"SUM('MFIS ProjectA:MFIS ProjectF'!Z94)","v":0},{"$f":"SUM('MFIS ProjectA:MFIS ProjectF'!AA94)","v":0}]
[null,null,null,null,null,null,null,null,null,null,null,null,null,null,null,"Carpet @ Vinyl - 1 Br. ",{"$f":"'MFIS ProjectA'!Q95","v":2015},{"$f":"SUM('MFIS ProjectA:MFIS ProjectF'!R95)","v":1400},{"$f":"'MFIS ProjectA'!S95","v":2014},{"$f":"SUM('MFIS ProjectA:MFIS ProjectF'!T95)","v":2800},{"$f":"SUM('MFIS ProjectA:MFIS ProjectF'!U95)","v":0},{"$f":"'MFIS ProjectA'!V95","v":2013},{"$f":"SUM('MFIS ProjectA:MFIS ProjectF'!W95)","v":2800},{"$f":"SUM('MFIS ProjectA:MFIS ProjectF'!X95)","v":0},{"$f":"'MFIS ProjectA'!Y95","v":2012},{"$f":"SUM('MFIS ProjectA:MFIS ProjectF'!Z95)","v":1400},{"$f":"SUM('MFIS ProjectA:MFIS ProjectF'!AA95)","v":0}]
[null,null,null,null,null,null,null,null,null,null,null,null,null,null,null,"Carpet @ Vinyl - 2 Br. ",{"$f":"'MFIS ProjectA'!Q96","v":2015},{"$f":"SUM('MFIS ProjectA:MFIS ProjectF'!R96)","v":3200},{"$f":"'MFIS ProjectA'!S96","v":2014},{"$f":"SUM('MFIS ProjectA:MFIS ProjectF'!T96)","v":3100},{"$f":"SUM('MFIS ProjectA:MFIS ProjectF'!U96)","v":0},{"$f":"'MFIS ProjectA'!V96","v":2013},{"$f":"SUM('MFIS ProjectA:MFIS ProjectF'!W96)","v":3100},{"$f":"SUM('MFIS ProjectA:MFIS ProjectF'!X96)","v":0},{"$f":"'MFIS ProjectA'!Y96","v":2012},{"$f":"SUM('MFIS ProjectA:MFIS ProjectF'!Z96)","v":4650},{"$f":"SUM('MFIS ProjectA:MFIS ProjectF'!AA96)","v":0}]
[null,null,null,null,null,null,null,null,null,null,null,null,null,null,null,"Carpet @ Vinyl - 3 Br. ",{"$f":"'MFIS ProjectA'!Q97","v":2015},{"$f":"SUM('MFIS ProjectA:MFIS ProjectF'!R97)","v":4800},{"$f":"'MFIS ProjectA'!S97","v":2014},{"$f":"SUM('MFIS ProjectA:MFIS ProjectF'!T97)","v":4400},{"$f":"SUM('MFIS ProjectA:MFIS ProjectF'!U97)","v":0},{"$f":"'MFIS ProjectA'!V97","v":2013},{"$f":"SUM('MFIS ProjectA:MFIS ProjectF'!W97)","v":4400},{"$f":"SUM('MFIS ProjectA:MFIS ProjectF'!X97)","v":0},{"$f":"'MFIS ProjectA'!Y97","v":2012},{"$f":"SUM('MFIS ProjectA:MFIS ProjectF'!Z97)","v":4400},{"$f":"SUM('MFIS ProjectA:MFIS ProjectF'!AA97)","v":0}]
[null,null,null,null,null,null,null,null,null,null,null,null,null,null,null,"Carpet @ Vinyl - 4 Br. ",{"$f":"'MFIS ProjectA'!Q98","v":2015},{"$f":"SUM('MFIS ProjectA:MFIS ProjectF'!R98)","v":0},{"$f":"'MFIS ProjectA'!S98","v":2014},{"$f":"SUM('MFIS ProjectA:MFIS ProjectF'!T98)","v":0},{"$f":"SUM('MFIS ProjectA:MFIS ProjectF'!U98)","v":0},{"$f":"'MFIS ProjectA'!V98","v":2013},{"$f":"SUM('MFIS ProjectA:MFIS ProjectF'!W98)","v":0},{"$f":"SUM('MFIS ProjectA:MFIS ProjectF'!X98)","v":0},{"$f":"'MFIS ProjectA'!Y98","v":2012},{"$f":"SUM('MFIS ProjectA:MFIS ProjectF'!Z98)","v":0},{"$f":"SUM('MFIS ProjectA:MFIS ProjectF'!AA98)","v":0}]
[null,null,null,null,null,null,null,null,null,null,null,null,null,null,null,"Carpet @ Vinyl - Other ",{"$f":"'MFIS ProjectA'!Q99","v":2015},{"$f":"SUM('MFIS ProjectA:MFIS ProjectF'!R99)","v":0},{"$f":"'MFIS ProjectA'!S99","v":2014},{"$f":"SUM('MFIS ProjectA:MFIS ProjectF'!T99)","v":0},{"$f":"SUM('MFIS ProjectA:MFIS ProjectF'!U99)","v":0},{"$f":"'MFIS ProjectA'!V99","v":2013},{"$f":"SUM('MFIS ProjectA:MFIS ProjectF'!W99)","v":0},{"$f":"SUM('MFIS ProjectA:MFIS ProjectF'!X99)","v":0},{"$f":"'MFIS ProjectA'!Y99","v":2012},{"$f":"SUM('MFIS ProjectA:MFIS ProjectF'!Z99)","v":0},{"$f":"SUM('MFIS ProjectA:MFIS ProjectF'!AA99)","v":0}]
[null,null,null,null,null,null,null,null,null,null,null,null,null,null,null,"Cabinets - Kitchens ",{"$f":"'MFIS ProjectA'!Q100","v":2015},{"$f":"SUM('MFIS ProjectA:MFIS ProjectF'!R100)","v":8800},{"$f":"'MFIS ProjectA'!S100","v":2014},{"$f":"SUM('MFIS ProjectA:MFIS ProjectF'!T100)","v":17600},{"$f":"SUM('MFIS ProjectA:MFIS ProjectF'!U100)","v":0},{"$f":"'MFIS ProjectA'!V100","v":2013},{"$f":"SUM('MFIS ProjectA:MFIS ProjectF'!W100)","v":17600},{"$f":"SUM('MFIS ProjectA:MFIS ProjectF'!X100)","v":0},{"$f":"'MFIS ProjectA'!Y100","v":2012},{"$f":"SUM('MFIS ProjectA:MFIS ProjectF'!Z100)","v":4400},{"$f":"SUM('MFIS ProjectA:MFIS ProjectF'!AA100)","v":0}]
[null,null,null,null,null,null,null,null,null,null,null,null,null,null,null,"Cabinets - Bathroom ",{"$f":"'MFIS ProjectA'!Q101","v":2015},{"$f":"SUM('MFIS ProjectA:MFIS ProjectF'!R101)","v":2500},{"$f":"'MFIS ProjectA'!S101","v":2014},{"$f":"SUM('MFIS ProjectA:MFIS ProjectF'!T101)","v":0},{"$f":"SUM('MFIS ProjectA:MFIS ProjectF'!U101)","v":0},{"$f":"'MFIS ProjectA'!V101","v":2013},{"$f":"SUM('MFIS ProjectA:MFIS ProjectF'!W101)","v":4000},{"$f":"SUM('MFIS ProjectA:MFIS ProjectF'!X101)","v":0},{"$f":"'MFIS ProjectA'!Y101","v":2012},{"$f":"SUM('MFIS ProjectA:MFIS ProjectF'!Z101)","v":2000},{"$f":"SUM('MFIS ProjectA:MFIS ProjectF'!AA101)","v":0}]
[null,null,null,null,null,null,null,null,null,null,null,null,null,null,null,"Cabinets - Other ",{"$f":"'MFIS ProjectA'!Q102","v":2015},{"$f":"SUM('MFIS ProjectA:MFIS ProjectF'!R102)","v":0},{"$f":"'MFIS ProjectA'!S102","v":2014},{"$f":"SUM('MFIS ProjectA:MFIS ProjectF'!T102)","v":2800},{"$f":"SUM('MFIS ProjectA:MFIS ProjectF'!U102)","v":0},{"$f":"'MFIS ProjectA'!V102","v":2013},{"$f":"SUM('MFIS ProjectA:MFIS ProjectF'!W102)","v":0},{"$f":"SUM('MFIS ProjectA:MFIS ProjectF'!X102)","v":0},{"$f":"'MFIS ProjectA'!Y102","v":2012},{"$f":"SUM('MFIS ProjectA:MFIS ProjectF'!Z102)","v":0},{"$f":"SUM('MFIS ProjectA:MFIS ProjectF'!AA102)","v":0}]
[null,null,null,null,null,null,null,null,null,null,null,null,null,null,null,"Doors - Exterior ",{"$f":"'MFIS ProjectA'!Q103","v":2015},{"$f":"SUM('MFIS ProjectA:MFIS ProjectF'!R103)","v":0},{"$f":"'MFIS ProjectA'!S103","v":2014},{"$f":"SUM('MFIS ProjectA:MFIS ProjectF'!T103)","v":0},{"$f":"SUM('MFIS ProjectA:MFIS ProjectF'!U103)","v":0},{"$f":"'MFIS ProjectA'!V103","v":2013},{"$f":"SUM('MFIS ProjectA:MFIS ProjectF'!W103)","v":0},{"$f":"SUM('MFIS ProjectA:MFIS ProjectF'!X103)","v":0},{"$f":"'MFIS ProjectA'!Y103","v":2012},{"$f":"SUM('MFIS ProjectA:MFIS ProjectF'!Z103)","v":0},{"$f":"SUM('MFIS ProjectA:MFIS ProjectF'!AA103)","v":0}]
[null,null,null,null,null,null,null,null,null,null,null,null,null,null,null,"Doors - Interior ",{"$f":"'MFIS ProjectA'!Q104","v":2015},{"$f":"SUM('MFIS ProjectA:MFIS ProjectF'!R104)","v":0},{"$f":"'MFIS ProjectA'!S104","v":2014},{"$f":"SUM('MFIS ProjectA:MFIS ProjectF'!T104)","v":0},{"$f":"SUM('MFIS ProjectA:MFIS ProjectF'!U104)","v":0},{"$f":"'MFIS ProjectA'!V104","v":2013},{"$f":"SUM('MFIS ProjectA:MFIS ProjectF'!W104)","v":0},{"$f":"SUM('MFIS ProjectA:MFIS ProjectF'!X104)","v":0},{"$f":"'MFIS ProjectA'!Y104","v":2012},{"$f":"SUM('MFIS ProjectA:MFIS ProjectF'!Z104)","v":0},{"$f":"SUM('MFIS ProjectA:MFIS ProjectF'!AA104)","v":0}]
[null,null,null,null,null,null,null,null,null,null,null,null,null,null,null,"Doors - Other ",{"$f":"'MFIS ProjectA'!Q105","v":2015},{"$f":"SUM('MFIS ProjectA:MFIS ProjectF'!R105)","v":0},{"$f":"'MFIS ProjectA'!S105","v":2014},{"$f":"SUM('MFIS ProjectA:MFIS ProjectF'!T105)","v":0},{"$f":"SUM('MFIS ProjectA:MFIS ProjectF'!U105)","v":0},{"$f":"'MFIS ProjectA'!V105","v":2013},{"$f":"SUM('MFIS ProjectA:MFIS ProjectF'!W105)","v":0},{"$f":"SUM('MFIS ProjectA:MFIS ProjectF'!X105)","v":0},{"$f":"'MFIS ProjectA'!Y105","v":2012},{"$f":"SUM('MFIS ProjectA:MFIS ProjectF'!Z105)","v":0},{"$f":"SUM('MFIS ProjectA:MFIS ProjectF'!AA105)","v":0}]
[null,null,null,null,null,null,null,null,null,null,null,null,null,null,null,"Window Coverings - Detail ",{"$f":"'MFIS ProjectA'!Q106","v":2015},{"$f":"SUM('MFIS ProjectA:MFIS ProjectF'!R106)","v":0},{"$f":"'MFIS ProjectA'!S106","v":2014},{"$f":"SUM('MFIS ProjectA:MFIS ProjectF'!T106)","v":0},{"$f":"SUM('MFIS ProjectA:MFIS ProjectF'!U106)","v":0},{"$f":"'MFIS ProjectA'!V106","v":2013},{"$f":"SUM('MFIS ProjectA:MFIS ProjectF'!W106)","v":0},{"$f":"SUM('MFIS ProjectA:MFIS ProjectF'!X106)","v":0},{"$f":"'MFIS ProjectA'!Y106","v":2012},{"$f":"SUM('MFIS ProjectA:MFIS ProjectF'!Z106)","v":0},{"$f":"SUM('MFIS ProjectA:MFIS ProjectF'!AA106)","v":0}]
[null,null,null,null,null,null,null,null,null,null,null,null,null,null,null,"Window Coverings - Other ",{"$f":"'MFIS ProjectA'!Q107","v":2015},{"$f":"SUM('MFIS ProjectA:MFIS ProjectF'!R107)","v":0},{"$f":"'MFIS ProjectA'!S107","v":2014},{"$f":"SUM('MFIS ProjectA:MFIS ProjectF'!T107)","v":0},{"$f":"SUM('MFIS ProjectA:MFIS ProjectF'!U107)","v":0},{"$f":"'MFIS ProjectA'!V107","v":2013},{"$f":"SUM('MFIS ProjectA:MFIS ProjectF'!W107)","v":0},{"$f":"SUM('MFIS ProjectA:MFIS ProjectF'!X107)","v":0},{"$f":"'MFIS ProjectA'!Y107","v":2012},{"$f":"SUM('MFIS ProjectA:MFIS ProjectF'!Z107)","v":0},{"$f":"SUM('MFIS ProjectA:MFIS ProjectF'!AA107)","v":0}]
[null,null,null,null,null,null,null,null,null,null,null,null,null,null,null,"Heat @ Air - Heating ",{"$f":"'MFIS ProjectA'!Q108","v":2015},{"$f":"SUM('MFIS ProjectA:MFIS ProjectF'!R108)","v":0},{"$f":"'MFIS ProjectA'!S108","v":2014},{"$f":"SUM('MFIS ProjectA:MFIS ProjectF'!T108)","v":0},{"$f":"SUM('MFIS ProjectA:MFIS ProjectF'!U108)","v":0},{"$f":"'MFIS ProjectA'!V108","v":2013},{"$f":"SUM('MFIS ProjectA:MFIS ProjectF'!W108)","v":0},{"$f":"SUM('MFIS ProjectA:MFIS ProjectF'!X108)","v":0},{"$f":"'MFIS ProjectA'!Y108","v":2012},{"$f":"SUM('MFIS ProjectA:MFIS ProjectF'!Z108)","v":0},{"$f":"SUM('MFIS ProjectA:MFIS ProjectF'!AA108)","v":0}]
[null,null,null,null,null,null,null,null,null,null,null,null,null,null,null,"Heat @ Air - Air Conditioning ",{"$f":"'MFIS ProjectA'!Q109","v":2015},{"$f":"SUM('MFIS ProjectA:MFIS ProjectF'!R109)","v":16800},{"$f":"'MFIS ProjectA'!S109","v":2014},{"$f":"SUM('MFIS ProjectA:MFIS ProjectF'!T109)","v":7200},{"$f":"SUM('MFIS ProjectA:MFIS ProjectF'!U109)","v":0},{"$f":"'MFIS ProjectA'!V109","v":2013},{"$f":"SUM('MFIS ProjectA:MFIS ProjectF'!W109)","v":7200},{"$f":"SUM('MFIS ProjectA:MFIS ProjectF'!X109)","v":0},{"$f":"'MFIS ProjectA'!Y109","v":2012},{"$f":"SUM('MFIS ProjectA:MFIS ProjectF'!Z109)","v":7200},{"$f":"SUM('MFIS ProjectA:MFIS ProjectF'!AA109)","v":0}]
[null,null,null,null,null,null,null,null,null,null,null,null,null,null,null,"Heat @ Air - Other ",{"$f":"'MFIS ProjectA'!Q110","v":2015},{"$f":"SUM('MFIS ProjectA:MFIS ProjectF'!R110)","v":0},{"$f":"'MFIS ProjectA'!S110","v":2014},{"$f":"SUM('MFIS ProjectA:MFIS ProjectF'!T110)","v":0},{"$f":"SUM('MFIS ProjectA:MFIS ProjectF'!U110)","v":0},{"$f":"'MFIS ProjectA'!V110","v":2013},{"$f":"SUM('MFIS ProjectA:MFIS ProjectF'!W110)","v":0},{"$f":"SUM('MFIS ProjectA:MFIS ProjectF'!X110)","v":0},{"$f":"'MFIS ProjectA'!Y110","v":2012},{"$f":"SUM('MFIS ProjectA:MFIS ProjectF'!Z110)","v":0},{"$f":"SUM('MFIS ProjectA:MFIS ProjectF'!AA110)","v":0}]
[null,null,null,null,null,null,null,null,null,null,null,null,null,null,null,"Plumbing - Water Heater ",{"$f":"'MFIS ProjectA'!Q111","v":2015},{"$f":"SUM('MFIS ProjectA:MFIS ProjectF'!R111)","v":1200},{"$f":"'MFIS ProjectA'!S111","v":2014},{"$f":"SUM('MFIS ProjectA:MFIS ProjectF'!T111)","v":1050},{"$f":"SUM('MFIS ProjectA:MFIS ProjectF'!U111)","v":0},{"$f":"'MFIS ProjectA'!V111","v":2013},{"$f":"SUM('MFIS ProjectA:MFIS ProjectF'!W111)","v":1050},{"$f":"SUM('MFIS ProjectA:MFIS ProjectF'!X111)","v":0},{"$f":"'MFIS ProjectA'!Y111","v":2012},{"$f":"SUM('MFIS ProjectA:MFIS ProjectF'!Z111)","v":780},{"$f":"SUM('MFIS ProjectA:MFIS ProjectF'!AA111)","v":0}]
[null,null,null,null,null,null,null,null,null,null,null,null,null,null,null,"Plumbing - Bath Sinks ",{"$f":"'MFIS ProjectA'!Q112","v":2015},{"$f":"SUM('MFIS ProjectA:MFIS ProjectF'!R112)","v":0},{"$f":"'MFIS ProjectA'!S112","v":2014},{"$f":"SUM('MFIS ProjectA:MFIS ProjectF'!T112)","v":0},{"$f":"SUM('MFIS ProjectA:MFIS ProjectF'!U112)","v":0},{"$f":"'MFIS ProjectA'!V112","v":2013},{"$f":"SUM('MFIS ProjectA:MFIS ProjectF'!W112)","v":0},{"$f":"SUM('MFIS ProjectA:MFIS ProjectF'!X112)","v":0},{"$f":"'MFIS ProjectA'!Y112","v":2012},{"$f":"SUM('MFIS ProjectA:MFIS ProjectF'!Z112)","v":0},{"$f":"SUM('MFIS ProjectA:MFIS ProjectF'!AA112)","v":0}]
[null,null,null,null,null,null,null,null,null,null,null,null,null,null,null,"Plumbing - Kitchen Sinks ",{"$f":"'MFIS ProjectA'!Q113","v":2015},{"$f":"SUM('MFIS ProjectA:MFIS ProjectF'!R113)","v":0},{"$f":"'MFIS ProjectA'!S113","v":2014},{"$f":"SUM('MFIS ProjectA:MFIS ProjectF'!T113)","v":0},{"$f":"SUM('MFIS ProjectA:MFIS ProjectF'!U113)","v":0},{"$f":"'MFIS ProjectA'!V113","v":2013},{"$f":"SUM('MFIS ProjectA:MFIS ProjectF'!W113)","v":0},{"$f":"SUM('MFIS ProjectA:MFIS ProjectF'!X113)","v":0},{"$f":"'MFIS ProjectA'!Y113","v":2012},{"$f":"SUM('MFIS ProjectA:MFIS ProjectF'!Z113)","v":0},{"$f":"SUM('MFIS ProjectA:MFIS ProjectF'!AA113)","v":0}]
[null,null,null,null,null,null,null,null,null,null,null,null,null,null,null,"Plumbing - Faucets ",{"$f":"'MFIS ProjectA'!Q114","v":2015},{"$f":"SUM('MFIS ProjectA:MFIS ProjectF'!R114)","v":0},{"$f":"'MFIS ProjectA'!S114","v":2014},{"$f":"SUM('MFIS ProjectA:MFIS ProjectF'!T114)","v":0},{"$f":"SUM('MFIS ProjectA:MFIS ProjectF'!U114)","v":0},{"$f":"'MFIS ProjectA'!V114","v":2013},{"$f":"SUM('MFIS ProjectA:MFIS ProjectF'!W114)","v":0},{"$f":"SUM('MFIS ProjectA:MFIS ProjectF'!X114)","v":0},{"$f":"'MFIS ProjectA'!Y114","v":2012},{"$f":"SUM('MFIS ProjectA:MFIS ProjectF'!Z114)","v":0},{"$f":"SUM('MFIS ProjectA:MFIS ProjectF'!AA114)","v":0}]
[null,null,null,null,null,null,null,null,null,null,null,null,null,null,null,"Plumbing - Toilets ",{"$f":"'MFIS ProjectA'!Q115","v":2015},{"$f":"SUM('MFIS ProjectA:MFIS ProjectF'!R115)","v":0},{"$f":"'MFIS ProjectA'!S115","v":2014},{"$f":"SUM('MFIS ProjectA:MFIS ProjectF'!T115)","v":0},{"$f":"SUM('MFIS ProjectA:MFIS ProjectF'!U115)","v":0},{"$f":"'MFIS ProjectA'!V115","v":2013},{"$f":"SUM('MFIS ProjectA:MFIS ProjectF'!W115)","v":0},{"$f":"SUM('MFIS ProjectA:MFIS ProjectF'!X115)","v":0},{"$f":"'MFIS ProjectA'!Y115","v":2012},{"$f":"SUM('MFIS ProjectA:MFIS ProjectF'!Z115)","v":0},{"$f":"SUM('MFIS ProjectA:MFIS ProjectF'!AA115)","v":0}]
[null,null,null,null,null,null,null,null,null,null,null,null,null,null,null,"Plumbing - Other ",{"$f":"'MFIS ProjectA'!Q116","v":2015},{"$f":"SUM('MFIS ProjectA:MFIS ProjectF'!R116)","v":0},{"$f":"'MFIS ProjectA'!S116","v":2014},{"$f":"SUM('MFIS ProjectA:MFIS ProjectF'!T116)","v":0},{"$f":"SUM('MFIS ProjectA:MFIS ProjectF'!U116)","v":0},{"$f":"'MFIS ProjectA'!V116","v":2013},{"$f":"SUM('MFIS ProjectA:MFIS ProjectF'!W116)","v":0},{"$f":"SUM('MFIS ProjectA:MFIS ProjectF'!X116)","v":0},{"$f":"'MFIS ProjectA'!Y116","v":2012},{"$f":"SUM('MFIS ProjectA:MFIS ProjectF'!Z116)","v":0},{"$f":"SUM('MFIS ProjectA:MFIS ProjectF'!AA116)","v":0}]
[null,null,null,null,null,null,null,null,null,null,null,null,null,null,null,"Major Electrical - Detail ",{"$f":"'MFIS ProjectA'!Q117","v":2015},{"$f":"SUM('MFIS ProjectA:MFIS ProjectF'!R117)","v":0},{"$f":"'MFIS ProjectA'!S117","v":2014},{"$f":"SUM('MFIS ProjectA:MFIS ProjectF'!T117)","v":0},{"$f":"SUM('MFIS ProjectA:MFIS ProjectF'!U117)","v":0},{"$f":"'MFIS ProjectA'!V117","v":2013},{"$f":"SUM('MFIS ProjectA:MFIS ProjectF'!W117)","v":0},{"$f":"SUM('MFIS ProjectA:MFIS ProjectF'!X117)","v":0},{"$f":"'MFIS ProjectA'!Y117","v":2012},{"$f":"SUM('MFIS ProjectA:MFIS ProjectF'!Z117)","v":0},{"$f":"SUM('MFIS ProjectA:MFIS ProjectF'!AA117)","v":0}]
[null,null,null,null,null,null,null,null,null,null,null,null,null,null,null,"Major Electrical - Other ",{"$f":"'MFIS ProjectA'!Q118","v":2015},{"$f":"SUM('MFIS ProjectA:MFIS ProjectF'!R118)","v":0},{"$f":"'MFIS ProjectA'!S118","v":2014},{"$f":"SUM('MFIS ProjectA:MFIS ProjectF'!T118)","v":0},{"$f":"SUM('MFIS ProjectA:MFIS ProjectF'!U118)","v":0},{"$f":"'MFIS ProjectA'!V118","v":2013},{"$f":"SUM('MFIS ProjectA:MFIS ProjectF'!W118)","v":0},{"$f":"SUM('MFIS ProjectA:MFIS ProjectF'!X118)","v":0},{"$f":"'MFIS ProjectA'!Y118","v":2012},{"$f":"SUM('MFIS ProjectA:MFIS ProjectF'!Z118)","v":0},{"$f":"SUM('MFIS ProjectA:MFIS ProjectF'!AA118)","v":0}]
[null,null,null,null,null,null,null,null,null,null,null,null,null,null,null,"Structures - Windows ",{"$f":"'MFIS ProjectA'!Q119","v":2015},{"$f":"SUM('MFIS ProjectA:MFIS ProjectF'!R119)","v":0},{"$f":"'MFIS ProjectA'!S119","v":2014},{"$f":"SUM('MFIS ProjectA:MFIS ProjectF'!T119)","v":0},{"$f":"SUM('MFIS ProjectA:MFIS ProjectF'!U119)","v":0},{"$f":"'MFIS ProjectA'!V119","v":2013},{"$f":"SUM('MFIS ProjectA:MFIS ProjectF'!W119)","v":2000},{"$f":"SUM('MFIS ProjectA:MFIS ProjectF'!X119)","v":0},{"$f":"'MFIS ProjectA'!Y119","v":2012},{"$f":"SUM('MFIS ProjectA:MFIS ProjectF'!Z119)","v":800},{"$f":"SUM('MFIS ProjectA:MFIS ProjectF'!AA119)","v":0}]
[null,null,null,null,null,null,null,null,null,null,null,null,null,null,null,"Structures - Screens ",{"$f":"'MFIS ProjectA'!Q120","v":2015},{"$f":"SUM('MFIS ProjectA:MFIS ProjectF'!R120)","v":0},{"$f":"'MFIS ProjectA'!S120","v":2014},{"$f":"SUM('MFIS ProjectA:MFIS ProjectF'!T120)","v":0},{"$f":"SUM('MFIS ProjectA:MFIS ProjectF'!U120)","v":0},{"$f":"'MFIS ProjectA'!V120","v":2013},{"$f":"SUM('MFIS ProjectA:MFIS ProjectF'!W120)","v":0},{"$f":"SUM('MFIS ProjectA:MFIS ProjectF'!X120)","v":0},{"$f":"'MFIS ProjectA'!Y120","v":2012},{"$f":"SUM('MFIS ProjectA:MFIS ProjectF'!Z120)","v":0},{"$f":"SUM('MFIS ProjectA:MFIS ProjectF'!AA120)","v":0}]
[null,null,null,null,null,null,null,null,null,null,null,null,null,null,null,"Structures - Walls ",{"$f":"'MFIS ProjectA'!Q121","v":2015},{"$f":"SUM('MFIS ProjectA:MFIS ProjectF'!R121)","v":0},{"$f":"'MFIS ProjectA'!S121","v":2014},{"$f":"SUM('MFIS ProjectA:MFIS ProjectF'!T121)","v":0},{"$f":"SUM('MFIS ProjectA:MFIS ProjectF'!U121)","v":0},{"$f":"'MFIS ProjectA'!V121","v":2013},{"$f":"SUM('MFIS ProjectA:MFIS ProjectF'!W121)","v":0},{"$f":"SUM('MFIS ProjectA:MFIS ProjectF'!X121)","v":0},{"$f":"'MFIS ProjectA'!Y121","v":2012},{"$f":"SUM('MFIS ProjectA:MFIS ProjectF'!Z121)","v":0},{"$f":"SUM('MFIS ProjectA:MFIS ProjectF'!AA121)","v":0}]
[null,null,null,null,null,null,null,null,null,null,null,null,null,null,null,"Structures - Roofing ",{"$f":"'MFIS ProjectA'!Q122","v":2015},{"$f":"SUM('MFIS ProjectA:MFIS ProjectF'!R122)","v":0},{"$f":"'MFIS ProjectA'!S122","v":2014},{"$f":"SUM('MFIS ProjectA:MFIS ProjectF'!T122)","v":0},{"$f":"SUM('MFIS ProjectA:MFIS ProjectF'!U122)","v":0},{"$f":"'MFIS ProjectA'!V122","v":2013},{"$f":"SUM('MFIS ProjectA:MFIS ProjectF'!W122)","v":0},{"$f":"SUM('MFIS ProjectA:MFIS ProjectF'!X122)","v":0},{"$f":"'MFIS ProjectA'!Y122","v":2012},{"$f":"SUM('MFIS ProjectA:MFIS ProjectF'!Z122)","v":0},{"$f":"SUM('MFIS ProjectA:MFIS ProjectF'!AA122)","v":0}]
[null,null,null,null,null,null,null,null,null,null,null,null,null,null,null,"Structures - Siding ",{"$f":"'MFIS ProjectA'!Q123","v":2015},{"$f":"SUM('MFIS ProjectA:MFIS ProjectF'!R123)","v":0},{"$f":"'MFIS ProjectA'!S123","v":2014},{"$f":"SUM('MFIS ProjectA:MFIS ProjectF'!T123)","v":0},{"$f":"SUM('MFIS ProjectA:MFIS ProjectF'!U123)","v":0},{"$f":"'MFIS ProjectA'!V123","v":2013},{"$f":"SUM('MFIS ProjectA:MFIS ProjectF'!W123)","v":0},{"$f":"SUM('MFIS ProjectA:MFIS ProjectF'!X123)","v":0},{"$f":"'MFIS ProjectA'!Y123","v":2012},{"$f":"SUM('MFIS ProjectA:MFIS ProjectF'!Z123)","v":0},{"$f":"SUM('MFIS ProjectA:MFIS ProjectF'!AA123)","v":0}]
[null,null,null,null,null,null,null,null,null,null,null,null,null,null,null,"Structures - Exterior Painting",{"$f":"'MFIS ProjectA'!Q124","v":2015},{"$f":"SUM('MFIS ProjectA:MFIS ProjectF'!R124)","v":0},{"$f":"'MFIS ProjectA'!S124","v":2014},{"$f":"SUM('MFIS ProjectA:MFIS ProjectF'!T124)","v":0},{"$f":"SUM('MFIS ProjectA:MFIS ProjectF'!U124)","v":0},{"$f":"'MFIS ProjectA'!V124","v":2013},{"$f":"SUM('MFIS ProjectA:MFIS ProjectF'!W124)","v":8000},{"$f":"SUM('MFIS ProjectA:MFIS ProjectF'!X124)","v":0},{"$f":"'MFIS ProjectA'!Y124","v":2012},{"$f":"SUM('MFIS ProjectA:MFIS ProjectF'!Z124)","v":0},{"$f":"SUM('MFIS ProjectA:MFIS ProjectF'!AA124)","v":0}]
[null,null,null,null,null,null,null,null,null,null,null,null,null,null,null,"Structures - Other ",{"$f":"'MFIS ProjectA'!Q125","v":2015},{"$f":"SUM('MFIS ProjectA:MFIS ProjectF'!R125)","v":0},{"$f":"'MFIS ProjectA'!S125","v":2014},{"$f":"SUM('MFIS ProjectA:MFIS ProjectF'!T125)","v":0},{"$f":"SUM('MFIS ProjectA:MFIS ProjectF'!U125)","v":0},{"$f":"'MFIS ProjectA'!V125","v":2013},{"$f":"SUM('MFIS ProjectA:MFIS ProjectF'!W125)","v":0},{"$f":"SUM('MFIS ProjectA:MFIS ProjectF'!X125)","v":0},{"$f":"'MFIS ProjectA'!Y125","v":2012},{"$f":"SUM('MFIS ProjectA:MFIS ProjectF'!Z125)","v":0},{"$f":"SUM('MFIS ProjectA:MFIS ProjectF'!AA125)","v":0}]
[null,null,null,null,null,null,null,null,null,null,null,null,null,null,null,"Paving - Asphalt ",{"$f":"'MFIS ProjectA'!Q126","v":2015},{"$f":"SUM('MFIS ProjectA:MFIS ProjectF'!R126)","v":0},{"$f":"'MFIS ProjectA'!S126","v":2014},{"$f":"SUM('MFIS ProjectA:MFIS ProjectF'!T126)","v":15000},{"$f":"SUM('MFIS ProjectA:MFIS ProjectF'!U126)","v":0},{"$f":"'MFIS ProjectA'!V126","v":2013},{"$f":"SUM('MFIS ProjectA:MFIS ProjectF'!W126)","v":0},{"$f":"SUM('MFIS ProjectA:MFIS ProjectF'!X126)","v":0},{"$f":"'MFIS ProjectA'!Y126","v":2012},{"$f":"SUM('MFIS ProjectA:MFIS ProjectF'!Z126)","v":0},{"$f":"SUM('MFIS ProjectA:MFIS ProjectF'!AA126)","v":0}]
[null,null,null,null,null,null,null,null,null,null,null,null,null,null,null,"Paving - Concrete ",{"$f":"'MFIS ProjectA'!Q127","v":2015},{"$f":"SUM('MFIS ProjectA:MFIS ProjectF'!R127)","v":0},{"$f":"'MFIS ProjectA'!S127","v":2014},{"$f":"SUM('MFIS ProjectA:MFIS ProjectF'!T127)","v":0},{"$f":"SUM('MFIS ProjectA:MFIS ProjectF'!U127)","v":0},{"$f":"'MFIS ProjectA'!V127","v":2013},{"$f":"SUM('MFIS ProjectA:MFIS ProjectF'!W127)","v":0},{"$f":"SUM('MFIS ProjectA:MFIS ProjectF'!X127)","v":0},{"$f":"'MFIS ProjectA'!Y127","v":2012},{"$f":"SUM('MFIS ProjectA:MFIS ProjectF'!Z127)","v":0},{"$f":"SUM('MFIS ProjectA:MFIS ProjectF'!AA127)","v":0}]
[null,null,null,null,null,null,null,null,null,null,null,null,null,null,null,"Paving - Seal and Stripe ",{"$f":"'MFIS ProjectA'!Q128","v":2015},{"$f":"SUM('MFIS ProjectA:MFIS ProjectF'!R128)","v":0},{"$f":"'MFIS ProjectA'!S128","v":2014},{"$f":"SUM('MFIS ProjectA:MFIS ProjectF'!T128)","v":0},{"$f":"SUM('MFIS ProjectA:MFIS ProjectF'!U128)","v":0},{"$f":"'MFIS ProjectA'!V128","v":2013},{"$f":"SUM('MFIS ProjectA:MFIS ProjectF'!W128)","v":0},{"$f":"SUM('MFIS ProjectA:MFIS ProjectF'!X128)","v":0},{"$f":"'MFIS ProjectA'!Y128","v":2012},{"$f":"SUM('MFIS ProjectA:MFIS ProjectF'!Z128)","v":0},{"$f":"SUM('MFIS ProjectA:MFIS ProjectF'!AA128)","v":0}]
[null,null,null,null,null,null,null,null,null,null,null,null,null,null,null,"Paving - Other ",{"$f":"'MFIS ProjectA'!Q129","v":2015},{"$f":"SUM('MFIS ProjectA:MFIS ProjectF'!R129)","v":0},{"$f":"'MFIS ProjectA'!S129","v":2014},{"$f":"SUM('MFIS ProjectA:MFIS ProjectF'!T129)","v":0},{"$f":"SUM('MFIS ProjectA:MFIS ProjectF'!U129)","v":0},{"$f":"'MFIS ProjectA'!V129","v":2013},{"$f":"SUM('MFIS ProjectA:MFIS ProjectF'!W129)","v":0},{"$f":"SUM('MFIS ProjectA:MFIS ProjectF'!X129)","v":0},{"$f":"'MFIS ProjectA'!Y129","v":2012},{"$f":"SUM('MFIS ProjectA:MFIS ProjectF'!Z129)","v":0},{"$f":"SUM('MFIS ProjectA:MFIS ProjectF'!AA129)","v":0}]
[null,null,null,null,null,null,null,null,null,null,null,null,null,null,null,"Lndscp@Grnds - Landscaping ",{"$f":"'MFIS ProjectA'!Q130","v":2015},{"$f":"SUM('MFIS ProjectA:MFIS ProjectF'!R130)","v":0},{"$f":"'MFIS ProjectA'!S130","v":2014},{"$f":"SUM('MFIS ProjectA:MFIS ProjectF'!T130)","v":0},{"$f":"SUM('MFIS ProjectA:MFIS ProjectF'!U130)","v":0},{"$f":"'MFIS ProjectA'!V130","v":2013},{"$f":"SUM('MFIS ProjectA:MFIS ProjectF'!W130)","v":0},{"$f":"SUM('MFIS ProjectA:MFIS ProjectF'!X130)","v":0},{"$f":"'MFIS ProjectA'!Y130","v":2012},{"$f":"SUM('MFIS ProjectA:MFIS ProjectF'!Z130)","v":3000},{"$f":"SUM('MFIS ProjectA:MFIS ProjectF'!AA130)","v":0}]
[null,null,null,null,null,null,null,null,null,null,null,null,null,null,null,"Lndscp@Grnds - Lawn Equipment ",{"$f":"'MFIS ProjectA'!Q131","v":2015},{"$f":"SUM('MFIS ProjectA:MFIS ProjectF'!R131)","v":0},{"$f":"'MFIS ProjectA'!S131","v":2014},{"$f":"SUM('MFIS ProjectA:MFIS ProjectF'!T131)","v":0},{"$f":"SUM('MFIS ProjectA:MFIS ProjectF'!U131)","v":0},{"$f":"'MFIS ProjectA'!V131","v":2013},{"$f":"SUM('MFIS ProjectA:MFIS ProjectF'!W131)","v":0},{"$f":"SUM('MFIS ProjectA:MFIS ProjectF'!X131)","v":0},{"$f":"'MFIS ProjectA'!Y131","v":2012},{"$f":"SUM('MFIS ProjectA:MFIS ProjectF'!Z131)","v":0},{"$f":"SUM('MFIS ProjectA:MFIS ProjectF'!AA131)","v":0}]
[null,null,null,null,null,null,null,null,null,null,null,null,null,null,null,"Lndscp@Grnds - Fencin ",{"$f":"'MFIS ProjectA'!Q132","v":2015},{"$f":"SUM('MFIS ProjectA:MFIS ProjectF'!R132)","v":0},{"$f":"'MFIS ProjectA'!S132","v":2014},{"$f":"SUM('MFIS ProjectA:MFIS ProjectF'!T132)","v":0},{"$f":"SUM('MFIS ProjectA:MFIS ProjectF'!U132)","v":0},{"$f":"'MFIS ProjectA'!V132","v":2013},{"$f":"SUM('MFIS ProjectA:MFIS ProjectF'!W132)","v":0},{"$f":"SUM('MFIS ProjectA:MFIS ProjectF'!X132)","v":0},{"$f":"'MFIS ProjectA'!Y132","v":2012},{"$f":"SUM('MFIS ProjectA:MFIS ProjectF'!Z132)","v":0},{"$f":"SUM('MFIS ProjectA:MFIS ProjectF'!AA132)","v":0}]
[null,null,null,null,null,null,null,null,null,null,null,null,null,null,null,"Lndscp@Grnds - Recreation Area",{"$f":"'MFIS ProjectA'!Q133","v":2015},{"$f":"SUM('MFIS ProjectA:MFIS ProjectF'!R133)","v":0},{"$f":"'MFIS ProjectA'!S133","v":2014},{"$f":"SUM('MFIS ProjectA:MFIS ProjectF'!T133)","v":0},{"$f":"SUM('MFIS ProjectA:MFIS ProjectF'!U133)","v":0},{"$f":"'MFIS ProjectA'!V133","v":2013},{"$f":"SUM('MFIS ProjectA:MFIS ProjectF'!W133)","v":0},{"$f":"SUM('MFIS ProjectA:MFIS ProjectF'!X133)","v":0},{"$f":"'MFIS ProjectA'!Y133","v":2012},{"$f":"SUM('MFIS ProjectA:MFIS ProjectF'!Z133)","v":0},{"$f":"SUM('MFIS ProjectA:MFIS ProjectF'!AA133)","v":0}]
[null,null,null,null,null,null,null,null,null,null,null,null,null,null,null,"Lndscp@Grnds - Signs ",{"$f":"'MFIS ProjectA'!Q134","v":2015},{"$f":"SUM('MFIS ProjectA:MFIS ProjectF'!R134)","v":0},{"$f":"'MFIS ProjectA'!S134","v":2014},{"$f":"SUM('MFIS ProjectA:MFIS ProjectF'!T134)","v":0},{"$f":"SUM('MFIS ProjectA:MFIS ProjectF'!U134)","v":0},{"$f":"'MFIS ProjectA'!V134","v":2013},{"$f":"SUM('MFIS ProjectA:MFIS ProjectF'!W134)","v":0},{"$f":"SUM('MFIS ProjectA:MFIS ProjectF'!X134)","v":0},{"$f":"'MFIS ProjectA'!Y134","v":2012},{"$f":"SUM('MFIS ProjectA:MFIS ProjectF'!Z134)","v":0},{"$f":"SUM('MFIS ProjectA:MFIS ProjectF'!AA134)","v":0}]
[null,null,null,null,null,null,null,null,null,null,null,null,null,null,null,"Lndscp@Grnds - Other ",{"$f":"'MFIS ProjectA'!Q135","v":2015},{"$f":"SUM('MFIS ProjectA:MFIS ProjectF'!R135)","v":0},{"$f":"'MFIS ProjectA'!S135","v":2014},{"$f":"SUM('MFIS ProjectA:MFIS ProjectF'!T135)","v":0},{"$f":"SUM('MFIS ProjectA:MFIS ProjectF'!U135)","v":0},{"$f":"'MFIS ProjectA'!V135","v":2013},{"$f":"SUM('MFIS ProjectA:MFIS ProjectF'!W135)","v":0},{"$f":"SUM('MFIS ProjectA:MFIS ProjectF'!X135)","v":0},{"$f":"'MFIS ProjectA'!Y135","v":2012},{"$f":"SUM('MFIS ProjectA:MFIS ProjectF'!Z135)","v":0},{"$f":"SUM('MFIS ProjectA:MFIS ProjectF'!AA135)","v":0}]
[null,null,null,null,null,null,null,null,null,null,null,null,null,null,null,"Accessibility Features -Detail",{"$f":"'MFIS ProjectA'!Q136","v":2015},{"$f":"SUM('MFIS ProjectA:MFIS ProjectF'!R136)","v":0},{"$f":"'MFIS ProjectA'!S136","v":2014},{"$f":"SUM('MFIS ProjectA:MFIS ProjectF'!T136)","v":0},{"$f":"SUM('MFIS ProjectA:MFIS ProjectF'!U136)","v":0},{"$f":"'MFIS ProjectA'!V136","v":2013},{"$f":"SUM('MFIS ProjectA:MFIS ProjectF'!W136)","v":0},{"$f":"SUM('MFIS ProjectA:MFIS ProjectF'!X136)","v":0},{"$f":"'MFIS ProjectA'!Y136","v":2012},{"$f":"SUM('MFIS ProjectA:MFIS ProjectF'!Z136)","v":0},{"$f":"SUM('MFIS ProjectA:MFIS ProjectF'!AA136)","v":0}]
[null,null,null,null,null,null,null,null,null,null,null,null,null,null,null,"Accessibility Features -Other ",{"$f":"'MFIS ProjectA'!Q137","v":2015},{"$f":"SUM('MFIS ProjectA:MFIS ProjectF'!R137)","v":500},{"$f":"'MFIS ProjectA'!S137","v":2014},{"$f":"SUM('MFIS ProjectA:MFIS ProjectF'!T137)","v":3000},{"$f":"SUM('MFIS ProjectA:MFIS ProjectF'!U137)","v":0},{"$f":"'MFIS ProjectA'!V137","v":2013},{"$f":"SUM('MFIS ProjectA:MFIS ProjectF'!W137)","v":0},{"$f":"SUM('MFIS ProjectA:MFIS ProjectF'!X137)","v":0},{"$f":"'MFIS ProjectA'!Y137","v":2012},{"$f":"SUM('MFIS ProjectA:MFIS ProjectF'!Z137)","v":0},{"$f":"SUM('MFIS ProjectA:MFIS ProjectF'!AA137)","v":0}]
[null,null,null,null,null,null,null,null,null,null,null,null,null,null,null,"Automation Equip. -Site Mngt. ",{"$f":"'MFIS ProjectA'!Q138","v":2015},{"$f":"SUM('MFIS ProjectA:MFIS ProjectF'!R138)","v":0},{"$f":"'MFIS ProjectA'!S138","v":2014},{"$f":"SUM('MFIS ProjectA:MFIS ProjectF'!T138)","v":0},{"$f":"SUM('MFIS ProjectA:MFIS ProjectF'!U138)","v":0},{"$f":"'MFIS ProjectA'!V138","v":2013},{"$f":"SUM('MFIS ProjectA:MFIS ProjectF'!W138)","v":0},{"$f":"SUM('MFIS ProjectA:MFIS ProjectF'!X138)","v":0},{"$f":"'MFIS ProjectA'!Y138","v":2012},{"$f":"SUM('MFIS ProjectA:MFIS ProjectF'!Z138)","v":0},{"$f":"SUM('MFIS ProjectA:MFIS ProjectF'!AA138)","v":0}]
[null,null,null,null,null,null,null,null,null,null,null,null,null,null,null,"Automation Equip. -Common Area",{"$f":"'MFIS ProjectA'!Q139","v":2015},{"$f":"SUM('MFIS ProjectA:MFIS ProjectF'!R139)","v":0},{"$f":"'MFIS ProjectA'!S139","v":2014},{"$f":"SUM('MFIS ProjectA:MFIS ProjectF'!T139)","v":0},{"$f":"SUM('MFIS ProjectA:MFIS ProjectF'!U139)","v":0},{"$f":"'MFIS ProjectA'!V139","v":2013},{"$f":"SUM('MFIS ProjectA:MFIS ProjectF'!W139)","v":0},{"$f":"SUM('MFIS ProjectA:MFIS ProjectF'!X139)","v":0},{"$f":"'MFIS ProjectA'!Y139","v":2012},{"$f":"SUM('MFIS ProjectA:MFIS ProjectF'!Z139)","v":0},{"$f":"SUM('MFIS ProjectA:MFIS ProjectF'!AA139)","v":0}]
[null,null,null,null,null,null,null,null,null,null,null,null,null,null,null,"Automation Equip. -Other ",{"$f":"'MFIS ProjectA'!Q140","v":2015},{"$f":"SUM('MFIS ProjectA:MFIS ProjectF'!R140)","v":0},{"$f":"'MFIS ProjectA'!S140","v":2014},{"$f":"SUM('MFIS ProjectA:MFIS ProjectF'!T140)","v":0},{"$f":"SUM('MFIS ProjectA:MFIS ProjectF'!U140)","v":0},{"$f":"'MFIS ProjectA'!V140","v":2013},{"$f":"SUM('MFIS ProjectA:MFIS ProjectF'!W140)","v":0},{"$f":"SUM('MFIS ProjectA:MFIS ProjectF'!X140)","v":0},{"$f":"'MFIS ProjectA'!Y140","v":2012},{"$f":"SUM('MFIS ProjectA:MFIS ProjectF'!Z140)","v":0},{"$f":"SUM('MFIS ProjectA:MFIS ProjectF'!AA140)","v":0}]
[null,null,null,null,null,null,null,null,null,null,null,null,null,null,null,"List: ? ",{"$f":"'MFIS ProjectA'!Q141","v":2015},{"$f":"SUM('MFIS ProjectA:MFIS ProjectF'!R141)","v":0},{"$f":"'MFIS ProjectA'!S141","v":2014},{"$f":"SUM('MFIS ProjectA:MFIS ProjectF'!T141)","v":0},{"$f":"SUM('MFIS ProjectA:MFIS ProjectF'!U141)","v":0},{"$f":"'MFIS ProjectA'!V141","v":2013},{"$f":"SUM('MFIS ProjectA:MFIS ProjectF'!W141)","v":0},{"$f":"SUM('MFIS ProjectA:MFIS ProjectF'!X141)","v":0},{"$f":"'MFIS ProjectA'!Y141","v":2012},{"$f":"SUM('MFIS ProjectA:MFIS ProjectF'!Z141)","v":2200},{"$f":"SUM('MFIS ProjectA:MFIS ProjectF'!AA141)","v":0}]
[null,null,null,null,null,null,null,null,null,null,null,null,null,null,null,"List: ? ",{"$f":"'MFIS ProjectA'!Q142","v":2015},{"$f":"SUM('MFIS ProjectA:MFIS ProjectF'!R142)","v":0},{"$f":"'MFIS ProjectA'!S142","v":2014},{"$f":"SUM('MFIS ProjectA:MFIS ProjectF'!T142)","v":0},{"$f":"SUM('MFIS ProjectA:MFIS ProjectF'!U142)","v":0},{"$f":"'MFIS ProjectA'!V142","v":2013},{"$f":"SUM('MFIS ProjectA:MFIS ProjectF'!W142)","v":0},{"$f":"SUM('MFIS ProjectA:MFIS ProjectF'!X142)","v":0},{"$f":"'MFIS ProjectA'!Y142","v":2012},{"$f":"SUM('MFIS ProjectA:MFIS ProjectF'!Z142)","v":0},{"$f":"SUM('MFIS ProjectA:MFIS ProjectF'!AA142)","v":0}]
[null,null,null,null,null,null,null,null,null,null,null,null,null,null,null,"List: ? ",{"$f":"'MFIS ProjectA'!Q143","v":2015},{"$f":"SUM('MFIS ProjectA:MFIS ProjectF'!R143)","v":0},{"$f":"'MFIS ProjectA'!S143","v":2014},{"$f":"SUM('MFIS ProjectA:MFIS ProjectF'!T143)","v":0},{"$f":"SUM('MFIS ProjectA:MFIS ProjectF'!U143)","v":0},{"$f":"'MFIS ProjectA'!V143","v":2013},{"$f":"SUM('MFIS ProjectA:MFIS ProjectF'!W143)","v":0},{"$f":"SUM('MFIS ProjectA:MFIS ProjectF'!X143)","v":0},{"$f":"'MFIS ProjectA'!Y143","v":2012},{"$f":"SUM('MFIS ProjectA:MFIS ProjectF'!Z143)","v":0},{"$f":"SUM('MFIS ProjectA:MFIS ProjectF'!AA143)","v":0}]
[null,null,null,null,null,null,null,null,null,null,null,null,null,null,null,"Total Capital Expenses ",{"$f":"'MFIS ProjectA'!Q144","v":2015},{"$f":"SUM('MFIS ProjectA:MFIS ProjectF'!R144)","v":41200},{"$f":"'MFIS ProjectA'!S144","v":2014},{"$f":"SUM('MFIS ProjectA:MFIS ProjectF'!T144)","v":58950},{"$f":"SUM('MFIS ProjectA:MFIS ProjectF'!U144)","v":0},{"$f":"'MFIS ProjectA'!V144","v":2013},{"$f":"SUM('MFIS ProjectA:MFIS ProjectF'!W144)","v":51900},{"$f":"SUM('MFIS ProjectA:MFIS ProjectF'!X144)","v":0},{"$f":"'MFIS ProjectA'!Y144","v":2012},{"$f":"SUM('MFIS ProjectA:MFIS ProjectF'!Z144)","v":32480},{"$f":"SUM('MFIS ProjectA:MFIS ProjectF'!AA144)","v":0}]
[]
[]
[]
[]
[]
[]
[]
[]
[]
[]
[]
[]
[]
[]
[]
[]
[]
[]
[]
[]
[]
[]
[]
[]
[]
[]
[]
[]
[]
[]
[]
[]
[]
[]
[]
[]
[]
[]
[]
[]
[]
[]
[]
[]
[]
[]
[]
[]
[]
[]
[]
[]
[]
[]
[]
[null,null,null,null,null,null,null,null,null,null,null,null,null,null,null,"Summary of Annual Capital Needs"]
[null,null,null,null,null,null,null,null,null,null,null,null,null,null,null,"Year",0,{"$f":"Q201+1","v":1},2,3,4,5,6,7,8,9,10,11,12,13,{"$f":"#REF!+1","v":{"$error":"#REF!"}},{"$error":"#REF!"},{"$error":"#REF!"},{"$error":"#REF!"},{"$error":"#REF!"},{"$error":"#REF!"}]
[null,null,null,null,null,null,null,null,null,null,null,null,null,null,null,"Item",null,null,null,null,null,null,null,null,null,null,null,null,null,null,null,null,null,null,null,null,"Total"]
[null,null,null,null,null,null,null,null,null,null,null,null,null,null,null,"Site",{"$f":"SUM('MFIS ProjectA:MFIS ProjectF'!Q203)","v":0},{"$f":"SUM('MFIS ProjectA:MFIS ProjectF'!R203)","v":0},{"$f":"SUM('MFIS ProjectA:MFIS ProjectF'!S203)","v":0},{"$f":"SUM('MFIS ProjectA:MFIS ProjectF'!T203)","v":0},{"$f":"SUM('MFIS ProjectA:MFIS ProjectF'!U203)","v":0},{"$f":"SUM('MFIS ProjectA:MFIS ProjectF'!V203)","v":0},{"$f":"SUM('MFIS ProjectA:MFIS ProjectF'!W203)","v":0},{"$f":"SUM('MFIS ProjectA:MFIS ProjectF'!X203)","v":0},{"$f":"SUM('MFIS ProjectA:MFIS ProjectF'!Y203)","v":0},{"$f":"SUM('MFIS ProjectA:MFIS ProjectF'!Z203)","v":0},{"$f":"SUM('MFIS ProjectA:MFIS ProjectF'!AA203)","v":0},{"$f":"SUM('MFIS ProjectA:MFIS ProjectF'!AB203)","v":0},{"$f":"SUM('MFIS ProjectA:MFIS ProjectF'!AC203)","v":0},{"$f":"SUM('MFIS ProjectA:MFIS ProjectF'!AD203)","v":0},{"$f":"SUM('MFIS ProjectA:MFIS ProjectF'!AF203)","v":0},{"$f":"SUM('MFIS ProjectA:MFIS ProjectF'!AG203)","v":0},{"$f":"SUM('MFIS ProjectA:MFIS ProjectF'!AH203)","v":0},{"$f":"SUM('MFIS ProjectA:MFIS ProjectF'!AI203)","v":0},{"$f":"SUM('MFIS ProjectA:MFIS ProjectF'!AJ203)","v":0},{"$f":"SUM('MFIS ProjectA:MFIS ProjectF'!AK203)","v":0}]
[null,null,null,null,null,null,null,null,null,null,null,null,null,null,null,"Architecture",{"$f":"SUM('MFIS ProjectA:MFIS ProjectF'!Q204)","v":0},{"$f":"SUM('MFIS ProjectA:MFIS ProjectF'!R204)","v":0},{"$f":"SUM('MFIS ProjectA:MFIS ProjectF'!S204)","v":0},{"$f":"SUM('MFIS ProjectA:MFIS ProjectF'!T204)","v":0},{"$f":"SUM('MFIS ProjectA:MFIS ProjectF'!U204)","v":0},{"$f":"SUM('MFIS ProjectA:MFIS ProjectF'!V204)","v":0},{"$f":"SUM('MFIS ProjectA:MFIS ProjectF'!W204)","v":0},{"$f":"SUM('MFIS ProjectA:MFIS ProjectF'!X204)","v":0},{"$f":"SUM('MFIS ProjectA:MFIS ProjectF'!Y204)","v":0},{"$f":"SUM('MFIS ProjectA:MFIS ProjectF'!Z204)","v":0},{"$f":"SUM('MFIS ProjectA:MFIS ProjectF'!AA204)","v":0},{"$f":"SUM('MFIS ProjectA:MFIS ProjectF'!AB204)","v":0},{"$f":"SUM('MFIS ProjectA:MFIS ProjectF'!AC204)","v":0},{"$f":"SUM('MFIS ProjectA:MFIS ProjectF'!AD204)","v":0},{"$f":"SUM('MFIS ProjectA:MFIS ProjectF'!AF204)","v":0},{"$f":"SUM('MFIS ProjectA:MFIS ProjectF'!AG204)","v":0},{"$f":"SUM('MFIS ProjectA:MFIS ProjectF'!AH204)","v":0},{"$f":"SUM('MFIS ProjectA:MFIS ProjectF'!AI204)","v":0},{"$f":"SUM('MFIS ProjectA:MFIS ProjectF'!AJ204)","v":0},{"$f":"SUM('MFIS ProjectA:MFIS ProjectF'!AK204)","v":0}]
[null,null,null,null,null,null,null,null,null,null,null,null,null,null,null,"Mech & Electric",{"$f":"SUM('MFIS ProjectA:MFIS ProjectF'!Q205)","v":0},{"$f":"SUM('MFIS ProjectA:MFIS ProjectF'!R205)","v":0},{"$f":"SUM('MFIS ProjectA:MFIS ProjectF'!S205)","v":0},{"$f":"SUM('MFIS ProjectA:MFIS ProjectF'!T205)","v":0},{"$f":"SUM('MFIS ProjectA:MFIS ProjectF'!U205)","v":0},{"$f":"SUM('MFIS ProjectA:MFIS ProjectF'!V205)","v":0},{"$f":"SUM('MFIS ProjectA:MFIS ProjectF'!W205)","v":0},{"$f":"SUM('MFIS ProjectA:MFIS ProjectF'!X205)","v":0},{"$f":"SUM('MFIS ProjectA:MFIS ProjectF'!Y205)","v":0},{"$f":"SUM('MFIS ProjectA:MFIS ProjectF'!Z205)","v":0},{"$f":"SUM('MFIS ProjectA:MFIS ProjectF'!AA205)","v":0},{"$f":"SUM('MFIS ProjectA:MFIS ProjectF'!AB205)","v":0},{"$f":"SUM('MFIS ProjectA:MFIS ProjectF'!AC205)","v":0},{"$f":"SUM('MFIS ProjectA:MFIS ProjectF'!AD205)","v":0},{"$f":"SUM('MFIS ProjectA:MFIS ProjectF'!AF205)","v":0},{"$f":"SUM('MFIS ProjectA:MFIS ProjectF'!AG205)","v":0},{"$f":"SUM('MFIS ProjectA:MFIS ProjectF'!AH205)","v":0},{"$f":"SUM('MFIS ProjectA:MFIS ProjectF'!AI205)","v":0},{"$f":"SUM('MFIS ProjectA:MFIS ProjectF'!AJ205)","v":0},{"$f":"SUM('MFIS ProjectA:MFIS ProjectF'!AK205)","v":0}]
[null,null,null,null,null,null,null,null,null,null,null,null,null,null,null,"Dwelling Units",{"$f":"SUM('MFIS ProjectA:MFIS ProjectF'!Q206)","v":0},{"$f":"SUM('MFIS ProjectA:MFIS ProjectF'!R206)","v":0},{"$f":"SUM('MFIS ProjectA:MFIS ProjectF'!S206)","v":0},{"$f":"SUM('MFIS ProjectA:MFIS ProjectF'!T206)","v":0},{"$f":"SUM('MFIS ProjectA:MFIS ProjectF'!U206)","v":0},{"$f":"SUM('MFIS ProjectA:MFIS ProjectF'!V206)","v":0},{"$f":"SUM('MFIS ProjectA:MFIS ProjectF'!W206)","v":0},{"$f":"SUM('MFIS ProjectA:MFIS ProjectF'!X206)","v":0},{"$f":"SUM('MFIS ProjectA:MFIS ProjectF'!Y206)","v":0},{"$f":"SUM('MFIS ProjectA:MFIS ProjectF'!Z206)","v":0},{"$f":"SUM('MFIS ProjectA:MFIS ProjectF'!AA206)","v":0},{"$f":"SUM('MFIS ProjectA:MFIS ProjectF'!AB206)","v":0},{"$f":"SUM('MFIS ProjectA:MFIS ProjectF'!AC206)","v":0},{"$f":"SUM('MFIS ProjectA:MFIS ProjectF'!AD206)","v":0},{"$f":"SUM('MFIS ProjectA:MFIS ProjectF'!AF206)","v":0},{"$f":"SUM('MFIS ProjectA:MFIS ProjectF'!AG206)","v":0},{"$f":"SUM('MFIS ProjectA:MFIS ProjectF'!AH206)","v":0},{"$f":"SUM('MFIS ProjectA:MFIS ProjectF'!AI206)","v":0},{"$f":"SUM('MFIS ProjectA:MFIS ProjectF'!AJ206)","v":0},{"$f":"SUM('MFIS ProjectA:MFIS ProjectF'!AK206)","v":0}]
[null,null,null,null,null,null,null,null,null,null,null,null,null,null,null,"Uninflated Totals",{"$f":"SUM('MFIS ProjectA:MFIS ProjectF'!Q207)","v":0},{"$f":"SUM('MFIS ProjectA:MFIS ProjectF'!R207)","v":0},{"$f":"SUM('MFIS ProjectA:MFIS ProjectF'!S207)","v":0},{"$f":"SUM('MFIS ProjectA:MFIS ProjectF'!T207)","v":0},{"$f":"SUM('MFIS ProjectA:MFIS ProjectF'!U207)","v":0},{"$f":"SUM('MFIS ProjectA:MFIS ProjectF'!V207)","v":0},{"$f":"SUM('MFIS ProjectA:MFIS ProjectF'!W207)","v":0},{"$f":"SUM('MFIS ProjectA:MFIS ProjectF'!X207)","v":0},{"$f":"SUM('MFIS ProjectA:MFIS ProjectF'!Y207)","v":0},{"$f":"SUM('MFIS ProjectA:MFIS ProjectF'!Z207)","v":0},{"$f":"SUM('MFIS ProjectA:MFIS ProjectF'!AA207)","v":0},{"$f":"SUM('MFIS ProjectA:MFIS ProjectF'!AB207)","v":0},{"$f":"SUM('MFIS ProjectA:MFIS ProjectF'!AC207)","v":0},{"$f":"SUM('MFIS ProjectA:MFIS ProjectF'!AD207)","v":0},{"$f":"SUM('MFIS ProjectA:MFIS ProjectF'!AF207)","v":0},{"$f":"SUM('MFIS ProjectA:MFIS ProjectF'!AG207)","v":0},{"$f":"SUM('MFIS ProjectA:MFIS ProjectF'!AH207)","v":0},{"$f":"SUM('MFIS ProjectA:MFIS ProjectF'!AI207)","v":0},{"$f":"SUM('MFIS ProjectA:MFIS ProjectF'!AJ207)","v":0},{"$f":"SUM('MFIS ProjectA:MFIS ProjectF'!AK207)","v":0}]
[null,null,null,null,null,null,null,null,null,null,null,null,null,null,null,"Inflation at 0.00%",{"$f":"SUM('MFIS ProjectA:MFIS ProjectF'!Q208)","v":0},{"$f":"SUM('MFIS ProjectA:MFIS ProjectF'!R208)","v":0},{"$f":"SUM('MFIS ProjectA:MFIS ProjectF'!S208)","v":0},{"$f":"SUM('MFIS ProjectA:MFIS ProjectF'!T208)","v":0},{"$f":"SUM('MFIS ProjectA:MFIS ProjectF'!U208)","v":0},{"$f":"SUM('MFIS ProjectA:MFIS ProjectF'!V208)","v":0},{"$f":"SUM('MFIS ProjectA:MFIS ProjectF'!W208)","v":0},{"$f":"SUM('MFIS ProjectA:MFIS ProjectF'!X208)","v":0},{"$f":"SUM('MFIS ProjectA:MFIS ProjectF'!Y208)","v":0},{"$f":"SUM('MFIS ProjectA:MFIS ProjectF'!Z208)","v":0},{"$f":"SUM('MFIS ProjectA:MFIS ProjectF'!AA208)","v":0},{"$f":"SUM('MFIS ProjectA:MFIS ProjectF'!AB208)","v":0},{"$f":"SUM('MFIS ProjectA:MFIS ProjectF'!AC208)","v":0},{"$f":"SUM('MFIS ProjectA:MFIS ProjectF'!AD208)","v":0},{"$f":"SUM('MFIS ProjectA:MFIS ProjectF'!AF208)","v":0},{"$f":"SUM('MFIS ProjectA:MFIS ProjectF'!AG208)","v":0},{"$f":"SUM('MFIS ProjectA:MFIS ProjectF'!AH208)","v":0},{"$f":"SUM('MFIS ProjectA:MFIS ProjectF'!AI208)","v":0},{"$f":"SUM('MFIS ProjectA:MFIS ProjectF'!AJ208)","v":0},{"$f":"SUM('MFIS ProjectA:MFIS ProjectF'!AK208)","v":0}]
[null,null,null,null,null,null,null,null,null,null,null,null,null,null,null,"Inflated Totals",{"$f":"SUM('MFIS ProjectA:MFIS ProjectF'!Q209)","v":0},{"$f":"SUM('MFIS ProjectA:MFIS ProjectF'!R209)","v":0},{"$f":"SUM('MFIS ProjectA:MFIS ProjectF'!S209)","v":0},{"$f":"SUM('MFIS ProjectA:MFIS ProjectF'!T209)","v":0},{"$f":"SUM('MFIS ProjectA:MFIS ProjectF'!U209)","v":0},{"$f":"SUM('MFIS ProjectA:MFIS ProjectF'!V209)","v":0},{"$f":"SUM('MFIS ProjectA:MFIS ProjectF'!W209)","v":0},{"$f":"SUM('MFIS ProjectA:MFIS ProjectF'!X209)","v":0},{"$f":"SUM('MFIS ProjectA:MFIS ProjectF'!Y209)","v":0},{"$f":"SUM('MFIS ProjectA:MFIS ProjectF'!Z209)","v":0},{"$f":"SUM('MFIS ProjectA:MFIS ProjectF'!AA209)","v":0},{"$f":"SUM('MFIS ProjectA:MFIS ProjectF'!AB209)","v":0},{"$f":"SUM('MFIS ProjectA:MFIS ProjectF'!AC209)","v":0},{"$f":"SUM('MFIS ProjectA:MFIS ProjectF'!AD209)","v":0},{"$f":"SUM('MFIS ProjectA:MFIS ProjectF'!AF209)","v":0},{"$f":"SUM('MFIS ProjectA:MFIS ProjectF'!AG209)","v":0},{"$f":"SUM('MFIS ProjectA:MFIS ProjectF'!AH209)","v":0},{"$f":"SUM('MFIS ProjectA:MFIS ProjectF'!AI209)","v":0},{"$f":"SUM('MFIS ProjectA:MFIS ProjectF'!AJ209)","v":0},{"$f":"SUM('MFIS ProjectA:MFIS ProjectF'!AK209)","v":0}]

{"sheet":"CNAArchive","index":25,"n_rows":36,"n_cols":102,"rows_kept":36,"cut":false,"hidden":true,"merged":[]}
[]
[]
[]
[]
[null,"Site - Sum of all CNAs with Changes by Underwriter - Site",null,null,null,null,null,null,null,null,null,null,null,null,null,null,null,null,null,null,null,null,null,null,null,null,null,"Architectural - Sum of all CNAs with Changes by Underwriter - Architectural",null,null,null,null,null,null,null,null,null,null,null,null,null,null,null,null,null,null,null,null,null,null,null,null,null,"Mech & Electric - Sum of all CNAs with Changes by Underwriter - Mech & Electric",null,null,null,null,null,null,null,null,null,null,null,null,null,null,null,null,null,null,null,null,null,null,null,null,null,"Dwelling - Sum of all CNAs with Changes by Underwriter - Dwelling"]
[null,"Year",0,1,2,3,4,5,6,7,8,9,10,11,12,13,14,15,16,17,18,19,20,null,null,null,null,"Year",0,1,2,3,4,5,6,7,8,9,10,11,12,13,14,15,16,17,18,19,20,null,null,null,null,"Year",0,1,2,3,4,5,6,7,8,9,10,11,12,13,14,15,16,17,18,19,20,null,null,null,null,"Year",0,1,2,3,4,5,6,7,8,9,10,11,12,13,14,15,16,17,18,19,20]
[null,"Item","H & S",2015,2016,2017,2018,2019,2020,2021,2022,2023,2024,2025,2026,2027,2028,2029,2030,2031,2032,2033,2034,"Total",null,null,null,"Item","H & S",2015,2016,2017,2018,2019,2020,2021,2022,2023,2024,2025,2026,2027,2028,2029,2030,2031,2032,2033,2034,0,null,null,null,"Item","H & S",2015,2016,2017,2018,2019,2020,2021,2022,2023,2024,2025,2026,2027,2028,2029,2030,2031,2032,2033,2034,0,null,null,null,"Item","H & S",2013,2014,2015,2016,2017,2018,2019,2020,2021,2022,2023,2024,2025,2026,2027,2028,2029,2030,2031,2032,"Total"]
[null,"Uninflated Totals",0,0,0,0,0,0,0,3750,0,0,0,6000,2000,0,3750,0,0,0,0,0,5000,20500,null,null,null,"Uninflated Totals",0,0,0,0,0,0,0,0,0,0,0,0,0,0,0,16000,0,0,0,0,0,16000,null,null,null,"Uninflated Totals",1,1,1.03,1.06,1.0900000000000001,1.1299999999999999,1.1599999999999999,1.19,1.23,1.27,1.3,1.34,1.38,1.43,1.47,1.51,1.56,1.6,1.65,1.7,1.75,27.87,null,null,null,"Uninflated Totals",0,0,0,0,0,0,0,11400,11400,11400,9000,13800,13800,10200,11400,55873,55873,44473,25200,25200,5400,304419]
[null,"Inflation Factor (3%)",1,1,1.03,1.0609,1.092727,1.1255088099999999,1.1592740742999998,1.1940522965289999,1.22987386542487,1.2667700813876159,1.3047731838292445,1.3439163793441218,1.3842338707244455,1.4257608868461786,1.4685337134515639,1.512589724855111,1.5579674166007644,1.6047064390987871,1.6528476322717507,1.7024330612399032,1.7535060530771003,null,null,null,null,"Inflation Factor (3%)",1,1,1.03,1.0609,1.092727,1.1255088099999999,1.1592740742999998,1.1940522965289999,1.22987386542487,1.2667700813876159,1.3047731838292445,1.3439163793441218,1.3842338707244455,1.4257608868461786,1.4685337134515639,1.512589724855111,1.5579674166007644,1.6047064390987871,1.6528476322717507,1.7024330612399032,1.7535060530771003,null,null,null,null,"Inflation Factor (3%)",1,1,1.03,1.0609,1.092727,1.1255088099999999,1.1592740742999998,1.1940522965289999,1.22987386542487,1.2667700813876159,1.3047731838292445,1.3439163793441218,1.3842338707244455,1.4257608868461786,1.4685337134515639,1.512589724855111,1.5579674166007644,1.6047064390987871,1.6528476322717507,1.7024330612399032,1.7535060530771003,null,null,null,null,"Inflation Factor (3%)",1,1,1.03,1.0609,1.092727,1.1255088099999999,1.1592740742999998,1.1940522965289999,1.22987386542487,1.2667700813876159,1.3047731838292445,1.3439163793441218,1.3842338707244455,1.4257608868461786,1.4685337134515639,1.512589724855111,1.5579674166007644,1.6047064390987871,1.6528476322717507,1.7024330612399032,1.7535060530771003]
[null,"Inflated Totals",0,0,0,0,0,0,0,4477.7,0,0,0,8063.5,2768.47,0,5507,0,0,0,0,0,8767.5300000000007,29584.19,null,null,null,"Inflated Totals",0,0,0,0,0,0,0,0,0,0,0,0,0,0,0,24201.439999999999,0,0,0,0,0,24201.439999999999,null,null,null,"Inflated Totals",1,1,1.06,1.1299999999999999,1.19,1.27,1.34,1.43,1.51,1.6,1.7,1.81,1.92,2.0299999999999998,2.16,2.29,2.4300000000000002,2.58,2.73,2.9,3.07,38.14,null,null,null,"Inflated Totals",0,0,0,0,0,0,0,13612.2,14020.56,14441.18,11742.96,18546.05,19102.43,14542.76,16741.28,84512.93,87048.31,71366.11,41651.760000000002,42901.31,9468.93,459698.77]
[]
["Comments","Item","H & S",2015,2016,2017,2018,2019,2020,2021,2022,2023,2024,2025,2026,2027,2028,2029,2030,2031,2032,2033,2034,null,null,null,"Comments","Item","H & S",2015,2016,2017,2018,2019,2020,2021,2022,2023,2024,2025,2026,2027,2028,2029,2030,2031,2032,2033,2034,null,null,null,"Comments","Item","H & S",2015,2016,2017,2018,2019,2020,2021,2022,2023,2024,2025,2026,2027,2028,2029,2030,2031,2032,2033,2034,0,null,null,"Comments","Item","H & S",2015,2016,2017,2018,2019,2020,2021,2022,2023,2024,2025,2026,2027,2028,2029,2030,2031,2032,2033,2034]
["No issues with the mail center were noted","Mail Facilities",0,null,0,0,0,0,0,0,0,0,null,0,0,0,0,0,0,0,0,0,0,0,null,null,"Roofing shingles were reportedly replaced 1 year prior to our site visit","Roof Covering: Asphalt Shingles",0,0,0,0,0,0,0,0,0,0,0,0,0,0,0,0,0,0,0,0,0,0,null,null,null,null,0,0,0,0,0,0,0,0,0,0,0,0,0,0,0,0,0,0,0,0,0,0,null,null,"Bath accessories replacement is a part of the planned renovation","Bath Accessories",0,null,null,null,0,0,0,0,0,0,null,3300,3300,3300,0,0,0,0,0,0,0,9900]
["Seal, stripe","Roadways: Asphalt (Sealing)",0,null,0,0,0,0,null,3750,0,0,0,null,0,0,3750,0,null,null,0,0,0,7500,null,null,"Installation of gutters and downspouts are a part of the planned renovation","Roof Drainage Exterior (gutter and downspout)",0,null,0,0,0,0,0,0,0,0,0,0,0,0,0,0,0,0,0,0,0,0,null,null,null,null,0,0,0,0,0,0,0,0,0,0,0,0,0,0,0,0,0,0,0,0,0,null,null,null,"Replacement of fixtures including tubs are a part of the planned renovation","Bath Fixtures (sink, toilet, tub)",0,null,null,null,0,0,0,0,0,0,0,0,0,0,0,0,0,0,0,0,0,0]
["Overlay is a part of the planned renovation","Parking: Asphalt",0,null,0,0,0,0,0,0,0,null,0,0,0,0,0,0,0,0,0,0,0,0,null,null,"Soffits and fascia replaclement are a part of the planned renovation","Soffits: Aluminum or Vinyl",0,null,0,0,0,0,0,0,0,null,0,0,0,0,0,0,0,0,0,0,0,0,null,null,null,"Uninflated Totals",0,0,0,0,0,0,0,0,0,0,0,0,0,0,0,0,0,0,0,0,0,null,null,null,"Countertop replacment is a part of the planned renovation - age related replacement will occur during the term","Countertop and Sink",0,null,null,null,0,0,0,0,0,0,0,0,0,0,0,0,0,0,0,0,0,0]
["Handicapped parking was a part of the planned renovation","HC Parking",0,null,0,0,0,0,0,0,0,0,0,0,0,0,0,0,0,0,0,0,0,0,null,null,"The masonry/brick is in good overall condition and will exceed the EUL - no required repairs noted","Exterior Walls: Brick or Block",0,null,0,0,0,0,0,0,0,0,0,0,0,0,0,0,0,0,0,0,0,0,null,null,null,"Inflation Factor (3%)",1,1,1.03,1.06,1.0900000000000001,1.1299999999999999,1.1599999999999999,1.19,1.23,1.27,1.3,1.34,1.38,1.43,1.47,1.51,1.56,1.6,1.65,1.7,1.75,null,null,null,"Fixture replacement is a part of the planned renovation","Electric Fixtures",0,null,null,null,0,0,0,0,0,0,0,0,0,0,0,0,0,0,0,0,0,0]
["Re-working of ramps is a part of the planned renovation","Curb Ramps",0,null,0,0,0,0,0,0,0,0,0,0,0,0,0,0,0,0,0,0,0,0,null,null,"Cementious siding was installation is a part of the planned renovation.  Painting will be required throughout the term","Exterior Walls: Cementious Siding",0,null,0,0,0,0,0,0,0,0,null,0,0,0,0,10000,null,0,0,0,0,10000,null,null,null,"Inflated Totals",0,0,0,0,0,0,0,0,0,0,0,0,0,0,0,0,0,0,0,0,0,null,null,null,"GFI outlets are in place in the kitchen and bath areas","GFI",0,null,0,0,0,0,0,0,0,0,0,0,0,0,0,0,0,0,0,0,0,0]
["Concrete sidewalks are in good overall condition.  Grinding activities have been completed at previous trip hazard areas. We included some costs during the term for future repairs","Pedestrian Paving: Concrete",0,null,0,0,0,0,0,0,0,0,0,0,2000,0,0,0,0,0,0,0,0,2000,null,null,"Wholesale replacement of all exterior doors including Leasing Office is a part of the planned renovation","Exterior Unit Doors",0,null,null,null,0,0,0,0,0,null,null,null,0,0,0,0,0,0,0,0,0,0,null,null,null,null,null,null,null,null,null,null,null,null,null,null,null,null,null,null,null,null,null,null,null,null,null,null,null,null,"Replacement of smoke detectors are a part of the planned renovation - additional replacment will occur during the term","Smoke/Fire Detectors",0,null,0,0,0,0,0,0,0,0,5400,null,0,0,0,0,0,0,0,0,5400,10800]
["Repair dumpster enclosures","Dumpster Enclosure",0,null,0,0,0,0,0,0,0,0,0,1000,0,0,0,0,0,0,0,0,0,1000,null,null,"Window replacement is a part of the planned renovation","Windows (Frames and Glazing)",0,null,null,null,0,0,0,0,null,null,null,0,0,0,null,null,null,0,0,0,0,0,null,null,null,null,null,null,null,null,null,null,null,null,null,null,null,null,null,null,null,null,null,null,null,null,null,null,null,null,null,null,0,null,null,0,0,0,0,0,0,0,0,null,0,0,0,0,0,0,0,0,0,0]
["No drainage or erosion problems were noted","Earthwork",0,null,0,0,0,0,0,0,0,0,0,0,0,0,0,0,0,0,0,0,0,0,null,null,"Metal stairs are in good condition - additions to current code are a part of the planned renovation","Stair Structure",0,null,0,0,0,0,0,0,0,0,0,0,0,0,0,0,0,0,0,0,0,0,null,null,null,null,null,null,null,null,null,null,null,null,null,null,null,null,null,null,null,null,null,null,null,null,null,null,null,null,"Replacement of interior doors is a part of the planned renovation","Interior Door",0,null,0,0,0,0,0,0,0,0,0,0,0,0,null,null,null,0,0,0,0,0]
["Prune trees & cover bare yard areas","Landscaping",0,null,0,0,0,null,0,0,0,0,0,5000,0,0,0,0,0,0,0,0,5000,10000,null,null,"Lighting upgrade and replacement is a part of the planned renovation","Building Mounted Exterior Lighting",0,null,0,0,0,0,0,0,0,0,0,0,0,0,0,6000,0,0,0,0,0,6000,null,null,null,null,null,null,null,null,null,null,null,null,null,null,null,null,null,null,null,null,null,null,null,null,null,null,null,null,"Replacement of all kitchen and bath cabinets are a part of the proposed renovation","Kitchen Cabinets",0,null,null,null,0,0,0,0,0,0,0,0,0,0,0,0,0,0,0,0,0,0]
["Replace existing lighting fixtures","Site Lighting",0,0,0,0,0,0,0,0,0,0,0,0,0,0,0,0,0,0,0,0,0,0,null,null,null,null,null,null,null,null,null,null,null,null,null,null,null,null,null,null,null,null,null,null,null,null,null,null,null,null,null,null,null,null,null,null,null,null,null,null,null,null,null,null,null,null,null,null,null,null,null,null,null,null,null,null,"Carpets have exceeded the EUL and will be replaced as a part of the planned renovation with additional replacments over the term","Living Area Floors: Carpet",0,null,null,null,0,0,0,11400,11400,11400,null,null,null,0,11400,11400,11400,0,0,0,0,68400]
[null,null,null,null,null,null,null,null,null,null,null,null,null,null,null,null,null,null,null,null,null,null,null,null,null,null,null,null,null,null,null,null,null,null,null,null,null,null,null,null,null,null,null,null,null,null,null,null,null,null,null,null,null,null,null,null,null,null,null,null,null,null,null,null,null,null,null,null,null,null,null,null,null,null,null,null,null,null,null,null,0,0,0,0,0,0,0,null,null,null,null,null,null,null,null,null,null,null,null,null,null,0]
[null,null,null,null,null,null,null,null,null,null,null,null,null,null,null,null,null,null,null,null,null,null,null,null,null,null,null,null,null,null,null,null,null,null,null,null,null,null,null,null,null,null,null,null,null,null,null,null,null,null,null,null,null,null,null,null,null,null,null,null,null,null,null,null,null,null,null,null,null,null,null,null,null,null,null,null,null,null,null,null,0,null,0,0,0,0,0,0,0,0,0,0,0,0,0,0,0,0,0,0,0,0]
[null,null,null,null,null,null,null,null,null,null,null,null,null,null,null,null,null,null,null,null,null,null,null,null,null,null,null,null,null,null,null,null,null,null,null,null,null,null,null,null,null,null,null,null,null,null,null,null,null,null,null,null,null,null,null,null,null,null,null,null,null,null,null,null,null,null,null,null,null,null,null,null,null,null,null,null,null,null,"Anticipated replacements spread over the term following initial replacement","Living Area Floors: Resilient Flooring (tile or sheet)",0,null,null,null,0,0,0,0,0,0,null,null,null,0,0,6000,6000,6000,null,null,null,18000]
[null,null,null,null,null,null,null,null,null,null,null,null,null,null,null,null,null,null,null,null,null,null,null,null,null,null,null,null,null,null,null,null,null,null,null,null,null,null,null,null,null,null,null,null,null,null,null,null,null,null,null,null,null,null,null,null,null,null,null,null,null,null,null,null,null,null,null,null,null,null,null,null,null,null,null,null,null,null,"Replacement of HVAC systems are a part of the planned renovation","Local HVAC: Heat Pump w/ Supplementary Electric",0,null,null,null,0,0,0,0,0,0,0,0,0,0,0,25200,25200,25200,25200,25200,0,126000]
[null,null,null,null,null,null,null,null,null,null,null,null,null,null,null,null,null,null,null,null,null,null,null,null,null,null,null,null,null,null,null,null,null,null,null,null,null,null,null,null,null,null,null,null,null,null,null,null,null,null,null,null,null,null,null,null,null,null,null,null,null,null,null,null,null,null,null,null,null,null,null,null,null,null,null,null,null,null,null,null,0,0,0,0,0,0,0,0,0,0,null,null,null,null,null,0,0,0,0,0,0,0]
[null,null,null,null,null,null,null,null,null,null,null,null,null,null,null,null,null,null,null,null,null,null,null,null,null,null,null,null,null,null,null,null,null,null,null,null,null,null,null,null,null,null,null,null,null,null,null,null,null,null,null,null,null,null,null,null,null,null,null,null,null,null,null,null,null,null,null,null,null,null,null,null,null,null,null,null,null,null,"Replacment of all ranges are a part of the planned renovation","Range",0,null,null,null,0,0,0,0,0,0,0,0,0,0,0,4813,4813,4813,0,0,0,14439]
[null,null,null,null,null,null,null,null,null,null,null,null,null,null,null,null,null,null,null,null,null,null,null,null,null,null,null,null,null,null,null,null,null,null,null,null,null,null,null,null,null,null,null,null,null,null,null,null,null,null,null,null,null,null,null,null,null,null,null,null,null,null,null,null,null,null,null,null,null,null,null,null,null,null,null,null,null,null,"Most range hoods are original and replacment is a part of the planned renovation","Rangehood",0,null,null,null,0,0,0,0,0,0,0,0,0,0,0,1440,1440,1440,0,0,0,4320]
[null,null,null,null,null,null,null,null,null,null,null,null,null,null,null,null,null,null,null,null,null,null,null,null,null,null,null,null,null,null,null,null,null,null,null,null,null,null,null,null,null,null,null,null,null,null,null,null,null,null,null,null,null,null,null,null,null,null,null,null,null,null,null,null,null,null,null,null,null,null,null,null,null,null,null,null,null,null,"Most refrigerators are estimated to have exceeded the EUL with replacement being a part of the proposed renovation","Refrigerator",0,null,null,null,0,0,0,0,0,0,0,0,0,0,0,7020,7020,7020,0,0,0,21060]
[null,null,null,null,null,null,null,null,null,null,null,null,null,null,null,null,null,null,null,null,null,null,null,null,null,null,null,null,null,null,null,null,null,null,null,null,null,null,null,null,null,null,null,null,null,null,null,null,null,null,null,null,null,null,null,null,null,null,null,null,null,null,null,null,null,null,null,null,null,null,null,null,null,null,null,null,null,null,"Addition of dishwashers are a part of the planned renovation","Dishwasher",0,0,0,0,0,0,0,null,null,null,3600,3600,3600,0,0,0,0,0,0,0,0,10800]
[null,null,null,null,null,null,null,null,null,null,null,null,null,null,null,null,null,null,null,null,null,null,null,null,null,null,null,null,null,null,null,null,null,null,null,null,null,null,null,null,null,null,null,null,null,null,null,null,null,null,null,null,null,null,null,null,null,null,null,null,null,null,null,null,null,null,null,null,null,null,null,null,null,null,null,null,null,null,"Most water heaters are estimated to have exceeded the EUL and will be replaced as a part of the planned renovation","Unit Level DHW",0,null,null,null,0,0,0,0,0,0,0,6000,6000,6000,0,0,0,0,0,0,0,18000]
[null,null,null,null,null,null,null,null,null,null,null,null,null,null,null,null,null,null,null,null,null,null,null,null,null,null,null,null,null,null,null,null,null,null,null,null,null,null,null,null,null,null,null,null,null,null,null,null,null,null,null,null,null,null,null,null,null,null,null,null,null,null,null,null,null,null,null,null,null,null,null,null,null,null,null,null,null,null,"Replacement is a part of the planned renovation","Window Covering",0,null,null,null,0,0,0,0,0,0,0,900,900,900,0,0,0,0,0,0,0,2700]
[null,null,null,null,null,null,null,null,null,null,null,null,null,null,null,null,null,null,null,null,null,null,null,null,null,null,null,null,null,null,null,null,null,null,null,null,null,null,null,null,null,null,null,null,null,null,null,null,null,null,null,null,null,null,null,null,null,null,null,null,null,null,null,null,null,null,null,null,null,null,null,null,null,null,null,null,null,null,"Repair drywall as needed in the units prior to repaint is a part of the planned renovation","Living Area Walls",0,null,null,null,0,0,0,0,0,0,0,0,0,0,0,0,0,0,0,0,0,0]
[null,null,null,null,null,null,null,null,null,null,null,null,null,null,null,null,null,null,null,null,null,null,null,null,null,null,null,null,null,null,null,null,null,null,null,null,null,null,null,null,null,null,null,null,null,null,null,null,null,null,null,null,null,null,null,null,null,null,null,null,null,null,null,null,null,null,null,null,null,null,null,null,null,null,null,null,null,null,"Modifications to existing units (roll-in shower, etc.) is a part of the planned renovation","HC Units",0,null,0,0,0,0,0,0,0,0,0,0,0,0,0,0,0,0,0,0,0,0]
[null,null,null,null,null,null,null,null,null,null,null,null,null,null,null,null,null,null,null,null,null,null,null,null,null,null,null,null,null,null,null,null,null,null,null,null,null,null,null,null,null,null,null,null,null,null,null,null,null,null,null,null,null,null,null,null,null,null,null,null,null,null,null,null,null,null,null,null,null,null,null,null,null,null,null,null,null,null,"Modify unit for audiovisual impaired is a part of the planned renovation","AV Units",0,null,0,0,0,0,0,0,0,0,0,0,0,0,0,0,0,0,0,0,0,0]

{"sheet":"Sheet2","index":26,"n_rows":2,"n_cols":16,"rows_kept":2,"cut":false,"hidden":true,"merged":[]}
[{"$f":"GeneralInfo!G6","v":"Current Ownership Entity"},{"$f":"GeneralInfo!A6","v":"PROPERTY NAME"},{"$f":"GeneralInfo!G19","v":"As Is Market Appraised Value"},{"$f":"GeneralInfo!G20","v":"As Improved Security Value (includes ICS)"},{"$f":"GeneralInfo!G24","v":"1 Bedroom"},{"$f":"\"1 Br  \"&GeneralInfo!J23","v":"1 Br  Rent"},{"$f":"\"1 Br \"&GeneralInfo!K23","v":"1 Br Utility"},{"$f":"GeneralInfo!G25","v":"2 Bedroom"},{"$f":"\"2 Br \"&GeneralInfo!J23","v":"2 Br Rent"},{"$f":"\"2 Br \"&GeneralInfo!K23","v":"2 Br Utility"},{"$f":"GeneralInfo!G26","v":"3 Bedroom"},{"$f":"\"3 Br \"&GeneralInfo!J23","v":"3 Br Rent"},{"$f":"\"3 Br\"&GeneralInfo!K23","v":"3 BrUtility"},{"$f":"GeneralInfo!G27","v":"4 Bedroom"},{"$f":"\"4 Br \"&GeneralInfo!J23","v":"4 Br Rent"},{"$f":"\"4 Br \"&GeneralInfo!K23","v":"4 Br Utility"}]
[{"$f":"GeneralInfo!H6","v":"Forest View Limited Partnership"},{"$f":"GeneralInfo!C6","v":"Forest View Apartments"},{"$f":"GeneralInfo!I19","v":1375000},{"$f":"GeneralInfo!I20","v":1797000},{"$f":"GeneralInfo!I24","v":10},{"$f":"GeneralInfo!J24","v":471},{"$f":"GeneralInfo!K24","v":128},{"$f":"GeneralInfo!I25","v":20},{"$f":"GeneralInfo!J25","v":511},{"$f":"GeneralInfo!K25","v":142},{"$f":"GeneralInfo!I26","v":5},{"$f":"GeneralInfo!J26","v":574},{"$f":"GeneralInfo!K26","v":153},{"$f":"GeneralInfo!I27","v":0},{"$f":"GeneralInfo!J27","v":0},{"$f":"GeneralInfo!K27","v":0}]

{"sheet":"MPRStaffOnly","index":27,"n_rows":56,"n_cols":38,"rows_kept":56,"cut":false,"hidden":true,"merged":[[9,20,9,23],[4,2,4,6],[5,2,5,6],[6,2,6,6],[7,2,7,6],[16,1,16,2],[17,1,17,2],[16,9,16,11],[17,9,17,11],[0,1,0,17],[14,1,14,8],[14,9,14,16],[15,7,15,8],[15,9,15,11],[2,2,2,8],[21,1,21,2],[22,9,22,11],[21,9,21,11],[18,9,18,11],[19,9,19,11],[20,9,20,11],[18,1,18,2],[19,1,19,2],[20,1,20,2]]}
[null,{"$f":"IF(GeneralInfo!C6>0,GeneralInfo!C6,\"\")","v":"Forest View Apartments"},null,null,null,null,null,null,null,null,null,null,null,null,null,null,null,null,null,null,null,"Summary Rents",null,"Post Transfer Rev Units","Post Transfer Rents",null,"MPR Placed In Service Rents"]
[null,null,null,null,null,null,null,null,null,null,null,null,null,null,null,null,null,null,null,null,null,"1 Br Units",null,{"$f":"'Rents & Operations'!E14","v":10},{"$f":"'Rents & Operations'!J14","v":500},null,{"$f":"IF(Y2>0,Y2+$N$39,0)","v":468}]
[null,null,"Weighted Average Rents with MPR Loan Tools",null,null,null,null,null,null,null,null,"Tools Selected","MPR Loan Tools & Debt Deferral",null,"Interest Rate","Amotization",null,null,null,null,null,"2 Br Units",null,{"$f":"'Rents & Operations'!E15","v":20},{"$f":"'Rents & Operations'!J15","v":575},null,{"$f":"IF(Y3>0,Y3+$N$39,0)","v":543}]
[null,null,null,null,null,null,null,null,null,null,null,null,null,null,null,null,null,null,null,null,null,"3 Br Units",null,{"$f":"'Rents & Operations'!E16","v":5},{"$f":"'Rents & Operations'!J16","v":676},null,{"$f":"IF(Y4>0,Y4+$N$39,0)","v":644}]
[null,null,"Rents Prior to Proposed Xfer",null,null,null,null,null,{"$f":"'Rents & Operations'!G18","v":508.57142857142856},null,null,{"$f":"SUMIF($J$17:$L$22,M5,$D$17:$D$22)","v":0},"MPR Non-Profit Grant",null,0,0,null,null,null,null,null,"4 Br Units",null,{"$f":"'Rents & Operations'!E17","v":""},{"$f":"'Rents & Operations'!J17","v":0},null,{"$f":"IF(Y5>0,Y5+$N$39,0)","v":0}]
[null,null,"Rents Transfer Proposal",null,null,null,null,null,{"$f":"'Rents & Operations'!J18","v":568},null,null,{"$f":"SUMIF($J$17:$L$22,M6,$D$17:$D$22)","v":0},"MPR Zero Percent Loan",null,0,50,null,null,null,null,null,"TOTAL",null,{"$f":"'Rents & Operations'!E18","v":35},{"$f":"'Rents & Operations'!J18","v":568},null,{"$f":"(SUMPRODUCT($AA$2:$AA$5,$X$2:$X$5)/X6)","v":536},{"$f":"\"$\"&Y6-AA6&\"  Rent Decrease\"","v":"$32  Rent Decrease"}]
[null,null,"Rents MPR Loan Tools",null,null,null,null,null,{"$f":"AA6","v":536},null,null,{"$f":"SUMIF($J$17:$L$22,M7,$D$17:$D$22)","v":350000},"Section 515 RRH Loan",null,0.01,50]
[null,null,"Savings with MPR Tools ",null,null,null,null,null,{"$f":"I6-I7","v":32},null,null,{"$f":"SUMIF($J$17:$L$22,M8,$D$17:$D$22)","v":0},"Section 515/516 Farm Labor Loan",null,0.01,33,null,null,null,null,"From Form RD 3560-7",null,null,null,null,null,null,null,null,null,"PART II - OPERATING AND MAINETNANCE EXPENSE SCHEDULE"]
[null,null,null,null,null,null,null,null,null,null,null,{"$f":"SUMIF($J$17:$L$22,M9,$D$17:$D$22)","v":0},"MPR Soft Second Loan",null,0.01,0,null,null,null,null,null,null,null,null,null,null,null,null,null,null,null,null,null,null,{"$f":"Y12","v":"UW"},null,"MPR Placed "]
[null,null,null,null,null,null,null,null,null,null,null,{"$f":"SUM(L5:L9)","v":350000},"    TOTAL New  Agency Loans or Grants",null,null,null,null,null,null,null,{"$f":"\"Project(s)  Below  \"&'MFIS ProjectA'!G2","v":"Project(s)  Below  FOREST VIEW APTS "},null,null,null,null,null,null,null,null,null,null,null,null,null,{"$f":"Y15","v":"Transfer"},null,"In Service"]
[null,null,null,null,null,null,null,null,null,null,null,{"$f":"IF('Sources & Uses'!$D$6,'Sources & Uses'!$C$6,0)","v":0},"Existing Agency Lns w\\ Debt Deferral",null,0.01,0,null,null,null,null,"PART I - CASH FLOW STATEMENT"]
[null,null,null,null,null,null,null,null,null,null,null,null,{"$f":"\"$\"&ROUND(IF('Sources & Uses'!$D$6,'Sources & Uses'!$A$6,\"\"),0)&\" Annual Installments Existing Agency  Loans Deferred\"","v":{"$error":"#VALUE!"}},null,null,null,null,null,null,null,null,null,null,null,"UW",null,"MPR Placed ",null,null,null,1,"MAINTENANCE AND REPAIRS PAYROLL   . . .",null,null,{"$f":"'Rents & Operations'!S25","v":19450},{"$f":"AK12","v":19450},{"$f":"AI12","v":19450}]
[null,null,null,null,null,null,null,null,null,null,null,null,null,null,null,null,null,null,null,null,null,null,null,null,"Budget",null,"In Service",null,null,null,2,"MAINTENANCE AND REPAIRS SUPPLY  . . . . . .",null,null,{"$f":"'Rents & Operations'!S26","v":5500},{"$f":"AK13","v":5500},{"$f":"AI13","v":5500}]
[null,null,null,null,null,null,null,null,null,null,null,null,null,null,null,null,null,null,null,null,null,null,null,null,"For",null,"Full",null,null,null,3,"MAINTENANCE AND REPAIRS CONTRACT   .",null,null,{"$f":"'Rents & Operations'!S27","v":3000},3000,3000]
[null,"3rd Party Loans Proposed with Debt Service",null,null,null,null,null,null,null,"MPR Tool Box",null,null,null,null,null,null,null,null,null,null,null,null,null,null,"Transfer",null,"12 Mos",null,null,null,4,"PAINTING AND DECORATING   . . . . . . . . . . . . . .",null,null,{"$f":"'Rents & Operations'!S28","v":2000},2000,2000]
[null,"Source",null,"Amount","Rate","Term","Amort","Installment",null,"MPR Tool Box",null,null,"New Installment","Rate","Amort","Rent Decrease",null,null,null,null,"OPERATIONAL CASH SOURCES",null,null,null,null,null,null,null,null,null,5,"SNOW REMOVAL   . . . . . . . . . . . . . . . . . . . . . . . . ",null,null,{"$f":"'Rents & Operations'!S29","v":0},0,0]
[null,{"$f":"IF(H17>0,'Sources & Uses'!B10&\" \"&'Sources & Uses'!B11,\"\")","v":"RD 538 Loan - Specify Lender: Churchill Mortgage Investors"},null,{"$f":"IF(H17>0,'Sources & Uses'!C10,\"\")","v":350000},{"$f":"IF(H17>0,'Sources & Uses'!E10,\"\")","v":4.8000000000000001E-2},{"$f":"IF(H17>0,'Sources & Uses'!F10,\"\")","v":40},{"$f":"IF(H17>0,'Sources & Uses'!G10,\"\")","v":40},{"$f":"'Sources & Uses'!H10","v":19699.108145092396},{"$f":"IF(H17>0,H17,\"\")","v":19699.108145092396},"Section 515 RRH Loan",null,null,{"$f":"IFERROR(PMT(N17/12,O17*12,-D17,0)*12,0)","v":8898.085571820664},{"$f":"IF(J17<>\"\",VLOOKUP(J17,$M$4:$P$9,3,FALSE),\"\")","v":0.01},{"$f":"IF(J17<>\"\",VLOOKUP(J17,$M$4:$P$9,4,FALSE),\"\")","v":50},{"$f":"IFERROR(IF(OR(J17= \"MPR Soft Second Loan\",J17=\"MPR Non-Profit Grant\",M17>0),((I17-M17)/DashData!$H$19)/12/$X$6,0),0)","v":-27.253836808554198},null,null,null,null,1,"RENTAL INCOME . . . . . ",null,null,{"$f":"'Rents & Operations'!I30","v":238560},null,{"$f":"SUMPRODUCT($AA$2:$AA$5,$X$2:$X$5)*12","v":225120},"COMMENTS ",null,null,6,"ELEVATOR MAINTENANCE/CONTRACT   . . . . ",null,null,{"$f":"'Rents & Operations'!S30","v":0},0,0]
[null,{"$f":"IF(H18>0,'Sources & Uses'!B12&\" \"&'Sources & Uses'!B13,\"\")","v":"Specify Lender: Another Loan"},null,{"$f":"IF(H18>0,'Sources & Uses'!C12,\"\")","v":250000},{"$f":"IF(H18>0,'Sources & Uses'!E12,\"\")","v":0.05},{"$f":"IF(H18>0,'Sources & Uses'!F12,\"\")","v":40},{"$f":"IF(H18>0,'Sources & Uses'!G12,\"\")","v":40},{"$f":"'Sources & Uses'!H12","v":14465.898017386879},14465.898017386879,null,null,null,{"$f":"IFERROR(PMT(N18/12,O18*12,-D18,0)*12,0)","v":0},{"$f":"IF(J18<>\"\",VLOOKUP(J18,$M$4:$P$9,3,FALSE),\"\")","v":""},{"$f":"IF(J18<>\"\",VLOOKUP(J18,$M$4:$P$9,4,FALSE),\"\")","v":""},{"$f":"IFERROR(IF(OR(J18= \"MPR Soft Second Loan\",J18=\"MPR Non-Profit Grant\",M18>0),((I18-M18)/DashData!$H$19)/12/$X$6,0),0)","v":0},null,null,null,null,2,"RHS RENTAL ASSISTANCE RECD",null,null,null,null,null,null,null,null,7,"GROUNDS   . . . . . . . . . . . . . . . . . . . . . . . . . . . . ",null,null,{"$f":"'Rents & Operations'!S31","v":7500},7500,7500]
[null,{"$f":"IF(H19>0,'Sources & Uses'!B14& \" \"&'Sources & Uses'!B15,\"\")","v":"Specify Lender: "},null,{"$f":"IF(H19>0,'Sources & Uses'!C14,\"\")","v":0},{"$f":"IF(H19>0,'Sources & Uses'!E14,\"\")","v":0},{"$f":"IF(H19>0,'Sources & Uses'!F14,\"\")","v":0},{"$f":"IF(H19>0,'Sources & Uses'!G14,\"\")","v":0},{"$f":"'Sources & Uses'!H14","v":" "}," ",null,null,null,{"$f":"IFERROR(PMT(N19/12,O19*12,-D19,0)*12,0)","v":0},"","",{"$f":"IFERROR(IF(OR(J19= \"MPR Soft Second Loan\",J19=\"MPR Non-Profit Grant\",M19>0),((I19-M19)/DashData!$H$19)/12/$X$6,0),0)","v":0},null,null,null,null,3,"APPLICATION FEES RECEIVED",null,null,{"$f":"'Rents & Operations'!I32","v":0},null,{"$f":"Y19","v":0},null,null,null,8,"SERVICES  . . . . . . . . . . . . . . . . . . . . . . . . . . . . . .  . . . ",null,null,{"$f":"'Rents & Operations'!S32","v":1632},1632,1632]
[null,{"$f":"IF(H20>0,'Sources & Uses'!B16& \" \"&'Sources & Uses'!B17,\"\")","v":"Specify Lender: "},null,{"$f":"IF(H20>0,'Sources & Uses'!C16,\"\")","v":0},{"$f":"IF(H20>0,'Sources & Uses'!E16,\"\")","v":0},{"$f":"IF(H20>0,'Sources & Uses'!F16,\"\")","v":0},{"$f":"IF(H20>0,'Sources & Uses'!G16,\"\")","v":0},{"$f":"'Sources & Uses'!H16","v":" "}," ",null,null,null,0,"","",{"$f":"IFERROR(IF(OR(J20= \"MPR Soft Second Loan\",J20=\"MPR Non-Profit Grant\",M20>0),((I20-M20)/DashData!$H$19)/12/$X$6,0),0)","v":0},null,null,null,null,4,"LAUNDRY AND VENDING . ",null,null,{"$f":"'Rents & Operations'!I33","v":0},null,{"$f":"Y20","v":0},null,null,null,9,"CAPITAL BUDGET (Part V operating) ",null,null,{"$f":"'Rents & Operations'!S33","v":0},0,0]
[null,{"$f":"IF(H21>0,'Sources & Uses'!B18&\" \"&'Sources & Uses'!B19,\"\")","v":"Specify Lender: "},null,{"$f":"IF(H21>0,'Sources & Uses'!C18,\"\")","v":0},{"$f":"IF(H21>0,'Sources & Uses'!E18,\"\")","v":0},{"$f":"IF(H21>0,'Sources & Uses'!F18,\"\")","v":0},{"$f":"IF(H21>0,'Sources & Uses'!G18,\"\")","v":0},{"$f":"'Sources & Uses'!H18","v":" "}," ",null,null,null,0,"","",{"$f":"IFERROR(IF(OR(J21= \"MPR Soft Second Loan\",J21=\"MPR Non-Profit Grant\",M21>0),((I21-M21)/DashData!$H$19)/12/$X$6,0),0)","v":0},null,null,null,null,5,"INTEREST INCOME .",null,null,{"$f":"'Rents & Operations'!I34","v":0},null,0,null,null,null,10,"OTHER OPERATING EXPENSES (Itemize)   . . . . .",null,null,{"$f":"'Rents & Operations'!S34","v":1387},1387,1387,{"$f":"TEXT(GeneralInfo!D39,\"0.0%\")&\"   operations & incidentals\"","v":"1.0%   operations & incidentals"}]
[null,{"$f":"IF(H22>0,'Sources & Uses'!B20& \" \"&'Sources & Uses'!B21,\"\")","v":"Specify Lender: "},null,{"$f":"IF(H22>0,'Sources & Uses'!C20,\"\")","v":0},{"$f":"IF(H22>0,'Sources & Uses'!E20,\"\")","v":0},{"$f":"IF(H22>0,'Sources & Uses'!F20,\"\")","v":0},{"$f":"IF(H22>0,'Sources & Uses'!G20,\"\")","v":0},{"$f":"'Sources & Uses'!H20","v":" "}," ",null,null,null,0,"","",{"$f":"IFERROR(IF(OR(J22= \"MPR Soft Second Loan\",J22=\"MPR Non-Profit Grant\",M22>0),((I22-M22)/DashData!$H$19)/12/$X$6,0),0)","v":0},null,null,null,null,6,"TENANT CHARGES . ",null,null,{"$f":"'Rents & Operations'!I35","v":0},null,0,null,null,null,11,"SUB-TOTAL MAINT. & OPERATING (1 thru 10) . . . . . . . . . ",null,null,{"$f":"SUM(AI12:AI21)","v":40469},{"$f":"SUM(AJ12:AJ21)","v":40469},{"$f":"SUM(AK12:AK21)","v":40469}]
[null,null,null,null,null,null,null,null,null,null,null,null,null,null,null,null,null,null,null,null,7,"OTHER - PROJECT SOURCES . . . .",null,null,{"$f":"'Rents & Operations'!I36","v":0},null,0]
[null,null,null,null,null,null,null,null,{"$f":"SUMIF(J17:J22,\"\",I17:I22)","v":14465.898017386879},null,null,null,null,null,null,null,null,null,null,null,8,"LESS (Vacancy and Contingency Allowance) . . . . . . . . . . ",null,null,{"$f":"'Rents & Operations'!I37","v":-13454.784},null,{"$f":"-AA17*AB24","v":-12696.768},{"$f":"-Y24/Y17","v":5.6399999999999999E-2},"Vacancy",null,12,"ELECTRICITY    . . . . . . . . ",null,null,{"$f":"'Rents & Operations'!S37","v":9500},{"$f":"AK24","v":9500},{"$f":"AI24","v":9500}]
[null,null,null,null,null,null,null,null,null,null,null,null,null,null,null,null,null,null,null,null,9,"LESS (Agency Approved Incentive Allowances). . . . . . . . . . . ",null,null,{"$f":"'Rents & Operations'!I38","v":0},null,null,null,null,null,13,"WATER  . . . . . . . . . . ",null,null,{"$f":"'Rents & Operations'!S38","v":970},{"$f":"AK25","v":970},{"$f":"AI25","v":970}]
[null,null,null,null,null,null,null,null,null,null,null,null,null,"MP Placed",null,null,null,null,null,null,10,"  SUB-TOTAL [(1 thru 7) - (8 & 9)] . . . . . . . . . . . . . . . . . . . . . . . . .",null,null,{"$f":"SUM(Y17:Y25)","v":225105.21600000001},{"$f":"SUM(Z17:Z25)","v":0},{"$f":"SUM(AA17:AA25)","v":212423.23199999999},null,null,null,14,"SEWER  . . . . . . . . . . . . . . . .",null,null,{"$f":"'Rents & Operations'!S39","v":880},880,880]
[null,null,null,null,null,null,null,null,null,null,null,null,"Rents Needed","In Service",null,null,null,null,null,null,"NON-OPERATIONAL CASH SOURCES",null,null,null,null,null,null,null,null,null,15,"FUEL (Oil/Coal/Gas)  . . . . . . . . . . . . . . . . . . . . . . . . ",null,null,{"$f":"'Rents & Operations'!S40","v":0},0,0]
[null,"MPR Tool","Amount",null,null,null,null,null,null,null,null,null,"Debt Service",{"$f":"SUM(AA36,AA45)","v":51962.659424953861},null,null,null,null,null,null,11,"CASH - NON PROJECT  . . . . . . . . . . . . . . . . . . . . . . . . . ",null,null,{"$f":"'Rents & Operations'!I41","v":0},null,{"$f":"Y28","v":0},null,null,null,16,"GARBAGE & TRASH REMOVAL  . . . . . . . . . . . . ",null,null,{"$f":"'Rents & Operations'!S41","v":2520},2520,2520]
[null,{"$f":"M5","v":"MPR Non-Profit Grant"},{"$f":"L5","v":0},null,null,null,null,null,null,null,null,null,"O&M",{"$f":"AA35","v":140051},null,null,null,null,null,null,12,"AUTHORIZED LOAN (Non-RHS). . . . . . . . . . . . . . . . .",null,null,{"$f":"'Rents & Operations'!I42","v":0},null,{"$f":"Y29","v":0},null,null,null,17,"OTHER UTILITIES    . . . . . . . . . . . . . . . . . . . . . . . . .",null,null,{"$f":"'Rents & Operations'!S42","v":0},0,0]
[null,{"$f":"M6","v":"MPR Zero Percent Loan"},{"$f":"L6","v":0},null,null,null,null,null,null,null,null,null,"Reserve",{"$f":"AA41","v":12500},null,null,null,null,null,null,13,"TRANSFER FROM RESERVE . . . . . . . . . . . . . . . . . . . . .",null,null,{"$f":"'Rents & Operations'!I43","v":0},null,0,null,null,null,18,"SUB-TOTAL UTILITIES (12 thru 17) . . . . . . . . . . . . . . . . . .",null,null,{"$f":"SUM(AI24:AI29)","v":13870},{"$f":"SUM(AJ24:AJ29)","v":13870},{"$f":"SUM(AK24:AK29)","v":13870}]
[null,"Section 515 RRH Loan",{"$f":"L7","v":350000},null,null,null,null,null,null,null,null,null,"RTO",{"$f":"AA42","v":5767.28},null,null,null,null,null,null,14,"   SUB-TOTAL (11 thru 13)  . . . . . . . . . . . . . . . . . . . . . . . . . . . . . . . ",null,null,{"$f":"'Rents & Operations'!I44","v":0},{"$f":"SUM(Z28:Z30)","v":0},0]
[null,"Section 515/516 Farm Labor Loan",{"$f":"L8","v":0},null,null,null,null,null,null,null,null,null,"Balance for 1.15 DSCR",{"$f":"IF(N28*15%-N31>0,N28*15%-N31,0)","v":2027.1189137430792},null,null,null,null,null,null,null,null,null,null,null,null,null,null,null,null,19,"SITE MANAGEMENT PAYROLL  . . . . . . . . . . .",null,null,{"$f":"'Rents & Operations'!S45","v":7000},{"$f":"AK32","v":7000},{"$f":"AI32","v":7000}]
[null,"MPR Soft Second Loan",{"$f":"L9","v":0},null,null,null,null,null,null,null,null,null,"Sum",{"$f":"SUM(N27:N32)","v":212308.05833869695},null,null,null,null,null,null,15,"TOTAL CASH SOURCES (10 + 14)   . . . . . . . . . . . . . . . . . . . . . . . ",null,null,{"$f":"Y26+Y31","v":225105.21600000001},{"$f":"Z26+Z31","v":0},{"$f":"AA26+AA31","v":212423.23199999999},null,null,null,20,"MANAGEMENT FEE",null,null,{"$f":"'Rents & Operations'!S46","v":23100},{"$f":"AK33","v":23100},{"$f":"AI33","v":23100}]
[null,{"$f":"M11","v":"Existing Agency Lns w\\ Debt Deferral"},{"$f":"L11","v":0},null,null,null,null,null,null,null,null,null,"Less Other Inc",{"$f":"-SUM(AA19:AA23)","v":0},null,null,null,null,null,null,"OPERATIONAL  CASH USES",null,null,null,null,null,null,null,null,null,21,"PROJECT AUDITING EXPENSE  . . . . . . . . . . . . . .",null,null,{"$f":"'Rents & Operations'!S47","v":4375},4375,4375]
[null,null,null,null,null,null,null,null,null,null,null,null,"Total ",{"$f":"SUM(N33:N34)","v":212308.05833869695},null,null,null,null,null,null,16,"TOTAL O&M EXPENSES (From Part II) . . . . . . . . . . . . . . . . . . . .",null,null,{"$f":"'Rents & Operations'!I48","v":140051},{"$f":"AJ56","v":140051},{"$f":"AK56","v":140051},null,null,null,22,"COMPUTER EXPENSE & UPDATES",null,null,{"$f":"'Rents & Operations'!S48","v":0},0,0]
[null,null,null,null,null,null,null,null,null,null,null,null,"With Vacancy",{"$f":"-N35/(AB24-1)","v":224997.94228348555},null,null,null,null,null,null,17,"RHS DEBT PAYMENT . . . . . . . . . . . . . . . . . . . . . . . . . . . .",null,null,{"$f":"'Rents & Operations'!I49","v":28598.675835746319},{"$f":"GeneralInfo!K82*12","v":28598.675835746319},{"$f":"SUM(M17:M22)+'Rents & Operations'!I49","v":37496.761407566984},null,null,null,23,"LEGAL EXPENSES  . . . . . . . . . . . . . . . . . . . . . . . . .",null,null,{"$f":"'Rents & Operations'!S49","v":300},300,300]
[null,null,null,null,null,null,null,null,null,null,null,null,"Amt on UW Bud",{"$f":"Y17","v":238560},null,null,null,null,null,null,18,"RHS PAYMENT (Overage)  . . ",null,null,null,null,null,null,null,null,24,"ADVERTISING  . . . . . . . . . . . . . . . . . . . . . . . . . . . ",null,null,{"$f":"'Rents & Operations'!S50","v":300},300,300]
[null,null,null,null,null,null,null,null,null,null,null,null,"(+) inc (-) dec Rents Per unit",{"$f":"N36-N37","v":-13562.05771651445},null,null,null,null,null,null,19,"RHS PAYMENT (Late Fee)  . . .",null,null,null,null,null,null,null,null,25,"TELEPHONE & ANSWERING SERVICE  . . . . . . ",null,null,{"$f":"'Rents & Operations'!S51","v":2300},2300,2300]
[null,null,null,null,null,null,null,null,null,null,null,null,"PUPM",{"$f":"ROUNDDOWN(N38/X6/12,0)","v":-32},null,null,null,null,null,null,20,"REDUCTION IN PRIOR YR PAYABLES ",null,null,null,null,null,null,null,null,26,"OFFICE SUPPLIES . . . . . . . . . . . . . . . . . . . . . . . . . . . ",null,null,{"$f":"'Rents & Operations'!S52","v":2000},2000,2000]
[null,null,null,null,null,null,null,null,null,null,null,null,null,null,null,null,null,null,null,null,21,"TENANT UTILITY PAYMENTS . ",null,null,null,null,null,null,null,null,27,"OFFICE FURNITURE & EQUIPMENT  . . . . . . . . ",null,null,{"$f":"'Rents & Operations'!S53","v":0},0,0]
[null,null,null,null,null,null,null,null,null,null,null,null,null,null,null,null,null,null,null,null,22,"TRANSFER TO RESERVE . .  ",null,null,{"$f":"'Rents & Operations'!I54","v":12500},null,{"$f":"Y41","v":12500},null,null,null,28,"TRAINING EXPENSE  . . . . . . . . . . . . . . . . . . . . . . .",null,null,{"$f":"'Rents & Operations'!S54","v":1800},1800,1800]
[null,null,null,null,null,null,null,null,null,null,null,null,null,null,null,null,null,null,null,null,23,"RETURN TO OWNER . . . . . ",null,null,{"$f":"'Rents & Operations'!I55","v":5767.28},null,{"$f":"Y42","v":5767.28},null,null,null,29,"HEALTH INS. & OTHER EMP. BENEFITS  . . . . . .",null,null,{"$f":"'Rents & Operations'!S55","v":11500},11500,11500]
[null,null,null,null,null,null,null,null,null,null,null,null,null,null,null,null,null,null,null,null,24,"  SUB-TOTAL (16 thru 23)  . . . . .",null,null,{"$f":"SUM(Y35:Y42)","v":186916.95583574631},{"$f":"SUM(Z35:Z42)","v":168649.67583574631},{"$f":"SUM(AA35:AA42)","v":195815.04140756698},null,null,null,30,"PAYROLL TAXES  . . . . . . . . . . . . . . . . . . . . . . . . . .",null,null,{"$f":"'Rents & Operations'!S56","v":3080},3080,3080]
[null,null,null,null,null,null,null,null,null,null,null,null,null,null,null,null,null,null,null,null,"NON-OPERATIONAL CASH USES",null,null,null,null,null,null,null,null,null,31,"WORKER'S COMPENSATION  . . . . . . . . . . . . . . .",null,null,{"$f":"'Rents & Operations'!S57","v":1357},1357,1357]
[null,null,null,null,null,null,null,null,null,null,null,null,null,null,null,null,null,null,null,null,25,"AUTHORIZED DEBT PAYMENT (Non-RHS)",null,null,{"$f":"'Rents & Operations'!I58","v":34165.006162479272},null,{"$f":"SUMIF($J$17:$J$22,\"\",$I$17:$I$22)","v":14465.898017386879},null,null,null,32,"OTHER ADMINISTRATIVE EXPENSES (Itemize)  ",null,null,{"$f":"'Rents & Operations'!S58","v":950},950,950]
[null,null,null,null,null,null,null,null,null,null,null,null,null,null,null,null,null,null,null,null,26,"LONG-TERM IMPROVEMENTS . . . . . . . . . . . . . . . . . . . ",null,null,{"$f":"'Rents & Operations'!I59","v":0},null,null,null,null,null,33,"SUB-TOTAL ADMNSTRATVE (19 thru 32) . . . . . . . . . . . . .",null,null,{"$f":"SUM(AI32:AI45)","v":58062},{"$f":"SUM(AJ32:AJ45)","v":58062},{"$f":"SUM(AK32:AK45)","v":58062}]
[null,null,null,null,null,null,null,null,null,null,null,null,null,null,null,null,null,null,null,null,27,"MISCELLANEOUS . . . . . . . . . . . . . . . . . . . . . . . . . . . . . . .",null,null,{"$f":"'Rents & Operations'!I60","v":0}]
[null,null,null,null,null,null,null,null,null,null,null,null,null,null,null,null,null,null,null,null,28,"  SUB-TOTAL (25 thru 27) . . . . . . . . . . . . . . . . . . . . . . . . . . . . . . . . ",null,null,{"$f":"SUM(Y45:Y47)","v":34165.006162479272},{"$f":"SUM(Z45:Z47)","v":0},{"$f":"SUM(AA45:AA47)","v":14465.898017386879},null,null,null,34,"REAL ESTATE TAXES  . . . . . . . . . . . . . . . . . . . . . .",null,null,{"$f":"'Rents & Operations'!S61","v":18500},{"$f":"AK48","v":18500},{"$f":"AI48","v":18500}]
[null,null,null,null,null,null,null,null,null,null,null,null,null,null,null,null,null,null,null,null,null,null,null,null,null,null,null,null,null,null,35,"SPECIAL ASSESSMENTS  . . . . . . . . . . . . . . . . . . . .",null,null,{"$f":"'Rents & Operations'!S62","v":250},{"$f":"AK49","v":250},{"$f":"AI49","v":250}]
[null,null,null,null,null,null,null,null,null,null,null,null,null,null,null,null,null,null,null,null,29,"TOTAL CASH USES  (24 + 28) . . . . . . . . . . . . . . . . . . . . . . . . . . .",null,null,{"$f":"Y43+Y48","v":221081.9619982256},{"$f":"Z43+Z48","v":168649.67583574631},{"$f":"AA43+AA48","v":210280.93942495386},null,null,null,36,"OTHER TAXES, LICENSES & PERMITS  . . . . . . . ",null,null,{"$f":"'Rents & Operations'!S63","v":0},0,0]
[null,null,null,null,null,null,null,null,null,null,null,null,null,null,null,null,null,null,null,null,null,null,null,null,null,null,null,null,null,null,37,"PROPERTY & LIABILITY INSURANCE . . . . . . . . ",null,null,{"$f":"'Rents & Operations'!S64","v":8800},8800,8800]
[null,null,null,null,null,null,null,null,null,null,null,null,null,null,null,null,null,null,null,null,30,"NET CASH (DEFICIT)  (15 - 29)  . . . . . . . . . . . . . . . . . . . . . . . . . . ",null,null,{"$f":"Y33-Y50","v":4023.2540017744177},{"$f":"Z33-Z50","v":-168649.67583574631},{"$f":"AA33-AA50","v":2142.2925750461291},null,null,null,38,"FIDELITY COVERAGE INSURANCE  . . . . . . . . . .",null,null,{"$f":"'Rents & Operations'!S65","v":100},100,100]
[null,null,null,null,null,null,null,null,null,null,null,null,null,null,null,null,null,null,null,null,"CASH BALANCE",null,null,null,null,null,null,null,null,null,39,"OTHER INSURANCE  . . . . . . . . . . . . . . . . . . . . . . . .",null,null,{"$f":"'Rents & Operations'!S66","v":0},0,0]
[null,null,null,null,null,null,null,null,null,null,null,null,null,null,null,null,null,null,null,null,31,"BEGINNING CASH BALANCE  . . . . . . ",null,null,{"$f":"'Rents & Operations'!I67","v":0},null,null,null,null,null,40,"SUB-TOTAL TAXES & INSURANCE (34 thru 39)  . . . . . . . .",null,null,{"$f":"SUM(AI48:AI53)","v":27650},{"$f":"SUM(AJ48:AJ53)","v":27650},{"$f":"SUM(AK48:AK53)","v":27650}]
[null,null,null,null,null,null,null,null,null,null,null,null,null,null,null,null,null,null,null,null,32,"ACCRUAL TO CASH ADJUSTMENT . . . . . . . ."]
[null,null,null,null,null,null,null,null,null,null,null,null,null,null,null,null,null,null,null,null,33,"ENDING CASH BALANCE (30+31+32) . . . . . . . . ",null,null,{"$f":"'Rents & Operations'!I69","v":0},null,null,null,null,null,41,"TOTAL O & M EXPENSES  (11+18+33+40)   . . . . . . . . .",null,null,{"$f":"SUM(AI22,AI30,AI46,AI54)","v":140051},{"$f":"SUM(AJ22,AJ30,AJ46,AJ54)","v":140051},{"$f":"SUM(AK22,AK30,AK46,AK54)","v":140051}]

{"sheet":"9% Rent Floor Counties","index":28,"n_rows":0,"n_cols":0,"rows_kept":0,"cut":false,"hidden":true,"merged":[]}

{"sheet":"QA","index":29,"n_rows":45,"n_cols":5,"rows_kept":45,"cut":false,"hidden":true,"merged":[]}
[]
[]
[]
[null,null,null,null,"Yes"]
[null,"Quality Assurance Questions","Yes\nNo","Comments: ","No"]
[1,"Appliant/Borrower has meet eligiblity requirements?","Yes"]
[2,"Borrower Entity properly organized?","Yes"]
[3,"Application complete?","Yes"]
[4,"Capital Needs Assessment approved and final?","Yes"]
[5,"Purchase and sales contract finalized based on underwriting and security values?"]
[6,"All RD loans verified and balances correct?"]
[7,"All funding Sources committed and verified with Participating Lending Partners?"]
[8,"All Uses/Expenses have been verified  and approved by the Agency and reviewed for consistancy with Participating Partners?"]
[9,"All cash accounts have been reconcilled and described in transaction?  General operating, Security Deposits, Taxes and Insurance and Replacement Reserve."]
[10,"Appraisal has been reviewed and approved by Agency"]
[11,"All Thresholds have been meet?  If not provide explanation for each threshold not met."]
[12,"Expenses to be paid by Transferor and Transferee are detailed?"]
[13,"MFIS Classification:"]
[14,"Date of last supervisory visit:"]
[15,"Date of last walk-about physical inspection:"]
[16,"Date of last compliance review:"]
[17,"Accessibility issues inclucded in Scope of Work          Estimated cost to correct:"]
[18,"Scope of Work Approved by Architect"]
[19,"The loan account is current."]
[20,"The reserve account is on schedule, less authorized withdrawals."]
[21,"The taxes and insurance account is on schedule and all outstanding bills paid."]
[22,"The security deposit account if fully funded."]
[23,"There are no outstanding maintenance items."]
[24,"Management is satisfactory."]
[25,"There are no open OIG audit findings or investigations against the borrower or related entities."]
[26,"All necessary repairs to assure that the housing will be decent, safe and sanitary, and other improvements proposed by the applicant to enhance long-term viability of the housing agreed to by USDA."]
[27,"Open Findings/Violations Addressed"]
[28,"Reserve Account withdrawl history reviewed - Stay in Owner"]
[29,"PRJS4000 - Status of Vacant Units Reviewed"]
[30,"Is 3560-7 reasonable based on actuals and rehab prooposed?"]
[31,"Does Transfer/MPR budget reflect transaction?"]
[32,"Are rents within Lower of LIHTC/CRCU?"]
[33,"Is Owner RA being established for non RA Tenants based on rent increase?"]
[34,"All cash accounts have been reconcilled and described in transaction?  General operating, Security Deposits, Taxes and Insurance and Replacement Reserve."]
[35,"Note any special transfer and assumption approval conditions recommended: "]
[]
[null,"I recommend that this transaction be approved.\n\n\nDate Recommended by:    \n\n\n(Title)\n"]
[]
[]
[null,"I recommend that this application be approved.\n\n\nDate Approved by:    \n\n\n(Title)\n"]

{"sheet":"QA Analysis","index":30,"n_rows":83,"n_cols":4,"rows_kept":83,"cut":false,"hidden":true,"merged":[[0,0,0,1],[1,0,2,1],[1,3,5,7]]}
["Transaction Name ",null,{"$f":"GeneralInfo!C6","v":"Forest View Apartments"}]
["QA and 3560-20 for Transfer Approval \nUWT templates as of DATE",null,{"$f":"GeneralInfo!C9","v":"123 Affordable Lane, Somewhere City, GA 30222"},"This Page is Under Development"]
[null,null,{"$f":"GeneralInfo!D18","v":"Fulton County"}]
[]
["Transferee",null,{"$f":"GeneralInfo!C8","v":"New Forest View Apartments LLLP"}]
["Transferor",null,{"$f":"GeneralInfo!H6","v":"Forest View Limited Partnership"}]
["Project Address",null,{"$f":"GeneralInfo!C9","v":"123 Affordable Lane, Somewhere City, GA 30222"}]
["Date of Closing for Transfer",null,"Date"]
["Reason for Transfer"]
[]
["  LOAN INFORMATION AND PROJECT INFORATION SUMMARY"]
[]
["Total Physical Units",{"$f":"SUM(C13:Q13)","v":36},36]
["Revenue Units",35,{"$f":"'Rents & Operations'!E18","v":35}]
["RA Units",35,{"$f":"GeneralInfo!I28","v":35}]
["Section 8 Units",0,{"$f":"GeneralInfo!I29","v":0}]
["Non-subsidized Units",0,{"$f":"C14-C15-C16","v":0}]
["Operating Deficit Reserve Required by Lender",79000,79000]
["Private RA",0,{"$f":"C17*C22*15","v":0}]
["Post-transfer rents lesser of LIHTC/CRCU",{"$f":"AVERAGE(C20:Q20)","v":0},{"$f":"C29/C28-1","v":0}]
["Post Transfer Rent Change %",{"$f":"AVERAGE(C21:Q21)","v":0.11685393258426968},{"$f":"C29/C26-1","v":0.11685393258426968}]
["Post Transfer Rent Increase",{"$f":"AVERAGE(C22:Q22)","v":59.428571428571445},{"$f":"C29-C26","v":59.428571428571445}]
[]
["% non-subsidized tenants",null,{"$f":"C17/C14","v":0}]
[]
["Pre-transfer rents PUPM",{"$f":"AVERAGE(C26:Q26)","v":508.57142857142856},{"$f":"'Rents & Operations'!G18","v":508.57142857142856}]
["LIHTC Rents",{"$f":"AVERAGE(C27:Q27)","v":688},{"$f":"'Rents & Operations'!H18","v":688}]
["CRCU rents PUPM",{"$f":"AVERAGE(C28:Q28)","v":568},{"$f":"'Rents & Operations'!I18","v":568}]
["Post-transfer rents PUPM",{"$f":"AVERAGE(C29:Q29)","v":568},{"$f":"'Rents & Operations'!J18","v":568}]
[]
["SOURCES AND USES INFORMATION"]
["RD Loans Assumed",{"$f":"AVERAGE(C32:Q32)","v":0},{"$f":"'Sources & Uses'!C104","v":0}]
["MPR Deferral - PreCredit Reform Only",{"$f":"AVERAGE(C33:Q33)","v":{"$error":"#DIV/0!"}}]
["MPR Zero Percent Loan",{"$error":"#DIV/0!"}]
["MPR Soft Second Loan",{"$error":"#DIV/0!"}]
["MPR Grant - NonProfit Only",{"$error":"#DIV/0!"}]
["MPR 514/516 Loan FLH Only",{"$error":"#DIV/0!"}]
["MPR 515 Subsequent Loan",{"$error":"#DIV/0!"}]
["538 loan amount",{"$f":"SUM(C39:Q39)","v":0},{"$f":"'Sources & Uses'!C9","v":0}]
["Tax Credit Equity Proceeds",0,{"$f":"'Sources & Uses'!C23","v":0}]
["State Tax Credit Proceeds",0,{"$f":"'Sources & Uses'!C26","v":0}]
["Hard Cost Construction",130498,{"$f":"'Sources & Uses'!D84","v":130498}]
["Total Development Cost",0,{"$f":"'Sources & Uses'!D108","v":0}]
["Deferred Developer Fee",1136127,{"$f":"'Sources & Uses'!C27","v":1136127}]
["Developer Fee",285557,285557]
[]
["Rent Loss:"]
["   Underwritten",{"$f":"AVERAGE(C48:Q48)","v":5.6399999999999999E-2},{"$f":"'Rents & Operations'!J20","v":5.6399999999999999E-2}]
["   Budgeted",{"$f":"AVERAGE(C49:Q49)","v":5.6399999999999999E-2},{"$f":"DashData!E47","v":5.6399999999999999E-2}]
["Vacancy Loss 3 yr Avg Actual",{"$f":"AVERAGE(C50:Q50)","v":5.57E-2},{"$f":"'Rents & Operations'!G20","v":5.57E-2}]
[]
["O&M Expenses:",{"$f":"B53/B54-1","v":-9.3902241775304818E-2},{"$f":"C53/C54-1","v":-9.3902241775304818E-2}]
["    Underwritten (per unit)",{"$f":"AVERAGE(C53:Q53)","v":4001.457142857143},{"$f":"'Rents & Operations'!W69","v":4001.457142857143}]
["     Average 2 Years Actual (per unit)",{"$f":"AVERAGE(C54:Q54)","v":4416.1428571428569},{"$f":"'Rents & Operations'!V69","v":4416.1428571428569}]
["    State Average",{"$f":"AVERAGE(C55:Q55)","v":3041.516513513513},{"$f":"'Rents & Operations'!X69","v":3041.516513513513}]
[]
[" Reserve Analysis:"]
["Reserve balance"]
["Beginning Balance at Closing"]
["   Underwritten ADRR",{"$f":"AVERAGE(C60:Q60)","v":8500},8500]
["   2014 Budget ADRR",{"$f":"AVERAGE(C61:Q61)","v":8930},8930]
["    Additional Deposit to Reserve at Closing",{"$f":"AVERAGE(C62:Q62)","v":0},0]
["CNA Needs - 20-year, per unit (inflated)",{"$f":"AVERAGE(C63:Q63)","v":12410.597216096698},12410.597216096698]
[]
["DSCR Meets requirements",{"$f":"AVERAGE(C65:Q65)","v":1.1599999999999999E-2},{"$f":"DashData!D15/100","v":1.1599999999999999E-2}]
[]
["RTO"]
["     Assumed (Prior) RTO",{"$f":"AVERAGE(C68:Q68)","v":30000},{"$f":"GeneralInfo!D28","v":30000}]
["     New RTO",{"$f":"AVERAGE(C69:Q69)","v":5767.28},{"$f":"DashData!D27","v":5767.28}]
["     Increase",{"$f":"AVERAGE(C70:Q70)","v":-24232.720000000001},{"$f":"C69-C68","v":-24232.720000000001}]
[]
[]
["Proposed monthly debt service on third party loan",null,{"$f":"'Rents & Operations'!I58/12","v":2847.0838468732727}]
[]
["Sales Price and Equity Review"]
["Sales Price",{"$f":"SUM(C76:Q76)","v":144000},{"$f":"'Sources & Uses'!D106","v":144000}]
["   Net sales proceeds to seller",{"$f":"SUM(C77:Q77)","v":144000},{"$f":"DashData!D34","v":144000}]
["\"As-is, conventional market value\"",1375000,{"$f":"DashData!D37","v":1375000}]
["Non-excess Reserve account",30000,{"$f":"DashData!D36","v":30000}]
["Total conventional market value",1405000,{"$f":"C78+C79","v":1405000}]
["515 loan assumption",-1124909,{"$f":"-DashData!D33","v":-1124909}]
["Maximum Equity Based Upon Appraisal",280091,{"$f":"SUM(C80,C81)","v":280091}]
["Equity to seller",144000,{"$f":"DashData!D34","v":144000}]

{"sheet":"XferArchivePreMPR","index":31,"n_rows":69,"n_cols":26,"rows_kept":69,"cut":false,"hidden":true,"merged":[[13,2,13,3],[13,11,13,12],[13,13,13,14],[13,15,13,16],[13,17,13,18],[12,2,12,3],[12,11,12,12],[12,13,12,14],[12,15,12,16],[12,17,12,18],[14,17,14,18],[15,2,15,3],[15,11,15,12],[15,13,15,14],[15,15,15,16],[15,17,15,18],[14,2,14,3],[14,11,14,12],[14,13,14,14],[14,15,14,16],[16,2,16,3],[16,11,16,12],[16,13,16,14],[16,15,16,16],[16,17,16,18],[17,2,17,3],[22,21,22,23],[18,2,18,5],[19,10,19,12],[21,12,22,15],[21,17,22,17],[21,18,22,18],[22,2,22,5]]}
[]
[null,null,null,null,"Select The State and County / Town from List to Display LIHTC Limits"]
[609,null,null,null,"(Currently Displaying  Calculations Based Upon 2014 HUD Data LIHTC)",null,null,null,null,"Utility Allowance",null,"1 BR","2 BR","3 BR","4 BR"]
[null,null,null,null,null,null,null,null,null,null,"Per Unit",128,142,153]
[null,null,null,null,null,null,null,null,null,null,null,null,null,null,"Enter AMI % for below if applicable",null,null,null,"Enter AMI % for below if applicable"]
[null,null,null,null,"GEORGIA","Fulton County",null,"Fulton County",null,"(Validate All with Local HFA)",null,null,null,"(Enter values for Additional Target AMI Levels)"]
[null,null,null,null,"HUD Median Income (AMI)","50% AMI 1BR","50% AMI\n 2BR","50% AMI 3BR","50% AMI\n 4BR","60% AMI 1BR","60% AMI 2BR","60% AMI 3BR","60% AMI 4BR","0% AMI 1BR","0% AMI 2BR","0% AMI 3BR","0% AMI 4BR","0% AMI 1BR","0% AMI 2BR","0%  AMI 3BR","0%  AMI 4BR"]
[null,null,null,null,64400,604,725,837,935,725,870,1005,1122]
[null,null,null,null,"Total Utility Allowance",128,142,153,0,128,142,153,0]
[null,null,null,null,"Net LIHTC Rents",476,583,684,935,597,728,852,1122]
[null,null,null,null,"Total Revenue Units\n Per AMI % ",6,0,0,0,4,20,5,0,0,0,0,0,0,0,0,0]
[]
[null,null,"Summary",null,"Post Transfer Rev Units","Pre Transfer Rev Units","Pre Transfer Rents","Weighted Avg LIHTC Rents Elected ","CRCU \"As Prospective Appraisal\"","Post Transfer Rents","LIHTC Rents",0.5,null,0.6,null,0,null,0,null,null,null,null,null,"Rents Reduced for Debt Deferral:",false,"Pre- Debt Deferral Rents"]
[null,null,"1 Br Units",null,10,10,471,524.4,500,500,"1 Br Units","$476 -  6 units",null,"$597 -  4 units",null,null,null,null,null,null,null,null,500,0,500,499]
[null,null,"2 Br Units",null,20,20,511,728,575,575,"2 Br Units",null,null,"$728 -  20 units",null,null,null,null,null,null,null,null,575,0,575,574]
[null,null,"3 Br Units",null,5,5,574,852,675,675,"3 Br Units",null,null,"$852 -  5 units",null,null,null,null,null,null,null,null,675,0,675,674]
[null,null,"4 Br Units",null,null,null,null,null,null,0,"4 Br Units",null,null,null,null,null,null,null,null,null,null,null,0,0,0,0]
[0.1,null,"TOTAL",null,35,35,508.57,688,568,568,null,null,null,null,true,null,null,null,null,null,null,null,null,null,5767.28,567]
[5.57E-2,null,"Maximum Vacancy Loss & Bad Debt  10.0%  Minimum Vacancy Loss & Bad Debt  05.6%",null,null,null,"(Avg Vacancy last 3 yrs plus 2%)","Lenders Required Vacancy","HFA's Required Vacancy","Underwritten Vacancy & Bad Debt","Rents Higher than Needed for Cash Flow by $0"]
[null,null,null,null,null,null,5.57E-2,7.0000000000000007E-2,7.0000000000000007E-2,5.6399999999999999E-2,null,null,null,"100.00% RA","35 Number RA Units"]
[null,null,"From Form RD 3560-7",null,null,null,null,null,null,null,null,null,"PART II - OPERATING AND MAINETNANCE EXPENSE SCHEDULE",null,null,null,null,null,null,null,null,12]
[null,null,null,null,null,null,null,null,null,null,null,null,"Project(s)  Below  FOREST VIEW APTS               ",null,null,null,2015,"Avg Last 2 yrs ACTUAL","PROPOSED","COMMENTS",null,"Select State To Display"]
[null,null,"Project(s)  Below  FOREST VIEW APTS               ",null,null,null,null,null,null,null,null,null,null,null,null,null," CURRENT \nBUDGET",null,null,"or (YTD)",null,"Select State Average To Display  2013  Actuals for Project & State"]
[null,null,"PART I - CASH FLOW STATEMENT",null,null,null,null,null,null,null,null,null,null,null,null,null,null,null,null,null,null,"Project Actuals 2014","Project Underwritten","State Avg"]
[null,null,null,null,null,null,"CURRENT",null,"PROPOSED","COMMENTS ",null,null,1,"MAINTENANCE AND REPAIRS PAYROLL   . . .",null,null,20050,18778.5,19450,null,null,549.91,555.71]
[null,null,null,null,null,null,"BUDGET","ACTUAL","BUDGET","or YTD",null,null,2,"MAINTENANCE AND REPAIRS SUPPLY  . . . . . .",null,null,5500,12389,5500,null,null,329.09,157.13999999999999]
[null,null,null,null,null,null,2015,"Avg Last 2","Underwritten","(   -   -   )",null,null,3,"MAINTENANCE AND REPAIRS CONTRACT   .",null,null,3000,3451.5,3000,null,null,126.31,85.71]
[null,null,null,null,null,null,null,"Yrs",null,"(   -   -   )",null,null,4,"PAINTING AND DECORATING   . . . . . . . . . . . . . .",null,null,4000,1870,2000,null,null,13.57,57.14]
[null,null,"OPERATIONAL CASH SOURCES",null,null,null,null,null,"(12 Month Budget)",null,null,null,5,"SNOW REMOVAL   . . . . . . . . . . . . . . . . . . . . . . . . ",null,null,0,0,null,null,null,0,0]
[null,null,1,"RENTAL INCOME . . . . . . . . . . . . . . . . . . . . . . . . . . . . . . . .",null,null,215700,129305.5,238500,"COMMENTS ",null,null,6,"ELEVATOR MAINTENANCE/CONTRACT   . . . . ",null,null,0,0,null,null,null,0,0]
[null,null,2,"RHS RENTAL ASSISTANCE RECEIVED  . . . . . . . ",null,null,null,77229.5,null,null,null,null,7,"GROUNDS   . . . . . . . . . . . . . . . . . . . . . . . . . . . . ",null,null,7500,8145,7500,null,null,238.34,214.29]
[null,null,3,"APPLICATION FEES RECEIVED . . . . . . . . . . . . ",null,null,0,247.5,null,null,null,null,8,"SERVICES  . . . . . . . . . . . . . . . . . . . . . . . . . . . . . .  . . . ",null,null,1665,1669,1632,null,null,46.63,46.63]
[null,null,4,"LAUNDRY AND VENDING . . . . . . . . . . . . . . . . . . . . . . . . ",null,null,180,80,null,null,null,null,9,"CAPITAL BUDGET (Part V operating) ",null,null,0,0,null,null,null,0,0]
[null,null,5,"INTEREST INCOME . . . . . . . . . . . . . . . . . . . . . . . . . . . . . . ",null,null,218,82,null,null,null,null,10,"OTHER OPERATING EXPENSES (Itemize)   . . . . .",null,null,1090,1290.5,1387,"1.0%   operations & incidentals",null,30.63,39.630000000000003]
[null,null,6,"TENANT CHARGES . . . . . . . . . . . . . . . . . . . . . . . . . . . . .",null,null,1042,2438.5,null,null,null,null,11,"SUB-TOTAL MAINT. & OPERATING (1 thru 10) . . . . . . . . . ",null,null,42805,47593.5,40469,null,null,1334.49,1156.26,968.09]
[null,null,7,"OTHER - PROJECT SOURCES . . . . . . . . . . . . . . . . . . . . . .",null,null,0,91.5]
[null,null,8,"LESS (Vacancy and Contingency Allowance) . . . . . . . . . . ",null,null,-10785,null,-13451.4,5.6399999999999999E-2,"Vacancy",null,12,"ELECTRICITY    . . . . . . . . ",null,null,10061,9447.5,9500,null,null,270.83,271.43]
[null,null,9,"LESS (Agency Approved Incentive Allowances). . . . . . . . . . . ",null,null,0,null,null,null,null,null,13,"WATER  . . . . . . . . . . ",null,null,979,907,970,null,null,25.83,27.71]
[null,null,10,"  SUB-TOTAL [(1 thru 7) - (8 & 9)] . . . . . . . . . . . . . . . . . . . . . . . . .",null,null,206355,209474.5,225048.6,null,null,null,14,"SEWER  . . . . . . . . . . . . . . . .",null,null,878,835.5,880,null,null,23.11,25.14]
[null,null,"NON-OPERATIONAL CASH SOURCES",null,null,null,null,null,null,null,null,null,15,"FUEL (Oil/Coal/Gas)  . . . . . . . . . . . . . . . . . . . . . . . . ",null,null,0,0,null,null,null,0,0]
[null,null,11,"CASH - NON PROJECT  . . . . . . . . . . . . . . . . . . . . . . . . . ",null,null,0,0,null,null,null,null,16,"GARBAGE & TRASH REMOVAL  . . . . . . . . . . . . ",null,null,2734,2531,2520,null,null,73,72]
[null,null,12,"AUTHORIZED LOAN (Non-RHS). . . . . . . . . . . . . . . . .",null,null,0,0,null,null,null,null,17,"OTHER UTILITIES    . . . . . . . . . . . . . . . . . . . . . . . . .",null,null,0,0,null,null,null,0,0]
[null,null,13,"TRANSFER FROM RESERVE . . . . . . . . . . . . . . . . . . . . .",null,null,41200,34897,null,null,null,null,18,"SUB-TOTAL UTILITIES (12 thru 17) . . . . . . . . . . . . . . . . . .",null,null,14652,13721,13870,null,null,392.77,396.29,455.96]
[null,null,14,"   SUB-TOTAL (11 thru 13)  . . . . . . . . . . . . . . . . . . . . . . . . . . . . . . . ",null,null,41200,34897,0]
[null,null,null,null,null,null,null,null,null,null,null,null,19,"SITE MANAGEMENT PAYROLL  . . . . . . . . . . .",null,null,20080,18046,7000,null,null,512.69000000000005,200]
[null,null,15,"TOTAL CASH SOURCES (10 + 14)   . . . . . . . . . . . . . . . . . . . . . . . ",null,null,247555,244371.5,225048.6,null,null,null,20,"MANAGEMENT FEE",null,null,19320,18312,23100,55,"PUMP",521.29,660]
[null,null,"OPERATIONAL  CASH USES",null,null,null,null,null,null,null,null,null,21,"PROJECT AUDITING EXPENSE  . . . . . . . . . . . . . .",null,null,4374,4374,4375,null,null,124.97,125]
[null,null,16,"TOTAL O&M EXPENSES (From Part II) . . . . . . . . . . . . . . . . . . . .",null,null,157877,153583,140051,null,null,null,22,"COMPUTER EXPENSE & UPDATES",null,null,0,0,null,null,null,0,0]
[null,null,17,"RHS DEBT PAYMENT . . . . . . . . . . . . . . . . . . . . . . . . . . . .",null,null,30584,30584,28598.675835746319,null,null,null,23,"LEGAL EXPENSES  . . . . . . . . . . . . . . . . . . . . . . . . .",null,null,500,176,300,null,null,1.46,8.57]
[null,null,18,"RHS PAYMENT (Overage)  . . . . . . . . . . . . . . ",null,null,null,32.5,null,null,null,null,24,"ADVERTISING  . . . . . . . . . . . . . . . . . . . . . . . . . . . ",null,null,500,202.5,300,null,null,5.8,8.57]
[null,null,19,"RHS PAYMENT (Late Fee)  . . . . . . . . . . . .",null,null,null,0,null,null,null,null,25,"TELEPHONE & ANSWERING SERVICE  . . . . . . ",null,null,2300,2322.5,2300,null,null,62.91,65.709999999999994]
[null,null,20,"REDUCTION IN PRIOR YEAR PAYABLES . . . . . ",null,null,null,0,null,null,null,null,26,"OFFICE SUPPLIES . . . . . . . . . . . . . . . . . . . . . . . . . . . ",null,null,2000,1901,2000,null,null,53.46,57.14]
[null,null,21,"TENANT UTILITY PAYMENTS . . . . . . . . . . . . . . .",null,null,null,3233.5,null,null,null,null,27,"OFFICE FURNITURE & EQUIPMENT  . . . . . . . . ",null,null,0,0,null,null,null,0,0]
[null,null,22,"TRANSFER TO RESERVE . .  . . . . . . . . . . . . . . . ",null,null,11970,22273.5,12500,null,null,null,28,"TRAINING EXPENSE  . . . . . . . . . . . . . . . . . . . . . . .",null,null,2000,1898,1800,null,null,55.23,51.43]
[null,null,23,"RETURN TO OWNER . . . . . . . . . . . . . . . . . . . . . . . . ",null,null,5040,5040,5767.28,"Calculated:",5767.28,null,29,"HEALTH INS. & OTHER EMP. BENEFITS  . . . . . .",null,null,12336,12019.5,11500,null,null,373.06,328.57]
[null,null,24,"  SUB-TOTAL (16 thru 23)  . . . . . . . . . . . . . . . . . . . . . . . . . . . . . . . .",null,null,205471,214746.5,186916.95583574631,null,null,null,30,"PAYROLL TAXES  . . . . . . . . . . . . . . . . . . . . . . . . . .",null,null,3612,3117.5,3080,null,null,89,88]
[null,null,"NON-OPERATIONAL CASH USES",null,null,null,null,null,null,null,null,null,31,"WORKER'S COMPENSATION  . . . . . . . . . . . . . . .",null,null,1283,1632,1357,null,null,60.74,38.770000000000003]
[null,null,25,"AUTHORIZED DEBT PAYMENT (Non-RHS) . . . . . . . .",null,null,0,0,34165.006162479272,null,null,null,32,"OTHER ADMINISTRATIVE EXPENSES (Itemize)  ",null,null,1113,908.5,950,null,null,29.23,27.14]
[null,null,26,"LONG-TERM IMPROVEMENTS . . . . . . . . . . . . . . . . . . . ",null,null,41200,34897,null,null,null,null,33,"SUB-TOTAL ADMNSTRATVE (19 thru 32) . . . . . . . . . . . . .",null,null,69418,64909.5,58062,null,null,1889.83,1658.91,1146.79]
[null,null,27,"MISCELLANEOUS . . . . . . . . . . . . . . . . . . . . . . . . . . . . . . .",null,null,0,0]
[null,null,28,"  SUB-TOTAL (25 thru 27) . . . . . . . . . . . . . . . . . . . . . . . . . . . . . . . . ",null,null,41200,34897,34165.006162479272,null,null,null,34,"REAL ESTATE TAXES  . . . . . . . . . . . . . . . . . . . . . .",null,null,20310,18459.5,18500,null,null,507.57,528.57000000000005]
[null,null,null,null,null,null,null,null,null,null,null,null,35,"SPECIAL ASSESSMENTS  . . . . . . . . . . . . . . . . . . . .",null,null,300,225,250,null,null,7.14,7.14]
[null,null,29,"TOTAL CASH USES  (24 + 28) . . . . . . . . . . . . . . . . . . . . . . . . . . .",null,null,246671,249643.5,221081.9619982256,null,null,null,36,"OTHER TAXES, LICENSES & PERMITS  . . . . . . . ",null,null,0,0,null,null,null,0,0]
[null,null,null,null,null,null,null,null,null,null,null,null,37,"PROPERTY & LIABILITY INSURANCE . . . . . . . . ",null,null,10201,8674.5,8800,null,null,284.33999999999997,251.43]
[null,null,30,"NET CASH (DEFICIT)  (15 - 29)  . . . . . . . . . . . . . . . . . . . . . . . . . . ",null,null,884,-5272,3966.6380017744086,2.8322810988671333E-2,null,null,38,"FIDELITY COVERAGE INSURANCE  . . . . . . . . . .",null,null,191,0,100,null,null,0,2.86]
[null,null,"CASH BALANCE",null,null,null,null,null,null,null,null,null,39,"OTHER INSURANCE  . . . . . . . . . . . . . . . . . . . . . . . .",null,null,0,0,null,null,null,0,0]
[null,null,31,"BEGINNING CASH BALANCE  . . . . . . ",null,null,25372,33726.5,null,null,null,null,40,"SUB-TOTAL TAXES & INSURANCE (34 thru 39)  . . . . . . . .",null,null,31002,27359,27650,null,null,799.06,790,551.55999999999995]
[null,null,32,"ACCRUAL TO CASH ADJUSTMENT . . . . . . . .",null,null,null,-6674.5]
[null,null,33,"ENDING CASH BALANCE (30+31+32) . . . . . . . . ",null,null,26256,21780,null,null,null,null,41,"TOTAL O & M EXPENSES  (11+18+33+40)   . . . . . . . . .",null,null,157877,153583,140051,null,null,4416.1400000000003,4001.46,3041.52]

{"sheet":"FY Comparisons FY12_FY13","index":32,"n_rows":56,"n_cols":16,"rows_kept":56,"cut":false,"hidden":true,"merged":[[0,10,0,11],[0,12,1,12],[0,13,0,14],[0,15,1,15],[0,1,0,2],[0,3,1,3],[0,4,0,5],[0,6,1,6],[0,7,0,8],[0,9,1,9]]}
["STATE","11. SUB-TTL O@M (1 THRU 10)",null,"Percent Inc/Dec","18. SUB-TTL UTIL. (12 THRU 17)",null,"Percent Inc/Dec","33. SUB-TTL ADMIN (19 THRU 32)",null,"Percent Inc/Dec","40. SUB-TTL TX/IN (34 THRU 39)",null,"Percent Inc/Dec","41. TTL O@M EXPS (11+18+33+40)",null,"Percent Inc/Dec"]
[null,2012,2013,null,2012,2013,null,2012,2013,null,2012,2013,null,2012,2013]
["ALABAMA ",1209.6204394193383,1231.6230000000003,{"$f":"VALUE(C3/B3)","v":1.0181896402074886},515.04476575424906,528.25169683257934,{"$f":"VALUE(F3/E3)","v":1.0256422974398927},1321.2359720113845,1305.9174149659855,{"$f":"VALUE(I3/H3)","v":0.98840588859983969},562.28581109065863,594.41947845805021,{"$f":"VALUE(L3/K3)","v":1.0571482807027663},3608.1869882756282,3500.287679558011,{"$f":"VALUE(O3/N3)","v":0.97009597643685785}]
["ALASKA ",2221.04128374114,1794.2960606060601,0.80786254345697406,2786.2041084929265,2190.5383870967748,0.78620887120924154,2315.6023752540914,2237.7972727272722,0.96639962743245955,1087.9880760861342,1094.369090909091,1.0058649676069167,8410.8358435742939,6297.7815789473689,0.7487700028955796]
["ARIZONA ",1584.9471524762719,1609.5966666666666,1.0155522625166922,820.35719933738221,824.92981651376112,1.0055739343545376,1877.3742238976795,1906.5859433962257,1.0155598809905353,920.33326145970216,789.637102803738,0.85799039964211177,5203.0118371710359,4545.2842105263153,0.87358713621487005]
["ARKANSAS ",1264.5224488063025,1188.0263823529424,0.93950596406922493,580.36336631383506,594.96583577712613,1.0251609083392674,1227.6754103936112,1268.1240762463349,1.0329473617458504,557.72938935287289,582.78768328445778,1.0449291258627409,3628.4882441637819,3566.7812101910831,0.98299373462985551]
["CALIFORNIA ",1607.4260285175565,1499.9527293064866,0.93313950545507418,1175.56765096195,1196.4587004405282,1.0177710312643287,2089.6069635513795,2109.2520094562642,1.0094013114655289,506.17848896769891,489.8620779220779,0.96776549892727226,5378.7791319985818,5004.0798947368421,0.93033749331095639]
["COLORADO ",1635.7677214008197,1717.842083333333,1.0501748266937481,1045.6514967057074,1077.9963114754098,1.0309326911228107,1732.4036998235172,1772.9029508196718,1.0233774904776989,431.92315799163191,434.1518852459015,1.0051600087030128,4845.7460759216738,5004.9313978494602,1.0328505289863974]
["CONNECTICUT ",1788.8603692795657,1902.5888524590159,1.0635759420536846,1247.5424126015139,1219.1472131147539,0.97723909087183081,1522.0989052866191,1556.2039344262296,1.0224065788505303,1052.4967636876149,1105.2530645161291,1.0501249055091371,5610.9984508553134,5498.4312500000005,0.97993811585562751]
["DELAWARE ",1422.3988632952528,1376.7341666666664,0.96789599752435429,935.53188145473791,985.54816326530602,1.0534629367550719,1906.3436920414283,1934.4681249999992,1.0147530757837553,702.26131095195819,759.11795918367363,1.0809622391907689,4966.535747743379,4894.8188571428564,0.98555997696520992]
["FLORIDA ",1448.0717404459326,1390.277985436893,0.96008916312996895,497.73707518559235,501.36137440758296,1.0072815536609148,1551.5956357778934,1560.4439712918652,1.0057027329221222,876.22490160889993,918.06450000000029,1.0477498394696108,4373.6293530183193,4165.821012658228,0.95248606509907408]
["GEORGIA ",1017.1912608321575,968.08627118644029,0.95172491984885443,471.45349420684624,455.96216867469877,0.96714134962938514,1212.6693771226398,1146.7892512077294,0.94567346454214307,580.3847036360504,551.56253012048194,0.95033953628515622,3281.6988357976916,3041.516513513513,0.92681158927071483]
["GUAM ",865.08163265306121,1190.6300000000001,1.3763209794993987,3764.5102040816328,3740.5714285714284,0.99364093222957695,2703.1428571428573,2673.04,0.98886375647394553,190.83673469387756,211.47,1.1081199871671479,7523.5714285714284,7815.7142857142853,1.0388303427323649]
["HAWAII ",2377.8637362339855,2055.5859090909094,0.86446749566335812,1265.7587320069767,1322.9428,1.045177699783554,2563.091333561284,2773.0752173913038,1.0819260246720346,755.14133965414123,675.67880000000002,0.89477130242858183,6927.5305351084708,7065.8449999999993,1.0199659119783819]
["IDAHO ",1271.3247335003796,1298.2019879518073,1.0211411402163362,769.26768688420384,826.48377245508982,1.0743773416541524,1559.3479661797865,1541.9290963855424,0.98882938883941462,605.03229708127321,603.62526946107755,0.99767445865785465,4204.972683645643,4218.5402112676074,1.0032265435813015]
["ILLINOIS ",1411.5025512237019,1417.3348780487818,1.0041319987838659,587.75915827941174,599.98500934579488,1.0208007836103699,983.22459629129082,932.09723684210599,0.94800032501013853,700.55597437296103,712.6572336448603,1.0172737935505163,3675.6526389647715,3620.9781091617897,0.98512521851945711]
["INDIANA ",1031.7455573564168,1040.0518354430383,1.0080507040009983,655.81072689309053,707.89077405857722,1.0794132285884015,1143.1818769295855,1166.7525732217578,1.0206185006671726,573.7751157504897,598.24280334728019,1.0426433404397246,3404.5132769295792,3438.5033634311521,1.0099838313840348]
["IOWA ",1179.2491527379932,1247.7311682242989,1.0580725585660193,624.69527382581191,679.25266355140195,1.087334404487271,959.24015759283668,1007.8062383177573,1.0506297409887371,624.26858428255775,636.66707943925292,1.0198608346933622,3383.1279819430147,3556.6975980392149,1.0513044782883192]
["KANSAS ",1104.0532377006084,1142.1777647058821,1.0345314208621632,658.95009090586439,682.89054901960776,1.0363312160422229,1155.8334287067109,1106.0877952755914,0.95696124355325041,653.70496780786846,663.1068235294116,1.0143824143681688,3572.5417251210511,3559.4263524590169,0.99632883989295051]
["KENTUCKY ",911.38164461543056,929.19061611374411,1.019540629991323,555.73720221471854,583.87774881516543,1.050636427592577,1257.6487984270104,1262.0655213270156,1.0035118889355512,489.55702304518235,564.47220379146927,1.1530264651915183,3214.3246683023449,3286.0378195488761,1.0223104877841749]
["LOUISIANA ",1559.7656342856033,1582.1392204301069,1.014344197392675,484.85304447928257,486.66228723404237,1.0037315280895118,1609.8540554914825,1665.2353191489358,1.0344014188544226,661.34003752294097,650.53143617021283,0.9836565144411763,4311.7768806455033,4268.8352233676951,0.99004084430468497]
["MAINE ",2949.5838630976709,2225.0907118644072,0.75437445251263457,1247.4382440803813,1236.6433892617445,0.99134638137810593,1304.6834665168926,1329.104515050167,1.0187179872819812,1035.2671230451126,1077.6540468227429,1.0409429825733809,6533.1525228542769,5635.7014285714295,0.86263123489871341]
["MARYLAND",1626.7163678858096,1627.5989032258067,1.0005425256408675,798.33355043590609,839.54211538461516,1.0516182301573176,1899.440053598292,1978.1067105263153,1.0414157092133534,759.93900364178762,764.90987179487206,1.0065411409721872,5084.4289755617974,4938.1468478260886,0.97122938909387646]
["MASSACHUSETTS ",3229.6049157503985,2694.0077586206899,0.83416016166012596,1419.1839654718415,1570.6563157894734,1.1067320051542939,1923.7206904859429,2020.4643859649123,1.0502898866542478,931.87323594364625,1021.0125862068963,1.0956560901472663,7504.3828076518266,6224.1200000000008,0.8293979877537152]
["MICHIGAN ",1080.0506965442153,1134.2570905587665,1.0501887496466535,840.1497244434554,873.72952290076455,1.0399688263655071,1350.1310365902298,1367.5698850574724,1.0129164118108749,812.12979761995007,837.31181297709929,1.0310073776765099,4082.4612551978516,4167.4230825242694,1.0208114228195657]
["MINNESOTA ",1169.5344402979263,1211.5532695984703,1.0359278255113549,888.9439543350602,980.16007619047593,1.102611780428437,1123.6382941148811,1129.0953714285715,1.0048566138607702,761.82478200328831,794.09007619047622,1.0423526445311262,3943.9414707511555,4064.0666129032206,1.0304581452445303]
["MISSISSIPPI ",1596.6744384591441,1544.1475381263615,0.96710231023459414,576.68003996083166,580.07624463519323,1.0058892356922779,1246.8205422013093,1257.5245708154505,1.0085850595589665,781.59273728325775,853.59665236051569,1.0921245958957304,4201.7677579045449,4140.9193733681414,0.98551838463181762]
["MISSOURI ",1234.1749309398224,1187.7626043405683,0.96239404525587702,766.34002589238128,818.22485000000006,1.0677047033360947,955.08124555611607,937.06161666666685,0.98113288374858942,434.60568908534788,441.01766666666674,1.0147535518801267,3390.2018914736664,3367.7886443661937,0.99338881641124621]
["MONTANA ",1153.9372995350916,1238.6102290076335,1.0733774092462871,874.79684494328615,864.34152671755726,0.98804828997021965,1261.8231465626855,1272.802558139535,1.0087012285412249,684.31028568498618,661.573282442748,0.96677383970711661,3974.8675767260502,3993.1532258064499,1.0046003165457555]
["NEBRASKA ",1263.3659789171777,1188.7137823834203,0.94091007848909991,890.50045854885286,935.71455958549222,1.050773809943141,965.45883602423953,988.92746113989642,1.0243082607356941,663.88097239851959,681.99652849740914,1.0272873554930191,3783.206245888789,3773.7869518716584,0.99751023512731651]
["NEVADA ",1710.7291045733245,1710.1069642857146,0.9996363303307656,888.29214991883202,888.55456140350873,1.0002954112390847,1898.3300556379945,1887.0435714285718,0.99405451956265345,582.20181795445853,559.85,0.96160812751669056,5079.5531280846108,5021.2058536585364,0.98851330560881923]
["NEW HAMPSHIRE ",2578.3963905086771,2567.5401234567898,0.99578952751723893,1689.7198860658139,1719.6384146341468,1.017706206108512,1502.2733967783515,1483.6310975609758,0.98759060816935562,1241.204776245934,1322.4820731707316,1.0654825847275771,7011.5944495987742,6966.9835999999996,0.99363755991316249]
["NEW JERSEY ",1526.785381907406,1532.5472580645157,1.0037738612285583,982.14243951579317,964.27269841269867,0.98180534677647724,1449.0022827740479,1441.4282258064516,0.99477291577961069,1668.4604079046894,1695.1962500000006,1.0160242592324304,5626.3905121019379,5504.758499999999,0.97838187522883135]
["NEW MEXICO ",1655.8695192119887,1496.266764705882,0.90361393053357242,795.2702648304512,783.96980582524259,0.98579041678665325,1809.7548035036964,1820.6600970873783,1.0060258403859845,571.65649850940611,581.61490384615377,1.0174202608781922,4832.5510860555423,4620.4070967741936,0.95610103535304658]
["NEW YORK ",1694.0260575090367,1727.2542105263169,1.0196149007684925,750.21466641492577,781.56930952380958,1.0417942283889479,1694.7775962052422,1711.6660096153869,1.0099649732495635,930.10839783142171,966.08279236276917,1.0386776365155104,5060.4947469620238,5130.342596153846,1.0138025732036882]
["NORTH CAROLINA ",1422.2612131533328,1408.6801353637907,0.99045106646800052,425.15013952073434,428.06023569023557,1.0068448670222283,1451.4397513138656,1472.3708417508406,1.0144209157962139,593.62727264840373,617.79072390572401,1.0407047525790345,3892.4783766363403,3824.1100225733626,0.98243577807051097]
["NORTH DAKOTA ",1130.1163736130679,1419.2270422535216,1.2558238030975031,1040.8531228439547,1126.6076760563376,1.0823887168422699,881.33807421076688,903.42091549295787,1.0250560391390853,645.91329557459096,631.47647887323978,0.97764898663603372,3682.3349885807697,4034.3535074626866,1.0955965494648248]
["OHIO ",1073.7346032596063,1003.6464402173915,0.93472487258076287,792.74360026842464,824.32869918699146,1.0398427674570594,1220.5300679630739,1255.5749322493236,1.0287128233921641,645.8769603209912,649.31241192411971,1.0053190496242832,3732.8852318120985,3530.4313103448267,0.94576476133208298]
["OKLAHOMA ",1448.0150476509132,1252.7448387096779,0.8651462847309368,439.74138797907727,439.90044,1.0003616944533096,1449.001511331777,1498.5667871485941,1.0342065038781509,657.62823415714752,682.65259999999989,1.0380524505230908,3994.3861811189145,3894.6146396396425,0.97502205922129348]
["OREGON ",1482.1160991611432,1545.5958381502885,1.0428304766577152,922.57265940237369,1010.7654651162796,1.0955944280540848,1779.6620989100572,1772.4892352941176,0.99596953622806683,326.81093218528821,362.36356321839082,1.1087865414885991,4508.4154793043617,4695.210256410257,1.0414324673409907]
["PENNSYLVANIA ",1407.5277444882529,1392.5653608247424,0.98936974157553781,940.49370958734767,964.0519322033897,1.0250487827572803,1646.5679770263537,1652.8085223367707,1.0037900319922941,859.32553894144462,887.31786440677968,1.0325747626444539,4850.720451311272,4605.8164795918346,0.94951183557625263]
["PUERTO RICO ",1228.6243196302653,1239.1979012345678,1.0086060331342654,198.84809176536973,196.2567816091954,0.98696839314288243,1906.2639090937937,1880.3636842105266,0.98641309592039661,267.62539217032094,258.24298850574706,0.96494202740447454,3601.3617126597501,3441.1523529411756,0.95551422697825783]
["RHODE ISLAND ",2080.1545012218967,2338.1727272727276,1.1240380105897274,1558.5783380036928,1598.0654545454543,1.0253353428434906,1635.5641687303139,1700.3009090909093,1.0395806790086692,1197.1903849788205,1218.3363636363636,1.0176630040826107,6471.4873929347241,6958.91,1.0753184820536654]
["SOUTH CAROLINA ",1249.7779296334438,1268.3969230769237,1.0148978414500733,418.66460111643539,433.23692307692318,1.034806673221544,1471.796652612288,1486.5981270903023,1.0100567387836785,811.81652718526868,825.15441471571876,1.0164296821804,3950.6316812919431,3922.8101442307711,0.99295769909583831]
["SOUTH DAKOTA",1231.2437703576763,1209.5248203592812,0.98236015440542224,890.07481557477456,980.91218562874315,1.1020558816680028,1009.0022794224037,997.40351351351285,0.98850471783321392,746.77138153973044,734.14344311377295,0.98308995398307764,3866.0776149486801,3865.5133870967761,0.99985405677068606]
["TENNESSEE ",949.8046426596967,998.06591331269328,1.0508117864299469,548.7789076218196,566.32498452012396,1.0319729433012319,1099.0719950785481,1128.7003715170272,1.026957630229093,668.04909861136059,675.99030959752292,1.0118871666808162,3262.1060937575116,3262.5794964028755,1.0001451217807631]
["TEXAS ",1193.9224453051265,1236.4890759075918,1.035652760168678,651.86110022573985,657.15088379705423,1.0081148937549465,1370.5173674946034,1398.8063711001646,1.0206411128209747,579.27997103358018,843.13,1.4554792883580032,3790.3543618493363,3785.7692324093814,0.99879031641840532]
["UTAH ",1465.8482574282625,1613.3231578947366,1.1006072079556239,800.65668219940369,839.03372881355915,1.0479319631839377,1792.0133713230525,1725.0912068965522,0.9626553208266011,451.01230252099043,442.22525423728825,0.98051705411452006,4509.5306134717093,4557.0548000000008,1.0105386104678651]
["VERMONT ",2273.1390980440428,2127.8134210526314,0.93606828675092557,2142.505071959235,2178.4336363636353,1.0167694186000433,1776.7669952021752,1878.7085714285718,1.0573747579179884,1140.2119271696324,1164.9624675324678,1.0217069649712174,7332.6230923750845,7427.9815555555551,1.0130046863147282]
["VIRGIN ISLANDS ",3547.3293591356905,3446.7975000000001,0.97165984633572755,1347.0547200493768,1417.11,1.052006261444268,2830.7570192924368,2801.1400000000003,0.98953742087696406,2997.0946240701028,2927.6082352941175,0.97681541709830244,10722.235722547608,11538.01,1.0760824793039119]
["VIRGINIA ",1216.1890971555745,1204.3955603448271,0.99030287573015574,648.67400128539828,647.96669527896984,0.99890961252489407,1600.8068624486198,1650.0143965517252,1.0307392073693618,538.98433174650154,528.32103004291832,0.98021593379341787,4004.6542926360935,3777.679155844155,0.94332216460998675]
["WASHINGTON ",1391.966150462177,1441.5619413919414,1.0356300265730578,1239.6586854239999,1288.062372262774,1.0390459788713686,1948.8742484825996,1961.1647810218983,1.0063064779827986,402.63070524299258,395.45851449275369,0.98218667712908192,4983.1297896117694,4954.1661881188083,0.99418766865086661]
["WEST VIRGINIA ",898.6310285424446,1041.9693264248704,1.159507398843012,665.65125200326099,685.06231958762919,1.0291610171631933,1291.5246293242799,1317.0346113989638,1.0197518355403183,644.85051088271985,644.68222797927467,0.99973903579107848,3500.6574207527033,3638.2001190476203,1.0392905336807687]
["WISCONSIN ",1163.4956394376125,1209.0997186700761,1.0391957457223533,869.00308087010706,926.85746835443035,1.0665755838591451,1047.7531383959658,1057.451015228427,1.009255879536002,600.89344562520228,596.76050632911381,0.99312200969043962,3681.1453043288907,3768.6892243767297,1.0237817072705309]
["WYOMING ",2274.548985797192,1957.0341304347821,0.86040535625082348,870.85784688577451,919.89541666666639,1.0563094998296823,1606.265531589278,1664.7718749999997,1.0364238304689475,476.7076503245795,552.09395833333326,1.1581394969378505,5228.3800145968244,4988.2814705882365,0.95407783226577447]
["National Average",1352.2873796940637,{"$f":"AVERAGE(C3:C55)","v":1509.845784145009},1.1165125156211919,738.96817577817785,{"$f":"AVERAGE(F3:F55)","v":965.48855452212729},1.3065360406155648,1359.718149875272,{"$f":"AVERAGE(I3:I55)","v":1561.4045413595568},1.1483295574915917,671.85857904588454,{"$f":"AVERAGE(L3:L55)","v":764.75639474160175},1.1382698957683068,4120.8840982214842,{"$f":"AVERAGE(O3:O55)","v":4686.2348815957002},1.137191624393953]

{"sheet":"LIHTC","index":33,"n_rows":4769,"n_cols":19,"rows_kept":4769,"cut":false,"hidden":true,"merged":[]}
[null,null,"2014 HUD Data LIHTC"]
[]
[null,"State","County","County/Town","HUD Mediam Income","50% MI 1BR","50% MI 2BR","50% MI 3BR","50% MI 4BR","60% MI 1BR","60% MI 2BR","60% MI 3BR","60% MI 4BR","State County Town"]
[null,"ALABAMA","Autauga County","Autauga County",59600,559,671,775,865,671,805,930,1038,{"$f":"B4&\" \"&D4","v":"ALABAMA Autauga County"},null,null,null,"40% AMI 1 BR","HUD Mediam Income (AMI)"]
[null,"ALABAMA","Baldwin County","Baldwin County",68800,595,713,824,920,714,856,989,1104,{"$f":"B5&\" \"&D5","v":"ALABAMA Baldwin County"},null,null,null,"40% AMI 2 BR","50% AMI 1BR"]
[null,"ALABAMA","Barbour County","Barbour County",44700,440,528,611,682,528,634,733,819,"ALABAMA Barbour County",null,null,null,"40% AMI 3 BR","50% AMI\n 2BR"]
[null,"ALABAMA","Bibb County","Bibb County",61000,571,686,793,885,686,823,951,1062,"ALABAMA Bibb County",null,null,null,"40% AMI 4 BR","50% AMI 3BR"]
[null,"ALABAMA","Blount County","Blount County",61000,571,686,793,885,686,823,951,1062,"ALABAMA Blount County",null,null,null,null,"50% AMI\n 4BR"]
[null,"ALABAMA","Bullock County","Bullock County",43400,440,528,611,682,528,634,733,819,"ALABAMA Bullock County",null,null,null,null,"60% AMI 1BR"]
[null,"ALABAMA","Butler County","Butler County",40300,440,528,611,682,528,634,733,819,"ALABAMA Butler County",null,null,null,null,"60% AMI 2BR"]
[null,"ALABAMA","Calhoun County","Calhoun County",51600,484,581,671,748,581,697,805,898,"ALABAMA Calhoun County",null,null,null,null,"60% AMI 3BR"]
[null,"ALABAMA","Chambers County","Chambers County",42700,440,528,611,682,528,634,733,819,"ALABAMA Chambers County",null,null,null,null,"60% AMI 4BR"]
[null,"ALABAMA","Cherokee County","Cherokee County",49100,460,552,638,712,552,663,766,855,"ALABAMA Cherokee County"]
[null,"ALABAMA","Chilton County","Chilton County",53100,498,597,690,770,597,717,828,924,"ALABAMA Chilton County"]
[null,"ALABAMA","Choctaw County","Choctaw County",43800,440,528,611,682,528,634,733,819,"ALABAMA Choctaw County"]
[null,"ALABAMA","Clarke County","Clarke County",49100,453,543,628,701,544,652,753,841,"ALABAMA Clarke County"]
[null,"ALABAMA","Clay County","Clay County",45200,440,528,611,682,528,634,733,819,"ALABAMA Clay County"]
[null,"ALABAMA","Cleburne County","Cleburne County",46200,440,528,611,682,528,634,733,819,"ALABAMA Cleburne County"]
[null,"ALABAMA","Coffee County","Coffee County",58900,553,663,766,855,663,796,919,1026,"ALABAMA Coffee County"]
[null,"ALABAMA","Colbert County","Colbert County",52100,488,586,677,756,586,703,813,907,"ALABAMA Colbert County"]
[null,"ALABAMA","Conecuh County","Conecuh County",42300,440,528,611,682,528,634,733,819,"ALABAMA Conecuh County"]
[null,"ALABAMA","Coosa County","Coosa County",50900,478,573,661,738,573,688,794,886,"ALABAMA Coosa County"]
[null,"ALABAMA","Covington County","Covington County",43500,440,528,611,682,528,634,733,819,"ALABAMA Covington County"]
[null,"ALABAMA","Crenshaw County","Crenshaw County",52800,491,588,680,758,589,706,816,910,"ALABAMA Crenshaw County"]
[null,"ALABAMA","Cullman County","Cullman County",55200,483,580,670,747,579,696,804,897,"ALABAMA Cullman County"]
[null,"ALABAMA","Dale County","Dale County",56500,530,636,735,820,636,763,882,984,"ALABAMA Dale County"]
[null,"ALABAMA","Dallas County","Dallas County",39200,440,528,611,682,528,634,733,819,"ALABAMA Dallas County"]
[null,"ALABAMA","DeKalb County","DeKalb County",42600,440,528,611,682,528,634,733,819,"ALABAMA DeKalb County"]
[null,"ALABAMA","Elmore County","Elmore County",59600,559,671,775,865,671,805,930,1038,"ALABAMA Elmore County"]
[null,"ALABAMA","Escambia County","Escambia County",42500,440,528,611,682,528,634,733,819,"ALABAMA Escambia County"]
[null,"ALABAMA","Etowah County","Etowah County",46900,440,528,611,682,528,634,733,819,"ALABAMA Etowah County"]
[null,"ALABAMA","Fayette County","Fayette County",45300,440,528,611,682,528,634,733,819,"ALABAMA Fayette County"]
[null,"ALABAMA","Franklin County","Franklin County",49300,463,555,641,715,555,666,769,858,"ALABAMA Franklin County"]
[null,"ALABAMA","Geneva County","Geneva County",51700,485,582,672,750,582,699,807,900,"ALABAMA Geneva County"]
[null,"ALABAMA","Greene County","Greene County",54400,510,612,707,790,612,735,849,948,"ALABAMA Greene County"]
[null,"ALABAMA","Hale County","Hale County",54400,510,612,707,790,612,735,849,948,"ALABAMA Hale County"]
[null,"ALABAMA","Henry County","Henry County",50600,475,570,658,733,570,684,789,880,"ALABAMA Henry County"]
[null,"ALABAMA","Houston County","Houston County",51700,485,582,672,750,582,699,807,900,"ALABAMA Houston County"]
[null,"ALABAMA","Jackson County","Jackson County",48500,455,546,630,703,546,655,756,844,"ALABAMA Jackson County"]
[null,"ALABAMA","Jefferson County","Jefferson County",61000,571,686,793,885,686,823,951,1062,"ALABAMA Jefferson County"]
[null,"ALABAMA","Lamar County","Lamar County",45700,440,528,611,682,528,634,733,819,"ALABAMA Lamar County"]
[null,"ALABAMA","Lauderdale County","Lauderdale County",52100,488,586,677,756,586,703,813,907,"ALABAMA Lauderdale County"]
[null,"ALABAMA","Lawrence County","Lawrence County",53500,501,602,695,776,602,723,834,931,"ALABAMA Lawrence County"]
[null,"ALABAMA","Lee County","Lee County",59700,562,675,778,868,675,810,934,1042,"ALABAMA Lee County"]
[null,"ALABAMA","Limestone County","Limestone County",69700,653,785,906,1011,784,942,1087,1213,"ALABAMA Limestone County"]
[null,"ALABAMA","Lowndes County","Lowndes County",59600,559,671,775,865,671,805,930,1038,"ALABAMA Lowndes County"]
[null,"ALABAMA","Macon County","Macon County",45200,440,528,611,682,528,634,733,819,"ALABAMA Macon County"]
[null,"ALABAMA","Madison County","Madison County",69700,653,785,906,1011,784,942,1087,1213,"ALABAMA Madison County"]
[null,"ALABAMA","Marengo County","Marengo County",47800,448,538,621,693,538,646,746,832,"ALABAMA Marengo County"]
[null,"ALABAMA","Marion County","Marion County",42700,440,528,611,682,528,634,733,819,"ALABAMA Marion County"]
[null,"ALABAMA","Marshall County","Marshall County",48100,453,543,628,701,544,652,753,841,"ALABAMA Marshall County"]
[null,"ALABAMA","Mobile County","Mobile County",53900,506,607,701,782,607,729,841,939,"ALABAMA Mobile County"]
[null,"ALABAMA","Monroe County","Monroe County",39600,440,528,611,682,528,634,733,819,"ALABAMA Monroe County"]
[null,"ALABAMA","Montgomery County","Montgomery County",59600,559,671,775,865,671,805,930,1038,"ALABAMA Montgomery County"]
[null,"ALABAMA","Morgan County","Morgan County",53500,501,602,695,776,602,723,834,931,"ALABAMA Morgan County"]
[null,"ALABAMA","Perry County","Perry County",32500,440,528,611,682,528,634,733,819,"ALABAMA Perry County"]
[null,"ALABAMA","Pickens County","Pickens County",41800,440,528,611,682,528,634,733,819,"ALABAMA Pickens County"]
[null,"ALABAMA","Pike County","Pike County",45300,440,528,611,682,528,634,733,819,"ALABAMA Pike County"]
[null,"ALABAMA","Randolph County","Randolph County",47300,444,532,615,686,533,639,738,823,"ALABAMA Randolph County"]
[null,"ALABAMA","Russell County","Russell County",51000,478,573,663,740,573,688,795,888,"ALABAMA Russell County"]
[null,"ALABAMA","St. Clair County","St. Clair County",61000,571,686,793,885,686,823,951,1062,"ALABAMA St. Clair County"]
[null,"ALABAMA","Shelby County","Shelby County",61000,571,686,793,885,686,823,951,1062,"ALABAMA Shelby County"]
[null,"ALABAMA","Sumter County","Sumter County",30300,440,528,611,682,528,634,733,819,"ALABAMA Sumter County"]
[null,"ALABAMA","Talladega County","Talladega County",42000,440,528,611,682,528,634,733,819,"ALABAMA Talladega County"]
[null,"ALABAMA","Tallapoosa County","Tallapoosa County",48900,459,551,636,710,551,661,763,852,"ALABAMA Tallapoosa County"]
[null,"ALABAMA","Tuscaloosa County","Tuscaloosa County",54400,510,612,707,790,612,735,849,948,"ALABAMA Tuscaloosa County"]
[null,"ALABAMA","Walker County","Walker County",48200,452,542,626,700,543,651,752,840,"ALABAMA Walker County"]
[null,"ALABAMA","Washington County","Washington County",56100,526,631,729,813,631,757,875,976,"ALABAMA Washington County"]
[null,"ALABAMA","Wilcox County","Wilcox County",27900,440,528,611,682,528,634,733,819,{"$f":"B69&\" \"&D69","v":"ALABAMA Wilcox County"}]
[null,"ALABAMA","Winston County","Winston County",42000,440,528,611,682,528,634,733,819,"ALABAMA Winston County"]
[null,"ALASKA","Aleutians East Borough","Aleutians East Borough",63900,692,831,960,1071,831,997,1152,1285,"ALASKA Aleutians East Borough"]
[null,"ALASKA","Aleutians West Census Area","Aleutians West Census Area",80700,814,977,1128,1258,977,1173,1354,1510,"ALASKA Aleutians West Census Area"]
[null,"ALASKA","Anchorage Municipality","Anchorage Municipality",84900,796,956,1103,1231,956,1147,1324,1477,"ALASKA Anchorage Municipality"]
[null,"ALASKA","Bethel Census Area","Bethel Census Area",58800,739,887,1025,1143,887,1065,1230,1372,"ALASKA Bethel Census Area"]
[null,"ALASKA","Bristol Bay Borough","Bristol Bay Borough",97300,819,982,1135,1266,983,1179,1362,1519,"ALASKA Bristol Bay Borough"]
[null,"ALASKA","Denali Borough","Denali Borough",91300,856,1027,1187,1325,1028,1233,1425,1590,"ALASKA Denali Borough"]
[null,"ALASKA","Dillingham Census Area","Dillingham Census Area",65300,692,831,960,1071,831,997,1152,1285,"ALASKA Dillingham Census Area"]
[null,"ALASKA","Fairbanks North Star Borough","Fairbanks North Star Borough",73200,725,870,1005,1121,870,1044,1206,1345,"ALASKA Fairbanks North Star Borough"]
[null,"ALASKA","Haines Borough","Haines Borough",69900,692,831,960,1071,831,997,1152,1285,"ALASKA Haines Borough"]
[null,"ALASKA","Hoonah-Angoon Census Area","Hoonah-Angoon Census Area",58200,692,831,960,1071,831,997,1152,1285,"ALASKA Hoonah-Angoon Census Area"]
[null,"ALASKA","Juneau City and Borough","Juneau City and Borough",95100,891,1070,1236,1380,1070,1284,1484,1656,"ALASKA Juneau City and Borough"]
[null,"ALASKA","Kenai Peninsula Borough","Kenai Peninsula Borough",76100,713,856,989,1103,856,1027,1187,1324,"ALASKA Kenai Peninsula Borough"]
[null,"ALASKA","Ketchikan Gateway Borough","Ketchikan Gateway Borough",85100,798,957,1106,1235,957,1149,1328,1482,"ALASKA Ketchikan Gateway Borough"]
[null,"ALASKA","Kodiak Island Borough","Kodiak Island Borough",71000,692,831,960,1071,831,997,1152,1285,"ALASKA Kodiak Island Borough"]
[null,"ALASKA","Lake and Peninsula Borough","Lake and Peninsula Borough",57400,692,831,960,1071,831,997,1152,1285,"ALASKA Lake and Peninsula Borough"]
[null,"ALASKA","Matanuska-Susitna Borough","Matanuska-Susitna Borough",78500,736,883,1020,1138,883,1060,1224,1366,"ALASKA Matanuska-Susitna Borough"]
[null,"ALASKA","Nome Census Area","Nome Census Area",53200,738,886,1023,1141,885,1063,1227,1369,"ALASKA Nome Census Area"]
[null,"ALASKA","North Slope Borough","North Slope Borough",87800,739,887,1025,1143,887,1065,1230,1372,"ALASKA North Slope Borough"]
[null,"ALASKA","Northwest Arctic Borough","Northwest Arctic Borough",58000,692,831,960,1071,831,997,1152,1285,"ALASKA Northwest Arctic Borough"]
[null,"ALASKA","Petersburg Census Area","Petersburg Census Area",90000,795,955,1102,1230,954,1146,1323,1476,"ALASKA Petersburg Census Area"]
[null,"ALASKA","Prince of Wales-Hyder Census Area","Prince of Wales-Hyder Census Area",54500,692,831,960,1071,831,997,1152,1285,"ALASKA Prince of Wales-Hyder Census Area"]
[null,"ALASKA","Sitka City and Borough","Sitka City and Borough",78700,738,886,1023,1141,885,1063,1227,1369,"ALASKA Sitka City and Borough"]
[null,"ALASKA","Skagway Municipality","Skagway Municipality",91700,816,980,1132,1263,980,1176,1359,1516,"ALASKA Skagway Municipality"]
[null,"ALASKA","Southeast Fairbanks Census Area","Southeast Fairbanks Census Area",64200,692,831,960,1071,831,997,1152,1285,"ALASKA Southeast Fairbanks Census Area"]
[null,"ALASKA","Valdez-Cordova Census Area","Valdez-Cordova Census Area",90900,763,915,1057,1180,915,1098,1269,1416,"ALASKA Valdez-Cordova Census Area"]
[null,"ALASKA","Wade Hampton Census Area","Wade Hampton Census Area",41700,692,831,960,1071,831,997,1152,1285,"ALASKA Wade Hampton Census Area"]
[null,"ALASKA","Wrangell City and Borough","Wrangell City and Borough",57000,692,831,960,1071,831,997,1152,1285,"ALASKA Wrangell City and Borough"]
[null,"ALASKA","Yakutat City and Borough","Yakutat City and Borough",84500,792,951,1098,1226,951,1141,1318,1471,"ALASKA Yakutat City and Borough"]
[null,"ALASKA","Yukon-Koyukuk Census Area","Yukon-Koyukuk Census Area",51400,692,831,960,1071,831,997,1152,1285,"ALASKA Yukon-Koyukuk Census Area"]
[null,"ARIZONA","Apache County","Apache County",42500,439,527,608,678,527,633,730,814,"ARIZONA Apache County"]
[null,"ARIZONA","Cochise County","Cochise County",51900,487,585,675,753,585,702,810,904,"ARIZONA Cochise County"]
[null,"ARIZONA","Coconino County","Coconino County",57900,558,670,773,863,669,804,928,1036,"ARIZONA Coconino County"]
[null,"ARIZONA","Gila County","Gila County",48400,454,545,629,702,545,654,755,843,"ARIZONA Gila County"]
[null,"ARIZONA","Graham County","Graham County",52800,495,595,686,766,594,714,824,919,"ARIZONA Graham County"]
[null,"ARIZONA","Greenlee County","Greenlee County",54500,511,613,708,791,613,736,850,949,"ARIZONA Greenlee County"]
[null,"ARIZONA","La Paz County","La Paz County",39900,439,527,608,678,527,633,730,814,"ARIZONA La Paz County"]
[null,"ARIZONA","Maricopa County","Maricopa County",61900,581,697,805,898,697,837,966,1078,"ARIZONA Maricopa County"]
[null,"ARIZONA","Mohave County","Mohave County",44400,440,528,610,681,528,634,732,817,"ARIZONA Mohave County"]
[null,"ARIZONA","Navajo County","Navajo County",41500,439,527,608,678,527,633,730,814,"ARIZONA Navajo County"]
[null,"ARIZONA","Pima County","Pima County",56300,534,641,741,827,641,769,889,993,"ARIZONA Pima County"]
[null,"ARIZONA","Pinal County","Pinal County",61900,581,697,805,898,697,837,966,1078,"ARIZONA Pinal County"]
[null,"ARIZONA","Santa Cruz County","Santa Cruz County",44700,439,527,608,678,527,633,730,814,"ARIZONA Santa Cruz County"]
[null,"ARIZONA","Yavapai County","Yavapai County",54800,514,617,712,795,617,741,855,954,"ARIZONA Yavapai County"]
[null,"ARIZONA","Yuma County","Yuma County",43600,444,532,615,686,533,639,738,823,"ARIZONA Yuma County"]
[null,"ARKANSAS","Arkansas County","Arkansas County",52200,490,587,678,757,588,705,814,909,"ARKANSAS Arkansas County"]
[null,"ARKANSAS","Ashley County","Ashley County",49900,468,562,648,723,562,675,778,868,"ARKANSAS Ashley County"]
[null,"ARKANSAS","Baxter County","Baxter County",46100,432,518,599,668,519,622,719,802,"ARKANSAS Baxter County"]
[null,"ARKANSAS","Benton County","Benton County",59500,558,670,773,863,669,804,928,1036,"ARKANSAS Benton County"]
[null,"ARKANSAS","Boone County","Boone County",48800,458,550,635,708,549,660,762,850,"ARKANSAS Boone County"]
[null,"ARKANSAS","Bradley County","Bradley County",42100,421,506,585,652,506,607,702,783,"ARKANSAS Bradley County"]
[null,"ARKANSAS","Calhoun County","Calhoun County",41000,421,506,585,652,506,607,702,783,"ARKANSAS Calhoun County"]
[null,"ARKANSAS","Carroll County","Carroll County",44600,421,506,585,652,506,607,702,783,"ARKANSAS Carroll County"]
[null,"ARKANSAS","Chicot County","Chicot County",34900,421,506,585,652,506,607,702,783,"ARKANSAS Chicot County"]
[null,"ARKANSAS","Clark County","Clark County",50400,473,567,655,731,567,681,786,877,"ARKANSAS Clark County"]
[null,"ARKANSAS","Clay County","Clay County",42200,421,506,585,652,506,607,702,783,"ARKANSAS Clay County"]
[null,"ARKANSAS","Cleburne County","Cleburne County",49100,460,552,638,712,552,663,766,855,"ARKANSAS Cleburne County"]
[null,"ARKANSAS","Cleveland County","Cleveland County",51600,454,545,629,702,545,654,755,843,"ARKANSAS Cleveland County"]
[null,"ARKANSAS","Columbia County","Columbia County",49100,460,552,638,712,552,663,766,855,"ARKANSAS Columbia County"]
[null,"ARKANSAS","Conway County","Conway County",50600,475,570,658,733,570,684,789,880,"ARKANSAS Conway County"]
[null,"ARKANSAS","Craighead County","Craighead County",52200,490,587,678,757,588,705,814,909,"ARKANSAS Craighead County"]
[null,"ARKANSAS","Crawford County","Crawford County",46800,439,527,608,678,527,633,730,814,"ARKANSAS Crawford County"]
[null,"ARKANSAS","Crittenden County","Crittenden County",56700,531,638,737,822,638,766,885,987,"ARKANSAS Crittenden County"]
[null,"ARKANSAS","Cross County","Cross County",48700,456,548,633,706,548,658,759,847,{"$f":"B133&\" \"&D133","v":"ARKANSAS Cross County"}]
[null,"ARKANSAS","Dallas County","Dallas County",40000,421,506,585,652,506,607,702,783,"ARKANSAS Dallas County"]
[null,"ARKANSAS","Desha County","Desha County",45500,426,512,591,660,512,615,710,792,"ARKANSAS Desha County"]
[null,"ARKANSAS","Drew County","Drew County",44700,424,508,588,656,509,610,705,787,"ARKANSAS Drew County"]
[null,"ARKANSAS","Faulkner County","Faulkner County",60100,563,676,781,872,676,811,938,1047,"ARKANSAS Faulkner County"]
[null,"ARKANSAS","Franklin County","Franklin County",43000,421,506,585,652,506,607,702,783,"ARKANSAS Franklin County"]
[null,"ARKANSAS","Fulton County","Fulton County",40800,421,506,585,652,506,607,702,783,"ARKANSAS Fulton County"]
[null,"ARKANSAS","Garland County","Garland County",45200,431,517,596,666,517,621,716,799,"ARKANSAS Garland County"]
[null,"ARKANSAS","Grant County","Grant County",62500,586,703,812,906,703,844,975,1087,"ARKANSAS Grant County"]
[null,"ARKANSAS","Greene County","Greene County",50000,468,562,650,725,562,675,780,870,"ARKANSAS Greene County"]
[null,"ARKANSAS","Hempstead County","Hempstead County",45500,426,512,591,660,512,615,710,792,"ARKANSAS Hempstead County"]
[null,"ARKANSAS","Hot Spring County","Hot Spring County",49200,461,553,640,713,554,664,768,856,"ARKANSAS Hot Spring County"]
[null,"ARKANSAS","Howard County","Howard County",44500,421,506,585,652,506,607,702,783,"ARKANSAS Howard County"]
[null,"ARKANSAS","Independence County","Independence County",45500,426,512,591,660,512,615,710,792,"ARKANSAS Independence County"]
[null,"ARKANSAS","Izard County","Izard County",41800,421,506,585,652,506,607,702,783,"ARKANSAS Izard County"]
[null,"ARKANSAS","Jackson County","Jackson County",41200,421,506,585,652,506,607,702,783,"ARKANSAS Jackson County"]
[null,"ARKANSAS","Jefferson County","Jefferson County",51600,454,545,629,702,545,654,755,843,"ARKANSAS Jefferson County"]
[null,"ARKANSAS","Johnson County","Johnson County",44300,421,506,585,652,506,607,702,783,"ARKANSAS Johnson County"]
[null,"ARKANSAS","Lafayette County","Lafayette County",38700,421,506,585,652,506,607,702,783,"ARKANSAS Lafayette County"]
[null,"ARKANSAS","Lawrence County","Lawrence County",42400,421,506,585,652,506,607,702,783,"ARKANSAS Lawrence County"]
[null,"ARKANSAS","Lee County","Lee County",35200,421,506,585,652,506,607,702,783,"ARKANSAS Lee County"]
[null,"ARKANSAS","Lincoln County","Lincoln County",51600,454,545,629,702,545,654,755,843,"ARKANSAS Lincoln County"]
[null,"ARKANSAS","Little River County","Little River County",52000,475,570,658,733,570,684,789,880,"ARKANSAS Little River County"]
[null,"ARKANSAS","Logan County","Logan County",50500,473,568,656,732,568,682,788,879,"ARKANSAS Logan County"]
[null,"ARKANSAS","Lonoke County","Lonoke County",60100,563,676,781,872,676,811,938,1047,"ARKANSAS Lonoke County"]
[null,"ARKANSAS","Madison County","Madison County",59500,558,670,773,863,669,804,928,1036,"ARKANSAS Madison County"]
[null,"ARKANSAS","Marion County","Marion County",42300,421,506,585,652,506,607,702,783,"ARKANSAS Marion County"]
[null,"ARKANSAS","Miller County","Miller County",53300,500,600,693,773,600,720,831,928,"ARKANSAS Miller County"]
[null,"ARKANSAS","Mississippi County","Mississippi County",42500,421,506,585,652,506,607,702,783,"ARKANSAS Mississippi County"]
[null,"ARKANSAS","Monroe County","Monroe County",35900,421,506,585,652,506,607,702,783,"ARKANSAS Monroe County"]
[null,"ARKANSAS","Montgomery County","Montgomery County",49300,453,543,628,701,544,652,753,841,"ARKANSAS Montgomery County"]
[null,"ARKANSAS","Nevada County","Nevada County",45500,443,531,613,685,531,637,736,822,"ARKANSAS Nevada County"]
[null,"ARKANSAS","Newton County","Newton County",39300,421,506,585,652,506,607,702,783,"ARKANSAS Newton County"]
[null,"ARKANSAS","Ouachita County","Ouachita County",46500,436,523,605,675,523,628,726,810,"ARKANSAS Ouachita County"]
[null,"ARKANSAS","Perry County","Perry County",60100,563,676,781,872,676,811,938,1047,"ARKANSAS Perry County"]
[null,"ARKANSAS","Phillips County","Phillips County",35400,421,506,585,652,506,607,702,783,"ARKANSAS Phillips County"]
[null,"ARKANSAS","Pike County","Pike County",42700,421,506,585,652,506,607,702,783,"ARKANSAS Pike County"]
[null,"ARKANSAS","Poinsett County","Poinsett County",39000,421,506,585,652,506,607,702,783,"ARKANSAS Poinsett County"]
[null,"ARKANSAS","Polk County","Polk County",40500,421,506,585,652,506,607,702,783,"ARKANSAS Polk County"]
[null,"ARKANSAS","Pope County","Pope County",48900,459,551,636,710,551,661,763,852,"ARKANSAS Pope County"]
[null,"ARKANSAS","Prairie County","Prairie County",45600,428,513,593,661,513,616,711,793,"ARKANSAS Prairie County"]
[null,"ARKANSAS","Pulaski County","Pulaski County",60100,563,676,781,872,676,811,938,1047,"ARKANSAS Pulaski County"]
[null,"ARKANSAS","Randolph County","Randolph County",48600,456,547,631,705,547,657,758,846,"ARKANSAS Randolph County"]
[null,"ARKANSAS","St. Francis County","St. Francis County",32900,421,506,585,652,506,607,702,783,"ARKANSAS St. Francis County"]
[null,"ARKANSAS","Saline County","Saline County",60100,563,676,781,872,676,811,938,1047,"ARKANSAS Saline County"]
[null,"ARKANSAS","Scott County","Scott County",43900,421,506,585,652,506,607,702,783,"ARKANSAS Scott County"]
[null,"ARKANSAS","Searcy County","Searcy County",37800,421,506,585,652,506,607,702,783,"ARKANSAS Searcy County"]
[null,"ARKANSAS","Sebastian County","Sebastian County",46800,439,527,608,678,527,633,730,814,"ARKANSAS Sebastian County"]
[null,"ARKANSAS","Sevier County","Sevier County",42400,421,506,585,652,506,607,702,783,"ARKANSAS Sevier County"]
[null,"ARKANSAS","Sharp County","Sharp County",40300,421,506,585,652,506,607,702,783,"ARKANSAS Sharp County"]
[null,"ARKANSAS","Stone County","Stone County",38600,421,506,585,652,506,607,702,783,"ARKANSAS Stone County"]
[null,"ARKANSAS","Union County","Union County",49000,459,551,637,711,551,661,765,853,"ARKANSAS Union County"]
[null,"ARKANSAS","Van Buren County","Van Buren County",44400,421,506,585,652,506,607,702,783,"ARKANSAS Van Buren County"]
[null,"ARKANSAS","Washington County","Washington County",59500,558,670,773,863,669,804,928,1036,"ARKANSAS Washington County"]
[null,"ARKANSAS","White County","White County",59600,483,580,670,747,579,696,804,897,"ARKANSAS White County"]
[null,"ARKANSAS","Woodruff County","Woodruff County",39000,421,506,585,652,506,607,702,783,"ARKANSAS Woodruff County"]
[null,"ARKANSAS","Yell County","Yell County",43100,421,506,585,652,506,607,702,783,"ARKANSAS Yell County"]
[null,"CALIFORNIA","Alameda County","Alameda County",88500,862,1035,1196,1335,1035,1242,1435,1602,"CALIFORNIA Alameda County"]
[null,"CALIFORNIA","Alpine County","Alpine County",85000,765,918,1061,1183,918,1102,1273,1420,"CALIFORNIA Alpine County"]
[null,"CALIFORNIA","Amador County","Amador County",72300,678,813,940,1048,814,976,1128,1258,"CALIFORNIA Amador County"]
[null,"CALIFORNIA","Butte County","Butte County",54000,513,616,711,793,615,739,853,952,"CALIFORNIA Butte County"]
[null,"CALIFORNIA","Calaveras County","Calaveras County",70000,656,787,910,1015,787,945,1092,1218,"CALIFORNIA Calaveras County"]
[null,"CALIFORNIA","Colusa County","Colusa County",57300,538,645,745,831,645,774,894,997,"CALIFORNIA Colusa County"]
[null,"CALIFORNIA","Contra Costa County","Contra Costa County",88500,862,1035,1196,1335,1035,1242,1435,1602,"CALIFORNIA Contra Costa County"]
[null,"CALIFORNIA","Del Norte County","Del Norte County",54200,513,616,711,793,615,739,853,952,{"$f":"B197&\" \"&D197","v":"CALIFORNIA Del Norte County"}]
[null,"CALIFORNIA","El Dorado County","El Dorado County",68000,644,773,893,996,773,928,1071,1195,"CALIFORNIA El Dorado County"]
[null,"CALIFORNIA","Fresno County","Fresno County",48700,513,616,711,793,615,739,853,952,"CALIFORNIA Fresno County"]
[null,"CALIFORNIA","Glenn County","Glenn County",53100,513,616,711,793,615,739,853,952,"CALIFORNIA Glenn County"]
[null,"CALIFORNIA","Humboldt County","Humboldt County",52100,539,647,747,833,647,777,897,1000,"CALIFORNIA Humboldt County"]
[null,"CALIFORNIA","Imperial County","Imperial County",43000,513,616,711,793,615,739,853,952,"CALIFORNIA Imperial County"]
[null,"CALIFORNIA","Inyo County","Inyo County",70900,646,776,897,1001,776,931,1077,1201,"CALIFORNIA Inyo County"]
[null,"CALIFORNIA","Kern County","Kern County",51700,513,616,711,793,615,739,853,952,"CALIFORNIA Kern County"]
[null,"CALIFORNIA","Kings County","Kings County",53700,513,616,711,793,615,739,853,952,"CALIFORNIA Kings County"]
[null,"CALIFORNIA","Lake County","Lake County",46300,513,616,711,793,615,739,853,952,"CALIFORNIA Lake County"]
[null,"CALIFORNIA","Lassen County","Lassen County",68000,637,765,883,985,765,918,1059,1182,"CALIFORNIA Lassen County"]
[null,"CALIFORNIA","Los Angeles County","Los Angeles County",60600,764,917,1060,1182,917,1101,1272,1419,"CALIFORNIA Los Angeles County"]
[null,"CALIFORNIA","Madera County","Madera County",52000,513,616,711,793,615,739,853,952,"CALIFORNIA Madera County"]
[null,"CALIFORNIA","Marin County","Marin County",97100,1038,1246,1439,1606,1245,1495,1727,1927,"CALIFORNIA Marin County"]
[null,"CALIFORNIA","Mariposa County","Mariposa County",60600,568,682,788,878,682,819,945,1054,"CALIFORNIA Mariposa County"]
[null,"CALIFORNIA","Mendocino County","Mendocino County",54000,514,617,712,795,617,741,855,954,"CALIFORNIA Mendocino County"]
[null,"CALIFORNIA","Merced County","Merced County",45000,513,616,711,793,615,739,853,952,"CALIFORNIA Merced County"]
[null,"CALIFORNIA","Modoc County","Modoc County",47900,513,616,711,793,615,739,853,952,"CALIFORNIA Modoc County"]
[null,"CALIFORNIA","Mono County","Mono County",81200,761,913,1055,1177,914,1096,1266,1413,"CALIFORNIA Mono County"]
[null,"CALIFORNIA","Monterey County","Monterey County",59100,675,810,935,1043,810,972,1122,1252,"CALIFORNIA Monterey County"]
[null,"CALIFORNIA","Napa County","Napa County",70300,773,927,1071,1195,927,1113,1285,1434,"CALIFORNIA Napa County"]
[null,"CALIFORNIA","Nevada County","Nevada County",73500,679,815,941,1050,815,978,1129,1260,"CALIFORNIA Nevada County"]
[null,"CALIFORNIA","Orange County","Orange County",84900,847,1016,1174,1310,1017,1219,1409,1572,"CALIFORNIA Orange County"]
[null,"CALIFORNIA","Placer County","Placer County",68000,644,773,893,996,773,928,1071,1195,"CALIFORNIA Placer County"]
[null,"CALIFORNIA","Plumas County","Plumas County",55300,519,622,719,802,623,747,863,963,"CALIFORNIA Plumas County"]
[null,"CALIFORNIA","Riverside County","Riverside County",60700,569,683,789,881,683,820,947,1057,"CALIFORNIA Riverside County"]
[null,"CALIFORNIA","Sacramento County","Sacramento County",68000,644,773,893,996,773,928,1071,1195,"CALIFORNIA Sacramento County"]
[null,"CALIFORNIA","San Benito County","San Benito County",76100,713,856,989,1103,856,1027,1187,1324,"CALIFORNIA San Benito County"]
[null,"CALIFORNIA","San Bernardino County","San Bernardino County",60700,569,683,789,881,683,820,947,1057,"CALIFORNIA San Bernardino County"]
[null,"CALIFORNIA","San Diego County","San Diego County",72700,740,888,1026,1145,888,1066,1231,1374,"CALIFORNIA San Diego County"]
[null,"CALIFORNIA","San Francisco County","San Francisco County",97100,1038,1246,1439,1606,1245,1495,1727,1927,"CALIFORNIA San Francisco County"]
[null,"CALIFORNIA","San Joaquin County","San Joaquin County",58200,562,675,778,868,675,810,934,1042,"CALIFORNIA San Joaquin County"]
[null,"CALIFORNIA","San Luis Obispo County","San Luis Obispo County",77000,705,846,978,1091,846,1015,1173,1309,"CALIFORNIA San Luis Obispo County"]
[null,"CALIFORNIA","San Mateo County","San Mateo County",97100,1038,1246,1439,1606,1245,1495,1727,1927,"CALIFORNIA San Mateo County"]
[null,"CALIFORNIA","Santa Barbara County","Santa Barbara County",72800,710,852,984,1098,852,1023,1181,1318,"CALIFORNIA Santa Barbara County"]
[null,"CALIFORNIA","Santa Clara County","Santa Clara County",101900,956,1147,1325,1478,1147,1377,1590,1774,"CALIFORNIA Santa Clara County"]
[null,"CALIFORNIA","Santa Cruz County","Santa Cruz County",77900,873,1047,1210,1350,1047,1257,1452,1620,"CALIFORNIA Santa Cruz County"]
[null,"CALIFORNIA","Shasta County","Shasta County",51500,514,617,712,795,617,741,855,954,"CALIFORNIA Shasta County"]
[null,"CALIFORNIA","Sierra County","Sierra County",58700,626,752,868,968,752,903,1042,1162,"CALIFORNIA Sierra County"]
[null,"CALIFORNIA","Siskiyou County","Siskiyou County",49500,513,616,711,793,615,739,853,952,"CALIFORNIA Siskiyou County"]
[null,"CALIFORNIA","Solano County","Solano County",76700,719,863,997,1112,863,1036,1197,1335,"CALIFORNIA Solano County"]
[null,"CALIFORNIA","Sonoma County","Sonoma County",76900,721,866,1000,1116,866,1039,1200,1339,"CALIFORNIA Sonoma County"]
[null,"CALIFORNIA","Stanislaus County","Stanislaus County",52700,525,630,728,812,630,756,873,975,"CALIFORNIA Stanislaus County"]
[null,"CALIFORNIA","Sutter County","Sutter County",51500,513,616,711,793,615,739,853,952,"CALIFORNIA Sutter County"]
[null,"CALIFORNIA","Tehama County","Tehama County",48700,513,616,711,793,615,739,853,952,"CALIFORNIA Tehama County"]
[null,"CALIFORNIA","Trinity County","Trinity County",48900,515,618,715,797,618,742,858,957,"CALIFORNIA Trinity County"]
[null,"CALIFORNIA","Tulare County","Tulare County",45100,513,616,711,793,615,739,853,952,"CALIFORNIA Tulare County"]
[null,"CALIFORNIA","Tuolumne County","Tuolumne County",62100,591,710,820,915,710,852,984,1098,"CALIFORNIA Tuolumne County"]
[null,"CALIFORNIA","Ventura County","Ventura County",88700,831,998,1153,1286,998,1198,1383,1543,"CALIFORNIA Ventura County"]
[null,"CALIFORNIA","Yolo County","Yolo County",73900,693,832,961,1072,832,999,1153,1287,"CALIFORNIA Yolo County"]
[null,"CALIFORNIA","Yuba County","Yuba County",51500,513,616,711,793,615,739,853,952,"CALIFORNIA Yuba County"]
[null,"COLORADO","Adams County","Adams County",76700,719,863,997,1112,863,1036,1197,1335,"COLORADO Adams County"]
[null,"COLORADO","Alamosa County","Alamosa County",49100,540,648,749,836,648,778,899,1003,"COLORADO Alamosa County"]
[null,"COLORADO","Arapahoe County","Arapahoe County",76700,719,863,997,1112,863,1036,1197,1335,"COLORADO Arapahoe County"]
[null,"COLORADO","Archuleta County","Archuleta County",73200,641,770,889,992,770,924,1067,1191,"COLORADO Archuleta County"]
[null,"COLORADO","Baca County","Baca County",46500,540,648,749,836,648,778,899,1003,"COLORADO Baca County"]
[null,"COLORADO","Bent County","Bent County",42400,540,648,749,836,648,778,899,1003,"COLORADO Bent County"]
[null,"COLORADO","Boulder County","Boulder County",96800,901,1081,1249,1393,1081,1297,1499,1672,"COLORADO Boulder County"]
[null,"COLORADO","Broomfield County","Broomfield County",76700,719,863,997,1112,863,1036,1197,1335,"COLORADO Broomfield County"]
[null,"COLORADO","Chaffee County","Chaffee County",58100,545,653,755,842,654,784,906,1011,"COLORADO Chaffee County"]
[null,"COLORADO","Cheyenne County","Cheyenne County",71300,641,770,889,992,770,924,1067,1191,"COLORADO Cheyenne County"]
[null,"COLORADO","Clear Creek County","Clear Creek County",76700,719,863,997,1112,863,1036,1197,1335,"COLORADO Clear Creek County"]
[null,"COLORADO","Conejos County","Conejos County",44100,540,648,749,836,648,778,899,1003,"COLORADO Conejos County"]
[null,"COLORADO","Costilla County","Costilla County",42700,540,648,749,836,648,778,899,1003,"COLORADO Costilla County"]
[null,"COLORADO","Crowley County","Crowley County",47100,540,648,749,836,648,778,899,1003,{"$f":"B261&\" \"&D261","v":"COLORADO Crowley County"}]
[null,"COLORADO","Custer County","Custer County",53600,540,648,749,836,648,778,899,1003,"COLORADO Custer County"]
[null,"COLORADO","Delta County","Delta County",52500,540,648,749,836,648,778,899,1003,"COLORADO Delta County"]
[null,"COLORADO","Denver County","Denver County",76700,719,863,997,1112,863,1036,1197,1335,"COLORADO Denver County"]
[null,"COLORADO","Dolores County","Dolores County",56200,540,648,749,836,648,778,899,1003,"COLORADO Dolores County"]
[null,"COLORADO","Douglas County","Douglas County",76700,719,863,997,1112,863,1036,1197,1335,"COLORADO Douglas County"]
[null,"COLORADO","Eagle County","Eagle County",86900,815,978,1130,1261,978,1174,1356,1513,"COLORADO Eagle County"]
[null,"COLORADO","Elbert County","Elbert County",76700,719,863,997,1112,863,1036,1197,1335,"COLORADO Elbert County"]
[null,"COLORADO","El Paso County","El Paso County",70000,656,787,910,1015,787,945,1092,1218,"COLORADO El Paso County"]
[null,"COLORADO","Fremont County","Fremont County",50400,540,648,749,836,648,778,899,1003,"COLORADO Fremont County"]
[null,"COLORADO","Garfield County","Garfield County",73900,693,832,961,1072,832,999,1153,1287,"COLORADO Garfield County"]
[null,"COLORADO","Gilpin County","Gilpin County",76700,719,863,997,1112,863,1036,1197,1335,"COLORADO Gilpin County"]
[null,"COLORADO","Grand County","Grand County",76000,712,855,988,1102,855,1026,1185,1323,"COLORADO Grand County"]
[null,"COLORADO","Gunnison County","Gunnison County",72000,675,810,936,1045,810,972,1123,1254,"COLORADO Gunnison County"]
[null,"COLORADO","Hinsdale County","Hinsdale County",91700,662,795,918,1023,795,954,1101,1228,"COLORADO Hinsdale County"]
[null,"COLORADO","Huerfano County","Huerfano County",43500,540,648,749,836,648,778,899,1003,"COLORADO Huerfano County"]
[null,"COLORADO","Jackson County","Jackson County",65300,586,703,812,906,703,844,975,1087,"COLORADO Jackson County"]
[null,"COLORADO","Jefferson County","Jefferson County",76700,719,863,997,1112,863,1036,1197,1335,"COLORADO Jefferson County"]
[null,"COLORADO","Kiowa County","Kiowa County",61600,578,693,801,893,693,832,961,1072,"COLORADO Kiowa County"]
[null,"COLORADO","Kit Carson County","Kit Carson County",61700,578,695,802,895,694,834,963,1074,"COLORADO Kit Carson County"]
[null,"COLORADO","Lake County","Lake County",45400,540,648,749,836,648,778,899,1003,"COLORADO Lake County"]
[null,"COLORADO","La Plata County","La Plata County",72900,684,821,948,1057,821,985,1137,1269,"COLORADO La Plata County"]
[null,"COLORADO","Larimer County","Larimer County",73500,689,827,955,1066,827,993,1146,1279,"COLORADO Larimer County"]
[null,"COLORADO","Las Animas County","Las Animas County",54600,540,648,749,836,648,778,899,1003,"COLORADO Las Animas County"]
[null,"COLORADO","Lincoln County","Lincoln County",60300,566,678,784,875,679,814,941,1050,"COLORADO Lincoln County"]
[null,"COLORADO","Logan County","Logan County",56800,540,648,749,836,648,778,899,1003,"COLORADO Logan County"]
[null,"COLORADO","Mesa County","Mesa County",61800,580,696,803,896,696,835,964,1075,"COLORADO Mesa County"]
[null,"COLORADO","Mineral County","Mineral County",68600,643,772,891,995,772,927,1070,1194,"COLORADO Mineral County"]
[null,"COLORADO","Moffat County","Moffat County",66200,621,745,860,960,745,894,1032,1152,"COLORADO Moffat County"]
[null,"COLORADO","Montezuma County","Montezuma County",53800,540,648,749,836,648,778,899,1003,"COLORADO Montezuma County"]
[null,"COLORADO","Montrose County","Montrose County",56100,540,648,749,836,648,778,899,1003,"COLORADO Montrose County"]
[null,"COLORADO","Morgan County","Morgan County",51100,540,648,749,836,648,778,899,1003,"COLORADO Morgan County"]
[null,"COLORADO","Otero County","Otero County",41400,540,648,749,836,648,778,899,1003,"COLORADO Otero County"]
[null,"COLORADO","Ouray County","Ouray County",71600,671,806,931,1038,806,967,1117,1246,"COLORADO Ouray County"]
[null,"COLORADO","Park County","Park County",76700,719,863,997,1112,863,1036,1197,1335,"COLORADO Park County"]
[null,"COLORADO","Phillips County","Phillips County",57200,540,648,749,836,648,778,899,1003,"COLORADO Phillips County"]
[null,"COLORADO","Pitkin County","Pitkin County",102600,962,1155,1334,1488,1155,1386,1601,1786,"COLORADO Pitkin County"]
[null,"COLORADO","Prowers County","Prowers County",48800,540,648,749,836,648,778,899,1003,"COLORADO Prowers County"]
[null,"COLORADO","Pueblo County","Pueblo County",55400,540,648,749,836,648,778,899,1003,"COLORADO Pueblo County"]
[null,"COLORADO","Rio Blanco County","Rio Blanco County",76500,642,771,890,993,771,925,1068,1192,"COLORADO Rio Blanco County"]
[null,"COLORADO","Rio Grande County","Rio Grande County",48300,540,648,749,836,648,778,899,1003,"COLORADO Rio Grande County"]
[null,"COLORADO","Routt County","Routt County",77500,726,872,1007,1123,872,1047,1209,1348,"COLORADO Routt County"]
[null,"COLORADO","Saguache County","Saguache County",40400,540,648,749,836,648,778,899,1003,"COLORADO Saguache County"]
[null,"COLORADO","San Juan County","San Juan County",56400,581,697,806,900,697,837,967,1080,"COLORADO San Juan County"]
[null,"COLORADO","San Miguel County","San Miguel County",87400,820,983,1136,1267,984,1180,1363,1521,"COLORADO San Miguel County"]
[null,"COLORADO","Sedgwick County","Sedgwick County",57500,540,648,749,836,648,778,899,1003,"COLORADO Sedgwick County"]
[null,"COLORADO","Summit County","Summit County",90800,851,1022,1180,1317,1022,1227,1416,1581,"COLORADO Summit County"]
[null,"COLORADO","Teller County","Teller County",72000,675,810,936,1045,810,972,1123,1254,"COLORADO Teller County"]
[null,"COLORADO","Washington County","Washington County",55400,540,648,749,836,648,778,899,1003,"COLORADO Washington County"]
[null,"COLORADO","Weld County","Weld County",62000,590,708,819,913,708,850,983,1096,"COLORADO Weld County"]
[null,"COLORADO","Yuma County","Yuma County",54300,540,648,749,836,648,778,899,1003,"COLORADO Yuma County"]
[null,"CONNECTICUT","Fairfield County","Bethel town",113900,1059,1271,1468,1637,1271,1525,1761,1965,"CONNECTICUT Bethel town"]
[null,"CONNECTICUT","Fairfield County","Bridgeport town",83700,785,942,1088,1213,942,1131,1305,1456,"CONNECTICUT Bridgeport town"]
[null,"CONNECTICUT","Fairfield County","Brookfield town",113900,1059,1271,1468,1637,1271,1525,1761,1965,"CONNECTICUT Brookfield town"]
[null,"CONNECTICUT","Fairfield County","Danbury town",113900,1059,1271,1468,1637,1271,1525,1761,1965,"CONNECTICUT Danbury town"]
[null,"CONNECTICUT","Fairfield County","Darien town",125100,1163,1396,1613,1800,1396,1675,1936,2160,"CONNECTICUT Darien town"]
[null,"CONNECTICUT","Fairfield County","Easton town",83700,785,942,1088,1213,942,1131,1305,1456,"CONNECTICUT Easton town"]
[null,"CONNECTICUT","Fairfield County","Fairfield town",83700,785,942,1088,1213,942,1131,1305,1456,"CONNECTICUT Fairfield town"]
[null,"CONNECTICUT","Fairfield County","Greenwich town",125100,1163,1396,1613,1800,1396,1675,1936,2160,"CONNECTICUT Greenwich town"]
[null,"CONNECTICUT","Fairfield County","Monroe town",83700,785,942,1088,1213,942,1131,1305,1456,"CONNECTICUT Monroe town"]
[null,"CONNECTICUT","Fairfield County","New Canaan town",125100,1163,1396,1613,1800,1396,1675,1936,2160,"CONNECTICUT New Canaan town"]
[null,"CONNECTICUT","Fairfield County","New Fairfield town",113900,1059,1271,1468,1637,1271,1525,1761,1965,"CONNECTICUT New Fairfield town"]
[null,"CONNECTICUT","Fairfield County","Newtown town",113900,1059,1271,1468,1637,1271,1525,1761,1965,"CONNECTICUT Newtown town"]
[null,"CONNECTICUT","Fairfield County","Norwalk town",125100,1163,1396,1613,1800,1396,1675,1936,2160,"CONNECTICUT Norwalk town"]
[null,"CONNECTICUT","Fairfield County","Redding town",113900,1059,1271,1468,1637,1271,1525,1761,1965,{"$f":"B325&\" \"&D325","v":"CONNECTICUT Redding town"}]
[null,"CONNECTICUT","Fairfield County","Ridgefield town",113900,1059,1271,1468,1637,1271,1525,1761,1965,"CONNECTICUT Ridgefield town"]
[null,"CONNECTICUT","Fairfield County","Shelton town",83700,785,942,1088,1213,942,1131,1305,1456,"CONNECTICUT Shelton town"]
[null,"CONNECTICUT","Fairfield County","Sherman town",113900,1059,1271,1468,1637,1271,1525,1761,1965,"CONNECTICUT Sherman town"]
[null,"CONNECTICUT","Fairfield County","Stamford town",125100,1163,1396,1613,1800,1396,1675,1936,2160,"CONNECTICUT Stamford town"]
[null,"CONNECTICUT","Fairfield County","Stratford town",83700,785,942,1088,1213,942,1131,1305,1456,"CONNECTICUT Stratford town"]
[null,"CONNECTICUT","Fairfield County","Trumbull town",83700,785,942,1088,1213,942,1131,1305,1456,"CONNECTICUT Trumbull town"]
[null,"CONNECTICUT","Fairfield County","Weston town",125100,1163,1396,1613,1800,1396,1675,1936,2160,"CONNECTICUT Weston town"]
[null,"CONNECTICUT","Fairfield County","Westport town",125100,1163,1396,1613,1800,1396,1675,1936,2160,"CONNECTICUT Westport town"]
[null,"CONNECTICUT","Fairfield County","Wilton town",125100,1163,1396,1613,1800,1396,1675,1936,2160,"CONNECTICUT Wilton town"]
[null,"CONNECTICUT","Hartford County","Avon town",85700,803,965,1114,1243,964,1158,1337,1492,"CONNECTICUT Avon town"]
[null,"CONNECTICUT","Hartford County","Berlin town",85700,803,965,1114,1243,964,1158,1337,1492,"CONNECTICUT Berlin town"]
[null,"CONNECTICUT","Hartford County","Bloomfield town",85700,803,965,1114,1243,964,1158,1337,1492,"CONNECTICUT Bloomfield town"]
[null,"CONNECTICUT","Hartford County","Bristol town",85700,803,965,1114,1243,964,1158,1337,1492,"CONNECTICUT Bristol town"]
[null,"CONNECTICUT","Hartford County","Burlington town",85700,803,965,1114,1243,964,1158,1337,1492,"CONNECTICUT Burlington town"]
[null,"CONNECTICUT","Hartford County","Canton town",85700,803,965,1114,1243,964,1158,1337,1492,"CONNECTICUT Canton town"]
[null,"CONNECTICUT","Hartford County","East Granby town",85700,803,965,1114,1243,964,1158,1337,1492,"CONNECTICUT East Granby town"]
[null,"CONNECTICUT","Hartford County","East Hartford town",85700,803,965,1114,1243,964,1158,1337,1492,"CONNECTICUT East Hartford town"]
[null,"CONNECTICUT","Hartford County","East Windsor town",85700,803,965,1114,1243,964,1158,1337,1492,"CONNECTICUT East Windsor town"]
[null,"CONNECTICUT","Hartford County","Enfield town",85700,803,965,1114,1243,964,1158,1337,1492,"CONNECTICUT Enfield town"]
[null,"CONNECTICUT","Hartford County","Farmington town",85700,803,965,1114,1243,964,1158,1337,1492,"CONNECTICUT Farmington town"]
[null,"CONNECTICUT","Hartford County","Glastonbury town",85700,803,965,1114,1243,964,1158,1337,1492,"CONNECTICUT Glastonbury town"]
[null,"CONNECTICUT","Hartford County","Granby town",85700,803,965,1114,1243,964,1158,1337,1492,"CONNECTICUT Granby town"]
[null,"CONNECTICUT","Hartford County","Hartford town",85700,803,965,1114,1243,964,1158,1337,1492,"CONNECTICUT Hartford town"]
[null,"CONNECTICUT","Hartford County","Hartland town",85700,803,965,1114,1243,964,1158,1337,1492,"CONNECTICUT Hartland town"]
[null,"CONNECTICUT","Hartford County","Manchester town",85700,803,965,1114,1243,964,1158,1337,1492,"CONNECTICUT Manchester town"]
[null,"CONNECTICUT","Hartford County","Marlborough town",85700,803,965,1114,1243,964,1158,1337,1492,"CONNECTICUT Marlborough town"]
[null,"CONNECTICUT","Hartford County","New Britain town",85700,803,965,1114,1243,964,1158,1337,1492,"CONNECTICUT New Britain town"]
[null,"CONNECTICUT","Hartford County","Newington town",85700,803,965,1114,1243,964,1158,1337,1492,"CONNECTICUT Newington town"]
[null,"CONNECTICUT","Hartford County","Plainville town",85700,803,965,1114,1243,964,1158,1337,1492,"CONNECTICUT Plainville town"]
[null,"CONNECTICUT","Hartford County","Rocky Hill town",85700,803,965,1114,1243,964,1158,1337,1492,"CONNECTICUT Rocky Hill town"]
[null,"CONNECTICUT","Hartford County","Simsbury town",85700,803,965,1114,1243,964,1158,1337,1492,"CONNECTICUT Simsbury town"]
[null,"CONNECTICUT","Hartford County","Southington town",85700,803,965,1114,1243,964,1158,1337,1492,"CONNECTICUT Southington town"]
[null,"CONNECTICUT","Hartford County","South Windsor town",85700,803,965,1114,1243,964,1158,1337,1492,"CONNECTICUT South Windsor town"]
[null,"CONNECTICUT","Hartford County","Suffield town",85700,803,965,1114,1243,964,1158,1337,1492,"CONNECTICUT Suffield town"]
[null,"CONNECTICUT","Hartford County","West Hartford town",85700,803,965,1114,1243,964,1158,1337,1492,"CONNECTICUT West Hartford town"]
[null,"CONNECTICUT","Hartford County","Wethersfield town",85700,803,965,1114,1243,964,1158,1337,1492,"CONNECTICUT Wethersfield town"]
[null,"CONNECTICUT","Hartford County","Windsor town",85700,803,965,1114,1243,964,1158,1337,1492,"CONNECTICUT Windsor town"]
[null,"CONNECTICUT","Hartford County","Windsor Locks town",85700,803,965,1114,1243,964,1158,1337,1492,"CONNECTICUT Windsor Locks town"]
[null,"CONNECTICUT","Litchfield County","Barkhamsted town",89600,840,1008,1165,1300,1008,1210,1398,1560,"CONNECTICUT Barkhamsted town"]
[null,"CONNECTICUT","Litchfield County","Bethlehem town",89600,840,1008,1165,1300,1008,1210,1398,1560,"CONNECTICUT Bethlehem town"]
[null,"CONNECTICUT","Litchfield County","Bridgewater town",89600,840,1008,1165,1300,1008,1210,1398,1560,"CONNECTICUT Bridgewater town"]
[null,"CONNECTICUT","Litchfield County","Canaan town",89600,840,1008,1165,1300,1008,1210,1398,1560,"CONNECTICUT Canaan town"]
[null,"CONNECTICUT","Litchfield County","Colebrook town",89600,840,1008,1165,1300,1008,1210,1398,1560,"CONNECTICUT Colebrook town"]
[null,"CONNECTICUT","Litchfield County","Cornwall town",89600,840,1008,1165,1300,1008,1210,1398,1560,"CONNECTICUT Cornwall town"]
[null,"CONNECTICUT","Litchfield County","Goshen town",89600,840,1008,1165,1300,1008,1210,1398,1560,"CONNECTICUT Goshen town"]
[null,"CONNECTICUT","Litchfield County","Harwinton town",89600,840,1008,1165,1300,1008,1210,1398,1560,"CONNECTICUT Harwinton town"]
[null,"CONNECTICUT","Litchfield County","Kent town",89600,840,1008,1165,1300,1008,1210,1398,1560,"CONNECTICUT Kent town"]
[null,"CONNECTICUT","Litchfield County","Litchfield town",89600,840,1008,1165,1300,1008,1210,1398,1560,"CONNECTICUT Litchfield town"]
[null,"CONNECTICUT","Litchfield County","Morris town",89600,840,1008,1165,1300,1008,1210,1398,1560,"CONNECTICUT Morris town"]
[null,"CONNECTICUT","Litchfield County","New Hartford town",89600,840,1008,1165,1300,1008,1210,1398,1560,"CONNECTICUT New Hartford town"]
[null,"CONNECTICUT","Litchfield County","New Milford town",89600,840,1008,1165,1300,1008,1210,1398,1560,"CONNECTICUT New Milford town"]
[null,"CONNECTICUT","Litchfield County","Norfolk town",89600,840,1008,1165,1300,1008,1210,1398,1560,"CONNECTICUT Norfolk town"]
[null,"CONNECTICUT","Litchfield County","North Canaan town",89600,840,1008,1165,1300,1008,1210,1398,1560,"CONNECTICUT North Canaan town"]
[null,"CONNECTICUT","Litchfield County","Plymouth town",89600,840,1008,1165,1300,1008,1210,1398,1560,"CONNECTICUT Plymouth town"]
[null,"CONNECTICUT","Litchfield County","Roxbury town",89600,840,1008,1165,1300,1008,1210,1398,1560,"CONNECTICUT Roxbury town"]
[null,"CONNECTICUT","Litchfield County","Salisbury town",89600,840,1008,1165,1300,1008,1210,1398,1560,"CONNECTICUT Salisbury town"]
[null,"CONNECTICUT","Litchfield County","Sharon town",89600,840,1008,1165,1300,1008,1210,1398,1560,"CONNECTICUT Sharon town"]
[null,"CONNECTICUT","Litchfield County","Thomaston town",89600,840,1008,1165,1300,1008,1210,1398,1560,"CONNECTICUT Thomaston town"]
[null,"CONNECTICUT","Litchfield County","Torrington town",89600,840,1008,1165,1300,1008,1210,1398,1560,"CONNECTICUT Torrington town"]
[null,"CONNECTICUT","Litchfield County","Warren town",89600,840,1008,1165,1300,1008,1210,1398,1560,"CONNECTICUT Warren town"]
[null,"CONNECTICUT","Litchfield County","Washington town",89600,840,1008,1165,1300,1008,1210,1398,1560,"CONNECTICUT Washington town"]
[null,"CONNECTICUT","Litchfield County","Watertown town",89600,840,1008,1165,1300,1008,1210,1398,1560,"CONNECTICUT Watertown town"]
[null,"CONNECTICUT","Litchfield County","Winchester town",89600,840,1008,1165,1300,1008,1210,1398,1560,"CONNECTICUT Winchester town"]
[null,"CONNECTICUT","Litchfield County","Woodbury town",89600,840,1008,1165,1300,1008,1210,1398,1560,{"$f":"B389&\" \"&D389","v":"CONNECTICUT Woodbury town"}]
[null,"CONNECTICUT","Middlesex County","Chester town",85700,803,965,1114,1243,964,1158,1337,1492,"CONNECTICUT Chester town"]
[null,"CONNECTICUT","Middlesex County","Clinton town",98900,928,1113,1286,1435,1113,1336,1543,1722,"CONNECTICUT Clinton town"]
[null,"CONNECTICUT","Middlesex County","Cromwell town",85700,803,965,1114,1243,964,1158,1337,1492,"CONNECTICUT Cromwell town"]
[null,"CONNECTICUT","Middlesex County","Deep River town",98900,928,1113,1286,1435,1113,1336,1543,1722,"CONNECTICUT Deep River town"]
[null,"CONNECTICUT","Middlesex County","Durham town",85700,803,965,1114,1243,964,1158,1337,1492,"CONNECTICUT Durham town"]
[null,"CONNECTICUT","Middlesex County","East Haddam town",85700,803,965,1114,1243,964,1158,1337,1492,"CONNECTICUT East Haddam town"]
[null,"CONNECTICUT","Middlesex County","East Hampton town",85700,803,965,1114,1243,964,1158,1337,1492,"CONNECTICUT East Hampton town"]
[null,"CONNECTICUT","Middlesex County","Essex town",98900,928,1113,1286,1435,1113,1336,1543,1722,"CONNECTICUT Essex town"]
[null,"CONNECTICUT","Middlesex County","Haddam town",85700,803,965,1114,1243,964,1158,1337,1492,"CONNECTICUT Haddam town"]
[null,"CONNECTICUT","Middlesex County","Killingworth town",98900,928,1113,1286,1435,1113,1336,1543,1722,"CONNECTICUT Killingworth town"]
[null,"CONNECTICUT","Middlesex County","Middlefield town",85700,803,965,1114,1243,964,1158,1337,1492,"CONNECTICUT Middlefield town"]
[null,"CONNECTICUT","Middlesex County","Middletown town",85700,803,965,1114,1243,964,1158,1337,1492,"CONNECTICUT Middletown town"]
[null,"CONNECTICUT","Middlesex County","Old Saybrook town",98900,928,1113,1286,1435,1113,1336,1543,1722,"CONNECTICUT Old Saybrook town"]
[null,"CONNECTICUT","Middlesex County","Portland town",85700,803,965,1114,1243,964,1158,1337,1492,"CONNECTICUT Portland town"]
[null,"CONNECTICUT","Middlesex County","Westbrook town",98900,928,1113,1286,1435,1113,1336,1543,1722,"CONNECTICUT Westbrook town"]
[null,"CONNECTICUT","New Haven County","Ansonia town",88400,829,995,1149,1282,995,1194,1379,1539,"CONNECTICUT Ansonia town"]
[null,"CONNECTICUT","New Haven County","Beacon Falls town",88400,829,995,1149,1282,995,1194,1379,1539,"CONNECTICUT Beacon Falls town"]
[null,"CONNECTICUT","New Haven County","Bethany town",73900,776,932,1076,1201,932,1119,1292,1441,"CONNECTICUT Bethany town"]
[null,"CONNECTICUT","New Haven County","Branford town",73900,776,932,1076,1201,932,1119,1292,1441,"CONNECTICUT Branford town"]
[null,"CONNECTICUT","New Haven County","Cheshire town",73900,776,932,1076,1201,932,1119,1292,1441,"CONNECTICUT Cheshire town"]
[null,"CONNECTICUT","New Haven County","Derby town",88400,829,995,1149,1282,995,1194,1379,1539,"CONNECTICUT Derby town"]
[null,"CONNECTICUT","New Haven County","East Haven town",73900,776,932,1076,1201,932,1119,1292,1441,"CONNECTICUT East Haven town"]
[null,"CONNECTICUT","New Haven County","Guilford town",73900,776,932,1076,1201,932,1119,1292,1441,"CONNECTICUT Guilford town"]
[null,"CONNECTICUT","New Haven County","Hamden town",73900,776,932,1076,1201,932,1119,1292,1441,"CONNECTICUT Hamden town"]
[null,"CONNECTICUT","New Haven County","Madison town",73900,776,932,1076,1201,932,1119,1292,1441,"CONNECTICUT Madison town"]
[null,"CONNECTICUT","New Haven County","Meriden town",73900,776,932,1076,1201,932,1119,1292,1441,"CONNECTICUT Meriden town"]
[null,"CONNECTICUT","New Haven County","Middlebury town",69500,776,932,1076,1201,932,1119,1292,1441,"CONNECTICUT Middlebury town"]
[null,"CONNECTICUT","New Haven County","Milford town",88400,829,995,1149,1282,995,1194,1379,1539,"CONNECTICUT Milford town"]
[null,"CONNECTICUT","New Haven County","Naugatuck town",69500,776,932,1076,1201,932,1119,1292,1441,"CONNECTICUT Naugatuck town"]
[null,"CONNECTICUT","New Haven County","New Haven town",73900,776,932,1076,1201,932,1119,1292,1441,"CONNECTICUT New Haven town"]
[null,"CONNECTICUT","New Haven County","North Branford town",73900,776,932,1076,1201,932,1119,1292,1441,"CONNECTICUT North Branford town"]
[null,"CONNECTICUT","New Haven County","North Haven town",73900,776,932,1076,1201,932,1119,1292,1441,"CONNECTICUT North Haven town"]
[null,"CONNECTICUT","New Haven County","Orange town",73900,776,932,1076,1201,932,1119,1292,1441,"CONNECTICUT Orange town"]
[null,"CONNECTICUT","New Haven County","Oxford town",88400,829,995,1149,1282,995,1194,1379,1539,"CONNECTICUT Oxford town"]
[null,"CONNECTICUT","New Haven County","Prospect town",69500,776,932,1076,1201,932,1119,1292,1441,"CONNECTICUT Prospect town"]
[null,"CONNECTICUT","New Haven County","Seymour town",88400,829,995,1149,1282,995,1194,1379,1539,"CONNECTICUT Seymour town"]
[null,"CONNECTICUT","New Haven County","Southbury town",69500,776,932,1076,1201,932,1119,1292,1441,"CONNECTICUT Southbury town"]
[null,"CONNECTICUT","New Haven County","Wallingford town",73900,776,932,1076,1201,932,1119,1292,1441,"CONNECTICUT Wallingford town"]
[null,"CONNECTICUT","New Haven County","Waterbury town",69500,776,932,1076,1201,932,1119,1292,1441,"CONNECTICUT Waterbury town"]
[null,"CONNECTICUT","New Haven County","West Haven town",73900,776,932,1076,1201,932,1119,1292,1441,"CONNECTICUT West Haven town"]
[null,"CONNECTICUT","New Haven County","Wolcott town",69500,776,932,1076,1201,932,1119,1292,1441,"CONNECTICUT Wolcott town"]
[null,"CONNECTICUT","New Haven County","Woodbridge town",73900,776,932,1076,1201,932,1119,1292,1441,"CONNECTICUT Woodbridge town"]
[null,"CONNECTICUT","New London County","Bozrah town",84600,793,952,1100,1227,952,1143,1320,1473,"CONNECTICUT Bozrah town"]
[null,"CONNECTICUT","New London County","Colchester town",105000,958,1150,1328,1482,1150,1380,1594,1779,"CONNECTICUT Colchester town"]
[null,"CONNECTICUT","New London County","East Lyme town",84600,793,952,1100,1227,952,1143,1320,1473,"CONNECTICUT East Lyme town"]
[null,"CONNECTICUT","New London County","Franklin town",84600,793,952,1100,1227,952,1143,1320,1473,"CONNECTICUT Franklin town"]
[null,"CONNECTICUT","New London County","Griswold town",84600,793,952,1100,1227,952,1143,1320,1473,"CONNECTICUT Griswold town"]
[null,"CONNECTICUT","New London County","Groton town",84600,793,952,1100,1227,952,1143,1320,1473,"CONNECTICUT Groton town"]
[null,"CONNECTICUT","New London County","Lebanon town",105000,958,1150,1328,1482,1150,1380,1594,1779,"CONNECTICUT Lebanon town"]
[null,"CONNECTICUT","New London County","Ledyard town",84600,793,952,1100,1227,952,1143,1320,1473,"CONNECTICUT Ledyard town"]
[null,"CONNECTICUT","New London County","Lisbon town",84600,793,952,1100,1227,952,1143,1320,1473,"CONNECTICUT Lisbon town"]
[null,"CONNECTICUT","New London County","Lyme town",84600,793,952,1100,1227,952,1143,1320,1473,"CONNECTICUT Lyme town"]
[null,"CONNECTICUT","New London County","Montville town",84600,793,952,1100,1227,952,1143,1320,1473,"CONNECTICUT Montville town"]
[null,"CONNECTICUT","New London County","New London town",84600,793,952,1100,1227,952,1143,1320,1473,"CONNECTICUT New London town"]
[null,"CONNECTICUT","New London County","North Stonington town",84600,793,952,1100,1227,952,1143,1320,1473,"CONNECTICUT North Stonington town"]
[null,"CONNECTICUT","New London County","Norwich town",84600,793,952,1100,1227,952,1143,1320,1473,"CONNECTICUT Norwich town"]
[null,"CONNECTICUT","New London County","Old Lyme town",84600,793,952,1100,1227,952,1143,1320,1473,"CONNECTICUT Old Lyme town"]
[null,"CONNECTICUT","New London County","Preston town",84600,793,952,1100,1227,952,1143,1320,1473,"CONNECTICUT Preston town"]
[null,"CONNECTICUT","New London County","Salem town",84600,793,952,1100,1227,952,1143,1320,1473,"CONNECTICUT Salem town"]
[null,"CONNECTICUT","New London County","Sprague town",84600,793,952,1100,1227,952,1143,1320,1473,"CONNECTICUT Sprague town"]
[null,"CONNECTICUT","New London County","Stonington town",84600,793,952,1100,1227,952,1143,1320,1473,"CONNECTICUT Stonington town"]
[null,"CONNECTICUT","New London County","Voluntown town",84600,793,952,1100,1227,952,1143,1320,1473,"CONNECTICUT Voluntown town"]
[null,"CONNECTICUT","New London County","Waterford town",84600,793,952,1100,1227,952,1143,1320,1473,"CONNECTICUT Waterford town"]
[null,"CONNECTICUT","Tolland County","Andover town",85700,803,965,1114,1243,964,1158,1337,1492,{"$f":"B453&\" \"&D453","v":"CONNECTICUT Andover town"}]
[null,"CONNECTICUT","Tolland County","Bolton town",85700,803,965,1114,1243,964,1158,1337,1492,"CONNECTICUT Bolton town"]
[null,"CONNECTICUT","Tolland County","Columbia town",85700,803,965,1114,1243,964,1158,1337,1492,"CONNECTICUT Columbia town"]
[null,"CONNECTICUT","Tolland County","Coventry town",85700,803,965,1114,1243,964,1158,1337,1492,"CONNECTICUT Coventry town"]
[null,"CONNECTICUT","Tolland County","Ellington town",85700,803,965,1114,1243,964,1158,1337,1492,"CONNECTICUT Ellington town"]
[null,"CONNECTICUT","Tolland County","Hebron town",85700,803,965,1114,1243,964,1158,1337,1492,"CONNECTICUT Hebron town"]
[null,"CONNECTICUT","Tolland County","Mansfield town",85700,803,965,1114,1243,964,1158,1337,1492,"CONNECTICUT Mansfield town"]
[null,"CONNECTICUT","Tolland County","Somers town",85700,803,965,1114,1243,964,1158,1337,1492,"CONNECTICUT Somers town"]
[null,"CONNECTICUT","Tolland County","Stafford town",85700,803,965,1114,1243,964,1158,1337,1492,"CONNECTICUT Stafford town"]
[null,"CONNECTICUT","Tolland County","Tolland town",85700,803,965,1114,1243,964,1158,1337,1492,"CONNECTICUT Tolland town"]
[null,"CONNECTICUT","Tolland County","Union town",85700,803,965,1114,1243,964,1158,1337,1492,"CONNECTICUT Union town"]
[null,"CONNECTICUT","Tolland County","Vernon town",85700,803,965,1114,1243,964,1158,1337,1492,"CONNECTICUT Vernon town"]
[null,"CONNECTICUT","Tolland County","Willington town",85700,803,965,1114,1243,964,1158,1337,1492,"CONNECTICUT Willington town"]
[null,"CONNECTICUT","Windham County","Ashford town",71600,776,932,1076,1201,932,1119,1292,1441,"CONNECTICUT Ashford town"]
[null,"CONNECTICUT","Windham County","Brooklyn town",71600,776,932,1076,1201,932,1119,1292,1441,"CONNECTICUT Brooklyn town"]
[null,"CONNECTICUT","Windham County","Canterbury town",71600,776,932,1076,1201,932,1119,1292,1441,"CONNECTICUT Canterbury town"]
[null,"CONNECTICUT","Windham County","Chaplin town",71600,776,932,1076,1201,932,1119,1292,1441,"CONNECTICUT Chaplin town"]
[null,"CONNECTICUT","Windham County","Eastford town",71600,776,932,1076,1201,932,1119,1292,1441,"CONNECTICUT Eastford town"]
[null,"CONNECTICUT","Windham County","Hampton town",71600,776,932,1076,1201,932,1119,1292,1441,"CONNECTICUT Hampton town"]
[null,"CONNECTICUT","Windham County","Killingly town",71600,776,932,1076,1201,932,1119,1292,1441,"CONNECTICUT Killingly town"]
[null,"CONNECTICUT","Windham County","Plainfield town",71600,776,932,1076,1201,932,1119,1292,1441,"CONNECTICUT Plainfield town"]
[null,"CONNECTICUT","Windham County","Pomfret town",71600,776,932,1076,1201,932,1119,1292,1441,"CONNECTICUT Pomfret town"]
[null,"CONNECTICUT","Windham County","Putnam town",71600,776,932,1076,1201,932,1119,1292,1441,"CONNECTICUT Putnam town"]
[null,"CONNECTICUT","Windham County","Scotland town",71600,776,932,1076,1201,932,1119,1292,1441,"CONNECTICUT Scotland town"]
[null,"CONNECTICUT","Windham County","Sterling town",71600,776,932,1076,1201,932,1119,1292,1441,"CONNECTICUT Sterling town"]
[null,"CONNECTICUT","Windham County","Thompson town",71600,776,932,1076,1201,932,1119,1292,1441,"CONNECTICUT Thompson town"]
[null,"CONNECTICUT","Windham County","Windham town",71600,776,932,1076,1201,932,1119,1292,1441,"CONNECTICUT Windham town"]
[null,"CONNECTICUT","Windham County","Woodstock town",71600,776,932,1076,1201,932,1119,1292,1441,"CONNECTICUT Woodstock town"]
[null,"DELAWARE","Kent County","Kent County",62400,606,728,841,938,728,874,1009,1126,"DELAWARE Kent County"]
[null,"DELAWARE","New Castle County","New Castle County",78800,739,887,1025,1143,887,1065,1230,1372,"DELAWARE New Castle County"]
[null,"DELAWARE","Sussex County","Sussex County",64700,585,702,811,905,702,843,973,1086,"DELAWARE Sussex County"]
[null,"DISTRICT OF COLUMBIA","District of Columbia","District of Columbia",107000,1003,1203,1391,1552,1203,1444,1669,1863,"DISTRICT OF COLUMBIA District of Columbia"]
[null,"FLORIDA","Alachua County","Alachua County",65400,574,688,795,887,689,826,954,1065,"FLORIDA Alachua County"]
[null,"FLORIDA","Baker County","Baker County",58100,545,653,755,842,654,784,906,1011,"FLORIDA Baker County"]
[null,"FLORIDA","Bay County","Bay County",59500,558,670,773,863,669,804,928,1036,"FLORIDA Bay County"]
[null,"FLORIDA","Bradford County","Bradford County",51900,487,585,675,753,585,702,810,904,"FLORIDA Bradford County"]
[null,"FLORIDA","Brevard County","Brevard County",60700,569,683,789,881,683,820,947,1057,"FLORIDA Brevard County"]
[null,"FLORIDA","Broward County","Broward County",61800,646,776,897,1001,776,931,1077,1201,"FLORIDA Broward County"]
[null,"FLORIDA","Calhoun County","Calhoun County",39000,436,523,605,675,523,628,726,810,"FLORIDA Calhoun County"]
[null,"FLORIDA","Charlotte County","Charlotte County",55700,522,627,724,808,627,753,869,970,"FLORIDA Charlotte County"]
[null,"FLORIDA","Citrus County","Citrus County",46000,436,523,605,675,523,628,726,810,"FLORIDA Citrus County"]
[null,"FLORIDA","Clay County","Clay County",63200,593,711,821,917,711,853,986,1101,"FLORIDA Clay County"]
[null,"FLORIDA","Collier County","Collier County",62900,617,741,855,955,741,889,1026,1146,"FLORIDA Collier County"]
[null,"FLORIDA","Columbia County","Columbia County",43400,436,523,605,675,523,628,726,810,"FLORIDA Columbia County"]
[null,"FLORIDA","DeSoto County","DeSoto County",43900,436,523,605,675,523,628,726,810,"FLORIDA DeSoto County"]
[null,"FLORIDA","Dixie County","Dixie County",49800,467,561,647,722,561,673,777,867,"FLORIDA Dixie County"]
[null,"FLORIDA","Duval County","Duval County",63200,593,711,821,917,711,853,986,1101,"FLORIDA Duval County"]
[null,"FLORIDA","Escambia County","Escambia County",58400,548,657,759,847,657,789,911,1017,"FLORIDA Escambia County"]
[null,"FLORIDA","Flagler County","Flagler County",56300,546,655,756,845,655,786,908,1014,"FLORIDA Flagler County"]
[null,"FLORIDA","Franklin County","Franklin County",51400,482,578,668,746,579,694,802,895,"FLORIDA Franklin County"]
[null,"FLORIDA","Gadsden County","Gadsden County",64800,601,721,833,930,721,865,1000,1116,"FLORIDA Gadsden County"]
[null,"FLORIDA","Gilchrist County","Gilchrist County",65400,574,688,795,887,689,826,954,1065,"FLORIDA Gilchrist County"]
[null,"FLORIDA","Glades County","Glades County",46100,436,523,605,675,523,628,726,810,"FLORIDA Glades County"]
[null,"FLORIDA","Gulf County","Gulf County",50600,475,570,658,733,570,684,789,880,"FLORIDA Gulf County"]
[null,"FLORIDA","Hamilton County","Hamilton County",48700,456,548,633,706,548,658,759,847,"FLORIDA Hamilton County"]
[null,"FLORIDA","Hardee County","Hardee County",44600,436,523,605,675,523,628,726,810,"FLORIDA Hardee County"]
[null,"FLORIDA","Hendry County","Hendry County",41600,436,523,605,675,523,628,726,810,"FLORIDA Hendry County"]
[null,"FLORIDA","Hernando County","Hernando County",57400,538,646,746,832,646,775,895,999,"FLORIDA Hernando County"]
[null,"FLORIDA","Highlands County","Highlands County",44000,436,523,605,675,523,628,726,810,"FLORIDA Highlands County"]
[null,"FLORIDA","Hillsborough County","Hillsborough County",57400,538,646,746,832,646,775,895,999,"FLORIDA Hillsborough County"]
[null,"FLORIDA","Holmes County","Holmes County",44600,436,523,605,675,523,628,726,810,"FLORIDA Holmes County"]
[null,"FLORIDA","Indian River County","Indian River County",54700,513,616,711,793,615,739,853,952,"FLORIDA Indian River County"]
[null,"FLORIDA","Jackson County","Jackson County",54500,506,607,702,783,607,729,843,940,"FLORIDA Jackson County"]
[null,"FLORIDA","Jefferson County","Jefferson County",64800,601,721,833,930,721,865,1000,1116,"FLORIDA Jefferson County"]
[null,"FLORIDA","Lafayette County","Lafayette County",58200,535,642,742,828,642,771,891,994,{"$f":"B517&\" \"&D517","v":"FLORIDA Lafayette County"}]
[null,"FLORIDA","Lake County","Lake County",54800,538,645,745,831,645,774,894,997,"FLORIDA Lake County"]
[null,"FLORIDA","Lee County","Lee County",58000,543,652,754,841,652,783,905,1009,"FLORIDA Lee County"]
[null,"FLORIDA","Leon County","Leon County",64800,601,721,833,930,721,865,1000,1116,"FLORIDA Leon County"]
[null,"FLORIDA","Levy County","Levy County",45900,436,523,605,675,523,628,726,810,"FLORIDA Levy County"]
[null,"FLORIDA","Liberty County","Liberty County",53600,503,603,696,777,603,724,836,933,"FLORIDA Liberty County"]
[null,"FLORIDA","Madison County","Madison County",43600,436,523,605,675,523,628,726,810,"FLORIDA Madison County"]
[null,"FLORIDA","Manatee County","Manatee County",57300,538,645,745,831,645,774,894,997,"FLORIDA Manatee County"]
[null,"FLORIDA","Marion County","Marion County",45700,436,523,605,675,523,628,726,810,"FLORIDA Marion County"]
[null,"FLORIDA","Martin County","Martin County",56900,534,641,740,826,641,769,888,991,"FLORIDA Martin County"]
[null,"FLORIDA","Miami-Dade County","Miami-Dade County",48400,637,765,884,986,765,918,1061,1183,"FLORIDA Miami-Dade County"]
[null,"FLORIDA","Monroe County","Monroe County",63500,773,927,1071,1195,927,1113,1285,1434,"FLORIDA Monroe County"]
[null,"FLORIDA","Nassau County","Nassau County",63200,593,711,821,917,711,853,986,1101,"FLORIDA Nassau County"]
[null,"FLORIDA","Okaloosa County","Okaloosa County",62800,589,707,816,911,707,849,980,1093,"FLORIDA Okaloosa County"]
[null,"FLORIDA","Okeechobee County","Okeechobee County",42800,445,533,616,687,534,640,739,825,"FLORIDA Okeechobee County"]
[null,"FLORIDA","Orange County","Orange County",54800,538,645,745,831,645,774,894,997,"FLORIDA Orange County"]
[null,"FLORIDA","Osceola County","Osceola County",54800,538,645,745,831,645,774,894,997,"FLORIDA Osceola County"]
[null,"FLORIDA","Palm Beach County","Palm Beach County",63300,613,735,849,947,735,882,1019,1137,"FLORIDA Palm Beach County"]
[null,"FLORIDA","Pasco County","Pasco County",57400,538,646,746,832,646,775,895,999,"FLORIDA Pasco County"]
[null,"FLORIDA","Pinellas County","Pinellas County",57400,538,646,746,832,646,775,895,999,"FLORIDA Pinellas County"]
[null,"FLORIDA","Polk County","Polk County",50400,473,567,655,731,567,681,786,877,"FLORIDA Polk County"]
[null,"FLORIDA","Putnam County","Putnam County",39300,436,523,605,675,523,628,726,810,"FLORIDA Putnam County"]
[null,"FLORIDA","St. Johns County","St. Johns County",63200,593,711,821,917,711,853,986,1101,"FLORIDA St. Johns County"]
[null,"FLORIDA","St. Lucie County","St. Lucie County",56900,534,641,740,826,641,769,888,991,"FLORIDA St. Lucie County"]
[null,"FLORIDA","Santa Rosa County","Santa Rosa County",58400,548,657,759,847,657,789,911,1017,"FLORIDA Santa Rosa County"]
[null,"FLORIDA","Sarasota County","Sarasota County",57300,538,645,745,831,645,774,894,997,"FLORIDA Sarasota County"]
[null,"FLORIDA","Seminole County","Seminole County",54800,538,645,745,831,645,774,894,997,"FLORIDA Seminole County"]
[null,"FLORIDA","Sumter County","Sumter County",56500,521,626,723,806,626,751,867,967,"FLORIDA Sumter County"]
[null,"FLORIDA","Suwannee County","Suwannee County",46500,436,523,605,675,523,628,726,810,"FLORIDA Suwannee County"]
[null,"FLORIDA","Taylor County","Taylor County",50000,468,562,650,725,562,675,780,870,"FLORIDA Taylor County"]
[null,"FLORIDA","Union County","Union County",57300,538,645,745,831,645,774,894,997,"FLORIDA Union County"]
[null,"FLORIDA","Volusia County","Volusia County",51500,503,605,698,778,604,726,837,934,"FLORIDA Volusia County"]
[null,"FLORIDA","Wakulla County","Wakulla County",66800,626,752,868,968,752,903,1042,1162,"FLORIDA Wakulla County"]
[null,"FLORIDA","Walton County","Walton County",58100,545,653,755,842,654,784,906,1011,"FLORIDA Walton County"]
[null,"FLORIDA","Washington County","Washington County",49500,464,557,643,718,557,669,772,862,"FLORIDA Washington County"]
[null,"GEORGIA","Appling County","Appling County",43700,426,511,590,658,511,613,708,790,"GEORGIA Appling County"]
[null,"GEORGIA","Atkinson County","Atkinson County",36700,426,511,590,658,511,613,708,790,"GEORGIA Atkinson County"]
[null,"GEORGIA","Bacon County","Bacon County",44500,428,513,593,661,513,616,711,793,"GEORGIA Bacon County"]
[null,"GEORGIA","Baker County","Baker County",41500,438,526,607,677,525,631,729,813,"GEORGIA Baker County"]
[null,"GEORGIA","Baldwin County","Baldwin County",51300,481,577,667,745,578,693,801,894,"GEORGIA Baldwin County"]
[null,"GEORGIA","Banks County","Banks County",51300,481,577,667,745,578,693,801,894,"GEORGIA Banks County"]
[null,"GEORGIA","Barrow County","Barrow County",64400,604,725,837,935,725,870,1005,1122,"GEORGIA Barrow County"]
[null,"GEORGIA","Bartow County","Bartow County",64400,604,725,837,935,725,870,1005,1122,"GEORGIA Bartow County"]
[null,"GEORGIA","Ben Hill County","Ben Hill County",39800,426,511,590,658,511,613,708,790,"GEORGIA Ben Hill County"]
[null,"GEORGIA","Berrien County","Berrien County",43200,426,511,590,658,511,613,708,790,"GEORGIA Berrien County"]
[null,"GEORGIA","Bibb County","Bibb County",49800,485,582,672,750,582,699,807,900,"GEORGIA Bibb County"]
[null,"GEORGIA","Bleckley County","Bleckley County",53700,503,605,698,778,604,726,837,934,"GEORGIA Bleckley County"]
[null,"GEORGIA","Brantley County","Brantley County",54800,514,617,712,795,617,741,855,954,"GEORGIA Brantley County"]
[null,"GEORGIA","Brooks County","Brooks County",45200,431,517,598,667,517,621,717,801,"GEORGIA Brooks County"]
[null,"GEORGIA","Bryan County","Bryan County",58500,548,658,760,848,658,790,912,1018,"GEORGIA Bryan County"]
[null,"GEORGIA","Bulloch County","Bulloch County",52700,494,593,685,765,593,712,822,918,"GEORGIA Bulloch County"]
[null,"GEORGIA","Burke County","Burke County",55900,525,630,726,811,630,756,872,973,"GEORGIA Burke County"]
[null,"GEORGIA","Butts County","Butts County",63500,595,715,825,921,714,858,990,1105,"GEORGIA Butts County"]
[null,"GEORGIA","Calhoun County","Calhoun County",47300,444,532,615,686,533,639,738,823,"GEORGIA Calhoun County"]
[null,"GEORGIA","Camden County","Camden County",62400,585,702,811,905,702,843,973,1086,"GEORGIA Camden County"]
[null,"GEORGIA","Candler County","Candler County",43100,426,511,590,658,511,613,708,790,"GEORGIA Candler County"]
[null,"GEORGIA","Carroll County","Carroll County",64400,604,725,837,935,725,870,1005,1122,"GEORGIA Carroll County"]
[null,"GEORGIA","Catoosa County","Catoosa County",54200,516,620,716,800,620,744,860,960,"GEORGIA Catoosa County"]
[null,"GEORGIA","Charlton County","Charlton County",50700,475,571,659,736,570,685,791,883,"GEORGIA Charlton County"]
[null,"GEORGIA","Chatham County","Chatham County",58500,548,658,760,848,658,790,912,1018,"GEORGIA Chatham County"]
[null,"GEORGIA","Chattahoochee County","Chattahoochee County",51000,478,573,663,740,573,688,795,888,"GEORGIA Chattahoochee County"]
[null,"GEORGIA","Chattooga County","Chattooga County",40700,426,511,590,658,511,613,708,790,"GEORGIA Chattooga County"]
[null,"GEORGIA","Cherokee County","Cherokee County",64400,604,725,837,935,725,870,1005,1122,"GEORGIA Cherokee County"]
[null,"GEORGIA","Clarke County","Clarke County",55500,520,625,721,805,624,750,866,966,"GEORGIA Clarke County"]
[null,"GEORGIA","Clay County","Clay County",32600,426,511,590,658,511,613,708,790,{"$f":"B581&\" \"&D581","v":"GEORGIA Clay County"}]
[null,"GEORGIA","Clayton County","Clayton County",64400,604,725,837,935,725,870,1005,1122,"GEORGIA Clayton County"]
[null,"GEORGIA","Clinch County","Clinch County",45300,426,511,590,658,511,613,708,790,"GEORGIA Clinch County"]
[null,"GEORGIA","Cobb County","Cobb County",64400,604,725,837,935,725,870,1005,1122,"GEORGIA Cobb County"]
[null,"GEORGIA","Coffee County","Coffee County",40800,426,511,590,658,511,613,708,790,"GEORGIA Coffee County"]
[null,"GEORGIA","Colquitt County","Colquitt County",42600,426,511,590,658,511,613,708,790,"GEORGIA Colquitt County"]
[null,"GEORGIA","Columbia County","Columbia County",55900,525,630,726,811,630,756,872,973,"GEORGIA Columbia County"]
[null,"GEORGIA","Cook County","Cook County",47400,445,533,616,687,534,640,739,825,"GEORGIA Cook County"]
[null,"GEORGIA","Coweta County","Coweta County",64400,604,725,837,935,725,870,1005,1122,"GEORGIA Coweta County"]
[null,"GEORGIA","Crawford County","Crawford County",49800,485,582,672,750,582,699,807,900,"GEORGIA Crawford County"]
[null,"GEORGIA","Crisp County","Crisp County",43900,426,511,590,658,511,613,708,790,"GEORGIA Crisp County"]
[null,"GEORGIA","Dade County","Dade County",54200,516,620,716,800,620,744,860,960,"GEORGIA Dade County"]
[null,"GEORGIA","Dawson County","Dawson County",64400,604,725,837,935,725,870,1005,1122,"GEORGIA Dawson County"]
[null,"GEORGIA","Decatur County","Decatur County",43200,426,511,590,658,511,613,708,790,"GEORGIA Decatur County"]
[null,"GEORGIA","DeKalb County","DeKalb County",64400,604,725,837,935,725,870,1005,1122,"GEORGIA DeKalb County"]
[null,"GEORGIA","Dodge County","Dodge County",46300,438,526,607,677,525,631,729,813,"GEORGIA Dodge County"]
[null,"GEORGIA","Dooly County","Dooly County",44400,426,511,590,658,511,613,708,790,"GEORGIA Dooly County"]
[null,"GEORGIA","Dougherty County","Dougherty County",41500,438,526,607,677,525,631,729,813,"GEORGIA Dougherty County"]
[null,"GEORGIA","Douglas County","Douglas County",64400,604,725,837,935,725,870,1005,1122,"GEORGIA Douglas County"]
[null,"GEORGIA","Early County","Early County",42600,426,511,590,658,511,613,708,790,"GEORGIA Early County"]
[null,"GEORGIA","Echols County","Echols County",45200,431,517,598,667,517,621,717,801,"GEORGIA Echols County"]
[null,"GEORGIA","Effingham County","Effingham County",58500,548,658,760,848,658,790,912,1018,"GEORGIA Effingham County"]
[null,"GEORGIA","Elbert County","Elbert County",38900,426,511,590,658,511,613,708,790,"GEORGIA Elbert County"]
[null,"GEORGIA","Emanuel County","Emanuel County",38700,426,511,590,658,511,613,708,790,"GEORGIA Emanuel County"]
[null,"GEORGIA","Evans County","Evans County",46700,438,526,607,677,525,631,729,813,"GEORGIA Evans County"]
[null,"GEORGIA","Fannin County","Fannin County",43700,426,511,590,658,511,613,708,790,"GEORGIA Fannin County"]
[null,"GEORGIA","Fayette County","Fayette County",64400,604,725,837,935,725,870,1005,1122,"GEORGIA Fayette County"]
[null,"GEORGIA","Floyd County","Floyd County",52300,491,588,680,758,589,706,816,910,"GEORGIA Floyd County"]
[null,"GEORGIA","Forsyth County","Forsyth County",64400,604,725,837,935,725,870,1005,1122,"GEORGIA Forsyth County"]
[null,"GEORGIA","Franklin County","Franklin County",45600,428,513,593,661,513,616,711,793,"GEORGIA Franklin County"]
[null,"GEORGIA","Fulton County","Fulton County",64400,604,725,837,935,725,870,1005,1122,"GEORGIA Fulton County"]
[null,"GEORGIA","Gilmer County","Gilmer County",46200,433,520,600,670,520,624,720,804,"GEORGIA Gilmer County"]
[null,"GEORGIA","Glascock County","Glascock County",50100,466,560,646,721,559,672,775,865,"GEORGIA Glascock County"]
[null,"GEORGIA","Glynn County","Glynn County",54800,514,617,712,795,617,741,855,954,"GEORGIA Glynn County"]
[null,"GEORGIA","Gordon County","Gordon County",52000,487,585,676,755,585,702,811,906,"GEORGIA Gordon County"]
[null,"GEORGIA","Grady County","Grady County",42900,426,511,590,658,511,613,708,790,"GEORGIA Grady County"]
[null,"GEORGIA","Greene County","Greene County",47000,440,528,611,682,528,634,733,819,"GEORGIA Greene County"]
[null,"GEORGIA","Gwinnett County","Gwinnett County",64400,604,725,837,935,725,870,1005,1122,"GEORGIA Gwinnett County"]
[null,"GEORGIA","Habersham County","Habersham County",52100,488,586,677,756,586,703,813,907,"GEORGIA Habersham County"]
[null,"GEORGIA","Hall County","Hall County",56100,526,631,729,813,631,757,875,976,"GEORGIA Hall County"]
[null,"GEORGIA","Hancock County","Hancock County",32900,426,511,590,658,511,613,708,790,"GEORGIA Hancock County"]
[null,"GEORGIA","Haralson County","Haralson County",46300,435,521,602,672,522,625,723,807,"GEORGIA Haralson County"]
[null,"GEORGIA","Harris County","Harris County",51000,478,573,663,740,573,688,795,888,"GEORGIA Harris County"]
[null,"GEORGIA","Hart County","Hart County",48900,459,551,636,710,551,661,763,852,"GEORGIA Hart County"]
[null,"GEORGIA","Heard County","Heard County",64400,604,725,837,935,725,870,1005,1122,"GEORGIA Heard County"]
[null,"GEORGIA","Henry County","Henry County",64400,604,725,837,935,725,870,1005,1122,"GEORGIA Henry County"]
[null,"GEORGIA","Houston County","Houston County",64400,613,735,849,947,735,882,1019,1137,"GEORGIA Houston County"]
[null,"GEORGIA","Irwin County","Irwin County",52200,490,587,678,757,588,705,814,909,"GEORGIA Irwin County"]
[null,"GEORGIA","Jackson County","Jackson County",61500,576,692,800,892,692,831,960,1071,"GEORGIA Jackson County"]
[null,"GEORGIA","Jasper County","Jasper County",64400,604,725,837,935,725,870,1005,1122,"GEORGIA Jasper County"]
[null,"GEORGIA","Jeff Davis County","Jeff Davis County",45500,426,512,591,660,512,615,710,792,"GEORGIA Jeff Davis County"]
[null,"GEORGIA","Jefferson County","Jefferson County",38600,426,511,590,658,511,613,708,790,"GEORGIA Jefferson County"]
[null,"GEORGIA","Jenkins County","Jenkins County",27900,426,511,590,658,511,613,708,790,"GEORGIA Jenkins County"]
[null,"GEORGIA","Johnson County","Johnson County",38900,426,511,590,658,511,613,708,790,"GEORGIA Johnson County"]
[null,"GEORGIA","Jones County","Jones County",49800,485,582,672,750,582,699,807,900,"GEORGIA Jones County"]
[null,"GEORGIA","Lamar County","Lamar County",46600,437,525,606,676,525,630,727,811,"GEORGIA Lamar County"]
[null,"GEORGIA","Lanier County","Lanier County",45200,431,517,598,667,517,621,717,801,"GEORGIA Lanier County"]
[null,"GEORGIA","Laurens County","Laurens County",47400,445,533,616,687,534,640,739,825,"GEORGIA Laurens County"]
[null,"GEORGIA","Lee County","Lee County",41500,438,526,607,677,525,631,729,813,"GEORGIA Lee County"]
[null,"GEORGIA","Liberty County","Liberty County",50000,468,562,650,725,562,675,780,870,"GEORGIA Liberty County"]
[null,"GEORGIA","Lincoln County","Lincoln County",46500,436,523,605,675,523,628,726,810,"GEORGIA Lincoln County"]
[null,"GEORGIA","Long County","Long County",49700,466,560,646,721,559,672,775,865,"GEORGIA Long County"]
[null,"GEORGIA","Lowndes County","Lowndes County",45200,431,517,598,667,517,621,717,801,"GEORGIA Lowndes County"]
[null,"GEORGIA","Lumpkin County","Lumpkin County",55200,518,621,718,801,621,745,861,961,"GEORGIA Lumpkin County"]
[null,"GEORGIA","McDuffie County","McDuffie County",55900,525,630,726,811,630,756,872,973,{"$f":"B645&\" \"&D645","v":"GEORGIA McDuffie County"}]
[null,"GEORGIA","McIntosh County","McIntosh County",54800,514,617,712,795,617,741,855,954,"GEORGIA McIntosh County"]
[null,"GEORGIA","Macon County","Macon County",38100,426,511,590,658,511,613,708,790,"GEORGIA Macon County"]
[null,"GEORGIA","Madison County","Madison County",55500,520,625,721,805,624,750,866,966,"GEORGIA Madison County"]
[null,"GEORGIA","Marion County","Marion County",51000,478,573,663,740,573,688,795,888,"GEORGIA Marion County"]
[null,"GEORGIA","Meriwether County","Meriwether County",47500,446,536,619,691,536,643,743,829,"GEORGIA Meriwether County"]
[null,"GEORGIA","Miller County","Miller County",42800,426,511,590,658,511,613,708,790,"GEORGIA Miller County"]
[null,"GEORGIA","Mitchell County","Mitchell County",47700,447,537,620,692,537,645,744,831,"GEORGIA Mitchell County"]
[null,"GEORGIA","Monroe County","Monroe County",63200,593,711,821,917,711,853,986,1101,"GEORGIA Monroe County"]
[null,"GEORGIA","Montgomery County","Montgomery County",46200,436,523,605,675,523,628,726,810,"GEORGIA Montgomery County"]
[null,"GEORGIA","Morgan County","Morgan County",62400,585,702,811,905,702,843,973,1086,"GEORGIA Morgan County"]
[null,"GEORGIA","Murray County","Murray County",44200,431,517,596,666,517,621,716,799,"GEORGIA Murray County"]
[null,"GEORGIA","Muscogee County","Muscogee County",51000,478,573,663,740,573,688,795,888,"GEORGIA Muscogee County"]
[null,"GEORGIA","Newton County","Newton County",64400,604,725,837,935,725,870,1005,1122,"GEORGIA Newton County"]
[null,"GEORGIA","Oconee County","Oconee County",55500,520,625,721,805,624,750,866,966,"GEORGIA Oconee County"]
[null,"GEORGIA","Oglethorpe County","Oglethorpe County",55500,520,625,721,805,624,750,866,966,"GEORGIA Oglethorpe County"]
[null,"GEORGIA","Paulding County","Paulding County",64400,604,725,837,935,725,870,1005,1122,"GEORGIA Paulding County"]
[null,"GEORGIA","Peach County","Peach County",55600,521,626,723,806,626,751,867,967,"GEORGIA Peach County"]
[null,"GEORGIA","Pickens County","Pickens County",64400,604,725,837,935,725,870,1005,1122,"GEORGIA Pickens County"]
[null,"GEORGIA","Pierce County","Pierce County",48700,456,548,633,706,548,658,759,847,"GEORGIA Pierce County"]
[null,"GEORGIA","Pike County","Pike County",64400,604,725,837,935,725,870,1005,1122,"GEORGIA Pike County"]
[null,"GEORGIA","Polk County","Polk County",49100,455,546,630,703,546,655,756,844,"GEORGIA Polk County"]
[null,"GEORGIA","Pulaski County","Pulaski County",47500,445,535,617,688,534,642,741,826,"GEORGIA Pulaski County"]
[null,"GEORGIA","Putnam County","Putnam County",51100,479,575,664,741,575,690,797,889,"GEORGIA Putnam County"]
[null,"GEORGIA","Quitman County","Quitman County",38300,426,511,590,658,511,613,708,790,"GEORGIA Quitman County"]
[null,"GEORGIA","Rabun County","Rabun County",52300,491,588,680,758,589,706,816,910,"GEORGIA Rabun County"]
[null,"GEORGIA","Randolph County","Randolph County",36600,426,511,590,658,511,613,708,790,"GEORGIA Randolph County"]
[null,"GEORGIA","Richmond County","Richmond County",55900,525,630,726,811,630,756,872,973,"GEORGIA Richmond County"]
[null,"GEORGIA","Rockdale County","Rockdale County",64400,604,725,837,935,725,870,1005,1122,"GEORGIA Rockdale County"]
[null,"GEORGIA","Schley County","Schley County",51500,483,580,670,747,579,696,804,897,"GEORGIA Schley County"]
[null,"GEORGIA","Screven County","Screven County",46700,438,526,607,677,525,631,729,813,"GEORGIA Screven County"]
[null,"GEORGIA","Seminole County","Seminole County",40400,426,511,590,658,511,613,708,790,"GEORGIA Seminole County"]
[null,"GEORGIA","Spalding County","Spalding County",64400,604,725,837,935,725,870,1005,1122,"GEORGIA Spalding County"]
[null,"GEORGIA","Stephens County","Stephens County",49300,448,538,621,693,538,646,746,832,"GEORGIA Stephens County"]
[null,"GEORGIA","Stewart County","Stewart County",41100,426,511,590,658,511,613,708,790,"GEORGIA Stewart County"]
[null,"GEORGIA","Sumter County","Sumter County",45200,426,511,590,658,511,613,708,790,"GEORGIA Sumter County"]
[null,"GEORGIA","Talbot County","Talbot County",46100,432,518,599,668,519,622,719,802,"GEORGIA Talbot County"]
[null,"GEORGIA","Taliaferro County","Taliaferro County",32300,448,538,621,693,538,646,746,832,"GEORGIA Taliaferro County"]
[null,"GEORGIA","Tattnall County","Tattnall County",46900,440,528,610,681,528,634,732,817,"GEORGIA Tattnall County"]
[null,"GEORGIA","Taylor County","Taylor County",40400,426,511,590,658,511,613,708,790,"GEORGIA Taylor County"]
[null,"GEORGIA","Telfair County","Telfair County",32900,426,511,590,658,511,613,708,790,"GEORGIA Telfair County"]
[null,"GEORGIA","Terrell County","Terrell County",41500,438,526,607,677,525,631,729,813,"GEORGIA Terrell County"]
[null,"GEORGIA","Thomas County","Thomas County",47100,441,530,612,683,530,636,735,820,"GEORGIA Thomas County"]
[null,"GEORGIA","Tift County","Tift County",48800,458,550,635,708,549,660,762,850,"GEORGIA Tift County"]
[null,"GEORGIA","Toombs County","Toombs County",47500,445,535,617,688,534,642,741,826,"GEORGIA Toombs County"]
[null,"GEORGIA","Towns County","Towns County",51400,482,578,668,746,579,694,802,895,"GEORGIA Towns County"]
[null,"GEORGIA","Treutlen County","Treutlen County",46100,432,518,599,668,519,622,719,802,"GEORGIA Treutlen County"]
[null,"GEORGIA","Troup County","Troup County",49000,459,551,637,711,551,661,765,853,"GEORGIA Troup County"]
[null,"GEORGIA","Turner County","Turner County",43600,426,511,590,658,511,613,708,790,"GEORGIA Turner County"]
[null,"GEORGIA","Twiggs County","Twiggs County",49800,485,582,672,750,582,699,807,900,"GEORGIA Twiggs County"]
[null,"GEORGIA","Union County","Union County",52800,495,595,686,766,594,714,824,919,"GEORGIA Union County"]
[null,"GEORGIA","Upson County","Upson County",44600,426,511,590,658,511,613,708,790,"GEORGIA Upson County"]
[null,"GEORGIA","Walker County","Walker County",54200,516,620,716,800,620,744,860,960,"GEORGIA Walker County"]
[null,"GEORGIA","Walton County","Walton County",64400,604,725,837,935,725,870,1005,1122,"GEORGIA Walton County"]
[null,"GEORGIA","Ware County","Ware County",48900,459,551,636,710,551,661,763,852,"GEORGIA Ware County"]
[null,"GEORGIA","Warren County","Warren County",42000,426,511,590,658,511,613,708,790,"GEORGIA Warren County"]
[null,"GEORGIA","Washington County","Washington County",46400,435,522,603,673,522,627,724,808,"GEORGIA Washington County"]
[null,"GEORGIA","Wayne County","Wayne County",49900,468,562,648,723,562,675,778,868,"GEORGIA Wayne County"]
[null,"GEORGIA","Webster County","Webster County",47100,441,530,612,683,530,636,735,820,"GEORGIA Webster County"]
[null,"GEORGIA","Wheeler County","Wheeler County",41500,428,513,593,661,513,616,711,793,"GEORGIA Wheeler County"]
[null,"GEORGIA","White County","White County",53500,501,602,695,776,602,723,834,931,"GEORGIA White County"]
[null,"GEORGIA","Whitfield County","Whitfield County",40600,451,541,625,697,541,649,750,837,"GEORGIA Whitfield County"]
[null,"GEORGIA","Wilcox County","Wilcox County",40900,426,511,590,658,511,613,708,790,"GEORGIA Wilcox County"]
[null,"GEORGIA","Wilkes County","Wilkes County",38900,426,511,590,658,511,613,708,790,"GEORGIA Wilkes County"]
[null,"GEORGIA","Wilkinson County","Wilkinson County",46700,438,526,607,677,525,631,729,813,{"$f":"B709&\" \"&D709","v":"GEORGIA Wilkinson County"}]
[null,"GEORGIA","Worth County","Worth County",41500,438,526,607,677,525,631,729,813,"GEORGIA Worth County"]
[null,"HAWAII","Hawaii County","Hawaii County",56700,623,747,863,963,747,897,1036,1156,"HAWAII Hawaii County"]
[null,"HAWAII","Honolulu County","Honolulu County",82600,898,1078,1245,1390,1078,1294,1494,1668,"HAWAII Honolulu County"]
[null,"HAWAII","Kalawao County","Kalawao County",97900,818,981,1133,1265,981,1177,1360,1518,"HAWAII Kalawao County"]
[null,"HAWAII","Kauai County","Kauai County",70300,851,1022,1180,1317,1022,1227,1416,1581,"HAWAII Kauai County"]
[null,"HAWAII","Maui County","Maui County",75800,756,908,1049,1171,908,1090,1259,1405,"HAWAII Maui County"]
[null,"IDAHO","Ada County","Ada County",55600,534,641,741,827,641,769,889,993,"IDAHO Ada County"]
[null,"IDAHO","Adams County","Adams County",46900,491,588,680,758,589,706,816,910,"IDAHO Adams County"]
[null,"IDAHO","Bannock County","Bannock County",54200,508,610,705,786,610,732,846,943,"IDAHO Bannock County"]
[null,"IDAHO","Bear Lake County","Bear Lake County",50200,491,588,680,758,589,706,816,910,"IDAHO Bear Lake County"]
[null,"IDAHO","Benewah County","Benewah County",42000,491,588,680,758,589,706,816,910,"IDAHO Benewah County"]
[null,"IDAHO","Bingham County","Bingham County",56100,526,631,729,813,631,757,875,976,"IDAHO Bingham County"]
[null,"IDAHO","Blaine County","Blaine County",80600,756,907,1048,1168,907,1089,1257,1402,"IDAHO Blaine County"]
[null,"IDAHO","Boise County","Boise County",55600,534,641,741,827,641,769,889,993,"IDAHO Boise County"]
[null,"IDAHO","Bonner County","Bonner County",53800,505,606,700,781,606,727,840,937,"IDAHO Bonner County"]
[null,"IDAHO","Bonneville County","Bonneville County",57000,534,641,741,827,641,769,889,993,"IDAHO Bonneville County"]
[null,"IDAHO","Boundary County","Boundary County",47100,491,588,680,758,589,706,816,910,"IDAHO Boundary County"]
[null,"IDAHO","Butte County","Butte County",49200,491,588,680,758,589,706,816,910,"IDAHO Butte County"]
[null,"IDAHO","Camas County","Camas County",46800,491,588,680,758,589,706,816,910,"IDAHO Camas County"]
[null,"IDAHO","Canyon County","Canyon County",55600,534,641,741,827,641,769,889,993,"IDAHO Canyon County"]
[null,"IDAHO","Caribou County","Caribou County",62200,561,673,777,867,673,808,933,1041,"IDAHO Caribou County"]
[null,"IDAHO","Cassia County","Cassia County",52500,492,591,682,761,591,709,819,913,"IDAHO Cassia County"]
[null,"IDAHO","Clark County","Clark County",41000,491,588,680,758,589,706,816,910,"IDAHO Clark County"]
[null,"IDAHO","Clearwater County","Clearwater County",49100,491,588,680,758,589,706,816,910,"IDAHO Clearwater County"]
[null,"IDAHO","Custer County","Custer County",62300,583,700,808,902,700,840,970,1083,"IDAHO Custer County"]
[null,"IDAHO","Elmore County","Elmore County",50400,491,588,680,758,589,706,816,910,"IDAHO Elmore County"]
[null,"IDAHO","Franklin County","Franklin County",58300,548,657,759,847,657,789,911,1017,"IDAHO Franklin County"]
[null,"IDAHO","Fremont County","Fremont County",51900,498,597,690,770,597,717,828,924,"IDAHO Fremont County"]
[null,"IDAHO","Gem County","Gem County",52800,495,595,686,766,594,714,824,919,"IDAHO Gem County"]
[null,"IDAHO","Gooding County","Gooding County",50800,491,588,680,758,589,706,816,910,"IDAHO Gooding County"]
[null,"IDAHO","Idaho County","Idaho County",42300,491,588,680,758,589,706,816,910,"IDAHO Idaho County"]
[null,"IDAHO","Jefferson County","Jefferson County",57000,534,641,741,827,641,769,889,993,"IDAHO Jefferson County"]
[null,"IDAHO","Jerome County","Jerome County",47200,491,588,680,758,589,706,816,910,"IDAHO Jerome County"]
[null,"IDAHO","Kootenai County","Kootenai County",55800,523,628,725,810,628,754,870,972,"IDAHO Kootenai County"]
[null,"IDAHO","Latah County","Latah County",59800,561,673,777,867,673,808,933,1041,"IDAHO Latah County"]
[null,"IDAHO","Lemhi County","Lemhi County",54200,508,610,705,786,610,732,846,943,"IDAHO Lemhi County"]
[null,"IDAHO","Lewis County","Lewis County",43900,491,588,680,758,589,706,816,910,"IDAHO Lewis County"]
[null,"IDAHO","Lincoln County","Lincoln County",52400,491,590,681,760,590,708,817,912,"IDAHO Lincoln County"]
[null,"IDAHO","Madison County","Madison County",41700,491,588,680,758,589,706,816,910,"IDAHO Madison County"]
[null,"IDAHO","Minidoka County","Minidoka County",51900,491,588,680,758,589,706,816,910,"IDAHO Minidoka County"]
[null,"IDAHO","Nez Perce County","Nez Perce County",56800,533,640,738,823,639,768,886,988,"IDAHO Nez Perce County"]
[null,"IDAHO","Oneida County","Oneida County",57100,535,642,742,828,642,771,891,994,"IDAHO Oneida County"]
[null,"IDAHO","Owyhee County","Owyhee County",55600,534,641,741,827,641,769,889,993,"IDAHO Owyhee County"]
[null,"IDAHO","Payette County","Payette County",54400,510,612,707,790,612,735,849,948,"IDAHO Payette County"]
[null,"IDAHO","Power County","Power County",54200,508,610,705,786,610,732,846,943,"IDAHO Power County"]
[null,"IDAHO","Shoshone County","Shoshone County",48300,491,588,680,758,589,706,816,910,"IDAHO Shoshone County"]
[null,"IDAHO","Teton County","Teton County",59400,557,668,772,862,669,802,927,1035,"IDAHO Teton County"]
[null,"IDAHO","Twin Falls County","Twin Falls County",51700,491,588,680,758,589,706,816,910,"IDAHO Twin Falls County"]
[null,"IDAHO","Valley County","Valley County",67700,625,750,866,966,750,900,1039,1159,"IDAHO Valley County"]
[null,"IDAHO","Washington County","Washington County",50100,491,588,680,758,589,706,816,910,"IDAHO Washington County"]
[null,"ILLINOIS","Adams County","Adams County",58100,547,656,758,846,657,787,909,1015,"ILLINOIS Adams County"]
[null,"ILLINOIS","Alexander County","Alexander County",53400,501,601,694,775,601,721,833,930,"ILLINOIS Alexander County"]
[null,"ILLINOIS","Bond County","Bond County",63400,595,713,824,920,714,856,989,1104,"ILLINOIS Bond County"]
[null,"ILLINOIS","Boone County","Boone County",55900,547,656,758,846,657,787,909,1015,"ILLINOIS Boone County"]
[null,"ILLINOIS","Brown County","Brown County",56400,547,656,758,846,657,787,909,1015,"ILLINOIS Brown County"]
[null,"ILLINOIS","Bureau County","Bureau County",60400,566,680,785,876,680,816,942,1051,"ILLINOIS Bureau County"]
[null,"ILLINOIS","Calhoun County","Calhoun County",67100,629,755,872,973,755,906,1047,1168,"ILLINOIS Calhoun County"]
[null,"ILLINOIS","Carroll County","Carroll County",57500,547,656,758,846,657,787,909,1015,"ILLINOIS Carroll County"]
[null,"ILLINOIS","Cass County","Cass County",53800,547,656,758,846,657,787,909,1015,"ILLINOIS Cass County"]
[null,"ILLINOIS","Champaign County","Champaign County",66800,637,765,883,985,765,918,1059,1182,"ILLINOIS Champaign County"]
[null,"ILLINOIS","Christian County","Christian County",58200,547,656,758,846,657,787,909,1015,"ILLINOIS Christian County"]
[null,"ILLINOIS","Clark County","Clark County",57200,547,656,758,846,657,787,909,1015,"ILLINOIS Clark County"]
[null,"ILLINOIS","Clay County","Clay County",51400,547,656,758,846,657,787,909,1015,"ILLINOIS Clay County"]
[null,"ILLINOIS","Clinton County","Clinton County",67100,629,755,872,973,755,906,1047,1168,{"$f":"B773&\" \"&D773","v":"ILLINOIS Clinton County"}]
[null,"ILLINOIS","Coles County","Coles County",59900,562,675,778,868,675,810,934,1042,"ILLINOIS Coles County"]
[null,"ILLINOIS","Cook County","Cook County",72400,679,815,941,1050,815,978,1129,1260,"ILLINOIS Cook County"]
[null,"ILLINOIS","Crawford County","Crawford County",56300,547,656,758,846,657,787,909,1015,"ILLINOIS Crawford County"]
[null,"ILLINOIS","Cumberland County","Cumberland County",57500,547,656,758,846,657,787,909,1015,"ILLINOIS Cumberland County"]
[null,"ILLINOIS","DeKalb County","DeKalb County",67600,653,785,906,1011,784,942,1087,1213,"ILLINOIS DeKalb County"]
[null,"ILLINOIS","De Witt County","De Witt County",63400,595,713,824,920,714,856,989,1104,"ILLINOIS De Witt County"]
[null,"ILLINOIS","Douglas County","Douglas County",64300,603,723,836,932,724,868,1003,1119,"ILLINOIS Douglas County"]
[null,"ILLINOIS","DuPage County","DuPage County",72400,679,815,941,1050,815,978,1129,1260,"ILLINOIS DuPage County"]
[null,"ILLINOIS","Edgar County","Edgar County",59200,553,663,767,856,663,796,921,1027,"ILLINOIS Edgar County"]
[null,"ILLINOIS","Edwards County","Edwards County",53000,547,656,758,846,657,787,909,1015,"ILLINOIS Edwards County"]
[null,"ILLINOIS","Effingham County","Effingham County",65400,613,736,850,948,736,883,1020,1138,"ILLINOIS Effingham County"]
[null,"ILLINOIS","Fayette County","Fayette County",55000,547,656,758,846,657,787,909,1015,"ILLINOIS Fayette County"]
[null,"ILLINOIS","Ford County","Ford County",66800,637,765,883,985,765,918,1059,1182,"ILLINOIS Ford County"]
[null,"ILLINOIS","Franklin County","Franklin County",48100,547,656,758,846,657,787,909,1015,"ILLINOIS Franklin County"]
[null,"ILLINOIS","Fulton County","Fulton County",54500,547,656,758,846,657,787,909,1015,"ILLINOIS Fulton County"]
[null,"ILLINOIS","Gallatin County","Gallatin County",53600,547,656,758,846,657,787,909,1015,"ILLINOIS Gallatin County"]
[null,"ILLINOIS","Greene County","Greene County",53500,547,656,758,846,657,787,909,1015,"ILLINOIS Greene County"]
[null,"ILLINOIS","Grundy County","Grundy County",79900,750,900,1038,1158,900,1080,1246,1390,"ILLINOIS Grundy County"]
[null,"ILLINOIS","Hamilton County","Hamilton County",56400,547,656,758,846,657,787,909,1015,"ILLINOIS Hamilton County"]
[null,"ILLINOIS","Hancock County","Hancock County",56900,547,656,758,846,657,787,909,1015,"ILLINOIS Hancock County"]
[null,"ILLINOIS","Hardin County","Hardin County",42700,547,656,758,846,657,787,909,1015,"ILLINOIS Hardin County"]
[null,"ILLINOIS","Henderson County","Henderson County",63200,576,692,800,892,692,831,960,1071,"ILLINOIS Henderson County"]
[null,"ILLINOIS","Henry County","Henry County",62800,589,707,816,911,707,849,980,1093,"ILLINOIS Henry County"]
[null,"ILLINOIS","Iroquois County","Iroquois County",60700,569,683,789,881,683,820,947,1057,"ILLINOIS Iroquois County"]
[null,"ILLINOIS","Jackson County","Jackson County",52500,547,656,758,846,657,787,909,1015,"ILLINOIS Jackson County"]
[null,"ILLINOIS","Jasper County","Jasper County",56200,547,656,758,846,657,787,909,1015,"ILLINOIS Jasper County"]
[null,"ILLINOIS","Jefferson County","Jefferson County",56400,547,656,758,846,657,787,909,1015,"ILLINOIS Jefferson County"]
[null,"ILLINOIS","Jersey County","Jersey County",67100,629,755,872,973,755,906,1047,1168,"ILLINOIS Jersey County"]
[null,"ILLINOIS","Jo Daviess County","Jo Daviess County",64400,604,725,837,935,725,870,1005,1122,"ILLINOIS Jo Daviess County"]
[null,"ILLINOIS","Johnson County","Johnson County",51800,547,656,758,846,657,787,909,1015,"ILLINOIS Johnson County"]
[null,"ILLINOIS","Kane County","Kane County",72400,679,815,941,1050,815,978,1129,1260,"ILLINOIS Kane County"]
[null,"ILLINOIS","Kankakee County","Kankakee County",53800,553,663,767,856,663,796,921,1027,"ILLINOIS Kankakee County"]
[null,"ILLINOIS","Kendall County","Kendall County",94500,886,1063,1228,1371,1063,1276,1474,1645,"ILLINOIS Kendall County"]
[null,"ILLINOIS","Knox County","Knox County",55500,547,656,758,846,657,787,909,1015,"ILLINOIS Knox County"]
[null,"ILLINOIS","Lake County","Lake County",72400,679,815,941,1050,815,978,1129,1260,"ILLINOIS Lake County"]
[null,"ILLINOIS","La Salle County","La Salle County",63500,595,715,825,921,714,858,990,1105,"ILLINOIS La Salle County"]
[null,"ILLINOIS","Lawrence County","Lawrence County",49400,547,656,758,846,657,787,909,1015,"ILLINOIS Lawrence County"]
[null,"ILLINOIS","Lee County","Lee County",66900,628,753,870,971,753,904,1044,1165,"ILLINOIS Lee County"]
[null,"ILLINOIS","Livingston County","Livingston County",65200,611,733,848,946,734,880,1017,1135,"ILLINOIS Livingston County"]
[null,"ILLINOIS","Logan County","Logan County",68300,641,768,888,991,769,922,1065,1189,"ILLINOIS Logan County"]
[null,"ILLINOIS","McDonough County","McDonough County",55600,547,656,758,846,657,787,909,1015,"ILLINOIS McDonough County"]
[null,"ILLINOIS","McHenry County","McHenry County",72400,679,815,941,1050,815,978,1129,1260,"ILLINOIS McHenry County"]
[null,"ILLINOIS","McLean County","McLean County",81700,766,920,1062,1185,919,1104,1275,1422,"ILLINOIS McLean County"]
[null,"ILLINOIS","Macon County","Macon County",63700,563,676,781,872,676,811,938,1047,"ILLINOIS Macon County"]
[null,"ILLINOIS","Macoupin County","Macoupin County",63500,595,715,825,921,714,858,990,1105,"ILLINOIS Macoupin County"]
[null,"ILLINOIS","Madison County","Madison County",67100,629,755,872,973,755,906,1047,1168,"ILLINOIS Madison County"]
[null,"ILLINOIS","Marion County","Marion County",54100,547,656,758,846,657,787,909,1015,"ILLINOIS Marion County"]
[null,"ILLINOIS","Marshall County","Marshall County",63700,597,717,828,923,717,861,993,1108,"ILLINOIS Marshall County"]
[null,"ILLINOIS","Mason County","Mason County",55200,547,656,758,846,657,787,909,1015,"ILLINOIS Mason County"]
[null,"ILLINOIS","Massac County","Massac County",54700,547,656,758,846,657,787,909,1015,"ILLINOIS Massac County"]
[null,"ILLINOIS","Menard County","Menard County",69600,653,783,905,1010,783,940,1086,1212,"ILLINOIS Menard County"]
[null,"ILLINOIS","Mercer County","Mercer County",62800,589,707,816,911,707,849,980,1093,"ILLINOIS Mercer County"]
[null,"ILLINOIS","Monroe County","Monroe County",67100,629,755,872,973,755,906,1047,1168,"ILLINOIS Monroe County"]
[null,"ILLINOIS","Montgomery County","Montgomery County",60700,569,683,789,881,683,820,947,1057,"ILLINOIS Montgomery County"]
[null,"ILLINOIS","Morgan County","Morgan County",62400,585,702,811,905,702,843,973,1086,"ILLINOIS Morgan County"]
[null,"ILLINOIS","Moultrie County","Moultrie County",57000,547,656,758,846,657,787,909,1015,"ILLINOIS Moultrie County"]
[null,"ILLINOIS","Ogle County","Ogle County",69700,653,785,906,1011,784,942,1087,1213,"ILLINOIS Ogle County"]
[null,"ILLINOIS","Peoria County","Peoria County",63700,597,717,828,923,717,861,993,1108,"ILLINOIS Peoria County"]
[null,"ILLINOIS","Perry County","Perry County",54100,547,656,758,846,657,787,909,1015,"ILLINOIS Perry County"]
[null,"ILLINOIS","Piatt County","Piatt County",66800,637,765,883,985,765,918,1059,1182,"ILLINOIS Piatt County"]
[null,"ILLINOIS","Pike County","Pike County",52400,547,656,758,846,657,787,909,1015,"ILLINOIS Pike County"]
[null,"ILLINOIS","Pope County","Pope County",51000,547,656,758,846,657,787,909,1015,"ILLINOIS Pope County"]
[null,"ILLINOIS","Pulaski County","Pulaski County",42800,547,656,758,846,657,787,909,1015,"ILLINOIS Pulaski County"]
[null,"ILLINOIS","Putnam County","Putnam County",67800,653,783,905,1010,783,940,1086,1212,{"$f":"B837&\" \"&D837","v":"ILLINOIS Putnam County"}]
[null,"ILLINOIS","Randolph County","Randolph County",61400,576,691,798,891,691,829,958,1069,"ILLINOIS Randolph County"]
[null,"ILLINOIS","Richland County","Richland County",57500,547,656,758,846,657,787,909,1015,"ILLINOIS Richland County"]
[null,"ILLINOIS","Rock Island County","Rock Island County",62800,589,707,816,911,707,849,980,1093,"ILLINOIS Rock Island County"]
[null,"ILLINOIS","St. Clair County","St. Clair County",67100,629,755,872,973,755,906,1047,1168,"ILLINOIS St. Clair County"]
[null,"ILLINOIS","Saline County","Saline County",49700,547,656,758,846,657,787,909,1015,"ILLINOIS Saline County"]
[null,"ILLINOIS","Sangamon County","Sangamon County",69600,653,783,905,1010,783,940,1086,1212,"ILLINOIS Sangamon County"]
[null,"ILLINOIS","Schuyler County","Schuyler County",56800,547,656,758,846,657,787,909,1015,"ILLINOIS Schuyler County"]
[null,"ILLINOIS","Scott County","Scott County",67100,621,745,860,960,745,894,1032,1152,"ILLINOIS Scott County"]
[null,"ILLINOIS","Shelby County","Shelby County",60000,562,675,780,870,675,810,936,1044,"ILLINOIS Shelby County"]
[null,"ILLINOIS","Stark County","Stark County",63700,597,717,828,923,717,861,993,1108,"ILLINOIS Stark County"]
[null,"ILLINOIS","Stephenson County","Stephenson County",58800,551,662,765,853,662,795,918,1024,"ILLINOIS Stephenson County"]
[null,"ILLINOIS","Tazewell County","Tazewell County",63700,597,717,828,923,717,861,993,1108,"ILLINOIS Tazewell County"]
[null,"ILLINOIS","Union County","Union County",53100,547,656,758,846,657,787,909,1015,"ILLINOIS Union County"]
[null,"ILLINOIS","Vermilion County","Vermilion County",53300,547,656,758,846,657,787,909,1015,"ILLINOIS Vermilion County"]
[null,"ILLINOIS","Wabash County","Wabash County",59300,556,667,771,860,668,801,925,1032,"ILLINOIS Wabash County"]
[null,"ILLINOIS","Warren County","Warren County",51800,547,656,758,846,657,787,909,1015,"ILLINOIS Warren County"]
[null,"ILLINOIS","Washington County","Washington County",67500,633,760,877,978,759,912,1053,1174,"ILLINOIS Washington County"]
[null,"ILLINOIS","Wayne County","Wayne County",51000,547,656,758,846,657,787,909,1015,"ILLINOIS Wayne County"]
[null,"ILLINOIS","White County","White County",55400,547,656,758,846,657,787,909,1015,"ILLINOIS White County"]
[null,"ILLINOIS","Whiteside County","Whiteside County",57900,547,656,758,846,657,787,909,1015,"ILLINOIS Whiteside County"]
[null,"ILLINOIS","Will County","Will County",72400,679,815,941,1050,815,978,1129,1260,"ILLINOIS Will County"]
[null,"ILLINOIS","Williamson County","Williamson County",56200,547,656,758,846,657,787,909,1015,"ILLINOIS Williamson County"]
[null,"ILLINOIS","Winnebago County","Winnebago County",55900,547,656,758,846,657,787,909,1015,"ILLINOIS Winnebago County"]
[null,"ILLINOIS","Woodford County","Woodford County",63700,597,717,828,923,717,861,993,1108,"ILLINOIS Woodford County"]
[null,"INDIANA","Adams County","Adams County",57400,538,646,746,832,646,775,895,999,"INDIANA Adams County"]
[null,"INDIANA","Allen County","Allen County",59200,555,666,770,858,666,799,924,1030,"INDIANA Allen County"]
[null,"INDIANA","Bartholomew County","Bartholomew County",66900,628,753,870,971,753,904,1044,1165,"INDIANA Bartholomew County"]
[null,"INDIANA","Benton County","Benton County",61600,578,693,801,893,693,832,961,1072,"INDIANA Benton County"]
[null,"INDIANA","Blackford County","Blackford County",49200,496,596,688,767,596,715,825,921,"INDIANA Blackford County"]
[null,"INDIANA","Boone County","Boone County",64300,603,723,836,932,724,868,1003,1119,"INDIANA Boone County"]
[null,"INDIANA","Brown County","Brown County",64300,603,723,836,932,724,868,1003,1119,"INDIANA Brown County"]
[null,"INDIANA","Carroll County","Carroll County",63600,596,716,826,922,716,859,992,1107,"INDIANA Carroll County"]
[null,"INDIANA","Cass County","Cass County",53100,498,597,690,770,597,717,828,924,"INDIANA Cass County"]
[null,"INDIANA","Clark County","Clark County",64300,597,717,828,923,717,861,993,1108,"INDIANA Clark County"]
[null,"INDIANA","Clay County","Clay County",58800,527,632,730,815,633,759,876,978,"INDIANA Clay County"]
[null,"INDIANA","Clinton County","Clinton County",59900,562,675,778,868,675,810,934,1042,"INDIANA Clinton County"]
[null,"INDIANA","Crawford County","Crawford County",48800,496,596,688,767,596,715,825,921,"INDIANA Crawford County"]
[null,"INDIANA","Daviess County","Daviess County",55800,523,628,725,810,628,754,870,972,"INDIANA Daviess County"]
[null,"INDIANA","Dearborn County","Dearborn County",68500,642,771,890,993,771,925,1068,1192,"INDIANA Dearborn County"]
[null,"INDIANA","Decatur County","Decatur County",56800,533,640,738,823,639,768,886,988,"INDIANA Decatur County"]
[null,"INDIANA","DeKalb County","DeKalb County",56900,534,641,740,826,641,769,888,991,"INDIANA DeKalb County"]
[null,"INDIANA","Delaware County","Delaware County",49600,496,596,688,767,596,715,825,921,"INDIANA Delaware County"]
[null,"INDIANA","Dubois County","Dubois County",67500,633,760,877,978,759,912,1053,1174,"INDIANA Dubois County"]
[null,"INDIANA","Elkhart County","Elkhart County",56800,519,622,719,802,623,747,863,963,"INDIANA Elkhart County"]
[null,"INDIANA","Fayette County","Fayette County",47100,496,596,688,767,596,715,825,921,"INDIANA Fayette County"]
[null,"INDIANA","Floyd County","Floyd County",64300,597,717,828,923,717,861,993,1108,"INDIANA Floyd County"]
[null,"INDIANA","Fountain County","Fountain County",55700,522,627,724,808,627,753,869,970,"INDIANA Fountain County"]
[null,"INDIANA","Franklin County","Franklin County",68500,642,771,890,993,771,925,1068,1192,"INDIANA Franklin County"]
[null,"INDIANA","Fulton County","Fulton County",53500,501,602,695,776,602,723,834,931,"INDIANA Fulton County"]
[null,"INDIANA","Gibson County","Gibson County",64500,605,726,838,936,726,871,1006,1123,"INDIANA Gibson County"]
[null,"INDIANA","Grant County","Grant County",47400,496,596,688,767,596,715,825,921,"INDIANA Grant County"]
[null,"INDIANA","Greene County","Greene County",55800,523,628,725,810,628,754,870,972,"INDIANA Greene County"]
[null,"INDIANA","Hamilton County","Hamilton County",64300,603,723,836,932,724,868,1003,1119,"INDIANA Hamilton County"]
[null,"INDIANA","Hancock County","Hancock County",64300,603,723,836,932,724,868,1003,1119,"INDIANA Hancock County"]
[null,"INDIANA","Harrison County","Harrison County",64300,597,717,828,923,717,861,993,1108,"INDIANA Harrison County"]
[null,"INDIANA","Hendricks County","Hendricks County",64300,603,723,836,932,724,868,1003,1119,"INDIANA Hendricks County"]
[null,"INDIANA","Henry County","Henry County",53700,503,605,698,778,604,726,837,934,"INDIANA Henry County"]
[null,"INDIANA","Howard County","Howard County",56900,535,642,742,828,642,771,891,994,"INDIANA Howard County"]
[null,"INDIANA","Huntington County","Huntington County",59500,558,670,773,863,669,804,928,1036,"INDIANA Huntington County"]
[null,"INDIANA","Jackson County","Jackson County",56300,528,633,732,817,634,760,879,981,"INDIANA Jackson County"]
[null,"INDIANA","Jasper County","Jasper County",67600,634,761,879,981,761,913,1055,1177,"INDIANA Jasper County"]
[null,"INDIANA","Jay County","Jay County",50100,496,596,688,767,596,715,825,921,"INDIANA Jay County"]
[null,"INDIANA","Jefferson County","Jefferson County",55600,521,626,723,806,626,751,867,967,"INDIANA Jefferson County"]
[null,"INDIANA","Jennings County","Jennings County",52300,496,596,688,767,596,715,825,921,{"$f":"B901&\" \"&D901","v":"INDIANA Jennings County"}]
[null,"INDIANA","Johnson County","Johnson County",64300,603,723,836,932,724,868,1003,1119,"INDIANA Johnson County"]
[null,"INDIANA","Knox County","Knox County",55400,520,623,720,803,624,748,864,964,"INDIANA Knox County"]
[null,"INDIANA","Kosciusko County","Kosciusko County",60000,562,675,780,870,675,810,936,1044,"INDIANA Kosciusko County"]
[null,"INDIANA","LaGrange County","LaGrange County",53400,510,612,707,790,612,735,849,948,"INDIANA LaGrange County"]
[null,"INDIANA","Lake County","Lake County",63800,598,718,830,926,718,862,996,1111,"INDIANA Lake County"]
[null,"INDIANA","LaPorte County","LaPorte County",68200,585,702,811,905,702,843,973,1086,"INDIANA LaPorte County"]
[null,"INDIANA","Lawrence County","Lawrence County",55200,518,621,718,801,621,745,861,961,"INDIANA Lawrence County"]
[null,"INDIANA","Madison County","Madison County",53700,503,605,698,778,604,726,837,934,"INDIANA Madison County"]
[null,"INDIANA","Marion County","Marion County",64300,603,723,836,932,724,868,1003,1119,"INDIANA Marion County"]
[null,"INDIANA","Marshall County","Marshall County",60600,568,682,788,878,682,819,945,1054,"INDIANA Marshall County"]
[null,"INDIANA","Martin County","Martin County",55500,521,626,723,806,626,751,867,967,"INDIANA Martin County"]
[null,"INDIANA","Miami County","Miami County",52200,496,596,688,767,596,715,825,921,"INDIANA Miami County"]
[null,"INDIANA","Monroe County","Monroe County",60200,565,677,783,873,678,813,939,1048,"INDIANA Monroe County"]
[null,"INDIANA","Montgomery County","Montgomery County",59400,557,668,772,862,669,802,927,1035,"INDIANA Montgomery County"]
[null,"INDIANA","Morgan County","Morgan County",64300,603,723,836,932,724,868,1003,1119,"INDIANA Morgan County"]
[null,"INDIANA","Newton County","Newton County",63800,598,718,830,926,718,862,996,1111,"INDIANA Newton County"]
[null,"INDIANA","Noble County","Noble County",57900,543,652,753,840,652,783,903,1008,"INDIANA Noble County"]
[null,"INDIANA","Ohio County","Ohio County",68500,642,771,890,993,771,925,1068,1192,"INDIANA Ohio County"]
[null,"INDIANA","Orange County","Orange County",50000,496,596,688,767,596,715,825,921,"INDIANA Orange County"]
[null,"INDIANA","Owen County","Owen County",52900,496,596,688,767,596,715,825,921,"INDIANA Owen County"]
[null,"INDIANA","Parke County","Parke County",53900,506,607,701,782,607,729,841,939,"INDIANA Parke County"]
[null,"INDIANA","Perry County","Perry County",59300,556,667,771,860,668,801,925,1032,"INDIANA Perry County"]
[null,"INDIANA","Pike County","Pike County",51700,496,596,688,767,596,715,825,921,"INDIANA Pike County"]
[null,"INDIANA","Porter County","Porter County",63800,598,718,830,926,718,862,996,1111,"INDIANA Porter County"]
[null,"INDIANA","Posey County","Posey County",60600,568,682,788,878,682,819,945,1054,"INDIANA Posey County"]
[null,"INDIANA","Pulaski County","Pulaski County",53900,506,607,701,782,607,729,841,939,"INDIANA Pulaski County"]
[null,"INDIANA","Putnam County","Putnam County",60500,567,681,786,877,681,817,944,1053,"INDIANA Putnam County"]
[null,"INDIANA","Randolph County","Randolph County",49400,496,596,688,767,596,715,825,921,"INDIANA Randolph County"]
[null,"INDIANA","Ripley County","Ripley County",64600,600,720,831,927,720,864,997,1113,"INDIANA Ripley County"]
[null,"INDIANA","Rush County","Rush County",56800,533,640,738,823,639,768,886,988,"INDIANA Rush County"]
[null,"INDIANA","St. Joseph County","St. Joseph County",55400,520,625,721,805,624,750,866,966,"INDIANA St. Joseph County"]
[null,"INDIANA","Scott County","Scott County",49200,496,596,688,767,596,715,825,921,"INDIANA Scott County"]
[null,"INDIANA","Shelby County","Shelby County",64300,603,723,836,932,724,868,1003,1119,"INDIANA Shelby County"]
[null,"INDIANA","Spencer County","Spencer County",66800,626,752,868,968,752,903,1042,1162,"INDIANA Spencer County"]
[null,"INDIANA","Starke County","Starke County",47300,496,596,688,767,596,715,825,921,"INDIANA Starke County"]
[null,"INDIANA","Steuben County","Steuben County",58800,551,662,765,853,662,795,918,1024,"INDIANA Steuben County"]
[null,"INDIANA","Sullivan County","Sullivan County",60100,550,660,761,850,660,792,914,1020,"INDIANA Sullivan County"]
[null,"INDIANA","Switzerland County","Switzerland County",52400,496,596,688,767,596,715,825,921,"INDIANA Switzerland County"]
[null,"INDIANA","Tippecanoe County","Tippecanoe County",61600,578,693,801,893,693,832,961,1072,"INDIANA Tippecanoe County"]
[null,"INDIANA","Tipton County","Tipton County",56900,535,642,742,828,642,771,891,994,"INDIANA Tipton County"]
[null,"INDIANA","Union County","Union County",53700,503,605,698,778,604,726,837,934,"INDIANA Union County"]
[null,"INDIANA","Vanderburgh County","Vanderburgh County",60600,568,682,788,878,682,819,945,1054,"INDIANA Vanderburgh County"]
[null,"INDIANA","Vermillion County","Vermillion County",58800,527,632,730,815,633,759,876,978,"INDIANA Vermillion County"]
[null,"INDIANA","Vigo County","Vigo County",58800,527,632,730,815,633,759,876,978,"INDIANA Vigo County"]
[null,"INDIANA","Wabash County","Wabash County",55300,519,622,719,802,623,747,863,963,"INDIANA Wabash County"]
[null,"INDIANA","Warren County","Warren County",62700,585,702,811,905,702,843,973,1086,"INDIANA Warren County"]
[null,"INDIANA","Warrick County","Warrick County",60600,568,682,788,878,682,819,945,1054,"INDIANA Warrick County"]
[null,"INDIANA","Washington County","Washington County",48300,453,543,628,701,544,652,753,841,"INDIANA Washington County"]
[null,"INDIANA","Wayne County","Wayne County",42400,496,596,688,767,596,715,825,921,"INDIANA Wayne County"]
[null,"INDIANA","Wells County","Wells County",59200,555,666,770,858,666,799,924,1030,"INDIANA Wells County"]
[null,"INDIANA","White County","White County",58600,550,660,761,850,660,792,914,1020,"INDIANA White County"]
[null,"INDIANA","Whitley County","Whitley County",59200,555,666,770,858,666,799,924,1030,"INDIANA Whitley County"]
[null,"IOWA","Adair County","Adair County",60100,563,676,781,872,676,811,938,1047,"IOWA Adair County"]
[null,"IOWA","Adams County","Adams County",58300,559,671,775,865,671,805,930,1038,"IOWA Adams County"]
[null,"IOWA","Allamakee County","Allamakee County",57000,559,671,775,865,671,805,930,1038,"IOWA Allamakee County"]
[null,"IOWA","Appanoose County","Appanoose County",43600,559,671,775,865,671,805,930,1038,"IOWA Appanoose County"]
[null,"IOWA","Audubon County","Audubon County",56700,559,671,775,865,671,805,930,1038,"IOWA Audubon County"]
[null,"IOWA","Benton County","Benton County",70200,658,790,913,1018,790,948,1095,1222,"IOWA Benton County"]
[null,"IOWA","Black Hawk County","Black Hawk County",61900,581,697,805,898,697,837,966,1078,"IOWA Black Hawk County"]
[null,"IOWA","Boone County","Boone County",72000,675,810,936,1045,810,972,1123,1254,"IOWA Boone County"]
[null,"IOWA","Bremer County","Bremer County",75300,706,847,979,1092,848,1017,1175,1311,"IOWA Bremer County"]
[null,"IOWA","Buchanan County","Buchanan County",66700,625,751,867,967,750,901,1041,1161,"IOWA Buchanan County"]
[null,"IOWA","Buena Vista County","Buena Vista County",58800,559,671,775,865,671,805,930,1038,"IOWA Buena Vista County"]
[null,"IOWA","Butler County","Butler County",62200,583,700,808,902,700,840,970,1083,{"$f":"B965&\" \"&D965","v":"IOWA Butler County"}]
[null,"IOWA","Calhoun County","Calhoun County",56200,559,671,775,865,671,805,930,1038,"IOWA Calhoun County"]
[null,"IOWA","Carroll County","Carroll County",66200,621,745,860,960,745,894,1032,1152,"IOWA Carroll County"]
[null,"IOWA","Cass County","Cass County",51500,559,671,775,865,671,805,930,1038,"IOWA Cass County"]
[null,"IOWA","Cedar County","Cedar County",69100,648,777,898,1002,777,933,1078,1203,"IOWA Cedar County"]
[null,"IOWA","Cerro Gordo County","Cerro Gordo County",63600,596,716,826,922,716,859,992,1107,"IOWA Cerro Gordo County"]
[null,"IOWA","Cherokee County","Cherokee County",61400,576,691,798,891,691,829,958,1069,"IOWA Cherokee County"]
[null,"IOWA","Chickasaw County","Chickasaw County",53800,559,671,775,865,671,805,930,1038,"IOWA Chickasaw County"]
[null,"IOWA","Clarke County","Clarke County",57200,559,671,775,865,671,805,930,1038,"IOWA Clarke County"]
[null,"IOWA","Clay County","Clay County",60600,568,682,788,878,682,819,945,1054,"IOWA Clay County"]
[null,"IOWA","Clayton County","Clayton County",59600,559,671,775,865,671,805,930,1038,"IOWA Clayton County"]
[null,"IOWA","Clinton County","Clinton County",66100,614,737,851,950,737,885,1022,1140,"IOWA Clinton County"]
[null,"IOWA","Crawford County","Crawford County",57900,559,671,775,865,671,805,930,1038,"IOWA Crawford County"]
[null,"IOWA","Dallas County","Dallas County",74900,703,843,973,1086,843,1012,1168,1303,"IOWA Dallas County"]
[null,"IOWA","Davis County","Davis County",55200,559,671,775,865,671,805,930,1038,"IOWA Davis County"]
[null,"IOWA","Decatur County","Decatur County",50200,559,671,775,865,671,805,930,1038,"IOWA Decatur County"]
[null,"IOWA","Delaware County","Delaware County",63600,596,716,826,922,716,859,992,1107,"IOWA Delaware County"]
[null,"IOWA","Des Moines County","Des Moines County",57800,559,671,775,865,671,805,930,1038,"IOWA Des Moines County"]
[null,"IOWA","Dickinson County","Dickinson County",63800,598,718,830,926,718,862,996,1111,"IOWA Dickinson County"]
[null,"IOWA","Dubuque County","Dubuque County",70600,651,781,902,1007,781,937,1083,1209,"IOWA Dubuque County"]
[null,"IOWA","Emmet County","Emmet County",58800,559,671,775,865,671,805,930,1038,"IOWA Emmet County"]
[null,"IOWA","Fayette County","Fayette County",56600,559,671,775,865,671,805,930,1038,"IOWA Fayette County"]
[null,"IOWA","Floyd County","Floyd County",57400,559,671,775,865,671,805,930,1038,"IOWA Floyd County"]
[null,"IOWA","Franklin County","Franklin County",55800,559,671,775,865,671,805,930,1038,"IOWA Franklin County"]
[null,"IOWA","Fremont County","Fremont County",63500,595,715,825,921,714,858,990,1105,"IOWA Fremont County"]
[null,"IOWA","Greene County","Greene County",64000,600,720,832,928,720,864,999,1114,"IOWA Greene County"]
[null,"IOWA","Grundy County","Grundy County",61900,581,697,805,898,697,837,966,1078,"IOWA Grundy County"]
[null,"IOWA","Guthrie County","Guthrie County",74900,703,843,973,1086,843,1012,1168,1303,"IOWA Guthrie County"]
[null,"IOWA","Hamilton County","Hamilton County",64500,605,726,838,936,726,871,1006,1123,"IOWA Hamilton County"]
[null,"IOWA","Hancock County","Hancock County",60800,570,685,790,882,684,822,948,1059,"IOWA Hancock County"]
[null,"IOWA","Hardin County","Hardin County",64300,602,722,835,931,723,867,1002,1117,"IOWA Hardin County"]
[null,"IOWA","Harrison County","Harrison County",73000,684,821,949,1058,821,985,1139,1270,"IOWA Harrison County"]
[null,"IOWA","Henry County","Henry County",57400,559,671,775,865,671,805,930,1038,"IOWA Henry County"]
[null,"IOWA","Howard County","Howard County",57000,559,671,775,865,671,805,930,1038,"IOWA Howard County"]
[null,"IOWA","Humboldt County","Humboldt County",61700,578,695,802,895,694,834,963,1074,"IOWA Humboldt County"]
[null,"IOWA","Ida County","Ida County",63800,598,718,830,926,718,862,996,1111,"IOWA Ida County"]
[null,"IOWA","Iowa County","Iowa County",71200,668,801,925,1032,801,961,1110,1239,"IOWA Iowa County"]
[null,"IOWA","Jackson County","Jackson County",58000,559,671,775,865,671,805,930,1038,"IOWA Jackson County"]
[null,"IOWA","Jasper County","Jasper County",62100,582,698,807,901,699,838,969,1081,"IOWA Jasper County"]
[null,"IOWA","Jefferson County","Jefferson County",62200,583,700,808,902,700,840,970,1083,"IOWA Jefferson County"]
[null,"IOWA","Johnson County","Johnson County",79500,745,895,1033,1153,894,1074,1240,1384,"IOWA Johnson County"]
[null,"IOWA","Jones County","Jones County",65600,615,738,853,951,738,886,1023,1141,"IOWA Jones County"]
[null,"IOWA","Keokuk County","Keokuk County",55200,559,671,775,865,671,805,930,1038,"IOWA Keokuk County"]
[null,"IOWA","Kossuth County","Kossuth County",65400,613,736,850,948,736,883,1020,1138,"IOWA Kossuth County"]
[null,"IOWA","Lee County","Lee County",53100,559,671,775,865,671,805,930,1038,"IOWA Lee County"]
[null,"IOWA","Linn County","Linn County",74500,698,838,968,1081,838,1006,1162,1297,"IOWA Linn County"]
[null,"IOWA","Louisa County","Louisa County",59900,562,675,778,868,675,810,934,1042,"IOWA Louisa County"]
[null,"IOWA","Lucas County","Lucas County",59600,559,671,775,865,671,805,930,1038,"IOWA Lucas County"]
[null,"IOWA","Lyon County","Lyon County",61900,581,697,805,898,697,837,966,1078,"IOWA Lyon County"]
[null,"IOWA","Madison County","Madison County",74900,703,843,973,1086,843,1012,1168,1303,"IOWA Madison County"]
[null,"IOWA","Mahaska County","Mahaska County",63900,600,720,831,927,720,864,997,1113,"IOWA Mahaska County"]
[null,"IOWA","Marion County","Marion County",69100,648,777,898,1002,777,933,1078,1203,"IOWA Marion County"]
[null,"IOWA","Marshall County","Marshall County",59700,560,672,776,866,672,807,931,1039,"IOWA Marshall County"]
[null,"IOWA","Mills County","Mills County",73000,684,821,949,1058,821,985,1139,1270,"IOWA Mills County"]
[null,"IOWA","Mitchell County","Mitchell County",67400,632,758,876,977,759,910,1051,1173,"IOWA Mitchell County"]
[null,"IOWA","Monona County","Monona County",56200,559,671,775,865,671,805,930,1038,"IOWA Monona County"]
[null,"IOWA","Monroe County","Monroe County",54500,559,671,775,865,671,805,930,1038,"IOWA Monroe County"]
[null,"IOWA","Montgomery County","Montgomery County",52400,559,671,775,865,671,805,930,1038,"IOWA Montgomery County"]
[null,"IOWA","Muscatine County","Muscatine County",65800,617,741,855,955,741,889,1026,1146,"IOWA Muscatine County"]
[null,"IOWA","O'Brien County","O'Brien County",63100,591,710,820,915,710,852,984,1098,"IOWA O'Brien County"]
[null,"IOWA","Osceola County","Osceola County",64400,604,725,837,935,725,870,1005,1122,"IOWA Osceola County"]
[null,"IOWA","Page County","Page County",57700,559,671,775,865,671,805,930,1038,"IOWA Page County"]
[null,"IOWA","Palo Alto County","Palo Alto County",61000,571,686,793,885,686,823,951,1062,"IOWA Palo Alto County"]
[null,"IOWA","Plymouth County","Plymouth County",73600,690,828,956,1067,828,994,1148,1281,"IOWA Plymouth County"]
[null,"IOWA","Pocahontas County","Pocahontas County",59600,559,671,775,865,671,805,930,1038,{"$f":"B1029&\" \"&D1029","v":"IOWA Pocahontas County"}]
[null,"IOWA","Polk County","Polk County",74900,703,843,973,1086,843,1012,1168,1303,"IOWA Polk County"]
[null,"IOWA","Pottawattamie County","Pottawattamie County",73000,684,821,949,1058,821,985,1139,1270,"IOWA Pottawattamie County"]
[null,"IOWA","Poweshiek County","Poweshiek County",69600,653,783,905,1010,783,940,1086,1212,"IOWA Poweshiek County"]
[null,"IOWA","Ringgold County","Ringgold County",54800,559,671,775,865,671,805,930,1038,"IOWA Ringgold County"]
[null,"IOWA","Sac County","Sac County",59700,560,672,776,866,672,807,931,1039,"IOWA Sac County"]
[null,"IOWA","Scott County","Scott County",62800,589,707,816,911,707,849,980,1093,"IOWA Scott County"]
[null,"IOWA","Shelby County","Shelby County",59800,561,673,777,867,673,808,933,1041,"IOWA Shelby County"]
[null,"IOWA","Sioux County","Sioux County",66000,618,742,858,957,742,891,1029,1149,"IOWA Sioux County"]
[null,"IOWA","Story County","Story County",75100,704,845,976,1090,845,1014,1172,1308,"IOWA Story County"]
[null,"IOWA","Tama County","Tama County",58800,559,671,775,865,671,805,930,1038,"IOWA Tama County"]
[null,"IOWA","Taylor County","Taylor County",51300,559,671,775,865,671,805,930,1038,"IOWA Taylor County"]
[null,"IOWA","Union County","Union County",56500,559,671,775,865,671,805,930,1038,"IOWA Union County"]
[null,"IOWA","Van Buren County","Van Buren County",53700,559,671,775,865,671,805,930,1038,"IOWA Van Buren County"]
[null,"IOWA","Wapello County","Wapello County",52500,559,671,775,865,671,805,930,1038,"IOWA Wapello County"]
[null,"IOWA","Warren County","Warren County",74900,703,843,973,1086,843,1012,1168,1303,"IOWA Warren County"]
[null,"IOWA","Washington County","Washington County",66200,621,745,860,960,745,894,1032,1152,"IOWA Washington County"]
[null,"IOWA","Wayne County","Wayne County",48700,559,671,775,865,671,805,930,1038,"IOWA Wayne County"]
[null,"IOWA","Webster County","Webster County",58800,559,671,775,865,671,805,930,1038,"IOWA Webster County"]
[null,"IOWA","Winnebago County","Winnebago County",64700,606,728,841,938,728,874,1009,1126,"IOWA Winnebago County"]
[null,"IOWA","Winneshiek County","Winneshiek County",66100,620,743,859,958,744,892,1031,1150,"IOWA Winneshiek County"]
[null,"IOWA","Woodbury County","Woodbury County",58500,559,671,775,865,671,805,930,1038,"IOWA Woodbury County"]
[null,"IOWA","Worth County","Worth County",61600,578,693,801,893,693,832,961,1072,"IOWA Worth County"]
[null,"IOWA","Wright County","Wright County",58500,559,671,775,865,671,805,930,1038,"IOWA Wright County"]
[null,"KANSAS","Allen County","Allen County",52800,514,617,712,795,617,741,855,954,"KANSAS Allen County"]
[null,"KANSAS","Anderson County","Anderson County",53400,514,617,712,795,617,741,855,954,"KANSAS Anderson County"]
[null,"KANSAS","Atchison County","Atchison County",56800,533,640,738,823,639,768,886,988,"KANSAS Atchison County"]
[null,"KANSAS","Barber County","Barber County",53100,514,617,712,795,617,741,855,954,"KANSAS Barber County"]
[null,"KANSAS","Barton County","Barton County",57600,540,648,749,836,648,778,899,1003,"KANSAS Barton County"]
[null,"KANSAS","Bourbon County","Bourbon County",52600,514,617,712,795,617,741,855,954,"KANSAS Bourbon County"]
[null,"KANSAS","Brown County","Brown County",50300,514,617,712,795,617,741,855,954,"KANSAS Brown County"]
[null,"KANSAS","Butler County","Butler County",65900,618,742,856,956,742,891,1028,1147,"KANSAS Butler County"]
[null,"KANSAS","Chase County","Chase County",55500,520,625,721,805,624,750,866,966,"KANSAS Chase County"]
[null,"KANSAS","Chautauqua County","Chautauqua County",50300,514,617,712,795,617,741,855,954,"KANSAS Chautauqua County"]
[null,"KANSAS","Cherokee County","Cherokee County",52100,514,617,712,795,617,741,855,954,"KANSAS Cherokee County"]
[null,"KANSAS","Cheyenne County","Cheyenne County",54600,514,617,712,795,617,741,855,954,"KANSAS Cheyenne County"]
[null,"KANSAS","Clark County","Clark County",70100,600,720,832,928,720,864,999,1114,"KANSAS Clark County"]
[null,"KANSAS","Clay County","Clay County",57700,541,650,750,837,649,780,900,1005,"KANSAS Clay County"]
[null,"KANSAS","Cloud County","Cloud County",46800,514,617,712,795,617,741,855,954,"KANSAS Cloud County"]
[null,"KANSAS","Coffey County","Coffey County",64000,600,720,831,927,720,864,997,1113,"KANSAS Coffey County"]
[null,"KANSAS","Comanche County","Comanche County",63000,543,652,753,840,652,783,903,1008,"KANSAS Comanche County"]
[null,"KANSAS","Cowley County","Cowley County",54000,514,617,712,795,617,741,855,954,"KANSAS Cowley County"]
[null,"KANSAS","Crawford County","Crawford County",51700,514,617,712,795,617,741,855,954,"KANSAS Crawford County"]
[null,"KANSAS","Decatur County","Decatur County",48200,514,617,712,795,617,741,855,954,"KANSAS Decatur County"]
[null,"KANSAS","Dickinson County","Dickinson County",60700,569,683,789,881,683,820,947,1057,"KANSAS Dickinson County"]
[null,"KANSAS","Doniphan County","Doniphan County",57000,534,641,741,827,641,769,889,993,"KANSAS Doniphan County"]
[null,"KANSAS","Douglas County","Douglas County",66300,631,757,875,976,758,909,1050,1171,"KANSAS Douglas County"]
[null,"KANSAS","Edwards County","Edwards County",52400,514,617,712,795,617,741,855,954,"KANSAS Edwards County"]
[null,"KANSAS","Elk County","Elk County",39000,514,617,712,795,617,741,855,954,"KANSAS Elk County"]
[null,"KANSAS","Ellis County","Ellis County",66000,618,742,858,957,742,891,1029,1149,"KANSAS Ellis County"]
[null,"KANSAS","Ellsworth County","Ellsworth County",57800,542,651,751,838,651,781,902,1006,"KANSAS Ellsworth County"]
[null,"KANSAS","Finney County","Finney County",58100,545,653,755,842,654,784,906,1011,"KANSAS Finney County"]
[null,"KANSAS","Ford County","Ford County",57200,536,643,743,830,644,772,892,996,"KANSAS Ford County"]
[null,"KANSAS","Franklin County","Franklin County",61700,578,695,802,895,694,834,963,1074,"KANSAS Franklin County"]
[null,"KANSAS","Geary County","Geary County",59600,559,671,775,865,671,805,930,1038,"KANSAS Geary County"]
[null,"KANSAS","Gove County","Gove County",50900,514,617,712,795,617,741,855,954,"KANSAS Gove County"]
[null,"KANSAS","Graham County","Graham County",54400,543,652,754,841,652,783,905,1009,"KANSAS Graham County"]
[null,"KANSAS","Grant County","Grant County",67700,635,762,880,982,762,915,1056,1179,"KANSAS Grant County"]
[null,"KANSAS","Gray County","Gray County",64600,606,727,840,937,727,873,1008,1125,"KANSAS Gray County"]
[null,"KANSAS","Greeley County","Greeley County",69000,625,751,867,967,750,901,1041,1161,"KANSAS Greeley County"]
[null,"KANSAS","Greenwood County","Greenwood County",53900,514,617,712,795,617,741,855,954,"KANSAS Greenwood County"]
[null,"KANSAS","Hamilton County","Hamilton County",46800,514,617,712,795,617,741,855,954,"KANSAS Hamilton County"]
[null,"KANSAS","Harper County","Harper County",49500,514,617,712,795,617,741,855,954,"KANSAS Harper County"]
[null,"KANSAS","Harvey County","Harvey County",65900,618,742,856,956,742,891,1028,1147,"KANSAS Harvey County"]
[null,"KANSAS","Haskell County","Haskell County",63700,597,717,828,923,717,861,993,1108,{"$f":"B1093&\" \"&D1093","v":"KANSAS Haskell County"}]
[null,"KANSAS","Hodgeman County","Hodgeman County",61000,562,675,778,868,675,810,934,1042,"KANSAS Hodgeman County"]
[null,"KANSAS","Jackson County","Jackson County",65400,611,733,848,946,734,880,1017,1135,"KANSAS Jackson County"]
[null,"KANSAS","Jefferson County","Jefferson County",65400,611,733,848,946,734,880,1017,1135,"KANSAS Jefferson County"]
[null,"KANSAS","Jewell County","Jewell County",52400,514,617,712,795,617,741,855,954,"KANSAS Jewell County"]
[null,"KANSAS","Johnson County","Johnson County",69900,656,787,908,1013,787,945,1090,1216,"KANSAS Johnson County"]
[null,"KANSAS","Kearny County","Kearny County",58800,543,652,753,840,652,783,903,1008,"KANSAS Kearny County"]
[null,"KANSAS","Kingman County","Kingman County",57800,542,651,751,838,651,781,902,1006,"KANSAS Kingman County"]
[null,"KANSAS","Kiowa County","Kiowa County",48800,514,617,712,795,617,741,855,954,"KANSAS Kiowa County"]
[null,"KANSAS","Labette County","Labette County",52300,514,617,712,795,617,741,855,954,"KANSAS Labette County"]
[null,"KANSAS","Lane County","Lane County",62500,562,675,778,868,675,810,934,1042,"KANSAS Lane County"]
[null,"KANSAS","Leavenworth County","Leavenworth County",69900,656,787,908,1013,787,945,1090,1216,"KANSAS Leavenworth County"]
[null,"KANSAS","Lincoln County","Lincoln County",56700,531,638,737,822,638,766,885,987,"KANSAS Lincoln County"]
[null,"KANSAS","Linn County","Linn County",69900,656,787,908,1013,787,945,1090,1216,"KANSAS Linn County"]
[null,"KANSAS","Logan County","Logan County",62700,562,675,778,868,675,810,934,1042,"KANSAS Logan County"]
[null,"KANSAS","Lyon County","Lyon County",52800,514,617,712,795,617,741,855,954,"KANSAS Lyon County"]
[null,"KANSAS","McPherson County","McPherson County",71100,666,800,924,1031,800,960,1109,1237,"KANSAS McPherson County"]
[null,"KANSAS","Marion County","Marion County",58800,551,662,765,853,662,795,918,1024,"KANSAS Marion County"]
[null,"KANSAS","Marshall County","Marshall County",58400,548,657,759,847,657,789,911,1017,"KANSAS Marshall County"]
[null,"KANSAS","Meade County","Meade County",56300,528,633,732,817,634,760,879,981,"KANSAS Meade County"]
[null,"KANSAS","Miami County","Miami County",69900,656,787,908,1013,787,945,1090,1216,"KANSAS Miami County"]
[null,"KANSAS","Mitchell County","Mitchell County",56400,529,635,733,818,635,762,880,982,"KANSAS Mitchell County"]
[null,"KANSAS","Montgomery County","Montgomery County",55400,520,623,720,803,624,748,864,964,"KANSAS Montgomery County"]
[null,"KANSAS","Morris County","Morris County",58100,545,653,755,842,654,784,906,1011,"KANSAS Morris County"]
[null,"KANSAS","Morton County","Morton County",60000,562,675,778,868,675,810,934,1042,"KANSAS Morton County"]
[null,"KANSAS","Nemaha County","Nemaha County",61100,573,687,794,886,687,825,953,1063,"KANSAS Nemaha County"]
[null,"KANSAS","Neosho County","Neosho County",51300,514,617,712,795,617,741,855,954,"KANSAS Neosho County"]
[null,"KANSAS","Ness County","Ness County",58000,543,652,754,841,652,783,905,1009,"KANSAS Ness County"]
[null,"KANSAS","Norton County","Norton County",63400,562,675,780,870,675,810,936,1044,"KANSAS Norton County"]
[null,"KANSAS","Osage County","Osage County",65400,611,733,848,946,734,880,1017,1135,"KANSAS Osage County"]
[null,"KANSAS","Osborne County","Osborne County",51000,514,617,712,795,617,741,855,954,"KANSAS Osborne County"]
[null,"KANSAS","Ottawa County","Ottawa County",63800,598,718,830,926,718,862,996,1111,"KANSAS Ottawa County"]
[null,"KANSAS","Pawnee County","Pawnee County",60800,543,652,753,840,652,783,903,1008,"KANSAS Pawnee County"]
[null,"KANSAS","Phillips County","Phillips County",57000,534,641,741,827,641,769,889,993,"KANSAS Phillips County"]
[null,"KANSAS","Pottawatomie County","Pottawatomie County",59600,559,671,775,865,671,805,930,1038,"KANSAS Pottawatomie County"]
[null,"KANSAS","Pratt County","Pratt County",56900,534,641,740,826,641,769,888,991,"KANSAS Pratt County"]
[null,"KANSAS","Rawlins County","Rawlins County",53200,514,617,712,795,617,741,855,954,"KANSAS Rawlins County"]
[null,"KANSAS","Reno County","Reno County",53400,514,617,712,795,617,741,855,954,"KANSAS Reno County"]
[null,"KANSAS","Republic County","Republic County",56900,534,641,740,826,641,769,888,991,"KANSAS Republic County"]
[null,"KANSAS","Rice County","Rice County",58000,543,652,753,840,652,783,903,1008,"KANSAS Rice County"]
[null,"KANSAS","Riley County","Riley County",59600,559,671,775,865,671,805,930,1038,"KANSAS Riley County"]
[null,"KANSAS","Rooks County","Rooks County",50100,514,617,712,795,617,741,855,954,"KANSAS Rooks County"]
[null,"KANSAS","Rush County","Rush County",50500,514,617,712,795,617,741,855,954,"KANSAS Rush County"]
[null,"KANSAS","Russell County","Russell County",51200,514,617,712,795,617,741,855,954,"KANSAS Russell County"]
[null,"KANSAS","Saline County","Saline County",59600,559,671,775,865,671,805,930,1038,"KANSAS Saline County"]
[null,"KANSAS","Scott County","Scott County",66000,618,742,858,957,742,891,1029,1149,"KANSAS Scott County"]
[null,"KANSAS","Sedgwick County","Sedgwick County",65900,618,742,856,956,742,891,1028,1147,"KANSAS Sedgwick County"]
[null,"KANSAS","Seward County","Seward County",50600,514,617,712,795,617,741,855,954,"KANSAS Seward County"]
[null,"KANSAS","Shawnee County","Shawnee County",65400,611,733,848,946,734,880,1017,1135,"KANSAS Shawnee County"]
[null,"KANSAS","Sheridan County","Sheridan County",58100,545,653,755,842,654,784,906,1011,"KANSAS Sheridan County"]
[null,"KANSAS","Sherman County","Sherman County",50500,514,617,712,795,617,741,855,954,"KANSAS Sherman County"]
[null,"KANSAS","Smith County","Smith County",53100,514,617,712,795,617,741,855,954,"KANSAS Smith County"]
[null,"KANSAS","Stafford County","Stafford County",56900,534,641,740,826,641,769,888,991,"KANSAS Stafford County"]
[null,"KANSAS","Stanton County","Stanton County",53500,514,617,712,795,617,741,855,954,"KANSAS Stanton County"]
[null,"KANSAS","Stevens County","Stevens County",66600,574,688,795,887,689,826,954,1065,"KANSAS Stevens County"]
[null,"KANSAS","Sumner County","Sumner County",66000,618,742,858,957,742,891,1029,1149,"KANSAS Sumner County"]
[null,"KANSAS","Thomas County","Thomas County",70400,660,792,915,1021,792,951,1098,1225,"KANSAS Thomas County"]
[null,"KANSAS","Trego County","Trego County",55600,521,626,723,806,626,751,867,967,"KANSAS Trego County"]
[null,"KANSAS","Wabaunsee County","Wabaunsee County",65400,611,733,848,946,734,880,1017,1135,"KANSAS Wabaunsee County"]
[null,"KANSAS","Wallace County","Wallace County",57400,538,646,746,832,646,775,895,999,"KANSAS Wallace County"]
[null,"KANSAS","Washington County","Washington County",55200,518,621,718,801,621,745,861,961,"KANSAS Washington County"]
[null,"KANSAS","Wichita County","Wichita County",56900,534,641,740,826,641,769,888,991,"KANSAS Wichita County"]
[null,"KANSAS","Wilson County","Wilson County",52200,514,617,712,795,617,741,855,954,"KANSAS Wilson County"]
[null,"KANSAS","Woodson County","Woodson County",48500,514,617,712,795,617,741,855,954,"KANSAS Woodson County"]
[null,"KANSAS","Wyandotte County","Wyandotte County",69900,656,787,908,1013,787,945,1090,1216,{"$f":"B1157&\" \"&D1157","v":"KANSAS Wyandotte County"}]
[null,"KENTUCKY","Adair County","Adair County",46000,431,517,598,667,517,621,717,801,"KENTUCKY Adair County"]
[null,"KENTUCKY","Allen County","Allen County",46900,440,528,610,681,528,634,732,817,"KENTUCKY Allen County"]
[null,"KENTUCKY","Anderson County","Anderson County",68000,637,765,884,986,765,918,1061,1183,"KENTUCKY Anderson County"]
[null,"KENTUCKY","Ballard County","Ballard County",51900,487,585,675,753,585,702,810,904,"KENTUCKY Ballard County"]
[null,"KENTUCKY","Barren County","Barren County",50800,476,572,660,737,572,687,792,885,"KENTUCKY Barren County"]
[null,"KENTUCKY","Bath County","Bath County",37800,417,501,578,646,501,601,694,775,"KENTUCKY Bath County"]
[null,"KENTUCKY","Bell County","Bell County",32600,417,501,578,646,501,601,694,775,"KENTUCKY Bell County"]
[null,"KENTUCKY","Boone County","Boone County",68500,642,771,890,993,771,925,1068,1192,"KENTUCKY Boone County"]
[null,"KENTUCKY","Bourbon County","Bourbon County",67800,628,753,870,971,753,904,1044,1165,"KENTUCKY Bourbon County"]
[null,"KENTUCKY","Boyd County","Boyd County",51000,478,573,663,740,573,688,795,888,"KENTUCKY Boyd County"]
[null,"KENTUCKY","Boyle County","Boyle County",50200,471,565,653,728,565,678,783,874,"KENTUCKY Boyle County"]
[null,"KENTUCKY","Bracken County","Bracken County",68500,642,771,890,993,771,925,1068,1192,"KENTUCKY Bracken County"]
[null,"KENTUCKY","Breathitt County","Breathitt County",32800,417,501,578,646,501,601,694,775,"KENTUCKY Breathitt County"]
[null,"KENTUCKY","Breckinridge County","Breckinridge County",47500,445,535,617,688,534,642,741,826,"KENTUCKY Breckinridge County"]
[null,"KENTUCKY","Bullitt County","Bullitt County",64300,597,717,828,923,717,861,993,1108,"KENTUCKY Bullitt County"]
[null,"KENTUCKY","Butler County","Butler County",44300,417,501,578,646,501,601,694,775,"KENTUCKY Butler County"]
[null,"KENTUCKY","Caldwell County","Caldwell County",51100,479,575,664,741,575,690,797,889,"KENTUCKY Caldwell County"]
[null,"KENTUCKY","Calloway County","Calloway County",57400,538,646,746,832,646,775,895,999,"KENTUCKY Calloway County"]
[null,"KENTUCKY","Campbell County","Campbell County",68500,642,771,890,993,771,925,1068,1192,"KENTUCKY Campbell County"]
[null,"KENTUCKY","Carlisle County","Carlisle County",43300,417,501,578,646,501,601,694,775,"KENTUCKY Carlisle County"]
[null,"KENTUCKY","Carroll County","Carroll County",50700,475,571,659,736,570,685,791,883,"KENTUCKY Carroll County"]
[null,"KENTUCKY","Carter County","Carter County",46200,433,520,600,670,520,624,720,804,"KENTUCKY Carter County"]
[null,"KENTUCKY","Casey County","Casey County",39800,417,501,578,646,501,601,694,775,"KENTUCKY Casey County"]
[null,"KENTUCKY","Christian County","Christian County",54100,507,608,703,785,609,730,844,942,"KENTUCKY Christian County"]
[null,"KENTUCKY","Clark County","Clark County",67800,628,753,870,971,753,904,1044,1165,"KENTUCKY Clark County"]
[null,"KENTUCKY","Clay County","Clay County",30500,417,501,578,646,501,601,694,775,"KENTUCKY Clay County"]
[null,"KENTUCKY","Clinton County","Clinton County",32900,417,501,578,646,501,601,694,775,"KENTUCKY Clinton County"]
[null,"KENTUCKY","Crittenden County","Crittenden County",49200,461,553,640,713,554,664,768,856,"KENTUCKY Crittenden County"]
[null,"KENTUCKY","Cumberland County","Cumberland County",34500,417,501,578,646,501,601,694,775,"KENTUCKY Cumberland County"]
[null,"KENTUCKY","Daviess County","Daviess County",60300,536,643,743,830,644,772,892,996,"KENTUCKY Daviess County"]
[null,"KENTUCKY","Edmonson County","Edmonson County",57200,536,643,743,830,644,772,892,996,"KENTUCKY Edmonson County"]
[null,"KENTUCKY","Elliott County","Elliott County",35800,417,501,578,646,501,601,694,775,"KENTUCKY Elliott County"]
[null,"KENTUCKY","Estill County","Estill County",38000,417,501,578,646,501,601,694,775,"KENTUCKY Estill County"]
[null,"KENTUCKY","Fayette County","Fayette County",67800,628,753,870,971,753,904,1044,1165,"KENTUCKY Fayette County"]
[null,"KENTUCKY","Fleming County","Fleming County",52200,480,576,665,742,576,691,798,891,"KENTUCKY Fleming County"]
[null,"KENTUCKY","Floyd County","Floyd County",35400,417,501,578,646,501,601,694,775,"KENTUCKY Floyd County"]
[null,"KENTUCKY","Franklin County","Franklin County",63300,594,712,823,918,713,855,987,1102,"KENTUCKY Franklin County"]
[null,"KENTUCKY","Fulton County","Fulton County",39000,417,501,578,646,501,601,694,775,"KENTUCKY Fulton County"]
[null,"KENTUCKY","Gallatin County","Gallatin County",68500,642,771,890,993,771,925,1068,1192,"KENTUCKY Gallatin County"]
[null,"KENTUCKY","Garrard County","Garrard County",53100,491,588,680,758,589,706,816,910,"KENTUCKY Garrard County"]
[null,"KENTUCKY","Grant County","Grant County",50500,510,611,706,787,612,733,847,945,"KENTUCKY Grant County"]
[null,"KENTUCKY","Graves County","Graves County",48800,458,550,635,708,549,660,762,850,"KENTUCKY Graves County"]
[null,"KENTUCKY","Grayson County","Grayson County",44200,417,501,578,646,501,601,694,775,"KENTUCKY Grayson County"]
[null,"KENTUCKY","Green County","Green County",46400,438,526,607,677,525,631,729,813,"KENTUCKY Green County"]
[null,"KENTUCKY","Greenup County","Greenup County",51000,478,573,663,740,573,688,795,888,"KENTUCKY Greenup County"]
[null,"KENTUCKY","Hancock County","Hancock County",60300,536,643,743,830,644,772,892,996,"KENTUCKY Hancock County"]
[null,"KENTUCKY","Hardin County","Hardin County",56300,528,633,732,817,634,760,879,981,"KENTUCKY Hardin County"]
[null,"KENTUCKY","Harlan County","Harlan County",34200,417,501,578,646,501,601,694,775,"KENTUCKY Harlan County"]
[null,"KENTUCKY","Harrison County","Harrison County",54500,511,613,708,791,613,736,850,949,"KENTUCKY Harrison County"]
[null,"KENTUCKY","Hart County","Hart County",44400,417,501,578,646,501,601,694,775,"KENTUCKY Hart County"]
[null,"KENTUCKY","Henderson County","Henderson County",60600,568,682,788,878,682,819,945,1054,"KENTUCKY Henderson County"]
[null,"KENTUCKY","Henry County","Henry County",64300,597,717,828,923,717,861,993,1108,"KENTUCKY Henry County"]
[null,"KENTUCKY","Hickman County","Hickman County",51900,495,595,686,766,594,714,824,919,"KENTUCKY Hickman County"]
[null,"KENTUCKY","Hopkins County","Hopkins County",51500,483,580,670,747,579,696,804,897,"KENTUCKY Hopkins County"]
[null,"KENTUCKY","Jackson County","Jackson County",26900,417,501,578,646,501,601,694,775,"KENTUCKY Jackson County"]
[null,"KENTUCKY","Jefferson County","Jefferson County",64300,597,717,828,923,717,861,993,1108,"KENTUCKY Jefferson County"]
[null,"KENTUCKY","Jessamine County","Jessamine County",67800,628,753,870,971,753,904,1044,1165,"KENTUCKY Jessamine County"]
[null,"KENTUCKY","Johnson County","Johnson County",42100,417,501,578,646,501,601,694,775,"KENTUCKY Johnson County"]
[null,"KENTUCKY","Kenton County","Kenton County",68500,642,771,890,993,771,925,1068,1192,"KENTUCKY Kenton County"]
[null,"KENTUCKY","Knott County","Knott County",40200,417,501,578,646,501,601,694,775,"KENTUCKY Knott County"]
[null,"KENTUCKY","Knox County","Knox County",34100,417,501,578,646,501,601,694,775,"KENTUCKY Knox County"]
[null,"KENTUCKY","Larue County","Larue County",56300,528,633,732,817,634,760,879,981,"KENTUCKY Larue County"]
[null,"KENTUCKY","Laurel County","Laurel County",45600,428,513,593,661,513,616,711,793,"KENTUCKY Laurel County"]
[null,"KENTUCKY","Lawrence County","Lawrence County",40500,417,501,578,646,501,601,694,775,{"$f":"B1221&\" \"&D1221","v":"KENTUCKY Lawrence County"}]
[null,"KENTUCKY","Lee County","Lee County",37200,417,501,578,646,501,601,694,775,"KENTUCKY Lee County"]
[null,"KENTUCKY","Leslie County","Leslie County",39300,417,501,578,646,501,601,694,775,"KENTUCKY Leslie County"]
[null,"KENTUCKY","Letcher County","Letcher County",43100,417,501,578,646,501,601,694,775,"KENTUCKY Letcher County"]
[null,"KENTUCKY","Lewis County","Lewis County",37700,417,501,578,646,501,601,694,775,"KENTUCKY Lewis County"]
[null,"KENTUCKY","Lincoln County","Lincoln County",43400,417,501,578,646,501,601,694,775,"KENTUCKY Lincoln County"]
[null,"KENTUCKY","Livingston County","Livingston County",48000,450,540,624,696,540,648,749,835,"KENTUCKY Livingston County"]
[null,"KENTUCKY","Logan County","Logan County",48300,453,543,628,701,544,652,753,841,"KENTUCKY Logan County"]
[null,"KENTUCKY","Lyon County","Lyon County",51900,487,585,675,753,585,702,810,904,"KENTUCKY Lyon County"]
[null,"KENTUCKY","McCracken County","McCracken County",56400,535,642,742,828,642,771,891,994,"KENTUCKY McCracken County"]
[null,"KENTUCKY","McCreary County","McCreary County",31200,417,501,578,646,501,601,694,775,"KENTUCKY McCreary County"]
[null,"KENTUCKY","McLean County","McLean County",60300,536,643,743,830,644,772,892,996,"KENTUCKY McLean County"]
[null,"KENTUCKY","Madison County","Madison County",54200,520,623,720,803,624,748,864,964,"KENTUCKY Madison County"]
[null,"KENTUCKY","Magoffin County","Magoffin County",38300,417,501,578,646,501,601,694,775,"KENTUCKY Magoffin County"]
[null,"KENTUCKY","Marion County","Marion County",51200,480,576,665,742,576,691,798,891,"KENTUCKY Marion County"]
[null,"KENTUCKY","Marshall County","Marshall County",58700,541,650,750,837,649,780,900,1005,"KENTUCKY Marshall County"]
[null,"KENTUCKY","Martin County","Martin County",29700,417,501,578,646,501,601,694,775,"KENTUCKY Martin County"]
[null,"KENTUCKY","Mason County","Mason County",51800,486,583,673,751,583,700,808,901,"KENTUCKY Mason County"]
[null,"KENTUCKY","Meade County","Meade County",51000,478,573,663,740,573,688,795,888,"KENTUCKY Meade County"]
[null,"KENTUCKY","Menifee County","Menifee County",38400,417,501,578,646,501,601,694,775,"KENTUCKY Menifee County"]
[null,"KENTUCKY","Mercer County","Mercer County",59500,558,670,773,863,669,804,928,1036,"KENTUCKY Mercer County"]
[null,"KENTUCKY","Metcalfe County","Metcalfe County",43000,417,501,578,646,501,601,694,775,"KENTUCKY Metcalfe County"]
[null,"KENTUCKY","Monroe County","Monroe County",38800,417,501,578,646,501,601,694,775,"KENTUCKY Monroe County"]
[null,"KENTUCKY","Montgomery County","Montgomery County",47400,445,533,616,687,534,640,739,825,"KENTUCKY Montgomery County"]
[null,"KENTUCKY","Morgan County","Morgan County",40900,417,501,578,646,501,601,694,775,"KENTUCKY Morgan County"]
[null,"KENTUCKY","Muhlenberg County","Muhlenberg County",45500,426,512,591,660,512,615,710,792,"KENTUCKY Muhlenberg County"]
[null,"KENTUCKY","Nelson County","Nelson County",54600,512,615,710,792,615,738,852,951,"KENTUCKY Nelson County"]
[null,"KENTUCKY","Nicholas County","Nicholas County",44100,417,501,578,646,501,601,694,775,"KENTUCKY Nicholas County"]
[null,"KENTUCKY","Ohio County","Ohio County",46900,440,528,610,681,528,634,732,817,"KENTUCKY Ohio County"]
[null,"KENTUCKY","Oldham County","Oldham County",64300,597,717,828,923,717,861,993,1108,"KENTUCKY Oldham County"]
[null,"KENTUCKY","Owen County","Owen County",62900,571,686,793,885,686,823,951,1062,"KENTUCKY Owen County"]
[null,"KENTUCKY","Owsley County","Owsley County",26700,417,501,578,646,501,601,694,775,"KENTUCKY Owsley County"]
[null,"KENTUCKY","Pendleton County","Pendleton County",68500,642,771,890,993,771,925,1068,1192,"KENTUCKY Pendleton County"]
[null,"KENTUCKY","Perry County","Perry County",42700,417,501,578,646,501,601,694,775,"KENTUCKY Perry County"]
[null,"KENTUCKY","Pike County","Pike County",43700,417,501,578,646,501,601,694,775,"KENTUCKY Pike County"]
[null,"KENTUCKY","Powell County","Powell County",38000,417,501,578,646,501,601,694,775,"KENTUCKY Powell County"]
[null,"KENTUCKY","Pulaski County","Pulaski County",44500,417,501,578,646,501,601,694,775,"KENTUCKY Pulaski County"]
[null,"KENTUCKY","Robertson County","Robertson County",49500,464,557,643,718,557,669,772,862,"KENTUCKY Robertson County"]
[null,"KENTUCKY","Rockcastle County","Rockcastle County",39900,417,501,578,646,501,601,694,775,"KENTUCKY Rockcastle County"]
[null,"KENTUCKY","Rowan County","Rowan County",47000,440,528,611,682,528,634,733,819,"KENTUCKY Rowan County"]
[null,"KENTUCKY","Russell County","Russell County",41400,417,501,578,646,501,601,694,775,"KENTUCKY Russell County"]
[null,"KENTUCKY","Scott County","Scott County",67800,628,753,870,971,753,904,1044,1165,"KENTUCKY Scott County"]
[null,"KENTUCKY","Shelby County","Shelby County",73700,691,830,958,1068,829,996,1149,1282,"KENTUCKY Shelby County"]
[null,"KENTUCKY","Simpson County","Simpson County",53400,501,601,694,775,601,721,833,930,"KENTUCKY Simpson County"]
[null,"KENTUCKY","Spencer County","Spencer County",64300,597,717,828,923,717,861,993,1108,"KENTUCKY Spencer County"]
[null,"KENTUCKY","Taylor County","Taylor County",47500,445,535,617,688,534,642,741,826,"KENTUCKY Taylor County"]
[null,"KENTUCKY","Todd County","Todd County",46800,439,527,608,678,527,633,730,814,"KENTUCKY Todd County"]
[null,"KENTUCKY","Trigg County","Trigg County",54100,507,608,703,785,609,730,844,942,"KENTUCKY Trigg County"]
[null,"KENTUCKY","Trimble County","Trimble County",64300,597,717,828,923,717,861,993,1108,"KENTUCKY Trimble County"]
[null,"KENTUCKY","Union County","Union County",52800,498,597,690,770,597,717,828,924,"KENTUCKY Union County"]
[null,"KENTUCKY","Warren County","Warren County",57200,536,643,743,830,644,772,892,996,"KENTUCKY Warren County"]
[null,"KENTUCKY","Washington County","Washington County",53600,503,603,696,777,603,724,836,933,"KENTUCKY Washington County"]
[null,"KENTUCKY","Wayne County","Wayne County",33000,417,501,578,646,501,601,694,775,"KENTUCKY Wayne County"]
[null,"KENTUCKY","Webster County","Webster County",60600,568,682,788,878,682,819,945,1054,"KENTUCKY Webster County"]
[null,"KENTUCKY","Whitley County","Whitley County",37600,417,501,578,646,501,601,694,775,"KENTUCKY Whitley County"]
[null,"KENTUCKY","Wolfe County","Wolfe County",28900,417,501,578,646,501,601,694,775,"KENTUCKY Wolfe County"]
[null,"KENTUCKY","Woodford County","Woodford County",67800,628,753,870,971,753,904,1044,1165,"KENTUCKY Woodford County"]
[null,"LOUISIANA","Acadia Parish","Acadia Parish",48400,454,545,629,702,545,654,755,843,"LOUISIANA Acadia Parish"]
[null,"LOUISIANA","Allen Parish","Allen Parish",48000,450,540,624,696,540,648,749,835,"LOUISIANA Allen Parish"]
[null,"LOUISIANA","Ascension Parish","Ascension Parish",66400,623,747,863,963,747,897,1036,1156,"LOUISIANA Ascension Parish"]
[null,"LOUISIANA","Assumption Parish","Assumption Parish",54500,511,613,708,791,613,736,850,949,"LOUISIANA Assumption Parish"]
[null,"LOUISIANA","Avoyelles Parish","Avoyelles Parish",40700,440,528,611,682,528,634,733,819,"LOUISIANA Avoyelles Parish"]
[null,"LOUISIANA","Beauregard Parish","Beauregard Parish",55100,516,620,716,800,620,744,860,960,"LOUISIANA Beauregard Parish"]
[null,"LOUISIANA","Bienville Parish","Bienville Parish",40100,440,528,611,682,528,634,733,819,"LOUISIANA Bienville Parish"]
[null,"LOUISIANA","Bossier Parish","Bossier Parish",59700,546,655,756,845,655,786,908,1014,{"$f":"B1285&\" \"&D1285","v":"LOUISIANA Bossier Parish"}]
[null,"LOUISIANA","Caddo Parish","Caddo Parish",59700,546,655,756,845,655,786,908,1014,"LOUISIANA Caddo Parish"]
[null,"LOUISIANA","Calcasieu Parish","Calcasieu Parish",55900,525,630,726,811,630,756,872,973,"LOUISIANA Calcasieu Parish"]
[null,"LOUISIANA","Caldwell Parish","Caldwell Parish",51400,482,578,668,746,579,694,802,895,"LOUISIANA Caldwell Parish"]
[null,"LOUISIANA","Cameron Parish","Cameron Parish",55900,525,630,726,811,630,756,872,973,"LOUISIANA Cameron Parish"]
[null,"LOUISIANA","Catahoula Parish","Catahoula Parish",43100,440,528,611,682,528,634,733,819,"LOUISIANA Catahoula Parish"]
[null,"LOUISIANA","Claiborne Parish","Claiborne Parish",41500,440,528,611,682,528,634,733,819,"LOUISIANA Claiborne Parish"]
[null,"LOUISIANA","Concordia Parish","Concordia Parish",42200,440,528,611,682,528,634,733,819,"LOUISIANA Concordia Parish"]
[null,"LOUISIANA","De Soto Parish","De Soto Parish",59700,546,655,756,845,655,786,908,1014,"LOUISIANA De Soto Parish"]
[null,"LOUISIANA","East Baton Rouge Parish","East Baton Rouge Parish",66400,623,747,863,963,747,897,1036,1156,"LOUISIANA East Baton Rouge Parish"]
[null,"LOUISIANA","East Carroll Parish","East Carroll Parish",30800,440,528,611,682,528,634,733,819,"LOUISIANA East Carroll Parish"]
[null,"LOUISIANA","East Feliciana Parish","East Feliciana Parish",66400,623,747,863,963,747,897,1036,1156,"LOUISIANA East Feliciana Parish"]
[null,"LOUISIANA","Evangeline Parish","Evangeline Parish",45400,440,528,611,682,528,634,733,819,"LOUISIANA Evangeline Parish"]
[null,"LOUISIANA","Franklin Parish","Franklin Parish",44700,440,528,611,682,528,634,733,819,"LOUISIANA Franklin Parish"]
[null,"LOUISIANA","Grant Parish","Grant Parish",46100,468,562,648,723,562,675,778,868,"LOUISIANA Grant Parish"]
[null,"LOUISIANA","Iberia Parish","Iberia Parish",55900,496,596,688,767,596,715,825,921,"LOUISIANA Iberia Parish"]
[null,"LOUISIANA","Iberville Parish","Iberville Parish",55200,518,621,718,801,621,745,861,961,"LOUISIANA Iberville Parish"]
[null,"LOUISIANA","Jackson Parish","Jackson Parish",51700,485,582,672,750,582,699,807,900,"LOUISIANA Jackson Parish"]
[null,"LOUISIANA","Jefferson Parish","Jefferson Parish",58800,551,662,765,853,662,795,918,1024,"LOUISIANA Jefferson Parish"]
[null,"LOUISIANA","Jefferson Davis Parish","Jefferson Davis Parish",57100,508,610,705,786,610,732,846,943,"LOUISIANA Jefferson Davis Parish"]
[null,"LOUISIANA","Lafayette Parish","Lafayette Parish",64200,602,722,835,931,723,867,1002,1117,"LOUISIANA Lafayette Parish"]
[null,"LOUISIANA","Lafourche Parish","Lafourche Parish",56000,547,656,758,846,657,787,909,1015,"LOUISIANA Lafourche Parish"]
[null,"LOUISIANA","La Salle Parish","La Salle Parish",59200,490,587,678,757,588,705,814,909,"LOUISIANA La Salle Parish"]
[null,"LOUISIANA","Lincoln Parish","Lincoln Parish",52000,487,585,676,755,585,702,811,906,"LOUISIANA Lincoln Parish"]
[null,"LOUISIANA","Livingston Parish","Livingston Parish",66400,623,747,863,963,747,897,1036,1156,"LOUISIANA Livingston Parish"]
[null,"LOUISIANA","Madison Parish","Madison Parish",37100,440,528,611,682,528,634,733,819,"LOUISIANA Madison Parish"]
[null,"LOUISIANA","Morehouse Parish","Morehouse Parish",41000,440,528,611,682,528,634,733,819,"LOUISIANA Morehouse Parish"]
[null,"LOUISIANA","Natchitoches Parish","Natchitoches Parish",44300,440,528,611,682,528,634,733,819,"LOUISIANA Natchitoches Parish"]
[null,"LOUISIANA","Orleans Parish","Orleans Parish",58800,551,662,765,853,662,795,918,1024,"LOUISIANA Orleans Parish"]
[null,"LOUISIANA","Ouachita Parish","Ouachita Parish",46900,459,551,636,710,551,661,763,852,"LOUISIANA Ouachita Parish"]
[null,"LOUISIANA","Plaquemines Parish","Plaquemines Parish",58800,551,662,765,853,662,795,918,1024,"LOUISIANA Plaquemines Parish"]
[null,"LOUISIANA","Pointe Coupee Parish","Pointe Coupee Parish",66400,623,747,863,963,747,897,1036,1156,"LOUISIANA Pointe Coupee Parish"]
[null,"LOUISIANA","Rapides Parish","Rapides Parish",46100,468,562,648,723,562,675,778,868,"LOUISIANA Rapides Parish"]
[null,"LOUISIANA","Red River Parish","Red River Parish",47100,441,530,612,683,530,636,735,820,"LOUISIANA Red River Parish"]
[null,"LOUISIANA","Richland Parish","Richland Parish",46200,440,528,611,682,528,634,733,819,"LOUISIANA Richland Parish"]
[null,"LOUISIANA","Sabine Parish","Sabine Parish",47900,450,540,623,695,540,648,747,834,"LOUISIANA Sabine Parish"]
[null,"LOUISIANA","St. Bernard Parish","St. Bernard Parish",58800,551,662,765,853,662,795,918,1024,"LOUISIANA St. Bernard Parish"]
[null,"LOUISIANA","St. Charles Parish","St. Charles Parish",58800,551,662,765,853,662,795,918,1024,"LOUISIANA St. Charles Parish"]
[null,"LOUISIANA","St. Helena Parish","St. Helena Parish",66400,623,747,863,963,747,897,1036,1156,"LOUISIANA St. Helena Parish"]
[null,"LOUISIANA","St. James Parish","St. James Parish",65900,618,742,856,956,742,891,1028,1147,"LOUISIANA St. James Parish"]
[null,"LOUISIANA","St. John the Baptist Parish","St. John the Baptist Parish",58800,551,662,765,853,662,795,918,1024,"LOUISIANA St. John the Baptist Parish"]
[null,"LOUISIANA","St. Landry Parish","St. Landry Parish",46400,440,528,611,682,528,634,733,819,"LOUISIANA St. Landry Parish"]
[null,"LOUISIANA","St. Martin Parish","St. Martin Parish",64200,602,722,835,931,723,867,1002,1117,"LOUISIANA St. Martin Parish"]
[null,"LOUISIANA","St. Mary Parish","St. Mary Parish",49400,463,556,642,717,556,667,771,861,"LOUISIANA St. Mary Parish"]
[null,"LOUISIANA","St. Tammany Parish","St. Tammany Parish",58800,551,662,765,853,662,795,918,1024,"LOUISIANA St. Tammany Parish"]
[null,"LOUISIANA","Tangipahoa Parish","Tangipahoa Parish",48400,478,573,663,740,573,688,795,888,"LOUISIANA Tangipahoa Parish"]
[null,"LOUISIANA","Tensas Parish","Tensas Parish",35400,440,528,611,682,528,634,733,819,"LOUISIANA Tensas Parish"]
[null,"LOUISIANA","Terrebonne Parish","Terrebonne Parish",56000,547,656,758,846,657,787,909,1015,"LOUISIANA Terrebonne Parish"]
[null,"LOUISIANA","Union Parish","Union Parish",46900,459,551,636,710,551,661,763,852,"LOUISIANA Union Parish"]
[null,"LOUISIANA","Vermilion Parish","Vermilion Parish",56900,534,641,740,826,641,769,888,991,"LOUISIANA Vermilion Parish"]
[null,"LOUISIANA","Vernon Parish","Vernon Parish",53400,487,585,676,755,585,702,811,906,"LOUISIANA Vernon Parish"]
[null,"LOUISIANA","Washington Parish","Washington Parish",39700,440,528,611,682,528,634,733,819,"LOUISIANA Washington Parish"]
[null,"LOUISIANA","Webster Parish","Webster Parish",46900,440,528,611,682,528,634,733,819,"LOUISIANA Webster Parish"]
[null,"LOUISIANA","West Baton Rouge Parish","West Baton Rouge Parish",66400,623,747,863,963,747,897,1036,1156,"LOUISIANA West Baton Rouge Parish"]
[null,"LOUISIANA","West Carroll Parish","West Carroll Parish",42900,440,528,611,682,528,634,733,819,"LOUISIANA West Carroll Parish"]
[null,"LOUISIANA","West Feliciana Parish","West Feliciana Parish",66400,623,747,863,963,747,897,1036,1156,"LOUISIANA West Feliciana Parish"]
[null,"LOUISIANA","Winn Parish","Winn Parish",42500,440,528,611,682,528,634,733,819,"LOUISIANA Winn Parish"]
[null,"MAINE","Androscoggin County","Auburn city",56100,526,631,729,813,631,757,875,976,"MAINE Auburn city"]
[null,"MAINE","Androscoggin County","Durham town",56100,526,631,729,813,631,757,875,976,"MAINE Durham town"]
[null,"MAINE","Androscoggin County","Greene town",56100,526,631,729,813,631,757,875,976,"MAINE Greene town"]
[null,"MAINE","Androscoggin County","Leeds town",56100,526,631,729,813,631,757,875,976,"MAINE Leeds town"]
[null,"MAINE","Androscoggin County","Lewiston city",56100,526,631,729,813,631,757,875,976,"MAINE Lewiston city"]
[null,"MAINE","Androscoggin County","Lisbon town",56100,526,631,729,813,631,757,875,976,"MAINE Lisbon town"]
[null,"MAINE","Androscoggin County","Livermore town",56100,526,631,729,813,631,757,875,976,"MAINE Livermore town"]
[null,"MAINE","Androscoggin County","Livermore Falls town",56100,526,631,729,813,631,757,875,976,{"$f":"B1349&\" \"&D1349","v":"MAINE Livermore Falls town"}]
[null,"MAINE","Androscoggin County","Mechanic Falls town",56100,526,631,729,813,631,757,875,976,"MAINE Mechanic Falls town"]
[null,"MAINE","Androscoggin County","Minot town",56100,526,631,729,813,631,757,875,976,"MAINE Minot town"]
[null,"MAINE","Androscoggin County","Poland town",56100,526,631,729,813,631,757,875,976,"MAINE Poland town"]
[null,"MAINE","Androscoggin County","Sabattus town",56100,526,631,729,813,631,757,875,976,"MAINE Sabattus town"]
[null,"MAINE","Androscoggin County","Turner town",56100,526,631,729,813,631,757,875,976,"MAINE Turner town"]
[null,"MAINE","Androscoggin County","Wales town",56100,526,631,729,813,631,757,875,976,"MAINE Wales town"]
[null,"MAINE","Aroostook County","Allagash town",50600,485,582,672,750,582,699,807,900,"MAINE Allagash town"]
[null,"MAINE","Aroostook County","Amity town",50600,485,582,672,750,582,699,807,900,"MAINE Amity town"]
[null,"MAINE","Aroostook County","Ashland town",50600,485,582,672,750,582,699,807,900,"MAINE Ashland town"]
[null,"MAINE","Aroostook County","Bancroft town",50600,485,582,672,750,582,699,807,900,"MAINE Bancroft town"]
[null,"MAINE","Aroostook County","Blaine town",50600,485,582,672,750,582,699,807,900,"MAINE Blaine town"]
[null,"MAINE","Aroostook County","Bridgewater town",50600,485,582,672,750,582,699,807,900,"MAINE Bridgewater town"]
[null,"MAINE","Aroostook County","Caribou city",50600,485,582,672,750,582,699,807,900,"MAINE Caribou city"]
[null,"MAINE","Aroostook County","Cary plantation",50600,485,582,672,750,582,699,807,900,"MAINE Cary plantation"]
[null,"MAINE","Aroostook County","Castle Hill town",50600,485,582,672,750,582,699,807,900,"MAINE Castle Hill town"]
[null,"MAINE","Aroostook County","Caswell town",50600,485,582,672,750,582,699,807,900,"MAINE Caswell town"]
[null,"MAINE","Aroostook County","Central Aroostook UT",50600,485,582,672,750,582,699,807,900,"MAINE Central Aroostook UT"]
[null,"MAINE","Aroostook County","Chapman town",50600,485,582,672,750,582,699,807,900,"MAINE Chapman town"]
[null,"MAINE","Aroostook County","Connor UT",50600,485,582,672,750,582,699,807,900,"MAINE Connor UT"]
[null,"MAINE","Aroostook County","Crystal town",50600,485,582,672,750,582,699,807,900,"MAINE Crystal town"]
[null,"MAINE","Aroostook County","Cyr plantation",50600,485,582,672,750,582,699,807,900,"MAINE Cyr plantation"]
[null,"MAINE","Aroostook County","Dyer Brook town",50600,485,582,672,750,582,699,807,900,"MAINE Dyer Brook town"]
[null,"MAINE","Aroostook County","Eagle Lake town",50600,485,582,672,750,582,699,807,900,"MAINE Eagle Lake town"]
[null,"MAINE","Aroostook County","Easton town",50600,485,582,672,750,582,699,807,900,"MAINE Easton town"]
[null,"MAINE","Aroostook County","Fort Fairfield town",50600,485,582,672,750,582,699,807,900,"MAINE Fort Fairfield town"]
[null,"MAINE","Aroostook County","Fort Kent town",50600,485,582,672,750,582,699,807,900,"MAINE Fort Kent town"]
[null,"MAINE","Aroostook County","Frenchville town",50600,485,582,672,750,582,699,807,900,"MAINE Frenchville town"]
[null,"MAINE","Aroostook County","Garfield plantation",50600,485,582,672,750,582,699,807,900,"MAINE Garfield plantation"]
[null,"MAINE","Aroostook County","Glenwood plantation",50600,485,582,672,750,582,699,807,900,"MAINE Glenwood plantation"]
[null,"MAINE","Aroostook County","Grand Isle town",50600,485,582,672,750,582,699,807,900,"MAINE Grand Isle town"]
[null,"MAINE","Aroostook County","Hamlin town",50600,485,582,672,750,582,699,807,900,"MAINE Hamlin town"]
[null,"MAINE","Aroostook County","Hammond town",50600,485,582,672,750,582,699,807,900,"MAINE Hammond town"]
[null,"MAINE","Aroostook County","Haynesville town",50600,485,582,672,750,582,699,807,900,"MAINE Haynesville town"]
[null,"MAINE","Aroostook County","Hersey town",50600,485,582,672,750,582,699,807,900,"MAINE Hersey town"]
[null,"MAINE","Aroostook County","Hodgdon town",50600,485,582,672,750,582,699,807,900,"MAINE Hodgdon town"]
[null,"MAINE","Aroostook County","Houlton town",50600,485,582,672,750,582,699,807,900,"MAINE Houlton town"]
[null,"MAINE","Aroostook County","Island Falls town",50600,485,582,672,750,582,699,807,900,"MAINE Island Falls town"]
[null,"MAINE","Aroostook County","Limestone town",50600,485,582,672,750,582,699,807,900,"MAINE Limestone town"]
[null,"MAINE","Aroostook County","Linneus town",50600,485,582,672,750,582,699,807,900,"MAINE Linneus town"]
[null,"MAINE","Aroostook County","Littleton town",50600,485,582,672,750,582,699,807,900,"MAINE Littleton town"]
[null,"MAINE","Aroostook County","Ludlow town",50600,485,582,672,750,582,699,807,900,"MAINE Ludlow town"]
[null,"MAINE","Aroostook County","Macwahoc plantation",50600,485,582,672,750,582,699,807,900,"MAINE Macwahoc plantation"]
[null,"MAINE","Aroostook County","Madawaska town",50600,485,582,672,750,582,699,807,900,"MAINE Madawaska town"]
[null,"MAINE","Aroostook County","Mapleton town",50600,485,582,672,750,582,699,807,900,"MAINE Mapleton town"]
[null,"MAINE","Aroostook County","Mars Hill town",50600,485,582,672,750,582,699,807,900,"MAINE Mars Hill town"]
[null,"MAINE","Aroostook County","Masardis town",50600,485,582,672,750,582,699,807,900,"MAINE Masardis town"]
[null,"MAINE","Aroostook County","Merrill town",50600,485,582,672,750,582,699,807,900,"MAINE Merrill town"]
[null,"MAINE","Aroostook County","Monticello town",50600,485,582,672,750,582,699,807,900,"MAINE Monticello town"]
[null,"MAINE","Aroostook County","Moro plantation",50600,485,582,672,750,582,699,807,900,"MAINE Moro plantation"]
[null,"MAINE","Aroostook County","Nashville plantation",50600,485,582,672,750,582,699,807,900,"MAINE Nashville plantation"]
[null,"MAINE","Aroostook County","New Canada town",50600,485,582,672,750,582,699,807,900,"MAINE New Canada town"]
[null,"MAINE","Aroostook County","New Limerick town",50600,485,582,672,750,582,699,807,900,"MAINE New Limerick town"]
[null,"MAINE","Aroostook County","New Sweden town",50600,485,582,672,750,582,699,807,900,"MAINE New Sweden town"]
[null,"MAINE","Aroostook County","Northwest Aroostook UT",50600,485,582,672,750,582,699,807,900,"MAINE Northwest Aroostook UT"]
[null,"MAINE","Aroostook County","Oakfield town",50600,485,582,672,750,582,699,807,900,"MAINE Oakfield town"]
[null,"MAINE","Aroostook County","Orient town",50600,485,582,672,750,582,699,807,900,"MAINE Orient town"]
[null,"MAINE","Aroostook County","Oxbow plantation",50600,485,582,672,750,582,699,807,900,"MAINE Oxbow plantation"]
[null,"MAINE","Aroostook County","Penobscot Indian Island Reservation",50600,485,582,672,750,582,699,807,900,"MAINE Penobscot Indian Island Reservation"]
[null,"MAINE","Aroostook County","Perham town",50600,485,582,672,750,582,699,807,900,"MAINE Perham town"]
[null,"MAINE","Aroostook County","Portage Lake town",50600,485,582,672,750,582,699,807,900,"MAINE Portage Lake town"]
[null,"MAINE","Aroostook County","Presque Isle city",50600,485,582,672,750,582,699,807,900,"MAINE Presque Isle city"]
[null,"MAINE","Aroostook County","Reed plantation",50600,485,582,672,750,582,699,807,900,"MAINE Reed plantation"]
[null,"MAINE","Aroostook County","St. Agatha town",50600,485,582,672,750,582,699,807,900,"MAINE St. Agatha town"]
[null,"MAINE","Aroostook County","St. Francis town",50600,485,582,672,750,582,699,807,900,{"$f":"B1413&\" \"&D1413","v":"MAINE St. Francis town"}]
[null,"MAINE","Aroostook County","St. John plantation",50600,485,582,672,750,582,699,807,900,"MAINE St. John plantation"]
[null,"MAINE","Aroostook County","Sherman town",50600,485,582,672,750,582,699,807,900,"MAINE Sherman town"]
[null,"MAINE","Aroostook County","Smyrna town",50600,485,582,672,750,582,699,807,900,"MAINE Smyrna town"]
[null,"MAINE","Aroostook County","South Aroostook UT",50600,485,582,672,750,582,699,807,900,"MAINE South Aroostook UT"]
[null,"MAINE","Aroostook County","Square Lake UT",50600,485,582,672,750,582,699,807,900,"MAINE Square Lake UT"]
[null,"MAINE","Aroostook County","Stockholm town",50600,485,582,672,750,582,699,807,900,"MAINE Stockholm town"]
[null,"MAINE","Aroostook County","Van Buren town",50600,485,582,672,750,582,699,807,900,"MAINE Van Buren town"]
[null,"MAINE","Aroostook County","Wade town",50600,485,582,672,750,582,699,807,900,"MAINE Wade town"]
[null,"MAINE","Aroostook County","Wallagrass town",50600,485,582,672,750,582,699,807,900,"MAINE Wallagrass town"]
[null,"MAINE","Aroostook County","Washburn town",50600,485,582,672,750,582,699,807,900,"MAINE Washburn town"]
[null,"MAINE","Aroostook County","Westfield town",50600,485,582,672,750,582,699,807,900,"MAINE Westfield town"]
[null,"MAINE","Aroostook County","Westmanland town",50600,485,582,672,750,582,699,807,900,"MAINE Westmanland town"]
[null,"MAINE","Aroostook County","Weston town",50600,485,582,672,750,582,699,807,900,"MAINE Weston town"]
[null,"MAINE","Aroostook County","Winterville plantation",50600,485,582,672,750,582,699,807,900,"MAINE Winterville plantation"]
[null,"MAINE","Aroostook County","Woodland town",50600,485,582,672,750,582,699,807,900,"MAINE Woodland town"]
[null,"MAINE","Cumberland County","Baldwin town",68400,641,770,889,992,770,924,1067,1191,"MAINE Baldwin town"]
[null,"MAINE","Cumberland County","Bridgton town",68400,641,770,889,992,770,924,1067,1191,"MAINE Bridgton town"]
[null,"MAINE","Cumberland County","Brunswick town",68400,641,770,889,992,770,924,1067,1191,"MAINE Brunswick town"]
[null,"MAINE","Cumberland County","Cape Elizabeth town",77300,725,870,1005,1121,870,1044,1206,1345,"MAINE Cape Elizabeth town"]
[null,"MAINE","Cumberland County","Casco town",77300,725,870,1005,1121,870,1044,1206,1345,"MAINE Casco town"]
[null,"MAINE","Cumberland County","Chebeague Island town",77300,725,870,1005,1121,870,1044,1206,1345,"MAINE Chebeague Island town"]
[null,"MAINE","Cumberland County","Cumberland town",77300,725,870,1005,1121,870,1044,1206,1345,"MAINE Cumberland town"]
[null,"MAINE","Cumberland County","Falmouth town",77300,725,870,1005,1121,870,1044,1206,1345,"MAINE Falmouth town"]
[null,"MAINE","Cumberland County","Freeport town",77300,725,870,1005,1121,870,1044,1206,1345,"MAINE Freeport town"]
[null,"MAINE","Cumberland County","Frye Island town",77300,725,870,1005,1121,870,1044,1206,1345,"MAINE Frye Island town"]
[null,"MAINE","Cumberland County","Gorham town",77300,725,870,1005,1121,870,1044,1206,1345,"MAINE Gorham town"]
[null,"MAINE","Cumberland County","Gray town",77300,725,870,1005,1121,870,1044,1206,1345,"MAINE Gray town"]
[null,"MAINE","Cumberland County","Harpswell town",68400,641,770,889,992,770,924,1067,1191,"MAINE Harpswell town"]
[null,"MAINE","Cumberland County","Harrison town",68400,641,770,889,992,770,924,1067,1191,"MAINE Harrison town"]
[null,"MAINE","Cumberland County","Long Island town",77300,725,870,1005,1121,870,1044,1206,1345,"MAINE Long Island town"]
[null,"MAINE","Cumberland County","Naples town",68400,641,770,889,992,770,924,1067,1191,"MAINE Naples town"]
[null,"MAINE","Cumberland County","New Gloucester town",68400,641,770,889,992,770,924,1067,1191,"MAINE New Gloucester town"]
[null,"MAINE","Cumberland County","North Yarmouth town",77300,725,870,1005,1121,870,1044,1206,1345,"MAINE North Yarmouth town"]
[null,"MAINE","Cumberland County","Portland city",77300,725,870,1005,1121,870,1044,1206,1345,"MAINE Portland city"]
[null,"MAINE","Cumberland County","Pownal town",68400,641,770,889,992,770,924,1067,1191,"MAINE Pownal town"]
[null,"MAINE","Cumberland County","Raymond town",77300,725,870,1005,1121,870,1044,1206,1345,"MAINE Raymond town"]
[null,"MAINE","Cumberland County","Scarborough town",77300,725,870,1005,1121,870,1044,1206,1345,"MAINE Scarborough town"]
[null,"MAINE","Cumberland County","Sebago town",68400,641,770,889,992,770,924,1067,1191,"MAINE Sebago town"]
[null,"MAINE","Cumberland County","South Portland city",77300,725,870,1005,1121,870,1044,1206,1345,"MAINE South Portland city"]
[null,"MAINE","Cumberland County","Standish town",77300,725,870,1005,1121,870,1044,1206,1345,"MAINE Standish town"]
[null,"MAINE","Cumberland County","Westbrook city",77300,725,870,1005,1121,870,1044,1206,1345,"MAINE Westbrook city"]
[null,"MAINE","Cumberland County","Windham town",77300,725,870,1005,1121,870,1044,1206,1345,"MAINE Windham town"]
[null,"MAINE","Cumberland County","Yarmouth town",77300,725,870,1005,1121,870,1044,1206,1345,"MAINE Yarmouth town"]
[null,"MAINE","Franklin County","Avon town",51100,485,582,672,750,582,699,807,900,"MAINE Avon town"]
[null,"MAINE","Franklin County","Carrabassett Valley town",51100,485,582,672,750,582,699,807,900,"MAINE Carrabassett Valley town"]
[null,"MAINE","Franklin County","Carthage town",51100,485,582,672,750,582,699,807,900,"MAINE Carthage town"]
[null,"MAINE","Franklin County","Chesterville town",51100,485,582,672,750,582,699,807,900,"MAINE Chesterville town"]
[null,"MAINE","Franklin County","Coplin plantation",51100,485,582,672,750,582,699,807,900,"MAINE Coplin plantation"]
[null,"MAINE","Franklin County","Dallas plantation",51100,485,582,672,750,582,699,807,900,"MAINE Dallas plantation"]
[null,"MAINE","Franklin County","East Central Franklin UT",51100,485,582,672,750,582,699,807,900,"MAINE East Central Franklin UT"]
[null,"MAINE","Franklin County","Eustis town",51100,485,582,672,750,582,699,807,900,"MAINE Eustis town"]
[null,"MAINE","Franklin County","Farmington town",51100,485,582,672,750,582,699,807,900,"MAINE Farmington town"]
[null,"MAINE","Franklin County","Industry town",51100,485,582,672,750,582,699,807,900,"MAINE Industry town"]
[null,"MAINE","Franklin County","Jay town",51100,485,582,672,750,582,699,807,900,"MAINE Jay town"]
[null,"MAINE","Franklin County","Kingfield town",51100,485,582,672,750,582,699,807,900,"MAINE Kingfield town"]
[null,"MAINE","Franklin County","Madrid town",51100,485,582,672,750,582,699,807,900,"MAINE Madrid town"]
[null,"MAINE","Franklin County","New Sharon town",51100,485,582,672,750,582,699,807,900,"MAINE New Sharon town"]
[null,"MAINE","Franklin County","New Vineyard town",51100,485,582,672,750,582,699,807,900,"MAINE New Vineyard town"]
[null,"MAINE","Franklin County","North Franklin UT",51100,485,582,672,750,582,699,807,900,"MAINE North Franklin UT"]
[null,"MAINE","Franklin County","Phillips town",51100,485,582,672,750,582,699,807,900,"MAINE Phillips town"]
[null,"MAINE","Franklin County","Rangeley town",51100,485,582,672,750,582,699,807,900,"MAINE Rangeley town"]
[null,"MAINE","Franklin County","Rangeley plantation",51100,485,582,672,750,582,699,807,900,"MAINE Rangeley plantation"]
[null,"MAINE","Franklin County","Sandy River plantation",51100,485,582,672,750,582,699,807,900,"MAINE Sandy River plantation"]
[null,"MAINE","Franklin County","South Franklin UT",51100,485,582,672,750,582,699,807,900,{"$f":"B1477&\" \"&D1477","v":"MAINE South Franklin UT"}]
[null,"MAINE","Franklin County","Strong town",51100,485,582,672,750,582,699,807,900,"MAINE Strong town"]
[null,"MAINE","Franklin County","Temple town",51100,485,582,672,750,582,699,807,900,"MAINE Temple town"]
[null,"MAINE","Franklin County","Weld town",51100,485,582,672,750,582,699,807,900,"MAINE Weld town"]
[null,"MAINE","Franklin County","West Central Franklin UT",51100,485,582,672,750,582,699,807,900,"MAINE West Central Franklin UT"]
[null,"MAINE","Franklin County","Wilton town",51100,485,582,672,750,582,699,807,900,"MAINE Wilton town"]
[null,"MAINE","Franklin County","Wyman UT",51100,485,582,672,750,582,699,807,900,"MAINE Wyman UT"]
[null,"MAINE","Hancock County","Amherst town",62800,589,707,816,911,707,849,980,1093,"MAINE Amherst town"]
[null,"MAINE","Hancock County","Aurora town",62800,589,707,816,911,707,849,980,1093,"MAINE Aurora town"]
[null,"MAINE","Hancock County","Bar Harbor town",62800,589,707,816,911,707,849,980,1093,"MAINE Bar Harbor town"]
[null,"MAINE","Hancock County","Blue Hill town",62800,589,707,816,911,707,849,980,1093,"MAINE Blue Hill town"]
[null,"MAINE","Hancock County","Brooklin town",62800,589,707,816,911,707,849,980,1093,"MAINE Brooklin town"]
[null,"MAINE","Hancock County","Brooksville town",62800,589,707,816,911,707,849,980,1093,"MAINE Brooksville town"]
[null,"MAINE","Hancock County","Bucksport town",62800,589,707,816,911,707,849,980,1093,"MAINE Bucksport town"]
[null,"MAINE","Hancock County","Castine town",62800,589,707,816,911,707,849,980,1093,"MAINE Castine town"]
[null,"MAINE","Hancock County","Central Hancock UT",62800,589,707,816,911,707,849,980,1093,"MAINE Central Hancock UT"]
[null,"MAINE","Hancock County","Cranberry Isles town",62800,589,707,816,911,707,849,980,1093,"MAINE Cranberry Isles town"]
[null,"MAINE","Hancock County","Dedham town",62800,589,707,816,911,707,849,980,1093,"MAINE Dedham town"]
[null,"MAINE","Hancock County","Deer Isle town",62800,589,707,816,911,707,849,980,1093,"MAINE Deer Isle town"]
[null,"MAINE","Hancock County","Eastbrook town",62800,589,707,816,911,707,849,980,1093,"MAINE Eastbrook town"]
[null,"MAINE","Hancock County","East Hancock UT",62800,589,707,816,911,707,849,980,1093,"MAINE East Hancock UT"]
[null,"MAINE","Hancock County","Ellsworth city",62800,589,707,816,911,707,849,980,1093,"MAINE Ellsworth city"]
[null,"MAINE","Hancock County","Franklin town",62800,589,707,816,911,707,849,980,1093,"MAINE Franklin town"]
[null,"MAINE","Hancock County","Frenchboro town",62800,589,707,816,911,707,849,980,1093,"MAINE Frenchboro town"]
[null,"MAINE","Hancock County","Gouldsboro town",62800,589,707,816,911,707,849,980,1093,"MAINE Gouldsboro town"]
[null,"MAINE","Hancock County","Great Pond town",62800,589,707,816,911,707,849,980,1093,"MAINE Great Pond town"]
[null,"MAINE","Hancock County","Hancock town",62800,589,707,816,911,707,849,980,1093,"MAINE Hancock town"]
[null,"MAINE","Hancock County","Lamoine town",62800,589,707,816,911,707,849,980,1093,"MAINE Lamoine town"]
[null,"MAINE","Hancock County","Mariaville town",62800,589,707,816,911,707,849,980,1093,"MAINE Mariaville town"]
[null,"MAINE","Hancock County","Mount Desert town",62800,589,707,816,911,707,849,980,1093,"MAINE Mount Desert town"]
[null,"MAINE","Hancock County","Northwest Hancock UT",62800,589,707,816,911,707,849,980,1093,"MAINE Northwest Hancock UT"]
[null,"MAINE","Hancock County","Orland town",62800,589,707,816,911,707,849,980,1093,"MAINE Orland town"]
[null,"MAINE","Hancock County","Osborn town",62800,589,707,816,911,707,849,980,1093,"MAINE Osborn town"]
[null,"MAINE","Hancock County","Otis town",62800,589,707,816,911,707,849,980,1093,"MAINE Otis town"]
[null,"MAINE","Hancock County","Penobscot town",62800,589,707,816,911,707,849,980,1093,"MAINE Penobscot town"]
[null,"MAINE","Hancock County","Sedgwick town",62800,589,707,816,911,707,849,980,1093,"MAINE Sedgwick town"]
[null,"MAINE","Hancock County","Sorrento town",62800,589,707,816,911,707,849,980,1093,"MAINE Sorrento town"]
[null,"MAINE","Hancock County","Southwest Harbor town",62800,589,707,816,911,707,849,980,1093,"MAINE Southwest Harbor town"]
[null,"MAINE","Hancock County","Stonington town",62800,589,707,816,911,707,849,980,1093,"MAINE Stonington town"]
[null,"MAINE","Hancock County","Sullivan town",62800,589,707,816,911,707,849,980,1093,"MAINE Sullivan town"]
[null,"MAINE","Hancock County","Surry town",62800,589,707,816,911,707,849,980,1093,"MAINE Surry town"]
[null,"MAINE","Hancock County","Swans Island town",62800,589,707,816,911,707,849,980,1093,"MAINE Swans Island town"]
[null,"MAINE","Hancock County","Tremont town",62800,589,707,816,911,707,849,980,1093,"MAINE Tremont town"]
[null,"MAINE","Hancock County","Trenton town",62800,589,707,816,911,707,849,980,1093,"MAINE Trenton town"]
[null,"MAINE","Hancock County","Verona Island town",62800,589,707,816,911,707,849,980,1093,"MAINE Verona Island town"]
[null,"MAINE","Hancock County","Waltham town",62800,589,707,816,911,707,849,980,1093,"MAINE Waltham town"]
[null,"MAINE","Hancock County","Winter Harbor town",62800,589,707,816,911,707,849,980,1093,"MAINE Winter Harbor town"]
[null,"MAINE","Kennebec County","Albion town",60400,566,680,785,876,680,816,942,1051,"MAINE Albion town"]
[null,"MAINE","Kennebec County","Augusta city",60400,566,680,785,876,680,816,942,1051,"MAINE Augusta city"]
[null,"MAINE","Kennebec County","Belgrade town",60400,566,680,785,876,680,816,942,1051,"MAINE Belgrade town"]
[null,"MAINE","Kennebec County","Benton town",60400,566,680,785,876,680,816,942,1051,"MAINE Benton town"]
[null,"MAINE","Kennebec County","Chelsea town",60400,566,680,785,876,680,816,942,1051,"MAINE Chelsea town"]
[null,"MAINE","Kennebec County","China town",60400,566,680,785,876,680,816,942,1051,"MAINE China town"]
[null,"MAINE","Kennebec County","Clinton town",60400,566,680,785,876,680,816,942,1051,"MAINE Clinton town"]
[null,"MAINE","Kennebec County","Farmingdale town",60400,566,680,785,876,680,816,942,1051,"MAINE Farmingdale town"]
[null,"MAINE","Kennebec County","Fayette town",60400,566,680,785,876,680,816,942,1051,"MAINE Fayette town"]
[null,"MAINE","Kennebec County","Gardiner city",60400,566,680,785,876,680,816,942,1051,"MAINE Gardiner city"]
[null,"MAINE","Kennebec County","Hallowell city",60400,566,680,785,876,680,816,942,1051,"MAINE Hallowell city"]
[null,"MAINE","Kennebec County","Litchfield town",60400,566,680,785,876,680,816,942,1051,"MAINE Litchfield town"]
[null,"MAINE","Kennebec County","Manchester town",60400,566,680,785,876,680,816,942,1051,"MAINE Manchester town"]
[null,"MAINE","Kennebec County","Monmouth town",60400,566,680,785,876,680,816,942,1051,"MAINE Monmouth town"]
[null,"MAINE","Kennebec County","Mount Vernon town",60400,566,680,785,876,680,816,942,1051,"MAINE Mount Vernon town"]
[null,"MAINE","Kennebec County","Oakland town",60400,566,680,785,876,680,816,942,1051,"MAINE Oakland town"]
[null,"MAINE","Kennebec County","Pittston town",60400,566,680,785,876,680,816,942,1051,"MAINE Pittston town"]
[null,"MAINE","Kennebec County","Randolph town",60400,566,680,785,876,680,816,942,1051,{"$f":"B1541&\" \"&D1541","v":"MAINE Randolph town"}]
[null,"MAINE","Kennebec County","Readfield town",60400,566,680,785,876,680,816,942,1051,"MAINE Readfield town"]
[null,"MAINE","Kennebec County","Rome town",60400,566,680,785,876,680,816,942,1051,"MAINE Rome town"]
[null,"MAINE","Kennebec County","Sidney town",60400,566,680,785,876,680,816,942,1051,"MAINE Sidney town"]
[null,"MAINE","Kennebec County","Unity UT",60400,566,680,785,876,680,816,942,1051,"MAINE Unity UT"]
[null,"MAINE","Kennebec County","Vassalboro town",60400,566,680,785,876,680,816,942,1051,"MAINE Vassalboro town"]
[null,"MAINE","Kennebec County","Vienna town",60400,566,680,785,876,680,816,942,1051,"MAINE Vienna town"]
[null,"MAINE","Kennebec County","Waterville city",60400,566,680,785,876,680,816,942,1051,"MAINE Waterville city"]
[null,"MAINE","Kennebec County","Wayne town",60400,566,680,785,876,680,816,942,1051,"MAINE Wayne town"]
[null,"MAINE","Kennebec County","West Gardiner town",60400,566,680,785,876,680,816,942,1051,"MAINE West Gardiner town"]
[null,"MAINE","Kennebec County","Windsor town",60400,566,680,785,876,680,816,942,1051,"MAINE Windsor town"]
[null,"MAINE","Kennebec County","Winslow town",60400,566,680,785,876,680,816,942,1051,"MAINE Winslow town"]
[null,"MAINE","Kennebec County","Winthrop town",60400,566,680,785,876,680,816,942,1051,"MAINE Winthrop town"]
[null,"MAINE","Knox County","Appleton town",60300,566,678,784,875,679,814,941,1050,"MAINE Appleton town"]
[null,"MAINE","Knox County","Camden town",60300,566,678,784,875,679,814,941,1050,"MAINE Camden town"]
[null,"MAINE","Knox County","Criehaven UT",60300,566,678,784,875,679,814,941,1050,"MAINE Criehaven UT"]
[null,"MAINE","Knox County","Cushing town",60300,566,678,784,875,679,814,941,1050,"MAINE Cushing town"]
[null,"MAINE","Knox County","Friendship town",60300,566,678,784,875,679,814,941,1050,"MAINE Friendship town"]
[null,"MAINE","Knox County","Hope town",60300,566,678,784,875,679,814,941,1050,"MAINE Hope town"]
[null,"MAINE","Knox County","Isle au Haut town",60300,566,678,784,875,679,814,941,1050,"MAINE Isle au Haut town"]
[null,"MAINE","Knox County","Matinicus Isle plantation",60300,566,678,784,875,679,814,941,1050,"MAINE Matinicus Isle plantation"]
[null,"MAINE","Knox County","North Haven town",60300,566,678,784,875,679,814,941,1050,"MAINE North Haven town"]
[null,"MAINE","Knox County","Owls Head town",60300,566,678,784,875,679,814,941,1050,"MAINE Owls Head town"]
[null,"MAINE","Knox County","Rockland city",60300,566,678,784,875,679,814,941,1050,"MAINE Rockland city"]
[null,"MAINE","Knox County","Rockport town",60300,566,678,784,875,679,814,941,1050,"MAINE Rockport town"]
[null,"MAINE","Knox County","St. George town",60300,566,678,784,875,679,814,941,1050,"MAINE St. George town"]
[null,"MAINE","Knox County","South Thomaston town",60300,566,678,784,875,679,814,941,1050,"MAINE South Thomaston town"]
[null,"MAINE","Knox County","Thomaston town",60300,566,678,784,875,679,814,941,1050,"MAINE Thomaston town"]
[null,"MAINE","Knox County","Union town",60300,566,678,784,875,679,814,941,1050,"MAINE Union town"]
[null,"MAINE","Knox County","Vinalhaven town",60300,566,678,784,875,679,814,941,1050,"MAINE Vinalhaven town"]
[null,"MAINE","Knox County","Warren town",60300,566,678,784,875,679,814,941,1050,"MAINE Warren town"]
[null,"MAINE","Knox County","Washington town",60300,566,678,784,875,679,814,941,1050,"MAINE Washington town"]
[null,"MAINE","Lincoln County","Alna town",60800,570,685,790,882,684,822,948,1059,"MAINE Alna town"]
[null,"MAINE","Lincoln County","Boothbay town",60800,570,685,790,882,684,822,948,1059,"MAINE Boothbay town"]
[null,"MAINE","Lincoln County","Boothbay Harbor town",60800,570,685,790,882,684,822,948,1059,"MAINE Boothbay Harbor town"]
[null,"MAINE","Lincoln County","Bremen town",60800,570,685,790,882,684,822,948,1059,"MAINE Bremen town"]
[null,"MAINE","Lincoln County","Bristol town",60800,570,685,790,882,684,822,948,1059,"MAINE Bristol town"]
[null,"MAINE","Lincoln County","Damariscotta town",60800,570,685,790,882,684,822,948,1059,"MAINE Damariscotta town"]
[null,"MAINE","Lincoln County","Dresden town",60800,570,685,790,882,684,822,948,1059,"MAINE Dresden town"]
[null,"MAINE","Lincoln County","Edgecomb town",60800,570,685,790,882,684,822,948,1059,"MAINE Edgecomb town"]
[null,"MAINE","Lincoln County","Hibberts gore",60800,570,685,790,882,684,822,948,1059,"MAINE Hibberts gore"]
[null,"MAINE","Lincoln County","Jefferson town",60800,570,685,790,882,684,822,948,1059,"MAINE Jefferson town"]
[null,"MAINE","Lincoln County","Monhegan plantation",60800,570,685,790,882,684,822,948,1059,"MAINE Monhegan plantation"]
[null,"MAINE","Lincoln County","Newcastle town",60800,570,685,790,882,684,822,948,1059,"MAINE Newcastle town"]
[null,"MAINE","Lincoln County","Nobleboro town",60800,570,685,790,882,684,822,948,1059,"MAINE Nobleboro town"]
[null,"MAINE","Lincoln County","Somerville town",60800,570,685,790,882,684,822,948,1059,"MAINE Somerville town"]
[null,"MAINE","Lincoln County","South Bristol town",60800,570,685,790,882,684,822,948,1059,"MAINE South Bristol town"]
[null,"MAINE","Lincoln County","Southport town",60800,570,685,790,882,684,822,948,1059,"MAINE Southport town"]
[null,"MAINE","Lincoln County","Waldoboro town",60800,570,685,790,882,684,822,948,1059,"MAINE Waldoboro town"]
[null,"MAINE","Lincoln County","Westport Island town",60800,570,685,790,882,684,822,948,1059,"MAINE Westport Island town"]
[null,"MAINE","Lincoln County","Whitefield town",60800,570,685,790,882,684,822,948,1059,"MAINE Whitefield town"]
[null,"MAINE","Lincoln County","Wiscasset town",60800,570,685,790,882,684,822,948,1059,"MAINE Wiscasset town"]
[null,"MAINE","Oxford County","Andover town",51000,485,582,672,750,582,699,807,900,"MAINE Andover town"]
[null,"MAINE","Oxford County","Bethel town",51000,485,582,672,750,582,699,807,900,"MAINE Bethel town"]
[null,"MAINE","Oxford County","Brownfield town",51000,485,582,672,750,582,699,807,900,"MAINE Brownfield town"]
[null,"MAINE","Oxford County","Buckfield town",51000,485,582,672,750,582,699,807,900,"MAINE Buckfield town"]
[null,"MAINE","Oxford County","Byron town",51000,485,582,672,750,582,699,807,900,"MAINE Byron town"]
[null,"MAINE","Oxford County","Canton town",51000,485,582,672,750,582,699,807,900,"MAINE Canton town"]
[null,"MAINE","Oxford County","Denmark town",51000,485,582,672,750,582,699,807,900,"MAINE Denmark town"]
[null,"MAINE","Oxford County","Dixfield town",51000,485,582,672,750,582,699,807,900,"MAINE Dixfield town"]
[null,"MAINE","Oxford County","Fryeburg town",51000,485,582,672,750,582,699,807,900,"MAINE Fryeburg town"]
[null,"MAINE","Oxford County","Gilead town",51000,485,582,672,750,582,699,807,900,"MAINE Gilead town"]
[null,"MAINE","Oxford County","Greenwood town",51000,485,582,672,750,582,699,807,900,"MAINE Greenwood town"]
[null,"MAINE","Oxford County","Hanover town",51000,485,582,672,750,582,699,807,900,"MAINE Hanover town"]
[null,"MAINE","Oxford County","Hartford town",51000,485,582,672,750,582,699,807,900,{"$f":"B1605&\" \"&D1605","v":"MAINE Hartford town"}]
[null,"MAINE","Oxford County","Hebron town",51000,485,582,672,750,582,699,807,900,"MAINE Hebron town"]
[null,"MAINE","Oxford County","Hiram town",51000,485,582,672,750,582,699,807,900,"MAINE Hiram town"]
[null,"MAINE","Oxford County","Lincoln plantation",51000,485,582,672,750,582,699,807,900,"MAINE Lincoln plantation"]
[null,"MAINE","Oxford County","Lovell town",51000,485,582,672,750,582,699,807,900,"MAINE Lovell town"]
[null,"MAINE","Oxford County","Magalloway plantation",51000,485,582,672,750,582,699,807,900,"MAINE Magalloway plantation"]
[null,"MAINE","Oxford County","Mexico town",51000,485,582,672,750,582,699,807,900,"MAINE Mexico town"]
[null,"MAINE","Oxford County","Milton UT",51000,485,582,672,750,582,699,807,900,"MAINE Milton UT"]
[null,"MAINE","Oxford County","Newry town",51000,485,582,672,750,582,699,807,900,"MAINE Newry town"]
[null,"MAINE","Oxford County","North Oxford UT",51000,485,582,672,750,582,699,807,900,"MAINE North Oxford UT"]
[null,"MAINE","Oxford County","Norway town",51000,485,582,672,750,582,699,807,900,"MAINE Norway town"]
[null,"MAINE","Oxford County","Otisfield town",51000,485,582,672,750,582,699,807,900,"MAINE Otisfield town"]
[null,"MAINE","Oxford County","Oxford town",51000,485,582,672,750,582,699,807,900,"MAINE Oxford town"]
[null,"MAINE","Oxford County","Paris town",51000,485,582,672,750,582,699,807,900,"MAINE Paris town"]
[null,"MAINE","Oxford County","Peru town",51000,485,582,672,750,582,699,807,900,"MAINE Peru town"]
[null,"MAINE","Oxford County","Porter town",51000,485,582,672,750,582,699,807,900,"MAINE Porter town"]
[null,"MAINE","Oxford County","Roxbury town",51000,485,582,672,750,582,699,807,900,"MAINE Roxbury town"]
[null,"MAINE","Oxford County","Rumford town",51000,485,582,672,750,582,699,807,900,"MAINE Rumford town"]
[null,"MAINE","Oxford County","South Oxford UT",51000,485,582,672,750,582,699,807,900,"MAINE South Oxford UT"]
[null,"MAINE","Oxford County","Stoneham town",51000,485,582,672,750,582,699,807,900,"MAINE Stoneham town"]
[null,"MAINE","Oxford County","Stow town",51000,485,582,672,750,582,699,807,900,"MAINE Stow town"]
[null,"MAINE","Oxford County","Sumner town",51000,485,582,672,750,582,699,807,900,"MAINE Sumner town"]
[null,"MAINE","Oxford County","Sweden town",51000,485,582,672,750,582,699,807,900,"MAINE Sweden town"]
[null,"MAINE","Oxford County","Upton town",51000,485,582,672,750,582,699,807,900,"MAINE Upton town"]
[null,"MAINE","Oxford County","Waterford town",51000,485,582,672,750,582,699,807,900,"MAINE Waterford town"]
[null,"MAINE","Oxford County","West Paris town",51000,485,582,672,750,582,699,807,900,"MAINE West Paris town"]
[null,"MAINE","Oxford County","Woodstock town",51000,485,582,672,750,582,699,807,900,"MAINE Woodstock town"]
[null,"MAINE","Penobscot County","Alton town",51200,485,582,672,750,582,699,807,900,"MAINE Alton town"]
[null,"MAINE","Penobscot County","Argyle UT",51200,485,582,672,750,582,699,807,900,"MAINE Argyle UT"]
[null,"MAINE","Penobscot County","Bangor city",60800,588,706,815,910,705,847,978,1092,"MAINE Bangor city"]
[null,"MAINE","Penobscot County","Bradford town",51200,485,582,672,750,582,699,807,900,"MAINE Bradford town"]
[null,"MAINE","Penobscot County","Bradley town",51200,485,582,672,750,582,699,807,900,"MAINE Bradley town"]
[null,"MAINE","Penobscot County","Brewer city",60800,588,706,815,910,705,847,978,1092,"MAINE Brewer city"]
[null,"MAINE","Penobscot County","Burlington town",51200,485,582,672,750,582,699,807,900,"MAINE Burlington town"]
[null,"MAINE","Penobscot County","Carmel town",51200,485,582,672,750,582,699,807,900,"MAINE Carmel town"]
[null,"MAINE","Penobscot County","Carroll plantation",51200,485,582,672,750,582,699,807,900,"MAINE Carroll plantation"]
[null,"MAINE","Penobscot County","Charleston town",51200,485,582,672,750,582,699,807,900,"MAINE Charleston town"]
[null,"MAINE","Penobscot County","Chester town",51200,485,582,672,750,582,699,807,900,"MAINE Chester town"]
[null,"MAINE","Penobscot County","Clifton town",51200,485,582,672,750,582,699,807,900,"MAINE Clifton town"]
[null,"MAINE","Penobscot County","Corinna town",51200,485,582,672,750,582,699,807,900,"MAINE Corinna town"]
[null,"MAINE","Penobscot County","Corinth town",51200,485,582,672,750,582,699,807,900,"MAINE Corinth town"]
[null,"MAINE","Penobscot County","Dexter town",51200,485,582,672,750,582,699,807,900,"MAINE Dexter town"]
[null,"MAINE","Penobscot County","Dixmont town",51200,485,582,672,750,582,699,807,900,"MAINE Dixmont town"]
[null,"MAINE","Penobscot County","Drew plantation",51200,485,582,672,750,582,699,807,900,"MAINE Drew plantation"]
[null,"MAINE","Penobscot County","East Central Penobscot UT",51200,485,582,672,750,582,699,807,900,"MAINE East Central Penobscot UT"]
[null,"MAINE","Penobscot County","East Millinocket town",51200,485,582,672,750,582,699,807,900,"MAINE East Millinocket town"]
[null,"MAINE","Penobscot County","Eddington town",60800,588,706,815,910,705,847,978,1092,"MAINE Eddington town"]
[null,"MAINE","Penobscot County","Edinburg town",51200,485,582,672,750,582,699,807,900,"MAINE Edinburg town"]
[null,"MAINE","Penobscot County","Enfield town",51200,485,582,672,750,582,699,807,900,"MAINE Enfield town"]
[null,"MAINE","Penobscot County","Etna town",51200,485,582,672,750,582,699,807,900,"MAINE Etna town"]
[null,"MAINE","Penobscot County","Exeter town",51200,485,582,672,750,582,699,807,900,"MAINE Exeter town"]
[null,"MAINE","Penobscot County","Garland town",51200,485,582,672,750,582,699,807,900,"MAINE Garland town"]
[null,"MAINE","Penobscot County","Glenburn town",60800,588,706,815,910,705,847,978,1092,"MAINE Glenburn town"]
[null,"MAINE","Penobscot County","Greenbush town",51200,485,582,672,750,582,699,807,900,"MAINE Greenbush town"]
[null,"MAINE","Penobscot County","Hampden town",60800,588,706,815,910,705,847,978,1092,"MAINE Hampden town"]
[null,"MAINE","Penobscot County","Hermon town",60800,588,706,815,910,705,847,978,1092,"MAINE Hermon town"]
[null,"MAINE","Penobscot County","Holden town",60800,588,706,815,910,705,847,978,1092,"MAINE Holden town"]
[null,"MAINE","Penobscot County","Howland town",51200,485,582,672,750,582,699,807,900,"MAINE Howland town"]
[null,"MAINE","Penobscot County","Hudson town",51200,485,582,672,750,582,699,807,900,"MAINE Hudson town"]
[null,"MAINE","Penobscot County","Kenduskeag town",60800,588,706,815,910,705,847,978,1092,"MAINE Kenduskeag town"]
[null,"MAINE","Penobscot County","Kingman UT",51200,485,582,672,750,582,699,807,900,"MAINE Kingman UT"]
[null,"MAINE","Penobscot County","Lagrange town",51200,485,582,672,750,582,699,807,900,"MAINE Lagrange town"]
[null,"MAINE","Penobscot County","Lakeville town",51200,485,582,672,750,582,699,807,900,"MAINE Lakeville town"]
[null,"MAINE","Penobscot County","Lee town",51200,485,582,672,750,582,699,807,900,"MAINE Lee town"]
[null,"MAINE","Penobscot County","Levant town",51200,485,582,672,750,582,699,807,900,{"$f":"B1669&\" \"&D1669","v":"MAINE Levant town"}]
[null,"MAINE","Penobscot County","Lincoln town",51200,485,582,672,750,582,699,807,900,"MAINE Lincoln town"]
[null,"MAINE","Penobscot County","Lowell town",51200,485,582,672,750,582,699,807,900,"MAINE Lowell town"]
[null,"MAINE","Penobscot County","Mattawamkeag town",51200,485,582,672,750,582,699,807,900,"MAINE Mattawamkeag town"]
[null,"MAINE","Penobscot County","Maxfield town",51200,485,582,672,750,582,699,807,900,"MAINE Maxfield town"]
[null,"MAINE","Penobscot County","Medway town",51200,485,582,672,750,582,699,807,900,"MAINE Medway town"]
[null,"MAINE","Penobscot County","Milford town",60800,588,706,815,910,705,847,978,1092,"MAINE Milford town"]
[null,"MAINE","Penobscot County","Millinocket town",51200,485,582,672,750,582,699,807,900,"MAINE Millinocket town"]
[null,"MAINE","Penobscot County","Mount Chase town",51200,485,582,672,750,582,699,807,900,"MAINE Mount Chase town"]
[null,"MAINE","Penobscot County","Newburgh town",51200,485,582,672,750,582,699,807,900,"MAINE Newburgh town"]
[null,"MAINE","Penobscot County","Newport town",51200,485,582,672,750,582,699,807,900,"MAINE Newport town"]
[null,"MAINE","Penobscot County","North Penobscot UT",51200,485,582,672,750,582,699,807,900,"MAINE North Penobscot UT"]
[null,"MAINE","Penobscot County","Old Town city",60800,588,706,815,910,705,847,978,1092,"MAINE Old Town city"]
[null,"MAINE","Penobscot County","Orono town",60800,588,706,815,910,705,847,978,1092,"MAINE Orono town"]
[null,"MAINE","Penobscot County","Orrington town",60800,588,706,815,910,705,847,978,1092,"MAINE Orrington town"]
[null,"MAINE","Penobscot County","Passadumkeag town",51200,485,582,672,750,582,699,807,900,"MAINE Passadumkeag town"]
[null,"MAINE","Penobscot County","Patten town",51200,485,582,672,750,582,699,807,900,"MAINE Patten town"]
[null,"MAINE","Penobscot County","Penobscot Indian Island Reservation",60800,588,706,815,910,705,847,978,1092,"MAINE Penobscot Indian Island Reservation"]
[null,"MAINE","Penobscot County","Plymouth town",51200,485,582,672,750,582,699,807,900,"MAINE Plymouth town"]
[null,"MAINE","Penobscot County","Prentiss UT",51200,485,582,672,750,582,699,807,900,"MAINE Prentiss UT"]
[null,"MAINE","Penobscot County","Seboeis plantation",51200,485,582,672,750,582,699,807,900,"MAINE Seboeis plantation"]
[null,"MAINE","Penobscot County","Springfield town",51200,485,582,672,750,582,699,807,900,"MAINE Springfield town"]
[null,"MAINE","Penobscot County","Stacyville town",51200,485,582,672,750,582,699,807,900,"MAINE Stacyville town"]
[null,"MAINE","Penobscot County","Stetson town",51200,485,582,672,750,582,699,807,900,"MAINE Stetson town"]
[null,"MAINE","Penobscot County","Twombly UT",51200,485,582,672,750,582,699,807,900,"MAINE Twombly UT"]
[null,"MAINE","Penobscot County","Veazie town",60800,588,706,815,910,705,847,978,1092,"MAINE Veazie town"]
[null,"MAINE","Penobscot County","Webster plantation",51200,485,582,672,750,582,699,807,900,"MAINE Webster plantation"]
[null,"MAINE","Penobscot County","Whitney UT",51200,485,582,672,750,582,699,807,900,"MAINE Whitney UT"]
[null,"MAINE","Penobscot County","Winn town",51200,485,582,672,750,582,699,807,900,"MAINE Winn town"]
[null,"MAINE","Penobscot County","Woodville town",51200,485,582,672,750,582,699,807,900,"MAINE Woodville town"]
[null,"MAINE","Piscataquis County","Abbot town",47100,485,582,672,750,582,699,807,900,"MAINE Abbot town"]
[null,"MAINE","Piscataquis County","Atkinson town",47100,485,582,672,750,582,699,807,900,"MAINE Atkinson town"]
[null,"MAINE","Piscataquis County","Beaver Cove town",47100,485,582,672,750,582,699,807,900,"MAINE Beaver Cove town"]
[null,"MAINE","Piscataquis County","Blanchard UT",47100,485,582,672,750,582,699,807,900,"MAINE Blanchard UT"]
[null,"MAINE","Piscataquis County","Bowerbank town",47100,485,582,672,750,582,699,807,900,"MAINE Bowerbank town"]
[null,"MAINE","Piscataquis County","Brownville town",47100,485,582,672,750,582,699,807,900,"MAINE Brownville town"]
[null,"MAINE","Piscataquis County","Dover-Foxcroft town",47100,485,582,672,750,582,699,807,900,"MAINE Dover-Foxcroft town"]
[null,"MAINE","Piscataquis County","Greenville town",47100,485,582,672,750,582,699,807,900,"MAINE Greenville town"]
[null,"MAINE","Piscataquis County","Guilford town",47100,485,582,672,750,582,699,807,900,"MAINE Guilford town"]
[null,"MAINE","Piscataquis County","Kingsbury plantation",47100,485,582,672,750,582,699,807,900,"MAINE Kingsbury plantation"]
[null,"MAINE","Piscataquis County","Lake View plantation",47100,485,582,672,750,582,699,807,900,"MAINE Lake View plantation"]
[null,"MAINE","Piscataquis County","Medford town",47100,485,582,672,750,582,699,807,900,"MAINE Medford town"]
[null,"MAINE","Piscataquis County","Milo town",47100,485,582,672,750,582,699,807,900,"MAINE Milo town"]
[null,"MAINE","Piscataquis County","Monson town",47100,485,582,672,750,582,699,807,900,"MAINE Monson town"]
[null,"MAINE","Piscataquis County","Northeast Piscataquis UT",47100,485,582,672,750,582,699,807,900,"MAINE Northeast Piscataquis UT"]
[null,"MAINE","Piscataquis County","Northwest Piscataquis UT",47100,485,582,672,750,582,699,807,900,"MAINE Northwest Piscataquis UT"]
[null,"MAINE","Piscataquis County","Parkman town",47100,485,582,672,750,582,699,807,900,"MAINE Parkman town"]
[null,"MAINE","Piscataquis County","Sangerville town",47100,485,582,672,750,582,699,807,900,"MAINE Sangerville town"]
[null,"MAINE","Piscataquis County","Sebec town",47100,485,582,672,750,582,699,807,900,"MAINE Sebec town"]
[null,"MAINE","Piscataquis County","Shirley town",47100,485,582,672,750,582,699,807,900,"MAINE Shirley town"]
[null,"MAINE","Piscataquis County","Southeast Piscataquis UT",47100,485,582,672,750,582,699,807,900,"MAINE Southeast Piscataquis UT"]
[null,"MAINE","Piscataquis County","Wellington town",47100,485,582,672,750,582,699,807,900,"MAINE Wellington town"]
[null,"MAINE","Piscataquis County","Willimantic town",47100,485,582,672,750,582,699,807,900,"MAINE Willimantic town"]
[null,"MAINE","Sagadahoc County","Arrowsic town",71300,669,802,927,1035,803,963,1113,1242,"MAINE Arrowsic town"]
[null,"MAINE","Sagadahoc County","Bath city",71300,669,802,927,1035,803,963,1113,1242,"MAINE Bath city"]
[null,"MAINE","Sagadahoc County","Bowdoin town",71300,669,802,927,1035,803,963,1113,1242,"MAINE Bowdoin town"]
[null,"MAINE","Sagadahoc County","Bowdoinham town",71300,669,802,927,1035,803,963,1113,1242,"MAINE Bowdoinham town"]
[null,"MAINE","Sagadahoc County","Georgetown town",71300,669,802,927,1035,803,963,1113,1242,"MAINE Georgetown town"]
[null,"MAINE","Sagadahoc County","Perkins UT",71300,669,802,927,1035,803,963,1113,1242,"MAINE Perkins UT"]
[null,"MAINE","Sagadahoc County","Phippsburg town",71300,669,802,927,1035,803,963,1113,1242,"MAINE Phippsburg town"]
[null,"MAINE","Sagadahoc County","Richmond town",71300,669,802,927,1035,803,963,1113,1242,"MAINE Richmond town"]
[null,"MAINE","Sagadahoc County","Topsham town",71300,669,802,927,1035,803,963,1113,1242,"MAINE Topsham town"]
[null,"MAINE","Sagadahoc County","West Bath town",71300,669,802,927,1035,803,963,1113,1242,"MAINE West Bath town"]
[null,"MAINE","Sagadahoc County","Woolwich town",71300,669,802,927,1035,803,963,1113,1242,"MAINE Woolwich town"]
[null,"MAINE","Somerset County","Anson town",49500,485,582,672,750,582,699,807,900,{"$f":"B1733&\" \"&D1733","v":"MAINE Anson town"}]
[null,"MAINE","Somerset County","Athens town",49500,485,582,672,750,582,699,807,900,"MAINE Athens town"]
[null,"MAINE","Somerset County","Bingham town",49500,485,582,672,750,582,699,807,900,"MAINE Bingham town"]
[null,"MAINE","Somerset County","Brighton plantation",49500,485,582,672,750,582,699,807,900,"MAINE Brighton plantation"]
[null,"MAINE","Somerset County","Cambridge town",49500,485,582,672,750,582,699,807,900,"MAINE Cambridge town"]
[null,"MAINE","Somerset County","Canaan town",49500,485,582,672,750,582,699,807,900,"MAINE Canaan town"]
[null,"MAINE","Somerset County","Caratunk town",49500,485,582,672,750,582,699,807,900,"MAINE Caratunk town"]
[null,"MAINE","Somerset County","Central Somerset UT",49500,485,582,672,750,582,699,807,900,"MAINE Central Somerset UT"]
[null,"MAINE","Somerset County","Cornville town",49500,485,582,672,750,582,699,807,900,"MAINE Cornville town"]
[null,"MAINE","Somerset County","Dennistown plantation",49500,485,582,672,750,582,699,807,900,"MAINE Dennistown plantation"]
[null,"MAINE","Somerset County","Detroit town",49500,485,582,672,750,582,699,807,900,"MAINE Detroit town"]
[null,"MAINE","Somerset County","Embden town",49500,485,582,672,750,582,699,807,900,"MAINE Embden town"]
[null,"MAINE","Somerset County","Fairfield town",49500,485,582,672,750,582,699,807,900,"MAINE Fairfield town"]
[null,"MAINE","Somerset County","Harmony town",49500,485,582,672,750,582,699,807,900,"MAINE Harmony town"]
[null,"MAINE","Somerset County","Hartland town",49500,485,582,672,750,582,699,807,900,"MAINE Hartland town"]
[null,"MAINE","Somerset County","Highland plantation",49500,485,582,672,750,582,699,807,900,"MAINE Highland plantation"]
[null,"MAINE","Somerset County","Jackman town",49500,485,582,672,750,582,699,807,900,"MAINE Jackman town"]
[null,"MAINE","Somerset County","Madison town",49500,485,582,672,750,582,699,807,900,"MAINE Madison town"]
[null,"MAINE","Somerset County","Mercer town",49500,485,582,672,750,582,699,807,900,"MAINE Mercer town"]
[null,"MAINE","Somerset County","Moose River town",49500,485,582,672,750,582,699,807,900,"MAINE Moose River town"]
[null,"MAINE","Somerset County","Moscow town",49500,485,582,672,750,582,699,807,900,"MAINE Moscow town"]
[null,"MAINE","Somerset County","New Portland town",49500,485,582,672,750,582,699,807,900,"MAINE New Portland town"]
[null,"MAINE","Somerset County","Norridgewock town",49500,485,582,672,750,582,699,807,900,"MAINE Norridgewock town"]
[null,"MAINE","Somerset County","Northeast Somerset UT",49500,485,582,672,750,582,699,807,900,"MAINE Northeast Somerset UT"]
[null,"MAINE","Somerset County","Northwest Somerset UT",49500,485,582,672,750,582,699,807,900,"MAINE Northwest Somerset UT"]
[null,"MAINE","Somerset County","Palmyra town",49500,485,582,672,750,582,699,807,900,"MAINE Palmyra town"]
[null,"MAINE","Somerset County","Pittsfield town",49500,485,582,672,750,582,699,807,900,"MAINE Pittsfield town"]
[null,"MAINE","Somerset County","Pleasant Ridge plantation",49500,485,582,672,750,582,699,807,900,"MAINE Pleasant Ridge plantation"]
[null,"MAINE","Somerset County","Ripley town",49500,485,582,672,750,582,699,807,900,"MAINE Ripley town"]
[null,"MAINE","Somerset County","St. Albans town",49500,485,582,672,750,582,699,807,900,"MAINE St. Albans town"]
[null,"MAINE","Somerset County","Seboomook Lake UT",49500,485,582,672,750,582,699,807,900,"MAINE Seboomook Lake UT"]
[null,"MAINE","Somerset County","Skowhegan town",49500,485,582,672,750,582,699,807,900,"MAINE Skowhegan town"]
[null,"MAINE","Somerset County","Smithfield town",49500,485,582,672,750,582,699,807,900,"MAINE Smithfield town"]
[null,"MAINE","Somerset County","Solon town",49500,485,582,672,750,582,699,807,900,"MAINE Solon town"]
[null,"MAINE","Somerset County","Starks town",49500,485,582,672,750,582,699,807,900,"MAINE Starks town"]
[null,"MAINE","Somerset County","The Forks plantation",49500,485,582,672,750,582,699,807,900,"MAINE The Forks plantation"]
[null,"MAINE","Somerset County","West Forks plantation",49500,485,582,672,750,582,699,807,900,"MAINE West Forks plantation"]
[null,"MAINE","Waldo County","Belfast city",53900,506,607,701,782,607,729,841,939,"MAINE Belfast city"]
[null,"MAINE","Waldo County","Belmont town",53900,506,607,701,782,607,729,841,939,"MAINE Belmont town"]
[null,"MAINE","Waldo County","Brooks town",53900,506,607,701,782,607,729,841,939,"MAINE Brooks town"]
[null,"MAINE","Waldo County","Burnham town",53900,506,607,701,782,607,729,841,939,"MAINE Burnham town"]
[null,"MAINE","Waldo County","Frankfort town",53900,506,607,701,782,607,729,841,939,"MAINE Frankfort town"]
[null,"MAINE","Waldo County","Freedom town",53900,506,607,701,782,607,729,841,939,"MAINE Freedom town"]
[null,"MAINE","Waldo County","Islesboro town",53900,506,607,701,782,607,729,841,939,"MAINE Islesboro town"]
[null,"MAINE","Waldo County","Jackson town",53900,506,607,701,782,607,729,841,939,"MAINE Jackson town"]
[null,"MAINE","Waldo County","Knox town",53900,506,607,701,782,607,729,841,939,"MAINE Knox town"]
[null,"MAINE","Waldo County","Liberty town",53900,506,607,701,782,607,729,841,939,"MAINE Liberty town"]
[null,"MAINE","Waldo County","Lincolnville town",53900,506,607,701,782,607,729,841,939,"MAINE Lincolnville town"]
[null,"MAINE","Waldo County","Monroe town",53900,506,607,701,782,607,729,841,939,"MAINE Monroe town"]
[null,"MAINE","Waldo County","Montville town",53900,506,607,701,782,607,729,841,939,"MAINE Montville town"]
[null,"MAINE","Waldo County","Morrill town",53900,506,607,701,782,607,729,841,939,"MAINE Morrill town"]
[null,"MAINE","Waldo County","Northport town",53900,506,607,701,782,607,729,841,939,"MAINE Northport town"]
[null,"MAINE","Waldo County","Palermo town",53900,506,607,701,782,607,729,841,939,"MAINE Palermo town"]
[null,"MAINE","Waldo County","Prospect town",53900,506,607,701,782,607,729,841,939,"MAINE Prospect town"]
[null,"MAINE","Waldo County","Searsmont town",53900,506,607,701,782,607,729,841,939,"MAINE Searsmont town"]
[null,"MAINE","Waldo County","Searsport town",53900,506,607,701,782,607,729,841,939,"MAINE Searsport town"]
[null,"MAINE","Waldo County","Stockton Springs town",53900,506,607,701,782,607,729,841,939,"MAINE Stockton Springs town"]
[null,"MAINE","Waldo County","Swanville town",53900,506,607,701,782,607,729,841,939,"MAINE Swanville town"]
[null,"MAINE","Waldo County","Thorndike town",53900,506,607,701,782,607,729,841,939,"MAINE Thorndike town"]
[null,"MAINE","Waldo County","Troy town",53900,506,607,701,782,607,729,841,939,"MAINE Troy town"]
[null,"MAINE","Waldo County","Unity town",53900,506,607,701,782,607,729,841,939,"MAINE Unity town"]
[null,"MAINE","Waldo County","Waldo town",53900,506,607,701,782,607,729,841,939,"MAINE Waldo town"]
[null,"MAINE","Waldo County","Winterport town",53900,506,607,701,782,607,729,841,939,"MAINE Winterport town"]
[null,"MAINE","Washington County","Addison town",45700,485,582,672,750,582,699,807,900,"MAINE Addison town"]
[null,"MAINE","Washington County","Alexander town",45700,485,582,672,750,582,699,807,900,{"$f":"B1797&\" \"&D1797","v":"MAINE Alexander town"}]
[null,"MAINE","Washington County","Baileyville town",45700,485,582,672,750,582,699,807,900,"MAINE Baileyville town"]
[null,"MAINE","Washington County","Baring plantation",45700,485,582,672,750,582,699,807,900,"MAINE Baring plantation"]
[null,"MAINE","Washington County","Beals town",45700,485,582,672,750,582,699,807,900,"MAINE Beals town"]
[null,"MAINE","Washington County","Beddington town",45700,485,582,672,750,582,699,807,900,"MAINE Beddington town"]
[null,"MAINE","Washington County","Calais city",45700,485,582,672,750,582,699,807,900,"MAINE Calais city"]
[null,"MAINE","Washington County","Centerville town",45700,485,582,672,750,582,699,807,900,"MAINE Centerville town"]
[null,"MAINE","Washington County","Charlotte town",45700,485,582,672,750,582,699,807,900,"MAINE Charlotte town"]
[null,"MAINE","Washington County","Cherryfield town",45700,485,582,672,750,582,699,807,900,"MAINE Cherryfield town"]
[null,"MAINE","Washington County","Codyville plantation",45700,485,582,672,750,582,699,807,900,"MAINE Codyville plantation"]
[null,"MAINE","Washington County","Columbia town",45700,485,582,672,750,582,699,807,900,"MAINE Columbia town"]
[null,"MAINE","Washington County","Columbia Falls town",45700,485,582,672,750,582,699,807,900,"MAINE Columbia Falls town"]
[null,"MAINE","Washington County","Cooper town",45700,485,582,672,750,582,699,807,900,"MAINE Cooper town"]
[null,"MAINE","Washington County","Crawford town",45700,485,582,672,750,582,699,807,900,"MAINE Crawford town"]
[null,"MAINE","Washington County","Cutler town",45700,485,582,672,750,582,699,807,900,"MAINE Cutler town"]
[null,"MAINE","Washington County","Danforth town",45700,485,582,672,750,582,699,807,900,"MAINE Danforth town"]
[null,"MAINE","Washington County","Deblois town",45700,485,582,672,750,582,699,807,900,"MAINE Deblois town"]
[null,"MAINE","Washington County","Dennysville town",45700,485,582,672,750,582,699,807,900,"MAINE Dennysville town"]
[null,"MAINE","Washington County","East Central Washington UT",45700,485,582,672,750,582,699,807,900,"MAINE East Central Washington UT"]
[null,"MAINE","Washington County","East Machias town",45700,485,582,672,750,582,699,807,900,"MAINE East Machias town"]
[null,"MAINE","Washington County","Eastport city",45700,485,582,672,750,582,699,807,900,"MAINE Eastport city"]
[null,"MAINE","Washington County","Grand Lake Stream plantation",45700,485,582,672,750,582,699,807,900,"MAINE Grand Lake Stream plantation"]
[null,"MAINE","Washington County","Harrington town",45700,485,582,672,750,582,699,807,900,"MAINE Harrington town"]
[null,"MAINE","Washington County","Jonesboro town",45700,485,582,672,750,582,699,807,900,"MAINE Jonesboro town"]
[null,"MAINE","Washington County","Jonesport town",45700,485,582,672,750,582,699,807,900,"MAINE Jonesport town"]
[null,"MAINE","Washington County","Lubec town",45700,485,582,672,750,582,699,807,900,"MAINE Lubec town"]
[null,"MAINE","Washington County","Machias town",45700,485,582,672,750,582,699,807,900,"MAINE Machias town"]
[null,"MAINE","Washington County","Machiasport town",45700,485,582,672,750,582,699,807,900,"MAINE Machiasport town"]
[null,"MAINE","Washington County","Marshfield town",45700,485,582,672,750,582,699,807,900,"MAINE Marshfield town"]
[null,"MAINE","Washington County","Meddybemps town",45700,485,582,672,750,582,699,807,900,"MAINE Meddybemps town"]
[null,"MAINE","Washington County","Milbridge town",45700,485,582,672,750,582,699,807,900,"MAINE Milbridge town"]
[null,"MAINE","Washington County","Northfield town",45700,485,582,672,750,582,699,807,900,"MAINE Northfield town"]
[null,"MAINE","Washington County","North Washington UT",45700,485,582,672,750,582,699,807,900,"MAINE North Washington UT"]
[null,"MAINE","Washington County","Passamaquoddy Indian Township Reservation",45700,485,582,672,750,582,699,807,900,"MAINE Passamaquoddy Indian Township Reservation"]
[null,"MAINE","Washington County","Passamaquoddy Pleasant Point Reservation",45700,485,582,672,750,582,699,807,900,"MAINE Passamaquoddy Pleasant Point Reservation"]
[null,"MAINE","Washington County","Pembroke town",45700,485,582,672,750,582,699,807,900,"MAINE Pembroke town"]
[null,"MAINE","Washington County","Perry town",45700,485,582,672,750,582,699,807,900,"MAINE Perry town"]
[null,"MAINE","Washington County","Princeton town",45700,485,582,672,750,582,699,807,900,"MAINE Princeton town"]
[null,"MAINE","Washington County","Robbinston town",45700,485,582,672,750,582,699,807,900,"MAINE Robbinston town"]
[null,"MAINE","Washington County","Roque Bluffs town",45700,485,582,672,750,582,699,807,900,"MAINE Roque Bluffs town"]
[null,"MAINE","Washington County","Steuben town",45700,485,582,672,750,582,699,807,900,"MAINE Steuben town"]
[null,"MAINE","Washington County","Talmadge town",45700,485,582,672,750,582,699,807,900,"MAINE Talmadge town"]
[null,"MAINE","Washington County","Topsfield town",45700,485,582,672,750,582,699,807,900,"MAINE Topsfield town"]
[null,"MAINE","Washington County","Vanceboro town",45700,485,582,672,750,582,699,807,900,"MAINE Vanceboro town"]
[null,"MAINE","Washington County","Waite town",45700,485,582,672,750,582,699,807,900,"MAINE Waite town"]
[null,"MAINE","Washington County","Wesley town",45700,485,582,672,750,582,699,807,900,"MAINE Wesley town"]
[null,"MAINE","Washington County","Whiting town",45700,485,582,672,750,582,699,807,900,"MAINE Whiting town"]
[null,"MAINE","Washington County","Whitneyville town",45700,485,582,672,750,582,699,807,900,"MAINE Whitneyville town"]
[null,"MAINE","York County","Acton town",68900,643,772,891,995,772,927,1070,1194,"MAINE Acton town"]
[null,"MAINE","York County","Alfred town",68900,643,772,891,995,772,927,1070,1194,"MAINE Alfred town"]
[null,"MAINE","York County","Arundel town",68900,643,772,891,995,772,927,1070,1194,"MAINE Arundel town"]
[null,"MAINE","York County","Berwick town",81000,759,911,1053,1175,911,1093,1263,1410,"MAINE Berwick town"]
[null,"MAINE","York County","Biddeford city",68900,643,772,891,995,772,927,1070,1194,"MAINE Biddeford city"]
[null,"MAINE","York County","Buxton town",77300,725,870,1005,1121,870,1044,1206,1345,"MAINE Buxton town"]
[null,"MAINE","York County","Cornish town",68900,643,772,891,995,772,927,1070,1194,"MAINE Cornish town"]
[null,"MAINE","York County","Dayton town",68900,643,772,891,995,772,927,1070,1194,"MAINE Dayton town"]
[null,"MAINE","York County","Eliot town",81000,759,911,1053,1175,911,1093,1263,1410,"MAINE Eliot town"]
[null,"MAINE","York County","Hollis town",77300,725,870,1005,1121,870,1044,1206,1345,"MAINE Hollis town"]
[null,"MAINE","York County","Kennebunk town",68900,643,772,891,995,772,927,1070,1194,"MAINE Kennebunk town"]
[null,"MAINE","York County","Kennebunkport town",68900,643,772,891,995,772,927,1070,1194,"MAINE Kennebunkport town"]
[null,"MAINE","York County","Kittery town",81000,759,911,1053,1175,911,1093,1263,1410,"MAINE Kittery town"]
[null,"MAINE","York County","Lebanon town",68900,643,772,891,995,772,927,1070,1194,"MAINE Lebanon town"]
[null,"MAINE","York County","Limerick town",68900,643,772,891,995,772,927,1070,1194,"MAINE Limerick town"]
[null,"MAINE","York County","Limington town",77300,725,870,1005,1121,870,1044,1206,1345,"MAINE Limington town"]
[null,"MAINE","York County","Lyman town",68900,643,772,891,995,772,927,1070,1194,{"$f":"B1861&\" \"&D1861","v":"MAINE Lyman town"}]
[null,"MAINE","York County","Newfield town",68900,643,772,891,995,772,927,1070,1194,"MAINE Newfield town"]
[null,"MAINE","York County","North Berwick town",68900,643,772,891,995,772,927,1070,1194,"MAINE North Berwick town"]
[null,"MAINE","York County","Ogunquit town",68900,643,772,891,995,772,927,1070,1194,"MAINE Ogunquit town"]
[null,"MAINE","York County","Old Orchard Beach town",77300,725,870,1005,1121,870,1044,1206,1345,"MAINE Old Orchard Beach town"]
[null,"MAINE","York County","Parsonsfield town",68900,643,772,891,995,772,927,1070,1194,"MAINE Parsonsfield town"]
[null,"MAINE","York County","Saco city",68900,643,772,891,995,772,927,1070,1194,"MAINE Saco city"]
[null,"MAINE","York County","Sanford town",68900,643,772,891,995,772,927,1070,1194,"MAINE Sanford town"]
[null,"MAINE","York County","Shapleigh town",68900,643,772,891,995,772,927,1070,1194,"MAINE Shapleigh town"]
[null,"MAINE","York County","South Berwick town",81000,759,911,1053,1175,911,1093,1263,1410,"MAINE South Berwick town"]
[null,"MAINE","York County","Waterboro town",68900,643,772,891,995,772,927,1070,1194,"MAINE Waterboro town"]
[null,"MAINE","York County","Wells town",68900,643,772,891,995,772,927,1070,1194,"MAINE Wells town"]
[null,"MAINE","York County","York town",81000,759,911,1053,1175,911,1093,1263,1410,"MAINE York town"]
[null,"MARYLAND","Allegany County","Allegany County",54100,698,837,967,1080,837,1005,1161,1296,"MARYLAND Allegany County"]
[null,"MARYLAND","Anne Arundel County","Anne Arundel County",83500,783,940,1085,1211,939,1128,1302,1453,"MARYLAND Anne Arundel County"]
[null,"MARYLAND","Baltimore County","Baltimore County",83500,783,940,1085,1211,939,1128,1302,1453,"MARYLAND Baltimore County"]
[null,"MARYLAND","Calvert County","Calvert County",107000,1003,1203,1391,1552,1203,1444,1669,1863,"MARYLAND Calvert County"]
[null,"MARYLAND","Caroline County","Caroline County",71700,698,837,967,1080,837,1005,1161,1296,"MARYLAND Caroline County"]
[null,"MARYLAND","Carroll County","Carroll County",83500,783,940,1085,1211,939,1128,1302,1453,"MARYLAND Carroll County"]
[null,"MARYLAND","Cecil County","Cecil County",78800,739,887,1025,1143,887,1065,1230,1372,"MARYLAND Cecil County"]
[null,"MARYLAND","Charles County","Charles County",107000,1003,1203,1391,1552,1203,1444,1669,1863,"MARYLAND Charles County"]
[null,"MARYLAND","Dorchester County","Dorchester County",60100,698,837,967,1080,837,1005,1161,1296,"MARYLAND Dorchester County"]
[null,"MARYLAND","Frederick County","Frederick County",107000,1003,1203,1391,1552,1203,1444,1669,1863,"MARYLAND Frederick County"]
[null,"MARYLAND","Garrett County","Garrett County",58400,698,837,967,1080,837,1005,1161,1296,"MARYLAND Garrett County"]
[null,"MARYLAND","Harford County","Harford County",83500,783,940,1085,1211,939,1128,1302,1453,"MARYLAND Harford County"]
[null,"MARYLAND","Howard County","Howard County",83500,783,940,1085,1211,939,1128,1302,1453,"MARYLAND Howard County"]
[null,"MARYLAND","Kent County","Kent County",71100,698,837,967,1080,837,1005,1161,1296,"MARYLAND Kent County"]
[null,"MARYLAND","Montgomery County","Montgomery County",107000,1003,1203,1391,1552,1203,1444,1669,1863,"MARYLAND Montgomery County"]
[null,"MARYLAND","Prince George's County","Prince George's County",107000,1003,1203,1391,1552,1203,1444,1669,1863,"MARYLAND Prince George's County"]
[null,"MARYLAND","Queen Anne's County","Queen Anne's County",83500,783,940,1085,1211,939,1128,1302,1453,"MARYLAND Queen Anne's County"]
[null,"MARYLAND","St. Mary's County","St. Mary's County",90100,848,1017,1175,1311,1017,1221,1410,1573,"MARYLAND St. Mary's County"]
[null,"MARYLAND","Somerset County","Somerset County",52700,698,837,967,1080,837,1005,1161,1296,"MARYLAND Somerset County"]
[null,"MARYLAND","Talbot County","Talbot County",79800,748,898,1037,1157,898,1078,1245,1389,"MARYLAND Talbot County"]
[null,"MARYLAND","Washington County","Washington County",67600,698,837,967,1080,837,1005,1161,1296,"MARYLAND Washington County"]
[null,"MARYLAND","Wicomico County","Wicomico County",53500,698,837,967,1080,837,1005,1161,1296,"MARYLAND Wicomico County"]
[null,"MARYLAND","Worcester County","Worcester County",73100,698,837,967,1080,837,1005,1161,1296,"MARYLAND Worcester County"]
[null,"MARYLAND","Baltimore city","Baltimore city",83500,783,940,1085,1211,939,1128,1302,1453,"MARYLAND Baltimore city"]
[null,"MASSACHUSETTS","Barnstable County","Barnstable Town city",74900,806,967,1116,1246,967,1161,1340,1495,"MASSACHUSETTS Barnstable Town city"]
[null,"MASSACHUSETTS","Barnstable County","Bourne town",74900,806,967,1116,1246,967,1161,1340,1495,"MASSACHUSETTS Bourne town"]
[null,"MASSACHUSETTS","Barnstable County","Brewster town",74900,806,967,1116,1246,967,1161,1340,1495,"MASSACHUSETTS Brewster town"]
[null,"MASSACHUSETTS","Barnstable County","Chatham town",74900,806,967,1116,1246,967,1161,1340,1495,"MASSACHUSETTS Chatham town"]
[null,"MASSACHUSETTS","Barnstable County","Dennis town",74900,806,967,1116,1246,967,1161,1340,1495,"MASSACHUSETTS Dennis town"]
[null,"MASSACHUSETTS","Barnstable County","Eastham town",74900,806,967,1116,1246,967,1161,1340,1495,"MASSACHUSETTS Eastham town"]
[null,"MASSACHUSETTS","Barnstable County","Falmouth town",74900,806,967,1116,1246,967,1161,1340,1495,"MASSACHUSETTS Falmouth town"]
[null,"MASSACHUSETTS","Barnstable County","Harwich town",74900,806,967,1116,1246,967,1161,1340,1495,"MASSACHUSETTS Harwich town"]
[null,"MASSACHUSETTS","Barnstable County","Mashpee town",74900,806,967,1116,1246,967,1161,1340,1495,"MASSACHUSETTS Mashpee town"]
[null,"MASSACHUSETTS","Barnstable County","Orleans town",74900,806,967,1116,1246,967,1161,1340,1495,"MASSACHUSETTS Orleans town"]
[null,"MASSACHUSETTS","Barnstable County","Provincetown town",74900,806,967,1116,1246,967,1161,1340,1495,"MASSACHUSETTS Provincetown town"]
[null,"MASSACHUSETTS","Barnstable County","Sandwich town",74900,806,967,1116,1246,967,1161,1340,1495,"MASSACHUSETTS Sandwich town"]
[null,"MASSACHUSETTS","Barnstable County","Truro town",74900,806,967,1116,1246,967,1161,1340,1495,"MASSACHUSETTS Truro town"]
[null,"MASSACHUSETTS","Barnstable County","Wellfleet town",74900,806,967,1116,1246,967,1161,1340,1495,"MASSACHUSETTS Wellfleet town"]
[null,"MASSACHUSETTS","Barnstable County","Yarmouth town",74900,806,967,1116,1246,967,1161,1340,1495,"MASSACHUSETTS Yarmouth town"]
[null,"MASSACHUSETTS","Berkshire County","Adams town",64200,806,967,1116,1246,967,1161,1340,1495,"MASSACHUSETTS Adams town"]
[null,"MASSACHUSETTS","Berkshire County","Alford town",71800,806,967,1116,1246,967,1161,1340,1495,"MASSACHUSETTS Alford town"]
[null,"MASSACHUSETTS","Berkshire County","Becket town",71800,806,967,1116,1246,967,1161,1340,1495,"MASSACHUSETTS Becket town"]
[null,"MASSACHUSETTS","Berkshire County","Cheshire town",64200,806,967,1116,1246,967,1161,1340,1495,"MASSACHUSETTS Cheshire town"]
[null,"MASSACHUSETTS","Berkshire County","Clarksburg town",71800,806,967,1116,1246,967,1161,1340,1495,"MASSACHUSETTS Clarksburg town"]
[null,"MASSACHUSETTS","Berkshire County","Dalton town",64200,806,967,1116,1246,967,1161,1340,1495,"MASSACHUSETTS Dalton town"]
[null,"MASSACHUSETTS","Berkshire County","Egremont town",71800,806,967,1116,1246,967,1161,1340,1495,"MASSACHUSETTS Egremont town"]
[null,"MASSACHUSETTS","Berkshire County","Florida town",71800,806,967,1116,1246,967,1161,1340,1495,"MASSACHUSETTS Florida town"]
[null,"MASSACHUSETTS","Berkshire County","Great Barrington town",71800,806,967,1116,1246,967,1161,1340,1495,"MASSACHUSETTS Great Barrington town"]
[null,"MASSACHUSETTS","Berkshire County","Hancock town",71800,806,967,1116,1246,967,1161,1340,1495,"MASSACHUSETTS Hancock town"]
[null,"MASSACHUSETTS","Berkshire County","Hinsdale town",64200,806,967,1116,1246,967,1161,1340,1495,"MASSACHUSETTS Hinsdale town"]
[null,"MASSACHUSETTS","Berkshire County","Lanesborough town",64200,806,967,1116,1246,967,1161,1340,1495,"MASSACHUSETTS Lanesborough town"]
[null,"MASSACHUSETTS","Berkshire County","Lee town",64200,806,967,1116,1246,967,1161,1340,1495,{"$f":"B1925&\" \"&D1925","v":"MASSACHUSETTS Lee town"}]
[null,"MASSACHUSETTS","Berkshire County","Lenox town",64200,806,967,1116,1246,967,1161,1340,1495,"MASSACHUSETTS Lenox town"]
[null,"MASSACHUSETTS","Berkshire County","Monterey town",71800,806,967,1116,1246,967,1161,1340,1495,"MASSACHUSETTS Monterey town"]
[null,"MASSACHUSETTS","Berkshire County","Mount Washington town",71800,806,967,1116,1246,967,1161,1340,1495,"MASSACHUSETTS Mount Washington town"]
[null,"MASSACHUSETTS","Berkshire County","New Ashford town",71800,806,967,1116,1246,967,1161,1340,1495,"MASSACHUSETTS New Ashford town"]
[null,"MASSACHUSETTS","Berkshire County","New Marlborough town",71800,806,967,1116,1246,967,1161,1340,1495,"MASSACHUSETTS New Marlborough town"]
[null,"MASSACHUSETTS","Berkshire County","North Adams city",71800,806,967,1116,1246,967,1161,1340,1495,"MASSACHUSETTS North Adams city"]
[null,"MASSACHUSETTS","Berkshire County","Otis town",71800,806,967,1116,1246,967,1161,1340,1495,"MASSACHUSETTS Otis town"]
[null,"MASSACHUSETTS","Berkshire County","Peru town",71800,806,967,1116,1246,967,1161,1340,1495,"MASSACHUSETTS Peru town"]
[null,"MASSACHUSETTS","Berkshire County","Pittsfield city",64200,806,967,1116,1246,967,1161,1340,1495,"MASSACHUSETTS Pittsfield city"]
[null,"MASSACHUSETTS","Berkshire County","Richmond town",64200,806,967,1116,1246,967,1161,1340,1495,"MASSACHUSETTS Richmond town"]
[null,"MASSACHUSETTS","Berkshire County","Sandisfield town",71800,806,967,1116,1246,967,1161,1340,1495,"MASSACHUSETTS Sandisfield town"]
[null,"MASSACHUSETTS","Berkshire County","Savoy town",71800,806,967,1116,1246,967,1161,1340,1495,"MASSACHUSETTS Savoy town"]
[null,"MASSACHUSETTS","Berkshire County","Sheffield town",71800,806,967,1116,1246,967,1161,1340,1495,"MASSACHUSETTS Sheffield town"]
[null,"MASSACHUSETTS","Berkshire County","Stockbridge town",64200,806,967,1116,1246,967,1161,1340,1495,"MASSACHUSETTS Stockbridge town"]
[null,"MASSACHUSETTS","Berkshire County","Tyringham town",71800,806,967,1116,1246,967,1161,1340,1495,"MASSACHUSETTS Tyringham town"]
[null,"MASSACHUSETTS","Berkshire County","Washington town",71800,806,967,1116,1246,967,1161,1340,1495,"MASSACHUSETTS Washington town"]
[null,"MASSACHUSETTS","Berkshire County","West Stockbridge town",71800,806,967,1116,1246,967,1161,1340,1495,"MASSACHUSETTS West Stockbridge town"]
[null,"MASSACHUSETTS","Berkshire County","Williamstown town",71800,806,967,1116,1246,967,1161,1340,1495,"MASSACHUSETTS Williamstown town"]
[null,"MASSACHUSETTS","Berkshire County","Windsor town",71800,806,967,1116,1246,967,1161,1340,1495,"MASSACHUSETTS Windsor town"]
[null,"MASSACHUSETTS","Bristol County","Acushnet town",59600,559,671,775,865,671,805,930,1038,"MASSACHUSETTS Acushnet town"]
[null,"MASSACHUSETTS","Bristol County","Attleboro city",72200,677,812,938,1047,813,975,1126,1257,"MASSACHUSETTS Attleboro city"]
[null,"MASSACHUSETTS","Bristol County","Berkley town",82900,778,933,1078,1202,933,1120,1293,1443,"MASSACHUSETTS Berkley town"]
[null,"MASSACHUSETTS","Bristol County","Dartmouth town",59600,559,671,775,865,671,805,930,1038,"MASSACHUSETTS Dartmouth town"]
[null,"MASSACHUSETTS","Bristol County","Dighton town",82900,778,933,1078,1202,933,1120,1293,1443,"MASSACHUSETTS Dighton town"]
[null,"MASSACHUSETTS","Bristol County","Easton town",107800,958,1150,1328,1482,1150,1380,1594,1779,"MASSACHUSETTS Easton town"]
[null,"MASSACHUSETTS","Bristol County","Fairhaven town",59600,559,671,775,865,671,805,930,1038,"MASSACHUSETTS Fairhaven town"]
[null,"MASSACHUSETTS","Bristol County","Fall River city",72200,677,812,938,1047,813,975,1126,1257,"MASSACHUSETTS Fall River city"]
[null,"MASSACHUSETTS","Bristol County","Freetown town",59600,559,671,775,865,671,805,930,1038,"MASSACHUSETTS Freetown town"]
[null,"MASSACHUSETTS","Bristol County","Mansfield town",82900,778,933,1078,1202,933,1120,1293,1443,"MASSACHUSETTS Mansfield town"]
[null,"MASSACHUSETTS","Bristol County","New Bedford city",59600,559,671,775,865,671,805,930,1038,"MASSACHUSETTS New Bedford city"]
[null,"MASSACHUSETTS","Bristol County","North Attleborough town",72200,677,812,938,1047,813,975,1126,1257,"MASSACHUSETTS North Attleborough town"]
[null,"MASSACHUSETTS","Bristol County","Norton town",82900,778,933,1078,1202,933,1120,1293,1443,"MASSACHUSETTS Norton town"]
[null,"MASSACHUSETTS","Bristol County","Raynham town",107800,958,1150,1328,1482,1150,1380,1594,1779,"MASSACHUSETTS Raynham town"]
[null,"MASSACHUSETTS","Bristol County","Rehoboth town",72200,677,812,938,1047,813,975,1126,1257,"MASSACHUSETTS Rehoboth town"]
[null,"MASSACHUSETTS","Bristol County","Seekonk town",72200,677,812,938,1047,813,975,1126,1257,"MASSACHUSETTS Seekonk town"]
[null,"MASSACHUSETTS","Bristol County","Somerset town",72200,677,812,938,1047,813,975,1126,1257,"MASSACHUSETTS Somerset town"]
[null,"MASSACHUSETTS","Bristol County","Swansea town",72200,677,812,938,1047,813,975,1126,1257,"MASSACHUSETTS Swansea town"]
[null,"MASSACHUSETTS","Bristol County","Taunton city",82900,778,933,1078,1202,933,1120,1293,1443,"MASSACHUSETTS Taunton city"]
[null,"MASSACHUSETTS","Bristol County","Westport town",72200,677,812,938,1047,813,975,1126,1257,"MASSACHUSETTS Westport town"]
[null,"MASSACHUSETTS","Dukes County","Aquinnah town",86000,826,991,1145,1277,991,1189,1374,1533,"MASSACHUSETTS Aquinnah town"]
[null,"MASSACHUSETTS","Dukes County","Chilmark town",86000,826,991,1145,1277,991,1189,1374,1533,"MASSACHUSETTS Chilmark town"]
[null,"MASSACHUSETTS","Dukes County","Edgartown town",86000,826,991,1145,1277,991,1189,1374,1533,"MASSACHUSETTS Edgartown town"]
[null,"MASSACHUSETTS","Dukes County","Gosnold town",86000,826,991,1145,1277,991,1189,1374,1533,"MASSACHUSETTS Gosnold town"]
[null,"MASSACHUSETTS","Dukes County","Oak Bluffs town",86000,826,991,1145,1277,991,1189,1374,1533,"MASSACHUSETTS Oak Bluffs town"]
[null,"MASSACHUSETTS","Dukes County","Tisbury town",86000,826,991,1145,1277,991,1189,1374,1533,"MASSACHUSETTS Tisbury town"]
[null,"MASSACHUSETTS","Dukes County","West Tisbury town",86000,826,991,1145,1277,991,1189,1374,1533,"MASSACHUSETTS West Tisbury town"]
[null,"MASSACHUSETTS","Essex County","Amesbury Town city",94100,882,1058,1223,1365,1059,1270,1468,1638,"MASSACHUSETTS Amesbury Town city"]
[null,"MASSACHUSETTS","Essex County","Andover town",82800,826,991,1145,1277,991,1189,1374,1533,"MASSACHUSETTS Andover town"]
[null,"MASSACHUSETTS","Essex County","Beverly city",94100,882,1058,1223,1365,1059,1270,1468,1638,"MASSACHUSETTS Beverly city"]
[null,"MASSACHUSETTS","Essex County","Boxford town",82800,826,991,1145,1277,991,1189,1374,1533,"MASSACHUSETTS Boxford town"]
[null,"MASSACHUSETTS","Essex County","Danvers town",94100,882,1058,1223,1365,1059,1270,1468,1638,"MASSACHUSETTS Danvers town"]
[null,"MASSACHUSETTS","Essex County","Essex town",94100,882,1058,1223,1365,1059,1270,1468,1638,"MASSACHUSETTS Essex town"]
[null,"MASSACHUSETTS","Essex County","Georgetown town",82800,826,991,1145,1277,991,1189,1374,1533,"MASSACHUSETTS Georgetown town"]
[null,"MASSACHUSETTS","Essex County","Gloucester city",94100,882,1058,1223,1365,1059,1270,1468,1638,"MASSACHUSETTS Gloucester city"]
[null,"MASSACHUSETTS","Essex County","Groveland town",82800,826,991,1145,1277,991,1189,1374,1533,"MASSACHUSETTS Groveland town"]
[null,"MASSACHUSETTS","Essex County","Hamilton town",94100,882,1058,1223,1365,1059,1270,1468,1638,"MASSACHUSETTS Hamilton town"]
[null,"MASSACHUSETTS","Essex County","Haverhill city",82800,826,991,1145,1277,991,1189,1374,1533,"MASSACHUSETTS Haverhill city"]
[null,"MASSACHUSETTS","Essex County","Ipswich town",94100,882,1058,1223,1365,1059,1270,1468,1638,"MASSACHUSETTS Ipswich town"]
[null,"MASSACHUSETTS","Essex County","Lawrence city",82800,826,991,1145,1277,991,1189,1374,1533,"MASSACHUSETTS Lawrence city"]
[null,"MASSACHUSETTS","Essex County","Lynn city",94100,882,1058,1223,1365,1059,1270,1468,1638,"MASSACHUSETTS Lynn city"]
[null,"MASSACHUSETTS","Essex County","Lynnfield town",94100,882,1058,1223,1365,1059,1270,1468,1638,"MASSACHUSETTS Lynnfield town"]
[null,"MASSACHUSETTS","Essex County","Manchester-by-the-Sea town",94100,882,1058,1223,1365,1059,1270,1468,1638,"MASSACHUSETTS Manchester-by-the-Sea town"]
[null,"MASSACHUSETTS","Essex County","Marblehead town",94100,882,1058,1223,1365,1059,1270,1468,1638,"MASSACHUSETTS Marblehead town"]
[null,"MASSACHUSETTS","Essex County","Merrimac town",82800,826,991,1145,1277,991,1189,1374,1533,{"$f":"B1989&\" \"&D1989","v":"MASSACHUSETTS Merrimac town"}]
[null,"MASSACHUSETTS","Essex County","Methuen city",82800,826,991,1145,1277,991,1189,1374,1533,"MASSACHUSETTS Methuen city"]
[null,"MASSACHUSETTS","Essex County","Middleton town",94100,882,1058,1223,1365,1059,1270,1468,1638,"MASSACHUSETTS Middleton town"]
[null,"MASSACHUSETTS","Essex County","Nahant town",94100,882,1058,1223,1365,1059,1270,1468,1638,"MASSACHUSETTS Nahant town"]
[null,"MASSACHUSETTS","Essex County","Newbury town",94100,882,1058,1223,1365,1059,1270,1468,1638,"MASSACHUSETTS Newbury town"]
[null,"MASSACHUSETTS","Essex County","Newburyport city",94100,882,1058,1223,1365,1059,1270,1468,1638,"MASSACHUSETTS Newburyport city"]
[null,"MASSACHUSETTS","Essex County","North Andover town",82800,826,991,1145,1277,991,1189,1374,1533,"MASSACHUSETTS North Andover town"]
[null,"MASSACHUSETTS","Essex County","Peabody city",94100,882,1058,1223,1365,1059,1270,1468,1638,"MASSACHUSETTS Peabody city"]
[null,"MASSACHUSETTS","Essex County","Rockport town",94100,882,1058,1223,1365,1059,1270,1468,1638,"MASSACHUSETTS Rockport town"]
[null,"MASSACHUSETTS","Essex County","Rowley town",94100,882,1058,1223,1365,1059,1270,1468,1638,"MASSACHUSETTS Rowley town"]
[null,"MASSACHUSETTS","Essex County","Salem city",94100,882,1058,1223,1365,1059,1270,1468,1638,"MASSACHUSETTS Salem city"]
[null,"MASSACHUSETTS","Essex County","Salisbury town",94100,882,1058,1223,1365,1059,1270,1468,1638,"MASSACHUSETTS Salisbury town"]
[null,"MASSACHUSETTS","Essex County","Saugus town",94100,882,1058,1223,1365,1059,1270,1468,1638,"MASSACHUSETTS Saugus town"]
[null,"MASSACHUSETTS","Essex County","Swampscott town",94100,882,1058,1223,1365,1059,1270,1468,1638,"MASSACHUSETTS Swampscott town"]
[null,"MASSACHUSETTS","Essex County","Topsfield town",94100,882,1058,1223,1365,1059,1270,1468,1638,"MASSACHUSETTS Topsfield town"]
[null,"MASSACHUSETTS","Essex County","Wenham town",94100,882,1058,1223,1365,1059,1270,1468,1638,"MASSACHUSETTS Wenham town"]
[null,"MASSACHUSETTS","Essex County","West Newbury town",82800,826,991,1145,1277,991,1189,1374,1533,"MASSACHUSETTS West Newbury town"]
[null,"MASSACHUSETTS","Franklin County","Ashfield town",65000,806,967,1116,1246,967,1161,1340,1495,"MASSACHUSETTS Ashfield town"]
[null,"MASSACHUSETTS","Franklin County","Bernardston town",65000,806,967,1116,1246,967,1161,1340,1495,"MASSACHUSETTS Bernardston town"]
[null,"MASSACHUSETTS","Franklin County","Buckland town",65000,806,967,1116,1246,967,1161,1340,1495,"MASSACHUSETTS Buckland town"]
[null,"MASSACHUSETTS","Franklin County","Charlemont town",65000,806,967,1116,1246,967,1161,1340,1495,"MASSACHUSETTS Charlemont town"]
[null,"MASSACHUSETTS","Franklin County","Colrain town",65000,806,967,1116,1246,967,1161,1340,1495,"MASSACHUSETTS Colrain town"]
[null,"MASSACHUSETTS","Franklin County","Conway town",65000,806,967,1116,1246,967,1161,1340,1495,"MASSACHUSETTS Conway town"]
[null,"MASSACHUSETTS","Franklin County","Deerfield town",65000,806,967,1116,1246,967,1161,1340,1495,"MASSACHUSETTS Deerfield town"]
[null,"MASSACHUSETTS","Franklin County","Erving town",65000,806,967,1116,1246,967,1161,1340,1495,"MASSACHUSETTS Erving town"]
[null,"MASSACHUSETTS","Franklin County","Gill town",65000,806,967,1116,1246,967,1161,1340,1495,"MASSACHUSETTS Gill town"]
[null,"MASSACHUSETTS","Franklin County","Greenfield Town city",65000,806,967,1116,1246,967,1161,1340,1495,"MASSACHUSETTS Greenfield Town city"]
[null,"MASSACHUSETTS","Franklin County","Hawley town",65000,806,967,1116,1246,967,1161,1340,1495,"MASSACHUSETTS Hawley town"]
[null,"MASSACHUSETTS","Franklin County","Heath town",65000,806,967,1116,1246,967,1161,1340,1495,"MASSACHUSETTS Heath town"]
[null,"MASSACHUSETTS","Franklin County","Leverett town",65000,806,967,1116,1246,967,1161,1340,1495,"MASSACHUSETTS Leverett town"]
[null,"MASSACHUSETTS","Franklin County","Leyden town",65000,806,967,1116,1246,967,1161,1340,1495,"MASSACHUSETTS Leyden town"]
[null,"MASSACHUSETTS","Franklin County","Monroe town",65000,806,967,1116,1246,967,1161,1340,1495,"MASSACHUSETTS Monroe town"]
[null,"MASSACHUSETTS","Franklin County","Montague town",65000,806,967,1116,1246,967,1161,1340,1495,"MASSACHUSETTS Montague town"]
[null,"MASSACHUSETTS","Franklin County","New Salem town",65000,806,967,1116,1246,967,1161,1340,1495,"MASSACHUSETTS New Salem town"]
[null,"MASSACHUSETTS","Franklin County","Northfield town",65000,806,967,1116,1246,967,1161,1340,1495,"MASSACHUSETTS Northfield town"]
[null,"MASSACHUSETTS","Franklin County","Orange town",65000,806,967,1116,1246,967,1161,1340,1495,"MASSACHUSETTS Orange town"]
[null,"MASSACHUSETTS","Franklin County","Rowe town",65000,806,967,1116,1246,967,1161,1340,1495,"MASSACHUSETTS Rowe town"]
[null,"MASSACHUSETTS","Franklin County","Shelburne town",65000,806,967,1116,1246,967,1161,1340,1495,"MASSACHUSETTS Shelburne town"]
[null,"MASSACHUSETTS","Franklin County","Shutesbury town",65000,806,967,1116,1246,967,1161,1340,1495,"MASSACHUSETTS Shutesbury town"]
[null,"MASSACHUSETTS","Franklin County","Sunderland town",65700,806,967,1116,1246,967,1161,1340,1495,"MASSACHUSETTS Sunderland town"]
[null,"MASSACHUSETTS","Franklin County","Warwick town",65000,806,967,1116,1246,967,1161,1340,1495,"MASSACHUSETTS Warwick town"]
[null,"MASSACHUSETTS","Franklin County","Wendell town",65000,806,967,1116,1246,967,1161,1340,1495,"MASSACHUSETTS Wendell town"]
[null,"MASSACHUSETTS","Franklin County","Whately town",65000,806,967,1116,1246,967,1161,1340,1495,"MASSACHUSETTS Whately town"]
[null,"MASSACHUSETTS","Hampden County","Agawam Town city",65700,806,967,1116,1246,967,1161,1340,1495,"MASSACHUSETTS Agawam Town city"]
[null,"MASSACHUSETTS","Hampden County","Blandford town",65700,806,967,1116,1246,967,1161,1340,1495,"MASSACHUSETTS Blandford town"]
[null,"MASSACHUSETTS","Hampden County","Brimfield town",65700,806,967,1116,1246,967,1161,1340,1495,"MASSACHUSETTS Brimfield town"]
[null,"MASSACHUSETTS","Hampden County","Chester town",65700,806,967,1116,1246,967,1161,1340,1495,"MASSACHUSETTS Chester town"]
[null,"MASSACHUSETTS","Hampden County","Chicopee city",65700,806,967,1116,1246,967,1161,1340,1495,"MASSACHUSETTS Chicopee city"]
[null,"MASSACHUSETTS","Hampden County","East Longmeadow town",65700,806,967,1116,1246,967,1161,1340,1495,"MASSACHUSETTS East Longmeadow town"]
[null,"MASSACHUSETTS","Hampden County","Granville town",65700,806,967,1116,1246,967,1161,1340,1495,"MASSACHUSETTS Granville town"]
[null,"MASSACHUSETTS","Hampden County","Hampden town",65700,806,967,1116,1246,967,1161,1340,1495,"MASSACHUSETTS Hampden town"]
[null,"MASSACHUSETTS","Hampden County","Holland town",65700,806,967,1116,1246,967,1161,1340,1495,"MASSACHUSETTS Holland town"]
[null,"MASSACHUSETTS","Hampden County","Holyoke city",65700,806,967,1116,1246,967,1161,1340,1495,"MASSACHUSETTS Holyoke city"]
[null,"MASSACHUSETTS","Hampden County","Longmeadow town",65700,806,967,1116,1246,967,1161,1340,1495,"MASSACHUSETTS Longmeadow town"]
[null,"MASSACHUSETTS","Hampden County","Ludlow town",65700,806,967,1116,1246,967,1161,1340,1495,"MASSACHUSETTS Ludlow town"]
[null,"MASSACHUSETTS","Hampden County","Monson town",65700,806,967,1116,1246,967,1161,1340,1495,"MASSACHUSETTS Monson town"]
[null,"MASSACHUSETTS","Hampden County","Montgomery town",65700,806,967,1116,1246,967,1161,1340,1495,"MASSACHUSETTS Montgomery town"]
[null,"MASSACHUSETTS","Hampden County","Palmer Town city",65700,806,967,1116,1246,967,1161,1340,1495,"MASSACHUSETTS Palmer Town city"]
[null,"MASSACHUSETTS","Hampden County","Russell town",65700,806,967,1116,1246,967,1161,1340,1495,"MASSACHUSETTS Russell town"]
[null,"MASSACHUSETTS","Hampden County","Southwick town",65700,806,967,1116,1246,967,1161,1340,1495,"MASSACHUSETTS Southwick town"]
[null,"MASSACHUSETTS","Hampden County","Springfield city",65700,806,967,1116,1246,967,1161,1340,1495,"MASSACHUSETTS Springfield city"]
[null,"MASSACHUSETTS","Hampden County","Tolland town",65700,806,967,1116,1246,967,1161,1340,1495,"MASSACHUSETTS Tolland town"]
[null,"MASSACHUSETTS","Hampden County","Wales town",65700,806,967,1116,1246,967,1161,1340,1495,"MASSACHUSETTS Wales town"]
[null,"MASSACHUSETTS","Hampden County","Westfield city",65700,806,967,1116,1246,967,1161,1340,1495,"MASSACHUSETTS Westfield city"]
[null,"MASSACHUSETTS","Hampden County","West Springfield Town city",65700,806,967,1116,1246,967,1161,1340,1495,{"$f":"B2053&\" \"&D2053","v":"MASSACHUSETTS West Springfield Town city"}]
[null,"MASSACHUSETTS","Hampden County","Wilbraham town",65700,806,967,1116,1246,967,1161,1340,1495,"MASSACHUSETTS Wilbraham town"]
[null,"MASSACHUSETTS","Hampshire County","Amherst town",65700,806,967,1116,1246,967,1161,1340,1495,"MASSACHUSETTS Amherst town"]
[null,"MASSACHUSETTS","Hampshire County","Belchertown town",65700,806,967,1116,1246,967,1161,1340,1495,"MASSACHUSETTS Belchertown town"]
[null,"MASSACHUSETTS","Hampshire County","Chesterfield town",65700,806,967,1116,1246,967,1161,1340,1495,"MASSACHUSETTS Chesterfield town"]
[null,"MASSACHUSETTS","Hampshire County","Cummington town",65700,806,967,1116,1246,967,1161,1340,1495,"MASSACHUSETTS Cummington town"]
[null,"MASSACHUSETTS","Hampshire County","Easthampton Town city",65700,806,967,1116,1246,967,1161,1340,1495,"MASSACHUSETTS Easthampton Town city"]
[null,"MASSACHUSETTS","Hampshire County","Goshen town",65700,806,967,1116,1246,967,1161,1340,1495,"MASSACHUSETTS Goshen town"]
[null,"MASSACHUSETTS","Hampshire County","Granby town",65700,806,967,1116,1246,967,1161,1340,1495,"MASSACHUSETTS Granby town"]
[null,"MASSACHUSETTS","Hampshire County","Hadley town",65700,806,967,1116,1246,967,1161,1340,1495,"MASSACHUSETTS Hadley town"]
[null,"MASSACHUSETTS","Hampshire County","Hatfield town",65700,806,967,1116,1246,967,1161,1340,1495,"MASSACHUSETTS Hatfield town"]
[null,"MASSACHUSETTS","Hampshire County","Huntington town",65700,806,967,1116,1246,967,1161,1340,1495,"MASSACHUSETTS Huntington town"]
[null,"MASSACHUSETTS","Hampshire County","Middlefield town",65700,806,967,1116,1246,967,1161,1340,1495,"MASSACHUSETTS Middlefield town"]
[null,"MASSACHUSETTS","Hampshire County","Northampton city",65700,806,967,1116,1246,967,1161,1340,1495,"MASSACHUSETTS Northampton city"]
[null,"MASSACHUSETTS","Hampshire County","Pelham town",65700,806,967,1116,1246,967,1161,1340,1495,"MASSACHUSETTS Pelham town"]
[null,"MASSACHUSETTS","Hampshire County","Plainfield town",65700,806,967,1116,1246,967,1161,1340,1495,"MASSACHUSETTS Plainfield town"]
[null,"MASSACHUSETTS","Hampshire County","Southampton town",65700,806,967,1116,1246,967,1161,1340,1495,"MASSACHUSETTS Southampton town"]
[null,"MASSACHUSETTS","Hampshire County","South Hadley town",65700,806,967,1116,1246,967,1161,1340,1495,"MASSACHUSETTS South Hadley town"]
[null,"MASSACHUSETTS","Hampshire County","Ware town",65700,806,967,1116,1246,967,1161,1340,1495,"MASSACHUSETTS Ware town"]
[null,"MASSACHUSETTS","Hampshire County","Westhampton town",65700,806,967,1116,1246,967,1161,1340,1495,"MASSACHUSETTS Westhampton town"]
[null,"MASSACHUSETTS","Hampshire County","Williamsburg town",65700,806,967,1116,1246,967,1161,1340,1495,"MASSACHUSETTS Williamsburg town"]
[null,"MASSACHUSETTS","Hampshire County","Worthington town",65700,806,967,1116,1246,967,1161,1340,1495,"MASSACHUSETTS Worthington town"]
[null,"MASSACHUSETTS","Middlesex County","Acton town",94100,882,1058,1223,1365,1059,1270,1468,1638,"MASSACHUSETTS Acton town"]
[null,"MASSACHUSETTS","Middlesex County","Arlington town",94100,882,1058,1223,1365,1059,1270,1468,1638,"MASSACHUSETTS Arlington town"]
[null,"MASSACHUSETTS","Middlesex County","Ashby town",94100,882,1058,1223,1365,1059,1270,1468,1638,"MASSACHUSETTS Ashby town"]
[null,"MASSACHUSETTS","Middlesex County","Ashland town",94100,882,1058,1223,1365,1059,1270,1468,1638,"MASSACHUSETTS Ashland town"]
[null,"MASSACHUSETTS","Middlesex County","Ayer town",94100,882,1058,1223,1365,1059,1270,1468,1638,"MASSACHUSETTS Ayer town"]
[null,"MASSACHUSETTS","Middlesex County","Bedford town",94100,882,1058,1223,1365,1059,1270,1468,1638,"MASSACHUSETTS Bedford town"]
[null,"MASSACHUSETTS","Middlesex County","Belmont town",94100,882,1058,1223,1365,1059,1270,1468,1638,"MASSACHUSETTS Belmont town"]
[null,"MASSACHUSETTS","Middlesex County","Billerica town",90700,850,1021,1179,1316,1020,1225,1415,1579,"MASSACHUSETTS Billerica town"]
[null,"MASSACHUSETTS","Middlesex County","Boxborough town",94100,882,1058,1223,1365,1059,1270,1468,1638,"MASSACHUSETTS Boxborough town"]
[null,"MASSACHUSETTS","Middlesex County","Burlington town",94100,882,1058,1223,1365,1059,1270,1468,1638,"MASSACHUSETTS Burlington town"]
[null,"MASSACHUSETTS","Middlesex County","Cambridge city",94100,882,1058,1223,1365,1059,1270,1468,1638,"MASSACHUSETTS Cambridge city"]
[null,"MASSACHUSETTS","Middlesex County","Carlisle town",94100,882,1058,1223,1365,1059,1270,1468,1638,"MASSACHUSETTS Carlisle town"]
[null,"MASSACHUSETTS","Middlesex County","Chelmsford town",90700,850,1021,1179,1316,1020,1225,1415,1579,"MASSACHUSETTS Chelmsford town"]
[null,"MASSACHUSETTS","Middlesex County","Concord town",94100,882,1058,1223,1365,1059,1270,1468,1638,"MASSACHUSETTS Concord town"]
[null,"MASSACHUSETTS","Middlesex County","Dracut town",90700,850,1021,1179,1316,1020,1225,1415,1579,"MASSACHUSETTS Dracut town"]
[null,"MASSACHUSETTS","Middlesex County","Dunstable town",90700,850,1021,1179,1316,1020,1225,1415,1579,"MASSACHUSETTS Dunstable town"]
[null,"MASSACHUSETTS","Middlesex County","Everett city",94100,882,1058,1223,1365,1059,1270,1468,1638,"MASSACHUSETTS Everett city"]
[null,"MASSACHUSETTS","Middlesex County","Framingham town",94100,882,1058,1223,1365,1059,1270,1468,1638,"MASSACHUSETTS Framingham town"]
[null,"MASSACHUSETTS","Middlesex County","Groton town",90700,850,1021,1179,1316,1020,1225,1415,1579,"MASSACHUSETTS Groton town"]
[null,"MASSACHUSETTS","Middlesex County","Holliston town",94100,882,1058,1223,1365,1059,1270,1468,1638,"MASSACHUSETTS Holliston town"]
[null,"MASSACHUSETTS","Middlesex County","Hopkinton town",94100,882,1058,1223,1365,1059,1270,1468,1638,"MASSACHUSETTS Hopkinton town"]
[null,"MASSACHUSETTS","Middlesex County","Hudson town",94100,882,1058,1223,1365,1059,1270,1468,1638,"MASSACHUSETTS Hudson town"]
[null,"MASSACHUSETTS","Middlesex County","Lexington town",94100,882,1058,1223,1365,1059,1270,1468,1638,"MASSACHUSETTS Lexington town"]
[null,"MASSACHUSETTS","Middlesex County","Lincoln town",94100,882,1058,1223,1365,1059,1270,1468,1638,"MASSACHUSETTS Lincoln town"]
[null,"MASSACHUSETTS","Middlesex County","Littleton town",94100,882,1058,1223,1365,1059,1270,1468,1638,"MASSACHUSETTS Littleton town"]
[null,"MASSACHUSETTS","Middlesex County","Lowell city",90700,850,1021,1179,1316,1020,1225,1415,1579,"MASSACHUSETTS Lowell city"]
[null,"MASSACHUSETTS","Middlesex County","Malden city",94100,882,1058,1223,1365,1059,1270,1468,1638,"MASSACHUSETTS Malden city"]
[null,"MASSACHUSETTS","Middlesex County","Marlborough city",94100,882,1058,1223,1365,1059,1270,1468,1638,"MASSACHUSETTS Marlborough city"]
[null,"MASSACHUSETTS","Middlesex County","Maynard town",94100,882,1058,1223,1365,1059,1270,1468,1638,"MASSACHUSETTS Maynard town"]
[null,"MASSACHUSETTS","Middlesex County","Medford city",94100,882,1058,1223,1365,1059,1270,1468,1638,"MASSACHUSETTS Medford city"]
[null,"MASSACHUSETTS","Middlesex County","Melrose city",94100,882,1058,1223,1365,1059,1270,1468,1638,"MASSACHUSETTS Melrose city"]
[null,"MASSACHUSETTS","Middlesex County","Natick town",94100,882,1058,1223,1365,1059,1270,1468,1638,"MASSACHUSETTS Natick town"]
[null,"MASSACHUSETTS","Middlesex County","Newton city",94100,882,1058,1223,1365,1059,1270,1468,1638,"MASSACHUSETTS Newton city"]
[null,"MASSACHUSETTS","Middlesex County","North Reading town",94100,882,1058,1223,1365,1059,1270,1468,1638,"MASSACHUSETTS North Reading town"]
[null,"MASSACHUSETTS","Middlesex County","Pepperell town",90700,850,1021,1179,1316,1020,1225,1415,1579,"MASSACHUSETTS Pepperell town"]
[null,"MASSACHUSETTS","Middlesex County","Reading town",94100,882,1058,1223,1365,1059,1270,1468,1638,"MASSACHUSETTS Reading town"]
[null,"MASSACHUSETTS","Middlesex County","Sherborn town",94100,882,1058,1223,1365,1059,1270,1468,1638,"MASSACHUSETTS Sherborn town"]
[null,"MASSACHUSETTS","Middlesex County","Shirley town",94100,882,1058,1223,1365,1059,1270,1468,1638,"MASSACHUSETTS Shirley town"]
[null,"MASSACHUSETTS","Middlesex County","Somerville city",94100,882,1058,1223,1365,1059,1270,1468,1638,"MASSACHUSETTS Somerville city"]
[null,"MASSACHUSETTS","Middlesex County","Stoneham town",94100,882,1058,1223,1365,1059,1270,1468,1638,"MASSACHUSETTS Stoneham town"]
[null,"MASSACHUSETTS","Middlesex County","Stow town",94100,882,1058,1223,1365,1059,1270,1468,1638,"MASSACHUSETTS Stow town"]
[null,"MASSACHUSETTS","Middlesex County","Sudbury town",94100,882,1058,1223,1365,1059,1270,1468,1638,"MASSACHUSETTS Sudbury town"]
[null,"MASSACHUSETTS","Middlesex County","Tewksbury town",90700,850,1021,1179,1316,1020,1225,1415,1579,{"$f":"B2117&\" \"&D2117","v":"MASSACHUSETTS Tewksbury town"}]
[null,"MASSACHUSETTS","Middlesex County","Townsend town",94100,882,1058,1223,1365,1059,1270,1468,1638,"MASSACHUSETTS Townsend town"]
[null,"MASSACHUSETTS","Middlesex County","Tyngsborough town",90700,850,1021,1179,1316,1020,1225,1415,1579,"MASSACHUSETTS Tyngsborough town"]
[null,"MASSACHUSETTS","Middlesex County","Wakefield town",94100,882,1058,1223,1365,1059,1270,1468,1638,"MASSACHUSETTS Wakefield town"]
[null,"MASSACHUSETTS","Middlesex County","Waltham city",94100,882,1058,1223,1365,1059,1270,1468,1638,"MASSACHUSETTS Waltham city"]
[null,"MASSACHUSETTS","Middlesex County","Watertown city",94100,882,1058,1223,1365,1059,1270,1468,1638,"MASSACHUSETTS Watertown city"]
[null,"MASSACHUSETTS","Middlesex County","Wayland town",94100,882,1058,1223,1365,1059,1270,1468,1638,"MASSACHUSETTS Wayland town"]
[null,"MASSACHUSETTS","Middlesex County","Westford town",90700,850,1021,1179,1316,1020,1225,1415,1579,"MASSACHUSETTS Westford town"]
[null,"MASSACHUSETTS","Middlesex County","Weston town",94100,882,1058,1223,1365,1059,1270,1468,1638,"MASSACHUSETTS Weston town"]
[null,"MASSACHUSETTS","Middlesex County","Wilmington town",94100,882,1058,1223,1365,1059,1270,1468,1638,"MASSACHUSETTS Wilmington town"]
[null,"MASSACHUSETTS","Middlesex County","Winchester town",94100,882,1058,1223,1365,1059,1270,1468,1638,"MASSACHUSETTS Winchester town"]
[null,"MASSACHUSETTS","Middlesex County","Woburn city",94100,882,1058,1223,1365,1059,1270,1468,1638,"MASSACHUSETTS Woburn city"]
[null,"MASSACHUSETTS","Nantucket County","Nantucket town",92800,984,1181,1363,1521,1181,1417,1636,1825,"MASSACHUSETTS Nantucket town"]
[null,"MASSACHUSETTS","Norfolk County","Avon town",80700,821,986,1139,1271,986,1183,1367,1525,"MASSACHUSETTS Avon town"]
[null,"MASSACHUSETTS","Norfolk County","Bellingham town",94100,882,1058,1223,1365,1059,1270,1468,1638,"MASSACHUSETTS Bellingham town"]
[null,"MASSACHUSETTS","Norfolk County","Braintree Town city",94100,882,1058,1223,1365,1059,1270,1468,1638,"MASSACHUSETTS Braintree Town city"]
[null,"MASSACHUSETTS","Norfolk County","Brookline town",94100,882,1058,1223,1365,1059,1270,1468,1638,"MASSACHUSETTS Brookline town"]
[null,"MASSACHUSETTS","Norfolk County","Canton town",94100,882,1058,1223,1365,1059,1270,1468,1638,"MASSACHUSETTS Canton town"]
[null,"MASSACHUSETTS","Norfolk County","Cohasset town",94100,882,1058,1223,1365,1059,1270,1468,1638,"MASSACHUSETTS Cohasset town"]
[null,"MASSACHUSETTS","Norfolk County","Dedham town",94100,882,1058,1223,1365,1059,1270,1468,1638,"MASSACHUSETTS Dedham town"]
[null,"MASSACHUSETTS","Norfolk County","Dover town",94100,882,1058,1223,1365,1059,1270,1468,1638,"MASSACHUSETTS Dover town"]
[null,"MASSACHUSETTS","Norfolk County","Foxborough town",94100,882,1058,1223,1365,1059,1270,1468,1638,"MASSACHUSETTS Foxborough town"]
[null,"MASSACHUSETTS","Norfolk County","Franklin Town city",94100,882,1058,1223,1365,1059,1270,1468,1638,"MASSACHUSETTS Franklin Town city"]
[null,"MASSACHUSETTS","Norfolk County","Holbrook town",94100,882,1058,1223,1365,1059,1270,1468,1638,"MASSACHUSETTS Holbrook town"]
[null,"MASSACHUSETTS","Norfolk County","Medfield town",94100,882,1058,1223,1365,1059,1270,1468,1638,"MASSACHUSETTS Medfield town"]
[null,"MASSACHUSETTS","Norfolk County","Medway town",94100,882,1058,1223,1365,1059,1270,1468,1638,"MASSACHUSETTS Medway town"]
[null,"MASSACHUSETTS","Norfolk County","Millis town",94100,882,1058,1223,1365,1059,1270,1468,1638,"MASSACHUSETTS Millis town"]
[null,"MASSACHUSETTS","Norfolk County","Milton town",94100,882,1058,1223,1365,1059,1270,1468,1638,"MASSACHUSETTS Milton town"]
[null,"MASSACHUSETTS","Norfolk County","Needham town",94100,882,1058,1223,1365,1059,1270,1468,1638,"MASSACHUSETTS Needham town"]
[null,"MASSACHUSETTS","Norfolk County","Norfolk town",94100,882,1058,1223,1365,1059,1270,1468,1638,"MASSACHUSETTS Norfolk town"]
[null,"MASSACHUSETTS","Norfolk County","Norwood town",94100,882,1058,1223,1365,1059,1270,1468,1638,"MASSACHUSETTS Norwood town"]
[null,"MASSACHUSETTS","Norfolk County","Plainville town",94100,882,1058,1223,1365,1059,1270,1468,1638,"MASSACHUSETTS Plainville town"]
[null,"MASSACHUSETTS","Norfolk County","Quincy city",94100,882,1058,1223,1365,1059,1270,1468,1638,"MASSACHUSETTS Quincy city"]
[null,"MASSACHUSETTS","Norfolk County","Randolph town",94100,882,1058,1223,1365,1059,1270,1468,1638,"MASSACHUSETTS Randolph town"]
[null,"MASSACHUSETTS","Norfolk County","Sharon town",94100,882,1058,1223,1365,1059,1270,1468,1638,"MASSACHUSETTS Sharon town"]
[null,"MASSACHUSETTS","Norfolk County","Stoughton town",94100,882,1058,1223,1365,1059,1270,1468,1638,"MASSACHUSETTS Stoughton town"]
[null,"MASSACHUSETTS","Norfolk County","Walpole town",94100,882,1058,1223,1365,1059,1270,1468,1638,"MASSACHUSETTS Walpole town"]
[null,"MASSACHUSETTS","Norfolk County","Wellesley town",94100,882,1058,1223,1365,1059,1270,1468,1638,"MASSACHUSETTS Wellesley town"]
[null,"MASSACHUSETTS","Norfolk County","Westwood town",94100,882,1058,1223,1365,1059,1270,1468,1638,"MASSACHUSETTS Westwood town"]
[null,"MASSACHUSETTS","Norfolk County","Weymouth Town city",94100,882,1058,1223,1365,1059,1270,1468,1638,"MASSACHUSETTS Weymouth Town city"]
[null,"MASSACHUSETTS","Norfolk County","Wrentham town",94100,882,1058,1223,1365,1059,1270,1468,1638,"MASSACHUSETTS Wrentham town"]
[null,"MASSACHUSETTS","Plymouth County","Abington town",80700,821,986,1139,1271,986,1183,1367,1525,"MASSACHUSETTS Abington town"]
[null,"MASSACHUSETTS","Plymouth County","Bridgewater town",80700,821,986,1139,1271,986,1183,1367,1525,"MASSACHUSETTS Bridgewater town"]
[null,"MASSACHUSETTS","Plymouth County","Brockton city",80700,821,986,1139,1271,986,1183,1367,1525,"MASSACHUSETTS Brockton city"]
[null,"MASSACHUSETTS","Plymouth County","Carver town",94100,882,1058,1223,1365,1059,1270,1468,1638,"MASSACHUSETTS Carver town"]
[null,"MASSACHUSETTS","Plymouth County","Duxbury town",94100,882,1058,1223,1365,1059,1270,1468,1638,"MASSACHUSETTS Duxbury town"]
[null,"MASSACHUSETTS","Plymouth County","East Bridgewater town",80700,821,986,1139,1271,986,1183,1367,1525,"MASSACHUSETTS East Bridgewater town"]
[null,"MASSACHUSETTS","Plymouth County","Halifax town",80700,821,986,1139,1271,986,1183,1367,1525,"MASSACHUSETTS Halifax town"]
[null,"MASSACHUSETTS","Plymouth County","Hanover town",94100,882,1058,1223,1365,1059,1270,1468,1638,"MASSACHUSETTS Hanover town"]
[null,"MASSACHUSETTS","Plymouth County","Hanson town",80700,821,986,1139,1271,986,1183,1367,1525,"MASSACHUSETTS Hanson town"]
[null,"MASSACHUSETTS","Plymouth County","Hingham town",94100,882,1058,1223,1365,1059,1270,1468,1638,"MASSACHUSETTS Hingham town"]
[null,"MASSACHUSETTS","Plymouth County","Hull town",94100,882,1058,1223,1365,1059,1270,1468,1638,"MASSACHUSETTS Hull town"]
[null,"MASSACHUSETTS","Plymouth County","Kingston town",94100,882,1058,1223,1365,1059,1270,1468,1638,"MASSACHUSETTS Kingston town"]
[null,"MASSACHUSETTS","Plymouth County","Lakeville town",80700,821,986,1139,1271,986,1183,1367,1525,"MASSACHUSETTS Lakeville town"]
[null,"MASSACHUSETTS","Plymouth County","Marion town",80700,821,986,1139,1271,986,1183,1367,1525,"MASSACHUSETTS Marion town"]
[null,"MASSACHUSETTS","Plymouth County","Marshfield town",94100,882,1058,1223,1365,1059,1270,1468,1638,"MASSACHUSETTS Marshfield town"]
[null,"MASSACHUSETTS","Plymouth County","Mattapoisett town",80700,821,986,1139,1271,986,1183,1367,1525,"MASSACHUSETTS Mattapoisett town"]
[null,"MASSACHUSETTS","Plymouth County","Middleborough town",80700,821,986,1139,1271,986,1183,1367,1525,"MASSACHUSETTS Middleborough town"]
[null,"MASSACHUSETTS","Plymouth County","Norwell town",94100,882,1058,1223,1365,1059,1270,1468,1638,"MASSACHUSETTS Norwell town"]
[null,"MASSACHUSETTS","Plymouth County","Pembroke town",94100,882,1058,1223,1365,1059,1270,1468,1638,"MASSACHUSETTS Pembroke town"]
[null,"MASSACHUSETTS","Plymouth County","Plymouth town",94100,882,1058,1223,1365,1059,1270,1468,1638,"MASSACHUSETTS Plymouth town"]
[null,"MASSACHUSETTS","Plymouth County","Plympton town",80700,821,986,1139,1271,986,1183,1367,1525,"MASSACHUSETTS Plympton town"]
[null,"MASSACHUSETTS","Plymouth County","Rochester town",80700,821,986,1139,1271,986,1183,1367,1525,"MASSACHUSETTS Rochester town"]
[null,"MASSACHUSETTS","Plymouth County","Rockland town",94100,882,1058,1223,1365,1059,1270,1468,1638,"MASSACHUSETTS Rockland town"]
[null,"MASSACHUSETTS","Plymouth County","Scituate town",94100,882,1058,1223,1365,1059,1270,1468,1638,{"$f":"B2181&\" \"&D2181","v":"MASSACHUSETTS Scituate town"}]
[null,"MASSACHUSETTS","Plymouth County","Wareham town",94100,882,1058,1223,1365,1059,1270,1468,1638,"MASSACHUSETTS Wareham town"]
[null,"MASSACHUSETTS","Plymouth County","West Bridgewater town",80700,821,986,1139,1271,986,1183,1367,1525,"MASSACHUSETTS West Bridgewater town"]
[null,"MASSACHUSETTS","Plymouth County","Whitman town",80700,821,986,1139,1271,986,1183,1367,1525,"MASSACHUSETTS Whitman town"]
[null,"MASSACHUSETTS","Suffolk County","Boston city",94100,882,1058,1223,1365,1059,1270,1468,1638,"MASSACHUSETTS Boston city"]
[null,"MASSACHUSETTS","Suffolk County","Chelsea city",94100,882,1058,1223,1365,1059,1270,1468,1638,"MASSACHUSETTS Chelsea city"]
[null,"MASSACHUSETTS","Suffolk County","Revere city",94100,882,1058,1223,1365,1059,1270,1468,1638,"MASSACHUSETTS Revere city"]
[null,"MASSACHUSETTS","Suffolk County","Winthrop Town city",94100,882,1058,1223,1365,1059,1270,1468,1638,"MASSACHUSETTS Winthrop Town city"]
[null,"MASSACHUSETTS","Worcester County","Ashburnham town",67900,806,967,1116,1246,967,1161,1340,1495,"MASSACHUSETTS Ashburnham town"]
[null,"MASSACHUSETTS","Worcester County","Athol town",75300,806,967,1116,1246,967,1161,1340,1495,"MASSACHUSETTS Athol town"]
[null,"MASSACHUSETTS","Worcester County","Auburn town",79600,822,987,1140,1272,987,1185,1368,1527,"MASSACHUSETTS Auburn town"]
[null,"MASSACHUSETTS","Worcester County","Barre town",79600,822,987,1140,1272,987,1185,1368,1527,"MASSACHUSETTS Barre town"]
[null,"MASSACHUSETTS","Worcester County","Berlin town",96300,918,1102,1273,1420,1102,1323,1527,1704,"MASSACHUSETTS Berlin town"]
[null,"MASSACHUSETTS","Worcester County","Blackstone town",96300,918,1102,1273,1420,1102,1323,1527,1704,"MASSACHUSETTS Blackstone town"]
[null,"MASSACHUSETTS","Worcester County","Bolton town",96300,918,1102,1273,1420,1102,1323,1527,1704,"MASSACHUSETTS Bolton town"]
[null,"MASSACHUSETTS","Worcester County","Boylston town",79600,822,987,1140,1272,987,1185,1368,1527,"MASSACHUSETTS Boylston town"]
[null,"MASSACHUSETTS","Worcester County","Brookfield town",79600,822,987,1140,1272,987,1185,1368,1527,"MASSACHUSETTS Brookfield town"]
[null,"MASSACHUSETTS","Worcester County","Charlton town",79600,822,987,1140,1272,987,1185,1368,1527,"MASSACHUSETTS Charlton town"]
[null,"MASSACHUSETTS","Worcester County","Clinton town",79600,822,987,1140,1272,987,1185,1368,1527,"MASSACHUSETTS Clinton town"]
[null,"MASSACHUSETTS","Worcester County","Douglas town",79600,822,987,1140,1272,987,1185,1368,1527,"MASSACHUSETTS Douglas town"]
[null,"MASSACHUSETTS","Worcester County","Dudley town",79600,822,987,1140,1272,987,1185,1368,1527,"MASSACHUSETTS Dudley town"]
[null,"MASSACHUSETTS","Worcester County","East Brookfield town",79600,822,987,1140,1272,987,1185,1368,1527,"MASSACHUSETTS East Brookfield town"]
[null,"MASSACHUSETTS","Worcester County","Fitchburg city",67900,806,967,1116,1246,967,1161,1340,1495,"MASSACHUSETTS Fitchburg city"]
[null,"MASSACHUSETTS","Worcester County","Gardner city",67900,806,967,1116,1246,967,1161,1340,1495,"MASSACHUSETTS Gardner city"]
[null,"MASSACHUSETTS","Worcester County","Grafton town",79600,822,987,1140,1272,987,1185,1368,1527,"MASSACHUSETTS Grafton town"]
[null,"MASSACHUSETTS","Worcester County","Hardwick town",75300,806,967,1116,1246,967,1161,1340,1495,"MASSACHUSETTS Hardwick town"]
[null,"MASSACHUSETTS","Worcester County","Harvard town",96300,918,1102,1273,1420,1102,1323,1527,1704,"MASSACHUSETTS Harvard town"]
[null,"MASSACHUSETTS","Worcester County","Holden town",79600,822,987,1140,1272,987,1185,1368,1527,"MASSACHUSETTS Holden town"]
[null,"MASSACHUSETTS","Worcester County","Hopedale town",96300,918,1102,1273,1420,1102,1323,1527,1704,"MASSACHUSETTS Hopedale town"]
[null,"MASSACHUSETTS","Worcester County","Hubbardston town",75300,806,967,1116,1246,967,1161,1340,1495,"MASSACHUSETTS Hubbardston town"]
[null,"MASSACHUSETTS","Worcester County","Lancaster town",96300,918,1102,1273,1420,1102,1323,1527,1704,"MASSACHUSETTS Lancaster town"]
[null,"MASSACHUSETTS","Worcester County","Leicester town",79600,822,987,1140,1272,987,1185,1368,1527,"MASSACHUSETTS Leicester town"]
[null,"MASSACHUSETTS","Worcester County","Leominster city",67900,806,967,1116,1246,967,1161,1340,1495,"MASSACHUSETTS Leominster city"]
[null,"MASSACHUSETTS","Worcester County","Lunenburg town",67900,806,967,1116,1246,967,1161,1340,1495,"MASSACHUSETTS Lunenburg town"]
[null,"MASSACHUSETTS","Worcester County","Mendon town",96300,918,1102,1273,1420,1102,1323,1527,1704,"MASSACHUSETTS Mendon town"]
[null,"MASSACHUSETTS","Worcester County","Milford town",96300,918,1102,1273,1420,1102,1323,1527,1704,"MASSACHUSETTS Milford town"]
[null,"MASSACHUSETTS","Worcester County","Millbury town",79600,822,987,1140,1272,987,1185,1368,1527,"MASSACHUSETTS Millbury town"]
[null,"MASSACHUSETTS","Worcester County","Millville town",96300,918,1102,1273,1420,1102,1323,1527,1704,"MASSACHUSETTS Millville town"]
[null,"MASSACHUSETTS","Worcester County","New Braintree town",75300,806,967,1116,1246,967,1161,1340,1495,"MASSACHUSETTS New Braintree town"]
[null,"MASSACHUSETTS","Worcester County","Northborough town",79600,822,987,1140,1272,987,1185,1368,1527,"MASSACHUSETTS Northborough town"]
[null,"MASSACHUSETTS","Worcester County","Northbridge town",79600,822,987,1140,1272,987,1185,1368,1527,"MASSACHUSETTS Northbridge town"]
[null,"MASSACHUSETTS","Worcester County","North Brookfield town",79600,822,987,1140,1272,987,1185,1368,1527,"MASSACHUSETTS North Brookfield town"]
[null,"MASSACHUSETTS","Worcester County","Oakham town",79600,822,987,1140,1272,987,1185,1368,1527,"MASSACHUSETTS Oakham town"]
[null,"MASSACHUSETTS","Worcester County","Oxford town",79600,822,987,1140,1272,987,1185,1368,1527,"MASSACHUSETTS Oxford town"]
[null,"MASSACHUSETTS","Worcester County","Paxton town",79600,822,987,1140,1272,987,1185,1368,1527,"MASSACHUSETTS Paxton town"]
[null,"MASSACHUSETTS","Worcester County","Petersham town",75300,806,967,1116,1246,967,1161,1340,1495,"MASSACHUSETTS Petersham town"]
[null,"MASSACHUSETTS","Worcester County","Phillipston town",75300,806,967,1116,1246,967,1161,1340,1495,"MASSACHUSETTS Phillipston town"]
[null,"MASSACHUSETTS","Worcester County","Princeton town",79600,822,987,1140,1272,987,1185,1368,1527,"MASSACHUSETTS Princeton town"]
[null,"MASSACHUSETTS","Worcester County","Royalston town",75300,806,967,1116,1246,967,1161,1340,1495,"MASSACHUSETTS Royalston town"]
[null,"MASSACHUSETTS","Worcester County","Rutland town",79600,822,987,1140,1272,987,1185,1368,1527,"MASSACHUSETTS Rutland town"]
[null,"MASSACHUSETTS","Worcester County","Shrewsbury town",79600,822,987,1140,1272,987,1185,1368,1527,"MASSACHUSETTS Shrewsbury town"]
[null,"MASSACHUSETTS","Worcester County","Southborough town",96300,918,1102,1273,1420,1102,1323,1527,1704,"MASSACHUSETTS Southborough town"]
[null,"MASSACHUSETTS","Worcester County","Southbridge Town city",79600,822,987,1140,1272,987,1185,1368,1527,"MASSACHUSETTS Southbridge Town city"]
[null,"MASSACHUSETTS","Worcester County","Spencer town",79600,822,987,1140,1272,987,1185,1368,1527,"MASSACHUSETTS Spencer town"]
[null,"MASSACHUSETTS","Worcester County","Sterling town",79600,822,987,1140,1272,987,1185,1368,1527,"MASSACHUSETTS Sterling town"]
[null,"MASSACHUSETTS","Worcester County","Sturbridge town",79600,822,987,1140,1272,987,1185,1368,1527,"MASSACHUSETTS Sturbridge town"]
[null,"MASSACHUSETTS","Worcester County","Sutton town",79600,822,987,1140,1272,987,1185,1368,1527,"MASSACHUSETTS Sutton town"]
[null,"MASSACHUSETTS","Worcester County","Templeton town",67900,806,967,1116,1246,967,1161,1340,1495,"MASSACHUSETTS Templeton town"]
[null,"MASSACHUSETTS","Worcester County","Upton town",96300,918,1102,1273,1420,1102,1323,1527,1704,"MASSACHUSETTS Upton town"]
[null,"MASSACHUSETTS","Worcester County","Uxbridge town",79600,822,987,1140,1272,987,1185,1368,1527,"MASSACHUSETTS Uxbridge town"]
[null,"MASSACHUSETTS","Worcester County","Warren town",75300,806,967,1116,1246,967,1161,1340,1495,"MASSACHUSETTS Warren town"]
[null,"MASSACHUSETTS","Worcester County","Webster town",79600,822,987,1140,1272,987,1185,1368,1527,"MASSACHUSETTS Webster town"]
[null,"MASSACHUSETTS","Worcester County","Westborough town",79600,822,987,1140,1272,987,1185,1368,1527,"MASSACHUSETTS Westborough town"]
[null,"MASSACHUSETTS","Worcester County","West Boylston town",79600,822,987,1140,1272,987,1185,1368,1527,"MASSACHUSETTS West Boylston town"]
[null,"MASSACHUSETTS","Worcester County","West Brookfield town",79600,822,987,1140,1272,987,1185,1368,1527,{"$f":"B2245&\" \"&D2245","v":"MASSACHUSETTS West Brookfield town"}]
[null,"MASSACHUSETTS","Worcester County","Westminster town",67900,806,967,1116,1246,967,1161,1340,1495,"MASSACHUSETTS Westminster town"]
[null,"MASSACHUSETTS","Worcester County","Winchendon town",67900,806,967,1116,1246,967,1161,1340,1495,"MASSACHUSETTS Winchendon town"]
[null,"MASSACHUSETTS","Worcester County","Worcester city",79600,822,987,1140,1272,987,1185,1368,1527,"MASSACHUSETTS Worcester city"]
[null,"MICHIGAN","Alcona County","Alcona County",45400,495,595,686,766,594,714,824,919,"MICHIGAN Alcona County"]
[null,"MICHIGAN","Alger County","Alger County",48000,495,595,686,766,594,714,824,919,"MICHIGAN Alger County"]
[null,"MICHIGAN","Allegan County","Allegan County",59200,555,666,770,858,666,799,924,1030,"MICHIGAN Allegan County"]
[null,"MICHIGAN","Alpena County","Alpena County",51000,495,595,686,766,594,714,824,919,"MICHIGAN Alpena County"]
[null,"MICHIGAN","Antrim County","Antrim County",52500,495,595,686,766,594,714,824,919,"MICHIGAN Antrim County"]
[null,"MICHIGAN","Arenac County","Arenac County",45900,495,595,686,766,594,714,824,919,"MICHIGAN Arenac County"]
[null,"MICHIGAN","Baraga County","Baraga County",53000,496,596,689,768,596,715,827,922,"MICHIGAN Baraga County"]
[null,"MICHIGAN","Barry County","Barry County",64100,601,721,833,930,721,865,1000,1116,"MICHIGAN Barry County"]
[null,"MICHIGAN","Bay County","Bay County",58000,543,652,754,841,652,783,905,1009,"MICHIGAN Bay County"]
[null,"MICHIGAN","Benzie County","Benzie County",57000,534,641,741,827,641,769,889,993,"MICHIGAN Benzie County"]
[null,"MICHIGAN","Berrien County","Berrien County",54900,515,618,713,796,618,742,856,955,"MICHIGAN Berrien County"]
[null,"MICHIGAN","Branch County","Branch County",53100,498,597,690,770,597,717,828,924,"MICHIGAN Branch County"]
[null,"MICHIGAN","Calhoun County","Calhoun County",52600,495,595,686,766,594,714,824,919,"MICHIGAN Calhoun County"]
[null,"MICHIGAN","Cass County","Cass County",58100,545,653,755,842,654,784,906,1011,"MICHIGAN Cass County"]
[null,"MICHIGAN","Charlevoix County","Charlevoix County",59900,562,675,778,868,675,810,934,1042,"MICHIGAN Charlevoix County"]
[null,"MICHIGAN","Cheboygan County","Cheboygan County",47700,495,595,686,766,594,714,824,919,"MICHIGAN Cheboygan County"]
[null,"MICHIGAN","Chippewa County","Chippewa County",56500,530,636,735,820,636,763,882,984,"MICHIGAN Chippewa County"]
[null,"MICHIGAN","Clare County","Clare County",44100,495,595,686,766,594,714,824,919,"MICHIGAN Clare County"]
[null,"MICHIGAN","Clinton County","Clinton County",64200,602,722,835,931,723,867,1002,1117,"MICHIGAN Clinton County"]
[null,"MICHIGAN","Crawford County","Crawford County",49400,495,595,686,766,594,714,824,919,"MICHIGAN Crawford County"]
[null,"MICHIGAN","Delta County","Delta County",54800,514,617,712,795,617,741,855,954,"MICHIGAN Delta County"]
[null,"MICHIGAN","Dickinson County","Dickinson County",56000,525,630,728,812,630,756,873,975,"MICHIGAN Dickinson County"]
[null,"MICHIGAN","Eaton County","Eaton County",64200,602,722,835,931,723,867,1002,1117,"MICHIGAN Eaton County"]
[null,"MICHIGAN","Emmet County","Emmet County",65500,614,737,851,950,737,885,1022,1140,"MICHIGAN Emmet County"]
[null,"MICHIGAN","Genesee County","Genesee County",53300,500,600,693,773,600,720,831,928,"MICHIGAN Genesee County"]
[null,"MICHIGAN","Gladwin County","Gladwin County",46500,495,595,686,766,594,714,824,919,"MICHIGAN Gladwin County"]
[null,"MICHIGAN","Gogebic County","Gogebic County",49100,495,595,686,766,594,714,824,919,"MICHIGAN Gogebic County"]
[null,"MICHIGAN","Grand Traverse County","Grand Traverse County",59600,559,671,775,865,671,805,930,1038,"MICHIGAN Grand Traverse County"]
[null,"MICHIGAN","Gratiot County","Gratiot County",53000,496,596,689,768,596,715,827,922,"MICHIGAN Gratiot County"]
[null,"MICHIGAN","Hillsdale County","Hillsdale County",53200,499,598,691,772,599,718,830,927,"MICHIGAN Hillsdale County"]
[null,"MICHIGAN","Houghton County","Houghton County",50500,495,595,686,766,594,714,824,919,"MICHIGAN Houghton County"]
[null,"MICHIGAN","Huron County","Huron County",52300,495,595,686,766,594,714,824,919,"MICHIGAN Huron County"]
[null,"MICHIGAN","Ingham County","Ingham County",64200,602,722,835,931,723,867,1002,1117,"MICHIGAN Ingham County"]
[null,"MICHIGAN","Ionia County","Ionia County",56500,530,636,735,820,636,763,882,984,"MICHIGAN Ionia County"]
[null,"MICHIGAN","Iosco County","Iosco County",46800,495,595,686,766,594,714,824,919,"MICHIGAN Iosco County"]
[null,"MICHIGAN","Iron County","Iron County",48200,495,595,686,766,594,714,824,919,"MICHIGAN Iron County"]
[null,"MICHIGAN","Isabella County","Isabella County",50800,500,600,693,773,600,720,831,928,"MICHIGAN Isabella County"]
[null,"MICHIGAN","Jackson County","Jackson County",56400,529,635,733,818,635,762,880,982,"MICHIGAN Jackson County"]
[null,"MICHIGAN","Kalamazoo County","Kalamazoo County",58000,555,666,770,858,666,799,924,1030,"MICHIGAN Kalamazoo County"]
[null,"MICHIGAN","Kalkaska County","Kalkaska County",48900,495,595,686,766,594,714,824,919,"MICHIGAN Kalkaska County"]
[null,"MICHIGAN","Kent County","Kent County",62800,586,703,812,906,703,844,975,1087,"MICHIGAN Kent County"]
[null,"MICHIGAN","Keweenaw County","Keweenaw County",50500,495,595,686,766,594,714,824,919,"MICHIGAN Keweenaw County"]
[null,"MICHIGAN","Lake County","Lake County",40600,495,595,686,766,594,714,824,919,"MICHIGAN Lake County"]
[null,"MICHIGAN","Lapeer County","Lapeer County",64600,606,727,840,937,727,873,1008,1125,"MICHIGAN Lapeer County"]
[null,"MICHIGAN","Leelanau County","Leelanau County",67500,633,760,877,978,759,912,1053,1174,"MICHIGAN Leelanau County"]
[null,"MICHIGAN","Lenawee County","Lenawee County",57400,568,682,788,878,682,819,945,1054,"MICHIGAN Lenawee County"]
[null,"MICHIGAN","Livingston County","Livingston County",79300,744,892,1031,1150,893,1071,1237,1380,"MICHIGAN Livingston County"]
[null,"MICHIGAN","Luce County","Luce County",52000,495,595,686,766,594,714,824,919,"MICHIGAN Luce County"]
[null,"MICHIGAN","Mackinac County","Mackinac County",53000,496,596,689,768,596,715,827,922,"MICHIGAN Mackinac County"]
[null,"MICHIGAN","Macomb County","Macomb County",64600,606,727,840,937,727,873,1008,1125,"MICHIGAN Macomb County"]
[null,"MICHIGAN","Manistee County","Manistee County",52200,495,595,686,766,594,714,824,919,"MICHIGAN Manistee County"]
[null,"MICHIGAN","Marquette County","Marquette County",58600,586,703,812,906,703,844,975,1087,"MICHIGAN Marquette County"]
[null,"MICHIGAN","Mason County","Mason County",52100,495,595,686,766,594,714,824,919,"MICHIGAN Mason County"]
[null,"MICHIGAN","Mecosta County","Mecosta County",52200,495,595,686,766,594,714,824,919,"MICHIGAN Mecosta County"]
[null,"MICHIGAN","Menominee County","Menominee County",52000,495,595,686,766,594,714,824,919,"MICHIGAN Menominee County"]
[null,"MICHIGAN","Midland County","Midland County",66100,620,743,859,958,744,892,1031,1150,"MICHIGAN Midland County"]
[null,"MICHIGAN","Missaukee County","Missaukee County",48300,495,595,686,766,594,714,824,919,"MICHIGAN Missaukee County"]
[null,"MICHIGAN","Monroe County","Monroe County",63800,598,718,830,926,718,862,996,1111,"MICHIGAN Monroe County"]
[null,"MICHIGAN","Montcalm County","Montcalm County",48400,495,595,686,766,594,714,824,919,"MICHIGAN Montcalm County"]
[null,"MICHIGAN","Montmorency County","Montmorency County",44000,495,595,686,766,594,714,824,919,"MICHIGAN Montmorency County"]
[null,"MICHIGAN","Muskegon County","Muskegon County",49400,495,595,686,766,594,714,824,919,{"$f":"B2309&\" \"&D2309","v":"MICHIGAN Muskegon County"}]
[null,"MICHIGAN","Newaygo County","Newaygo County",52500,495,595,686,766,594,714,824,919,"MICHIGAN Newaygo County"]
[null,"MICHIGAN","Oakland County","Oakland County",64600,606,727,840,937,727,873,1008,1125,"MICHIGAN Oakland County"]
[null,"MICHIGAN","Oceana County","Oceana County",50100,495,595,686,766,594,714,824,919,"MICHIGAN Oceana County"]
[null,"MICHIGAN","Ogemaw County","Ogemaw County",44300,495,595,686,766,594,714,824,919,"MICHIGAN Ogemaw County"]
[null,"MICHIGAN","Ontonagon County","Ontonagon County",48700,495,595,686,766,594,714,824,919,"MICHIGAN Ontonagon County"]
[null,"MICHIGAN","Osceola County","Osceola County",48400,495,595,686,766,594,714,824,919,"MICHIGAN Osceola County"]
[null,"MICHIGAN","Oscoda County","Oscoda County",41000,495,595,686,766,594,714,824,919,"MICHIGAN Oscoda County"]
[null,"MICHIGAN","Otsego County","Otsego County",56400,529,635,733,818,635,762,880,982,"MICHIGAN Otsego County"]
[null,"MICHIGAN","Ottawa County","Ottawa County",68600,641,768,888,991,769,922,1065,1189,"MICHIGAN Ottawa County"]
[null,"MICHIGAN","Presque Isle County","Presque Isle County",47700,495,595,686,766,594,714,824,919,"MICHIGAN Presque Isle County"]
[null,"MICHIGAN","Roscommon County","Roscommon County",42100,495,595,686,766,594,714,824,919,"MICHIGAN Roscommon County"]
[null,"MICHIGAN","Saginaw County","Saginaw County",53600,503,603,696,777,603,724,836,933,"MICHIGAN Saginaw County"]
[null,"MICHIGAN","St. Clair County","St. Clair County",64600,606,727,840,937,727,873,1008,1125,"MICHIGAN St. Clair County"]
[null,"MICHIGAN","St. Joseph County","St. Joseph County",55000,515,618,715,797,618,742,858,957,"MICHIGAN St. Joseph County"]
[null,"MICHIGAN","Sanilac County","Sanilac County",51300,495,595,686,766,594,714,824,919,"MICHIGAN Sanilac County"]
[null,"MICHIGAN","Schoolcraft County","Schoolcraft County",51600,495,595,686,766,594,714,824,919,"MICHIGAN Schoolcraft County"]
[null,"MICHIGAN","Shiawassee County","Shiawassee County",58000,543,652,754,841,652,783,905,1009,"MICHIGAN Shiawassee County"]
[null,"MICHIGAN","Tuscola County","Tuscola County",53700,503,605,698,778,604,726,837,934,"MICHIGAN Tuscola County"]
[null,"MICHIGAN","Van Buren County","Van Buren County",58000,555,666,770,858,666,799,924,1030,"MICHIGAN Van Buren County"]
[null,"MICHIGAN","Washtenaw County","Washtenaw County",87400,820,983,1136,1267,984,1180,1363,1521,"MICHIGAN Washtenaw County"]
[null,"MICHIGAN","Wayne County","Wayne County",64600,606,727,840,937,727,873,1008,1125,"MICHIGAN Wayne County"]
[null,"MICHIGAN","Wexford County","Wexford County",51500,495,595,686,766,594,714,824,919,"MICHIGAN Wexford County"]
[null,"MINNESOTA","Aitkin County","Aitkin County",51300,569,683,789,881,683,820,947,1057,"MINNESOTA Aitkin County"]
[null,"MINNESOTA","Anoka County","Anoka County",82900,778,933,1078,1202,933,1120,1293,1443,"MINNESOTA Anoka County"]
[null,"MINNESOTA","Becker County","Becker County",59900,569,683,789,881,683,820,947,1057,"MINNESOTA Becker County"]
[null,"MINNESOTA","Beltrami County","Beltrami County",58700,569,683,789,881,683,820,947,1057,"MINNESOTA Beltrami County"]
[null,"MINNESOTA","Benton County","Benton County",69600,648,777,898,1002,777,933,1078,1203,"MINNESOTA Benton County"]
[null,"MINNESOTA","Big Stone County","Big Stone County",56300,569,683,789,881,683,820,947,1057,"MINNESOTA Big Stone County"]
[null,"MINNESOTA","Blue Earth County","Blue Earth County",67000,628,753,871,972,753,904,1045,1167,"MINNESOTA Blue Earth County"]
[null,"MINNESOTA","Brown County","Brown County",64700,606,728,841,938,728,874,1009,1126,"MINNESOTA Brown County"]
[null,"MINNESOTA","Carlton County","Carlton County",64300,603,723,836,932,724,868,1003,1119,"MINNESOTA Carlton County"]
[null,"MINNESOTA","Carver County","Carver County",82900,778,933,1078,1202,933,1120,1293,1443,"MINNESOTA Carver County"]
[null,"MINNESOTA","Cass County","Cass County",53200,569,683,789,881,683,820,947,1057,"MINNESOTA Cass County"]
[null,"MINNESOTA","Chippewa County","Chippewa County",61800,580,696,803,896,696,835,964,1075,"MINNESOTA Chippewa County"]
[null,"MINNESOTA","Chisago County","Chisago County",82900,778,933,1078,1202,933,1120,1293,1443,"MINNESOTA Chisago County"]
[null,"MINNESOTA","Clay County","Clay County",72100,676,811,937,1046,811,973,1125,1255,"MINNESOTA Clay County"]
[null,"MINNESOTA","Clearwater County","Clearwater County",50400,569,683,789,881,683,820,947,1057,"MINNESOTA Clearwater County"]
[null,"MINNESOTA","Cook County","Cook County",60100,569,683,789,881,683,820,947,1057,"MINNESOTA Cook County"]
[null,"MINNESOTA","Cottonwood County","Cottonwood County",54800,569,683,789,881,683,820,947,1057,"MINNESOTA Cottonwood County"]
[null,"MINNESOTA","Crow Wing County","Crow Wing County",59400,569,683,789,881,683,820,947,1057,"MINNESOTA Crow Wing County"]
[null,"MINNESOTA","Dakota County","Dakota County",82900,778,933,1078,1202,933,1120,1293,1443,"MINNESOTA Dakota County"]
[null,"MINNESOTA","Dodge County","Dodge County",86300,792,951,1098,1226,951,1141,1318,1471,"MINNESOTA Dodge County"]
[null,"MINNESOTA","Douglas County","Douglas County",65200,611,733,848,946,734,880,1017,1135,"MINNESOTA Douglas County"]
[null,"MINNESOTA","Faribault County","Faribault County",57500,569,683,789,881,683,820,947,1057,"MINNESOTA Faribault County"]
[null,"MINNESOTA","Fillmore County","Fillmore County",64800,608,730,842,940,729,876,1011,1128,"MINNESOTA Fillmore County"]
[null,"MINNESOTA","Freeborn County","Freeborn County",60000,569,683,789,881,683,820,947,1057,"MINNESOTA Freeborn County"]
[null,"MINNESOTA","Goodhue County","Goodhue County",72600,681,817,944,1053,817,981,1133,1264,"MINNESOTA Goodhue County"]
[null,"MINNESOTA","Grant County","Grant County",56700,569,683,789,881,683,820,947,1057,"MINNESOTA Grant County"]
[null,"MINNESOTA","Hennepin County","Hennepin County",82900,778,933,1078,1202,933,1120,1293,1443,"MINNESOTA Hennepin County"]
[null,"MINNESOTA","Houston County","Houston County",66300,622,746,862,962,747,895,1035,1155,"MINNESOTA Houston County"]
[null,"MINNESOTA","Hubbard County","Hubbard County",57500,569,683,789,881,683,820,947,1057,"MINNESOTA Hubbard County"]
[null,"MINNESOTA","Isanti County","Isanti County",82900,778,933,1078,1202,933,1120,1293,1443,"MINNESOTA Isanti County"]
[null,"MINNESOTA","Itasca County","Itasca County",60700,569,683,789,881,683,820,947,1057,"MINNESOTA Itasca County"]
[null,"MINNESOTA","Jackson County","Jackson County",61400,576,691,798,891,691,829,958,1069,"MINNESOTA Jackson County"]
[null,"MINNESOTA","Kanabec County","Kanabec County",54700,569,683,789,881,683,820,947,1057,"MINNESOTA Kanabec County"]
[null,"MINNESOTA","Kandiyohi County","Kandiyohi County",63700,597,717,828,923,717,861,993,1108,"MINNESOTA Kandiyohi County"]
[null,"MINNESOTA","Kittson County","Kittson County",67700,635,762,880,982,762,915,1056,1179,"MINNESOTA Kittson County"]
[null,"MINNESOTA","Koochiching County","Koochiching County",59100,569,683,789,881,683,820,947,1057,"MINNESOTA Koochiching County"]
[null,"MINNESOTA","Lac qui Parle County","Lac qui Parle County",59800,569,683,789,881,683,820,947,1057,"MINNESOTA Lac qui Parle County"]
[null,"MINNESOTA","Lake County","Lake County",61500,576,692,800,892,692,831,960,1071,"MINNESOTA Lake County"]
[null,"MINNESOTA","Lake of the Woods County","Lake of the Woods County",50300,569,683,789,881,683,820,947,1057,"MINNESOTA Lake of the Woods County"]
[null,"MINNESOTA","Le Sueur County","Le Sueur County",71800,673,808,933,1041,808,970,1120,1249,"MINNESOTA Le Sueur County"]
[null,"MINNESOTA","Lincoln County","Lincoln County",63500,595,715,825,921,714,858,990,1105,"MINNESOTA Lincoln County"]
[null,"MINNESOTA","Lyon County","Lyon County",69500,651,782,903,1008,782,939,1084,1210,{"$f":"B2373&\" \"&D2373","v":"MINNESOTA Lyon County"}]
[null,"MINNESOTA","McLeod County","McLeod County",73100,685,822,950,1060,822,987,1140,1272,"MINNESOTA McLeod County"]
[null,"MINNESOTA","Mahnomen County","Mahnomen County",47000,569,683,789,881,683,820,947,1057,"MINNESOTA Mahnomen County"]
[null,"MINNESOTA","Marshall County","Marshall County",65300,613,735,849,947,735,882,1019,1137,"MINNESOTA Marshall County"]
[null,"MINNESOTA","Martin County","Martin County",61200,574,688,795,887,689,826,954,1065,"MINNESOTA Martin County"]
[null,"MINNESOTA","Meeker County","Meeker County",63400,595,713,824,920,714,856,989,1104,"MINNESOTA Meeker County"]
[null,"MINNESOTA","Mille Lacs County","Mille Lacs County",58100,569,683,789,881,683,820,947,1057,"MINNESOTA Mille Lacs County"]
[null,"MINNESOTA","Morrison County","Morrison County",59400,569,683,789,881,683,820,947,1057,"MINNESOTA Morrison County"]
[null,"MINNESOTA","Mower County","Mower County",61900,581,697,805,898,697,837,966,1078,"MINNESOTA Mower County"]
[null,"MINNESOTA","Murray County","Murray County",60100,569,683,789,881,683,820,947,1057,"MINNESOTA Murray County"]
[null,"MINNESOTA","Nicollet County","Nicollet County",67000,628,753,871,972,753,904,1045,1167,"MINNESOTA Nicollet County"]
[null,"MINNESOTA","Nobles County","Nobles County",56600,569,683,789,881,683,820,947,1057,"MINNESOTA Nobles County"]
[null,"MINNESOTA","Norman County","Norman County",58400,569,683,789,881,683,820,947,1057,"MINNESOTA Norman County"]
[null,"MINNESOTA","Olmsted County","Olmsted County",86300,792,951,1098,1226,951,1141,1318,1471,"MINNESOTA Olmsted County"]
[null,"MINNESOTA","Otter Tail County","Otter Tail County",59700,569,683,789,881,683,820,947,1057,"MINNESOTA Otter Tail County"]
[null,"MINNESOTA","Pennington County","Pennington County",60900,571,686,791,883,686,823,950,1060,"MINNESOTA Pennington County"]
[null,"MINNESOTA","Pine County","Pine County",54800,569,683,789,881,683,820,947,1057,"MINNESOTA Pine County"]
[null,"MINNESOTA","Pipestone County","Pipestone County",58100,569,683,789,881,683,820,947,1057,"MINNESOTA Pipestone County"]
[null,"MINNESOTA","Polk County","Polk County",69800,655,786,907,1012,786,943,1089,1215,"MINNESOTA Polk County"]
[null,"MINNESOTA","Pope County","Pope County",64000,600,720,832,928,720,864,999,1114,"MINNESOTA Pope County"]
[null,"MINNESOTA","Ramsey County","Ramsey County",82900,778,933,1078,1202,933,1120,1293,1443,"MINNESOTA Ramsey County"]
[null,"MINNESOTA","Red Lake County","Red Lake County",58600,569,683,789,881,683,820,947,1057,"MINNESOTA Red Lake County"]
[null,"MINNESOTA","Redwood County","Redwood County",59600,569,683,789,881,683,820,947,1057,"MINNESOTA Redwood County"]
[null,"MINNESOTA","Renville County","Renville County",59800,569,683,789,881,683,820,947,1057,"MINNESOTA Renville County"]
[null,"MINNESOTA","Rice County","Rice County",73800,692,831,960,1071,831,997,1152,1285,"MINNESOTA Rice County"]
[null,"MINNESOTA","Rock County","Rock County",59900,569,683,789,881,683,820,947,1057,"MINNESOTA Rock County"]
[null,"MINNESOTA","Roseau County","Roseau County",59800,569,683,789,881,683,820,947,1057,"MINNESOTA Roseau County"]
[null,"MINNESOTA","St. Louis County","St. Louis County",64300,603,723,836,932,724,868,1003,1119,"MINNESOTA St. Louis County"]
[null,"MINNESOTA","Scott County","Scott County",82900,778,933,1078,1202,933,1120,1293,1443,"MINNESOTA Scott County"]
[null,"MINNESOTA","Sherburne County","Sherburne County",82900,778,933,1078,1202,933,1120,1293,1443,"MINNESOTA Sherburne County"]
[null,"MINNESOTA","Sibley County","Sibley County",64700,606,728,841,938,728,874,1009,1126,"MINNESOTA Sibley County"]
[null,"MINNESOTA","Stearns County","Stearns County",69600,648,777,898,1002,777,933,1078,1203,"MINNESOTA Stearns County"]
[null,"MINNESOTA","Steele County","Steele County",73800,692,831,960,1071,831,997,1152,1285,"MINNESOTA Steele County"]
[null,"MINNESOTA","Stevens County","Stevens County",69400,651,781,902,1007,781,937,1083,1209,"MINNESOTA Stevens County"]
[null,"MINNESOTA","Swift County","Swift County",61700,578,695,802,895,694,834,963,1074,"MINNESOTA Swift County"]
[null,"MINNESOTA","Todd County","Todd County",54500,569,683,789,881,683,820,947,1057,"MINNESOTA Todd County"]
[null,"MINNESOTA","Traverse County","Traverse County",61900,581,697,805,898,697,837,966,1078,"MINNESOTA Traverse County"]
[null,"MINNESOTA","Wabasha County","Wabasha County",69000,646,776,897,1001,776,931,1077,1201,"MINNESOTA Wabasha County"]
[null,"MINNESOTA","Wadena County","Wadena County",51000,569,683,789,881,683,820,947,1057,"MINNESOTA Wadena County"]
[null,"MINNESOTA","Waseca County","Waseca County",65300,613,735,849,947,735,882,1019,1137,"MINNESOTA Waseca County"]
[null,"MINNESOTA","Washington County","Washington County",82900,778,933,1078,1202,933,1120,1293,1443,"MINNESOTA Washington County"]
[null,"MINNESOTA","Watonwan County","Watonwan County",62100,582,698,807,901,699,838,969,1081,"MINNESOTA Watonwan County"]
[null,"MINNESOTA","Wilkin County","Wilkin County",63100,591,710,820,915,710,852,984,1098,"MINNESOTA Wilkin County"]
[null,"MINNESOTA","Winona County","Winona County",66400,623,747,863,963,747,897,1036,1156,"MINNESOTA Winona County"]
[null,"MINNESOTA","Wright County","Wright County",82900,778,933,1078,1202,933,1120,1293,1443,"MINNESOTA Wright County"]
[null,"MINNESOTA","Yellow Medicine County","Yellow Medicine County",61200,574,688,795,887,689,826,954,1065,"MINNESOTA Yellow Medicine County"]
[null,"MISSISSIPPI","Adams County","Adams County",36500,398,478,552,616,478,574,663,739,"MISSISSIPPI Adams County"]
[null,"MISSISSIPPI","Alcorn County","Alcorn County",45400,426,511,590,658,511,613,708,790,"MISSISSIPPI Alcorn County"]
[null,"MISSISSIPPI","Amite County","Amite County",36700,398,478,552,616,478,574,663,739,"MISSISSIPPI Amite County"]
[null,"MISSISSIPPI","Attala County","Attala County",38100,398,478,552,616,478,574,663,739,"MISSISSIPPI Attala County"]
[null,"MISSISSIPPI","Benton County","Benton County",42600,400,480,554,618,480,576,665,742,"MISSISSIPPI Benton County"]
[null,"MISSISSIPPI","Bolivar County","Bolivar County",35800,398,478,552,616,478,574,663,739,"MISSISSIPPI Bolivar County"]
[null,"MISSISSIPPI","Calhoun County","Calhoun County",39000,398,478,552,616,478,574,663,739,"MISSISSIPPI Calhoun County"]
[null,"MISSISSIPPI","Carroll County","Carroll County",40700,445,535,617,688,534,642,741,826,"MISSISSIPPI Carroll County"]
[null,"MISSISSIPPI","Chickasaw County","Chickasaw County",40700,398,478,552,616,478,574,663,739,"MISSISSIPPI Chickasaw County"]
[null,"MISSISSIPPI","Choctaw County","Choctaw County",40400,398,478,552,616,478,574,663,739,"MISSISSIPPI Choctaw County"]
[null,"MISSISSIPPI","Claiborne County","Claiborne County",33200,398,478,552,616,478,574,663,739,"MISSISSIPPI Claiborne County"]
[null,"MISSISSIPPI","Clarke County","Clarke County",42700,400,481,555,620,480,577,666,744,"MISSISSIPPI Clarke County"]
[null,"MISSISSIPPI","Clay County","Clay County",41700,398,478,552,616,478,574,663,739,"MISSISSIPPI Clay County"]
[null,"MISSISSIPPI","Coahoma County","Coahoma County",31900,398,478,552,616,478,574,663,739,"MISSISSIPPI Coahoma County"]
[null,"MISSISSIPPI","Copiah County","Copiah County",58600,550,660,761,850,660,792,914,1020,"MISSISSIPPI Copiah County"]
[null,"MISSISSIPPI","Covington County","Covington County",43800,411,493,570,636,493,592,684,763,"MISSISSIPPI Covington County"]
[null,"MISSISSIPPI","DeSoto County","DeSoto County",56700,531,638,737,822,638,766,885,987,"MISSISSIPPI DeSoto County"]
[null,"MISSISSIPPI","Forrest County","Forrest County",51200,480,576,665,742,576,691,798,891,"MISSISSIPPI Forrest County"]
[null,"MISSISSIPPI","Franklin County","Franklin County",41900,398,478,552,616,478,574,663,739,{"$f":"B2437&\" \"&D2437","v":"MISSISSIPPI Franklin County"}]
[null,"MISSISSIPPI","George County","George County",56000,525,630,728,812,630,756,873,975,"MISSISSIPPI George County"]
[null,"MISSISSIPPI","Greene County","Greene County",45000,428,513,593,661,513,616,711,793,"MISSISSIPPI Greene County"]
[null,"MISSISSIPPI","Grenada County","Grenada County",47300,426,511,590,658,511,613,708,790,"MISSISSIPPI Grenada County"]
[null,"MISSISSIPPI","Hancock County","Hancock County",51100,487,585,676,755,585,702,811,906,"MISSISSIPPI Hancock County"]
[null,"MISSISSIPPI","Harrison County","Harrison County",51100,487,585,676,755,585,702,811,906,"MISSISSIPPI Harrison County"]
[null,"MISSISSIPPI","Hinds County","Hinds County",58600,550,660,761,850,660,792,914,1020,"MISSISSIPPI Hinds County"]
[null,"MISSISSIPPI","Holmes County","Holmes County",26800,398,478,552,616,478,574,663,739,"MISSISSIPPI Holmes County"]
[null,"MISSISSIPPI","Humphreys County","Humphreys County",32600,398,478,552,616,478,574,663,739,"MISSISSIPPI Humphreys County"]
[null,"MISSISSIPPI","Issaquena County","Issaquena County",26500,413,496,573,640,496,595,688,768,"MISSISSIPPI Issaquena County"]
[null,"MISSISSIPPI","Itawamba County","Itawamba County",46800,439,527,608,678,527,633,730,814,"MISSISSIPPI Itawamba County"]
[null,"MISSISSIPPI","Jackson County","Jackson County",56000,525,630,728,812,630,756,873,975,"MISSISSIPPI Jackson County"]
[null,"MISSISSIPPI","Jasper County","Jasper County",40200,398,478,552,616,478,574,663,739,"MISSISSIPPI Jasper County"]
[null,"MISSISSIPPI","Jefferson County","Jefferson County",31100,398,478,552,616,478,574,663,739,"MISSISSIPPI Jefferson County"]
[null,"MISSISSIPPI","Jefferson Davis County","Jefferson Davis County",37400,398,478,552,616,478,574,663,739,"MISSISSIPPI Jefferson Davis County"]
[null,"MISSISSIPPI","Jones County","Jones County",48900,413,496,573,640,496,595,688,768,"MISSISSIPPI Jones County"]
[null,"MISSISSIPPI","Kemper County","Kemper County",40700,398,478,552,616,478,574,663,739,"MISSISSIPPI Kemper County"]
[null,"MISSISSIPPI","Lafayette County","Lafayette County",63800,598,718,830,926,718,862,996,1111,"MISSISSIPPI Lafayette County"]
[null,"MISSISSIPPI","Lamar County","Lamar County",51200,480,576,665,742,576,691,798,891,"MISSISSIPPI Lamar County"]
[null,"MISSISSIPPI","Lauderdale County","Lauderdale County",50400,455,546,630,703,546,655,756,844,"MISSISSIPPI Lauderdale County"]
[null,"MISSISSIPPI","Lawrence County","Lawrence County",52600,466,560,646,721,559,672,775,865,"MISSISSIPPI Lawrence County"]
[null,"MISSISSIPPI","Leake County","Leake County",38800,398,478,552,616,478,574,663,739,"MISSISSIPPI Leake County"]
[null,"MISSISSIPPI","Lee County","Lee County",55100,516,620,716,800,620,744,860,960,"MISSISSIPPI Lee County"]
[null,"MISSISSIPPI","Leflore County","Leflore County",28300,398,478,552,616,478,574,663,739,"MISSISSIPPI Leflore County"]
[null,"MISSISSIPPI","Lincoln County","Lincoln County",45400,426,511,590,658,511,613,708,790,"MISSISSIPPI Lincoln County"]
[null,"MISSISSIPPI","Lowndes County","Lowndes County",49100,460,552,638,712,552,663,766,855,"MISSISSIPPI Lowndes County"]
[null,"MISSISSIPPI","Madison County","Madison County",58600,550,660,761,850,660,792,914,1020,"MISSISSIPPI Madison County"]
[null,"MISSISSIPPI","Marion County","Marion County",45500,426,512,591,660,512,615,710,792,"MISSISSIPPI Marion County"]
[null,"MISSISSIPPI","Marshall County","Marshall County",40200,426,512,591,660,512,615,710,792,"MISSISSIPPI Marshall County"]
[null,"MISSISSIPPI","Monroe County","Monroe County",45700,428,515,594,663,514,618,713,796,"MISSISSIPPI Monroe County"]
[null,"MISSISSIPPI","Montgomery County","Montgomery County",41000,398,478,552,616,478,574,663,739,"MISSISSIPPI Montgomery County"]
[null,"MISSISSIPPI","Neshoba County","Neshoba County",40900,398,478,552,616,478,574,663,739,"MISSISSIPPI Neshoba County"]
[null,"MISSISSIPPI","Newton County","Newton County",46500,436,523,605,675,523,628,726,810,"MISSISSIPPI Newton County"]
[null,"MISSISSIPPI","Noxubee County","Noxubee County",30300,398,478,552,616,478,574,663,739,"MISSISSIPPI Noxubee County"]
[null,"MISSISSIPPI","Oktibbeha County","Oktibbeha County",50400,473,567,655,731,567,681,786,877,"MISSISSIPPI Oktibbeha County"]
[null,"MISSISSIPPI","Panola County","Panola County",40900,398,478,552,616,478,574,663,739,"MISSISSIPPI Panola County"]
[null,"MISSISSIPPI","Pearl River County","Pearl River County",50800,476,572,660,737,572,687,792,885,"MISSISSIPPI Pearl River County"]
[null,"MISSISSIPPI","Perry County","Perry County",51200,480,576,665,742,576,691,798,891,"MISSISSIPPI Perry County"]
[null,"MISSISSIPPI","Pike County","Pike County",42400,398,478,552,616,478,574,663,739,"MISSISSIPPI Pike County"]
[null,"MISSISSIPPI","Pontotoc County","Pontotoc County",50800,476,572,660,737,572,687,792,885,"MISSISSIPPI Pontotoc County"]
[null,"MISSISSIPPI","Prentiss County","Prentiss County",44100,413,496,573,640,496,595,688,768,"MISSISSIPPI Prentiss County"]
[null,"MISSISSIPPI","Quitman County","Quitman County",30500,398,478,552,616,478,574,663,739,"MISSISSIPPI Quitman County"]
[null,"MISSISSIPPI","Rankin County","Rankin County",58600,550,660,761,850,660,792,914,1020,"MISSISSIPPI Rankin County"]
[null,"MISSISSIPPI","Scott County","Scott County",43400,407,488,564,630,489,586,677,756,"MISSISSIPPI Scott County"]
[null,"MISSISSIPPI","Sharkey County","Sharkey County",40500,398,478,552,616,478,574,663,739,"MISSISSIPPI Sharkey County"]
[null,"MISSISSIPPI","Simpson County","Simpson County",45800,430,516,595,665,516,619,714,798,"MISSISSIPPI Simpson County"]
[null,"MISSISSIPPI","Smith County","Smith County",47800,448,538,621,693,538,646,746,832,"MISSISSIPPI Smith County"]
[null,"MISSISSIPPI","Stone County","Stone County",51100,487,585,676,755,585,702,811,906,"MISSISSIPPI Stone County"]
[null,"MISSISSIPPI","Sunflower County","Sunflower County",32900,398,478,552,616,478,574,663,739,"MISSISSIPPI Sunflower County"]
[null,"MISSISSIPPI","Tallahatchie County","Tallahatchie County",33400,398,478,552,616,478,574,663,739,"MISSISSIPPI Tallahatchie County"]
[null,"MISSISSIPPI","Tate County","Tate County",51400,482,578,668,746,579,694,802,895,"MISSISSIPPI Tate County"]
[null,"MISSISSIPPI","Tippah County","Tippah County",43300,406,487,563,628,488,585,675,754,"MISSISSIPPI Tippah County"]
[null,"MISSISSIPPI","Tishomingo County","Tishomingo County",41800,398,478,552,616,478,574,663,739,"MISSISSIPPI Tishomingo County"]
[null,"MISSISSIPPI","Tunica County","Tunica County",35000,426,512,591,660,512,615,710,792,"MISSISSIPPI Tunica County"]
[null,"MISSISSIPPI","Union County","Union County",44400,416,500,577,645,500,600,693,774,"MISSISSIPPI Union County"]
[null,"MISSISSIPPI","Walthall County","Walthall County",41700,413,496,573,640,496,595,688,768,"MISSISSIPPI Walthall County"]
[null,"MISSISSIPPI","Warren County","Warren County",55800,523,628,725,810,628,754,870,972,"MISSISSIPPI Warren County"]
[null,"MISSISSIPPI","Washington County","Washington County",35000,398,478,552,616,478,574,663,739,"MISSISSIPPI Washington County"]
[null,"MISSISSIPPI","Wayne County","Wayne County",38800,398,478,552,616,478,574,663,739,"MISSISSIPPI Wayne County"]
[null,"MISSISSIPPI","Webster County","Webster County",47400,445,533,616,687,534,640,739,825,"MISSISSIPPI Webster County"]
[null,"MISSISSIPPI","Wilkinson County","Wilkinson County",40700,398,478,552,616,478,574,663,739,"MISSISSIPPI Wilkinson County"]
[null,"MISSISSIPPI","Winston County","Winston County",43300,406,487,563,628,488,585,675,754,"MISSISSIPPI Winston County"]
[null,"MISSISSIPPI","Yalobusha County","Yalobusha County",45400,413,496,573,640,496,595,688,768,"MISSISSIPPI Yalobusha County"]
[null,"MISSISSIPPI","Yazoo County","Yazoo County",36900,398,478,552,616,478,574,663,739,"MISSISSIPPI Yazoo County"]
[null,"MISSOURI","Adair County","Adair County",53900,493,592,684,763,592,711,821,916,{"$f":"B2501&\" \"&D2501","v":"MISSOURI Adair County"}]
[null,"MISSOURI","Andrew County","Andrew County",57000,534,641,741,827,641,769,889,993,"MISSOURI Andrew County"]
[null,"MISSOURI","Atchison County","Atchison County",58500,548,658,760,848,658,790,912,1018,"MISSOURI Atchison County"]
[null,"MISSOURI","Audrain County","Audrain County",53200,499,598,691,772,599,718,830,927,"MISSOURI Audrain County"]
[null,"MISSOURI","Barry County","Barry County",49300,463,555,641,715,555,666,769,858,"MISSOURI Barry County"]
[null,"MISSOURI","Barton County","Barton County",48400,455,546,630,703,546,655,756,844,"MISSOURI Barton County"]
[null,"MISSOURI","Bates County","Bates County",54700,513,616,711,793,615,739,853,952,"MISSOURI Bates County"]
[null,"MISSOURI","Benton County","Benton County",46700,455,546,630,703,546,655,756,844,"MISSOURI Benton County"]
[null,"MISSOURI","Bollinger County","Bollinger County",53400,501,601,694,775,601,721,833,930,"MISSOURI Bollinger County"]
[null,"MISSOURI","Boone County","Boone County",68500,642,771,890,993,771,925,1068,1192,"MISSOURI Boone County"]
[null,"MISSOURI","Buchanan County","Buchanan County",57000,534,641,741,827,641,769,889,993,"MISSOURI Buchanan County"]
[null,"MISSOURI","Butler County","Butler County",45000,455,546,630,703,546,655,756,844,"MISSOURI Butler County"]
[null,"MISSOURI","Caldwell County","Caldwell County",69900,656,787,908,1013,787,945,1090,1216,"MISSOURI Caldwell County"]
[null,"MISSOURI","Callaway County","Callaway County",63200,593,711,821,917,711,853,986,1101,"MISSOURI Callaway County"]
[null,"MISSOURI","Camden County","Camden County",51200,480,576,665,742,576,691,798,891,"MISSOURI Camden County"]
[null,"MISSOURI","Cape Girardeau County","Cape Girardeau County",53400,501,601,694,775,601,721,833,930,"MISSOURI Cape Girardeau County"]
[null,"MISSOURI","Carroll County","Carroll County",61400,533,640,738,823,639,768,886,988,"MISSOURI Carroll County"]
[null,"MISSOURI","Carter County","Carter County",36300,455,546,630,703,546,655,756,844,"MISSOURI Carter County"]
[null,"MISSOURI","Cass County","Cass County",69900,656,787,908,1013,787,945,1090,1216,"MISSOURI Cass County"]
[null,"MISSOURI","Cedar County","Cedar County",41200,455,546,630,703,546,655,756,844,"MISSOURI Cedar County"]
[null,"MISSOURI","Chariton County","Chariton County",56900,534,641,740,826,641,769,888,991,"MISSOURI Chariton County"]
[null,"MISSOURI","Christian County","Christian County",53700,503,605,698,778,604,726,837,934,"MISSOURI Christian County"]
[null,"MISSOURI","Clark County","Clark County",53700,503,605,698,778,604,726,837,934,"MISSOURI Clark County"]
[null,"MISSOURI","Clay County","Clay County",69900,656,787,908,1013,787,945,1090,1216,"MISSOURI Clay County"]
[null,"MISSOURI","Clinton County","Clinton County",69900,656,787,908,1013,787,945,1090,1216,"MISSOURI Clinton County"]
[null,"MISSOURI","Cole County","Cole County",67000,628,753,871,972,753,904,1045,1167,"MISSOURI Cole County"]
[null,"MISSOURI","Cooper County","Cooper County",56400,529,635,733,818,635,762,880,982,"MISSOURI Cooper County"]
[null,"MISSOURI","Crawford County","Crawford County",45200,455,546,630,703,546,655,756,844,"MISSOURI Crawford County"]
[null,"MISSOURI","Sullivan part","Sullivan city part of Crawford County",67100,629,755,872,973,755,906,1047,1168,"MISSOURI Sullivan city part of Crawford County"]
[null,"MISSOURI","Dade County","Dade County",40500,455,546,630,703,546,655,756,844,"MISSOURI Dade County"]
[null,"MISSOURI","Dallas County","Dallas County",48800,458,550,635,708,549,660,762,850,"MISSOURI Dallas County"]
[null,"MISSOURI","Daviess County","Daviess County",50600,475,570,658,733,570,684,789,880,"MISSOURI Daviess County"]
[null,"MISSOURI","DeKalb County","DeKalb County",57000,534,641,741,827,641,769,889,993,"MISSOURI DeKalb County"]
[null,"MISSOURI","Dent County","Dent County",46900,455,546,630,703,546,655,756,844,"MISSOURI Dent County"]
[null,"MISSOURI","Douglas County","Douglas County",38900,455,546,630,703,546,655,756,844,"MISSOURI Douglas County"]
[null,"MISSOURI","Dunklin County","Dunklin County",40100,455,546,630,703,546,655,756,844,"MISSOURI Dunklin County"]
[null,"MISSOURI","Franklin County","Franklin County",67100,629,755,872,973,755,906,1047,1168,"MISSOURI Franklin County"]
[null,"MISSOURI","Gasconade County","Gasconade County",52800,495,595,686,766,594,714,824,919,"MISSOURI Gasconade County"]
[null,"MISSOURI","Gentry County","Gentry County",48700,456,548,633,706,548,658,759,847,"MISSOURI Gentry County"]
[null,"MISSOURI","Greene County","Greene County",53700,503,605,698,778,604,726,837,934,"MISSOURI Greene County"]
[null,"MISSOURI","Grundy County","Grundy County",50600,475,570,658,733,570,684,789,880,"MISSOURI Grundy County"]
[null,"MISSOURI","Harrison County","Harrison County",47400,455,546,630,703,546,655,756,844,"MISSOURI Harrison County"]
[null,"MISSOURI","Henry County","Henry County",50800,476,572,660,737,572,687,792,885,"MISSOURI Henry County"]
[null,"MISSOURI","Hickory County","Hickory County",36500,455,546,630,703,546,655,756,844,"MISSOURI Hickory County"]
[null,"MISSOURI","Holt County","Holt County",53700,503,605,698,778,604,726,837,934,"MISSOURI Holt County"]
[null,"MISSOURI","Howard County","Howard County",68500,642,771,890,993,771,925,1068,1192,"MISSOURI Howard County"]
[null,"MISSOURI","Howell County","Howell County",43400,455,546,630,703,546,655,756,844,"MISSOURI Howell County"]
[null,"MISSOURI","Iron County","Iron County",43600,455,546,630,703,546,655,756,844,"MISSOURI Iron County"]
[null,"MISSOURI","Jackson County","Jackson County",69900,656,787,908,1013,787,945,1090,1216,"MISSOURI Jackson County"]
[null,"MISSOURI","Jasper County","Jasper County",51000,478,573,663,740,573,688,795,888,"MISSOURI Jasper County"]
[null,"MISSOURI","Jefferson County","Jefferson County",67100,629,755,872,973,755,906,1047,1168,"MISSOURI Jefferson County"]
[null,"MISSOURI","Johnson County","Johnson County",62700,588,706,815,910,705,847,978,1092,"MISSOURI Johnson County"]
[null,"MISSOURI","Knox County","Knox County",46900,455,546,630,703,546,655,756,844,"MISSOURI Knox County"]
[null,"MISSOURI","Laclede County","Laclede County",46600,455,546,630,703,546,655,756,844,"MISSOURI Laclede County"]
[null,"MISSOURI","Lafayette County","Lafayette County",69900,656,787,908,1013,787,945,1090,1216,"MISSOURI Lafayette County"]
[null,"MISSOURI","Lawrence County","Lawrence County",50800,476,572,660,737,572,687,792,885,"MISSOURI Lawrence County"]
[null,"MISSOURI","Lewis County","Lewis County",49000,463,555,641,715,555,666,769,858,"MISSOURI Lewis County"]
[null,"MISSOURI","Lincoln County","Lincoln County",67100,629,755,872,973,755,906,1047,1168,"MISSOURI Lincoln County"]
[null,"MISSOURI","Linn County","Linn County",51300,481,577,667,745,578,693,801,894,"MISSOURI Linn County"]
[null,"MISSOURI","Livingston County","Livingston County",56000,525,630,728,812,630,756,873,975,"MISSOURI Livingston County"]
[null,"MISSOURI","McDonald County","McDonald County",47900,450,540,623,695,540,648,747,834,"MISSOURI McDonald County"]
[null,"MISSOURI","Macon County","Macon County",50100,470,563,651,727,564,676,782,873,"MISSOURI Macon County"]
[null,"MISSOURI","Madison County","Madison County",42900,455,546,630,703,546,655,756,844,"MISSOURI Madison County"]
[null,"MISSOURI","Maries County","Maries County",54100,507,608,703,785,609,730,844,942,"MISSOURI Maries County"]
[null,"MISSOURI","Marion County","Marion County",55400,520,623,720,803,624,748,864,964,{"$f":"B2565&\" \"&D2565","v":"MISSOURI Marion County"}]
[null,"MISSOURI","Mercer County","Mercer County",48400,455,546,630,703,546,655,756,844,"MISSOURI Mercer County"]
[null,"MISSOURI","Miller County","Miller County",49100,460,552,638,712,552,663,766,855,"MISSOURI Miller County"]
[null,"MISSOURI","Mississippi County","Mississippi County",36400,455,546,630,703,546,655,756,844,"MISSOURI Mississippi County"]
[null,"MISSOURI","Moniteau County","Moniteau County",62200,583,700,808,902,700,840,970,1083,"MISSOURI Moniteau County"]
[null,"MISSOURI","Monroe County","Monroe County",54100,507,608,703,785,609,730,844,942,"MISSOURI Monroe County"]
[null,"MISSOURI","Montgomery County","Montgomery County",48500,455,546,630,703,546,655,756,844,"MISSOURI Montgomery County"]
[null,"MISSOURI","Morgan County","Morgan County",46900,455,546,630,703,546,655,756,844,"MISSOURI Morgan County"]
[null,"MISSOURI","New Madrid County","New Madrid County",47200,455,546,630,703,546,655,756,844,"MISSOURI New Madrid County"]
[null,"MISSOURI","Newton County","Newton County",51000,478,573,663,740,573,688,795,888,"MISSOURI Newton County"]
[null,"MISSOURI","Nodaway County","Nodaway County",59300,556,667,771,860,668,801,925,1032,"MISSOURI Nodaway County"]
[null,"MISSOURI","Oregon County","Oregon County",39300,455,546,630,703,546,655,756,844,"MISSOURI Oregon County"]
[null,"MISSOURI","Osage County","Osage County",67000,628,753,871,972,753,904,1045,1167,"MISSOURI Osage County"]
[null,"MISSOURI","Ozark County","Ozark County",41100,455,546,630,703,546,655,756,844,"MISSOURI Ozark County"]
[null,"MISSOURI","Pemiscot County","Pemiscot County",40800,455,546,630,703,546,655,756,844,"MISSOURI Pemiscot County"]
[null,"MISSOURI","Perry County","Perry County",57900,543,652,753,840,652,783,903,1008,"MISSOURI Perry County"]
[null,"MISSOURI","Pettis County","Pettis County",52900,496,596,688,767,596,715,825,921,"MISSOURI Pettis County"]
[null,"MISSOURI","Phelps County","Phelps County",54100,507,608,703,785,609,730,844,942,"MISSOURI Phelps County"]
[null,"MISSOURI","Pike County","Pike County",54200,508,610,705,786,610,732,846,943,"MISSOURI Pike County"]
[null,"MISSOURI","Platte County","Platte County",69900,656,787,908,1013,787,945,1090,1216,"MISSOURI Platte County"]
[null,"MISSOURI","Polk County","Polk County",50800,475,570,658,733,570,684,789,880,"MISSOURI Polk County"]
[null,"MISSOURI","Pulaski County","Pulaski County",57200,536,643,743,830,644,772,892,996,"MISSOURI Pulaski County"]
[null,"MISSOURI","Putnam County","Putnam County",45000,455,546,630,703,546,655,756,844,"MISSOURI Putnam County"]
[null,"MISSOURI","Ralls County","Ralls County",54600,516,620,716,800,620,744,860,960,"MISSOURI Ralls County"]
[null,"MISSOURI","Randolph County","Randolph County",46800,455,546,630,703,546,655,756,844,"MISSOURI Randolph County"]
[null,"MISSOURI","Ray County","Ray County",69900,656,787,908,1013,787,945,1090,1216,"MISSOURI Ray County"]
[null,"MISSOURI","Reynolds County","Reynolds County",41700,455,546,630,703,546,655,756,844,"MISSOURI Reynolds County"]
[null,"MISSOURI","Ripley County","Ripley County",35000,455,546,630,703,546,655,756,844,"MISSOURI Ripley County"]
[null,"MISSOURI","St. Charles County","St. Charles County",67100,629,755,872,973,755,906,1047,1168,"MISSOURI St. Charles County"]
[null,"MISSOURI","St. Clair County","St. Clair County",45500,455,546,630,703,546,655,756,844,"MISSOURI St. Clair County"]
[null,"MISSOURI","Ste. Genevieve County","Ste. Genevieve County",56700,531,638,737,822,638,766,885,987,"MISSOURI Ste. Genevieve County"]
[null,"MISSOURI","St. Francois County","St. Francois County",48800,458,550,635,708,549,660,762,850,"MISSOURI St. Francois County"]
[null,"MISSOURI","St. Louis County","St. Louis County",67100,629,755,872,973,755,906,1047,1168,"MISSOURI St. Louis County"]
[null,"MISSOURI","Saline County","Saline County",50000,468,562,650,725,562,675,780,870,"MISSOURI Saline County"]
[null,"MISSOURI","Schuyler County","Schuyler County",44800,455,546,630,703,546,655,756,844,"MISSOURI Schuyler County"]
[null,"MISSOURI","Scotland County","Scotland County",49400,470,563,651,727,564,676,782,873,"MISSOURI Scotland County"]
[null,"MISSOURI","Scott County","Scott County",49200,461,553,640,713,554,664,768,856,"MISSOURI Scott County"]
[null,"MISSOURI","Shannon County","Shannon County",39800,455,546,630,703,546,655,756,844,"MISSOURI Shannon County"]
[null,"MISSOURI","Shelby County","Shelby County",46500,455,546,630,703,546,655,756,844,"MISSOURI Shelby County"]
[null,"MISSOURI","Stoddard County","Stoddard County",47300,455,546,630,703,546,655,756,844,"MISSOURI Stoddard County"]
[null,"MISSOURI","Stone County","Stone County",48800,458,550,635,708,549,660,762,850,"MISSOURI Stone County"]
[null,"MISSOURI","Sullivan County","Sullivan County",42700,455,546,630,703,546,655,756,844,"MISSOURI Sullivan County"]
[null,"MISSOURI","Taney County","Taney County",49000,459,551,637,711,551,661,765,853,"MISSOURI Taney County"]
[null,"MISSOURI","Texas County","Texas County",41900,455,546,630,703,546,655,756,844,"MISSOURI Texas County"]
[null,"MISSOURI","Vernon County","Vernon County",46400,455,546,630,703,546,655,756,844,"MISSOURI Vernon County"]
[null,"MISSOURI","Warren County","Warren County",67100,629,755,872,973,755,906,1047,1168,"MISSOURI Warren County"]
[null,"MISSOURI","Washington County","Washington County",44500,455,546,630,703,546,655,756,844,"MISSOURI Washington County"]
[null,"MISSOURI","Wayne County","Wayne County",43800,455,546,630,703,546,655,756,844,"MISSOURI Wayne County"]
[null,"MISSOURI","Webster County","Webster County",53700,503,605,698,778,604,726,837,934,"MISSOURI Webster County"]
[null,"MISSOURI","Worth County","Worth County",48500,455,546,630,703,546,655,756,844,"MISSOURI Worth County"]
[null,"MISSOURI","Wright County","Wright County",37900,455,546,630,703,546,655,756,844,"MISSOURI Wright County"]
[null,"MISSOURI","St. Louis city","St. Louis city",67100,629,755,872,973,755,906,1047,1168,"MISSOURI St. Louis city"]
[null,"MONTANA","Beaverhead County","Beaverhead County",61700,555,666,770,858,666,799,924,1030,"MONTANA Beaverhead County"]
[null,"MONTANA","Big Horn County","Big Horn County",44600,545,653,755,842,654,784,906,1011,"MONTANA Big Horn County"]
[null,"MONTANA","Blaine County","Blaine County",42800,545,653,755,842,654,784,906,1011,"MONTANA Blaine County"]
[null,"MONTANA","Broadwater County","Broadwater County",49300,545,653,755,842,654,784,906,1011,"MONTANA Broadwater County"]
[null,"MONTANA","Carbon County","Carbon County",59500,568,682,788,878,682,819,945,1054,"MONTANA Carbon County"]
[null,"MONTANA","Carter County","Carter County",47800,545,653,755,842,654,784,906,1011,"MONTANA Carter County"]
[null,"MONTANA","Cascade County","Cascade County",56200,545,653,755,842,654,784,906,1011,"MONTANA Cascade County"]
[null,"MONTANA","Chouteau County","Chouteau County",53000,545,653,755,842,654,784,906,1011,"MONTANA Chouteau County"]
[null,"MONTANA","Custer County","Custer County",53800,545,653,755,842,654,784,906,1011,"MONTANA Custer County"]
[null,"MONTANA","Daniels County","Daniels County",54200,545,653,755,842,654,784,906,1011,"MONTANA Daniels County"]
[null,"MONTANA","Dawson County","Dawson County",65700,616,740,854,953,739,888,1025,1144,"MONTANA Dawson County"]
[null,"MONTANA","Deer Lodge County","Deer Lodge County",48200,545,653,755,842,654,784,906,1011,"MONTANA Deer Lodge County"]
[null,"MONTANA","Fallon County","Fallon County",69200,616,740,854,953,739,888,1025,1144,{"$f":"B2629&\" \"&D2629","v":"MONTANA Fallon County"}]
[null,"MONTANA","Fergus County","Fergus County",53200,545,653,755,842,654,784,906,1011,"MONTANA Fergus County"]
[null,"MONTANA","Flathead County","Flathead County",57700,545,653,755,842,654,784,906,1011,"MONTANA Flathead County"]
[null,"MONTANA","Gallatin County","Gallatin County",71100,666,800,924,1031,800,960,1109,1237,"MONTANA Gallatin County"]
[null,"MONTANA","Garfield County","Garfield County",57800,545,653,755,842,654,784,906,1011,"MONTANA Garfield County"]
[null,"MONTANA","Glacier County","Glacier County",47400,545,653,755,842,654,784,906,1011,"MONTANA Glacier County"]
[null,"MONTANA","Golden Valley County","Golden Valley County",55200,545,653,755,842,654,784,906,1011,"MONTANA Golden Valley County"]
[null,"MONTANA","Granite County","Granite County",51300,545,653,755,842,654,784,906,1011,"MONTANA Granite County"]
[null,"MONTANA","Hill County","Hill County",59400,557,668,772,862,669,802,927,1035,"MONTANA Hill County"]
[null,"MONTANA","Jefferson County","Jefferson County",74900,703,843,973,1086,843,1012,1168,1303,"MONTANA Jefferson County"]
[null,"MONTANA","Judith Basin County","Judith Basin County",53300,545,653,755,842,654,784,906,1011,"MONTANA Judith Basin County"]
[null,"MONTANA","Lake County","Lake County",49000,545,653,755,842,654,784,906,1011,"MONTANA Lake County"]
[null,"MONTANA","Lewis and Clark County","Lewis and Clark County",70800,664,797,920,1027,797,957,1104,1233,"MONTANA Lewis and Clark County"]
[null,"MONTANA","Liberty County","Liberty County",57600,545,653,755,842,654,784,906,1011,"MONTANA Liberty County"]
[null,"MONTANA","Lincoln County","Lincoln County",41700,545,653,755,842,654,784,906,1011,"MONTANA Lincoln County"]
[null,"MONTANA","McCone County","McCone County",61900,581,697,805,898,697,837,966,1078,"MONTANA McCone County"]
[null,"MONTANA","Madison County","Madison County",58600,550,660,761,850,660,792,914,1020,"MONTANA Madison County"]
[null,"MONTANA","Meagher County","Meagher County",45100,545,653,755,842,654,784,906,1011,"MONTANA Meagher County"]
[null,"MONTANA","Mineral County","Mineral County",44200,545,653,755,842,654,784,906,1011,"MONTANA Mineral County"]
[null,"MONTANA","Missoula County","Missoula County",61200,574,688,795,887,689,826,954,1065,"MONTANA Missoula County"]
[null,"MONTANA","Musselshell County","Musselshell County",53100,545,653,755,842,654,784,906,1011,"MONTANA Musselshell County"]
[null,"MONTANA","Park County","Park County",54000,545,653,755,842,654,784,906,1011,"MONTANA Park County"]
[null,"MONTANA","Petroleum County","Petroleum County",40800,545,653,755,842,654,784,906,1011,"MONTANA Petroleum County"]
[null,"MONTANA","Phillips County","Phillips County",58500,548,658,760,848,658,790,912,1018,"MONTANA Phillips County"]
[null,"MONTANA","Pondera County","Pondera County",52000,545,653,755,842,654,784,906,1011,"MONTANA Pondera County"]
[null,"MONTANA","Powder River County","Powder River County",53300,545,653,755,842,654,784,906,1011,"MONTANA Powder River County"]
[null,"MONTANA","Powell County","Powell County",50300,545,653,755,842,654,784,906,1011,"MONTANA Powell County"]
[null,"MONTANA","Prairie County","Prairie County",43200,545,653,755,842,654,784,906,1011,"MONTANA Prairie County"]
[null,"MONTANA","Ravalli County","Ravalli County",58400,548,657,759,847,657,789,911,1017,"MONTANA Ravalli County"]
[null,"MONTANA","Richland County","Richland County",70600,586,703,812,906,703,844,975,1087,"MONTANA Richland County"]
[null,"MONTANA","Roosevelt County","Roosevelt County",52900,545,653,755,842,654,784,906,1011,"MONTANA Roosevelt County"]
[null,"MONTANA","Rosebud County","Rosebud County",61100,573,687,794,886,687,825,953,1063,"MONTANA Rosebud County"]
[null,"MONTANA","Sanders County","Sanders County",36600,545,653,755,842,654,784,906,1011,"MONTANA Sanders County"]
[null,"MONTANA","Sheridan County","Sheridan County",61400,576,691,798,891,691,829,958,1069,"MONTANA Sheridan County"]
[null,"MONTANA","Silver Bow County","Silver Bow County",56000,545,653,755,842,654,784,906,1011,"MONTANA Silver Bow County"]
[null,"MONTANA","Stillwater County","Stillwater County",69400,651,781,902,1007,781,937,1083,1209,"MONTANA Stillwater County"]
[null,"MONTANA","Sweet Grass County","Sweet Grass County",60400,566,680,785,876,680,816,942,1051,"MONTANA Sweet Grass County"]
[null,"MONTANA","Teton County","Teton County",52600,545,653,755,842,654,784,906,1011,"MONTANA Teton County"]
[null,"MONTANA","Toole County","Toole County",65300,573,687,794,886,687,825,953,1063,"MONTANA Toole County"]
[null,"MONTANA","Treasure County","Treasure County",56800,545,653,755,842,654,784,906,1011,"MONTANA Treasure County"]
[null,"MONTANA","Valley County","Valley County",59700,560,672,776,866,672,807,931,1039,"MONTANA Valley County"]
[null,"MONTANA","Wheatland County","Wheatland County",46500,545,653,755,842,654,784,906,1011,"MONTANA Wheatland County"]
[null,"MONTANA","Wibaux County","Wibaux County",53300,545,653,755,842,654,784,906,1011,"MONTANA Wibaux County"]
[null,"MONTANA","Yellowstone County","Yellowstone County",59500,568,682,788,878,682,819,945,1054,"MONTANA Yellowstone County"]
[null,"NEBRASKA","Adams County","Adams County",63900,600,720,831,927,720,864,997,1113,"NEBRASKA Adams County"]
[null,"NEBRASKA","Antelope County","Antelope County",51500,561,673,777,867,673,808,933,1041,"NEBRASKA Antelope County"]
[null,"NEBRASKA","Arthur County","Arthur County",48200,561,673,777,867,673,808,933,1041,"NEBRASKA Arthur County"]
[null,"NEBRASKA","Banner County","Banner County",44100,561,673,777,867,673,808,933,1041,"NEBRASKA Banner County"]
[null,"NEBRASKA","Blaine County","Blaine County",45200,561,673,777,867,673,808,933,1041,"NEBRASKA Blaine County"]
[null,"NEBRASKA","Boone County","Boone County",54500,561,673,777,867,673,808,933,1041,"NEBRASKA Boone County"]
[null,"NEBRASKA","Box Butte County","Box Butte County",58300,561,673,777,867,673,808,933,1041,"NEBRASKA Box Butte County"]
[null,"NEBRASKA","Boyd County","Boyd County",46400,561,673,777,867,673,808,933,1041,"NEBRASKA Boyd County"]
[null,"NEBRASKA","Brown County","Brown County",49100,561,673,777,867,673,808,933,1041,"NEBRASKA Brown County"]
[null,"NEBRASKA","Buffalo County","Buffalo County",67200,630,756,873,975,756,907,1048,1170,"NEBRASKA Buffalo County"]
[null,"NEBRASKA","Burt County","Burt County",63100,573,687,794,886,687,825,953,1063,"NEBRASKA Burt County"]
[null,"NEBRASKA","Butler County","Butler County",66400,601,721,833,930,721,865,1000,1116,"NEBRASKA Butler County"]
[null,"NEBRASKA","Cass County","Cass County",73000,684,821,949,1058,821,985,1139,1270,"NEBRASKA Cass County"]
[null,"NEBRASKA","Cedar County","Cedar County",57300,561,673,777,867,673,808,933,1041,"NEBRASKA Cedar County"]
[null,"NEBRASKA","Chase County","Chase County",52000,561,673,777,867,673,808,933,1041,"NEBRASKA Chase County"]
[null,"NEBRASKA","Cherry County","Cherry County",52800,561,673,777,867,673,808,933,1041,"NEBRASKA Cherry County"]
[null,"NEBRASKA","Cheyenne County","Cheyenne County",64900,609,731,843,941,731,877,1012,1129,"NEBRASKA Cheyenne County"]
[null,"NEBRASKA","Clay County","Clay County",57800,561,673,777,867,673,808,933,1041,"NEBRASKA Clay County"]
[null,"NEBRASKA","Colfax County","Colfax County",58800,562,675,780,870,675,810,936,1044,"NEBRASKA Colfax County"]
[null,"NEBRASKA","Cuming County","Cuming County",62000,581,697,806,900,697,837,967,1080,"NEBRASKA Cuming County"]
[null,"NEBRASKA","Custer County","Custer County",52600,561,673,777,867,673,808,933,1041,{"$f":"B2693&\" \"&D2693","v":"NEBRASKA Custer County"}]
[null,"NEBRASKA","Dakota County","Dakota County",58500,559,671,775,865,671,805,930,1038,"NEBRASKA Dakota County"]
[null,"NEBRASKA","Dawes County","Dawes County",54400,561,673,777,867,673,808,933,1041,"NEBRASKA Dawes County"]
[null,"NEBRASKA","Dawson County","Dawson County",56000,561,673,777,867,673,808,933,1041,"NEBRASKA Dawson County"]
[null,"NEBRASKA","Deuel County","Deuel County",53300,561,673,777,867,673,808,933,1041,"NEBRASKA Deuel County"]
[null,"NEBRASKA","Dixon County","Dixon County",58500,559,671,775,865,671,805,930,1038,"NEBRASKA Dixon County"]
[null,"NEBRASKA","Dodge County","Dodge County",56400,561,673,777,867,673,808,933,1041,"NEBRASKA Dodge County"]
[null,"NEBRASKA","Douglas County","Douglas County",73000,684,821,949,1058,821,985,1139,1270,"NEBRASKA Douglas County"]
[null,"NEBRASKA","Dundy County","Dundy County",52900,561,673,777,867,673,808,933,1041,"NEBRASKA Dundy County"]
[null,"NEBRASKA","Fillmore County","Fillmore County",60800,568,682,788,878,682,819,945,1054,"NEBRASKA Fillmore County"]
[null,"NEBRASKA","Franklin County","Franklin County",53900,561,673,777,867,673,808,933,1041,"NEBRASKA Franklin County"]
[null,"NEBRASKA","Frontier County","Frontier County",56400,561,673,777,867,673,808,933,1041,"NEBRASKA Frontier County"]
[null,"NEBRASKA","Furnas County","Furnas County",51000,561,673,777,867,673,808,933,1041,"NEBRASKA Furnas County"]
[null,"NEBRASKA","Gage County","Gage County",59000,562,675,780,870,675,810,936,1044,"NEBRASKA Gage County"]
[null,"NEBRASKA","Garden County","Garden County",48900,561,673,777,867,673,808,933,1041,"NEBRASKA Garden County"]
[null,"NEBRASKA","Garfield County","Garfield County",49000,561,673,777,867,673,808,933,1041,"NEBRASKA Garfield County"]
[null,"NEBRASKA","Gosper County","Gosper County",58700,561,673,777,867,673,808,933,1041,"NEBRASKA Gosper County"]
[null,"NEBRASKA","Grant County","Grant County",46900,561,673,777,867,673,808,933,1041,"NEBRASKA Grant County"]
[null,"NEBRASKA","Greeley County","Greeley County",59500,561,673,777,867,673,808,933,1041,"NEBRASKA Greeley County"]
[null,"NEBRASKA","Hall County","Hall County",59500,562,675,780,870,675,810,936,1044,"NEBRASKA Hall County"]
[null,"NEBRASKA","Hamilton County","Hamilton County",63300,594,712,823,918,713,855,987,1102,"NEBRASKA Hamilton County"]
[null,"NEBRASKA","Harlan County","Harlan County",56500,561,673,777,867,673,808,933,1041,"NEBRASKA Harlan County"]
[null,"NEBRASKA","Hayes County","Hayes County",51800,561,673,777,867,673,808,933,1041,"NEBRASKA Hayes County"]
[null,"NEBRASKA","Hitchcock County","Hitchcock County",51400,561,673,777,867,673,808,933,1041,"NEBRASKA Hitchcock County"]
[null,"NEBRASKA","Holt County","Holt County",59700,562,675,780,870,675,810,936,1044,"NEBRASKA Holt County"]
[null,"NEBRASKA","Hooker County","Hooker County",50700,561,673,777,867,673,808,933,1041,"NEBRASKA Hooker County"]
[null,"NEBRASKA","Howard County","Howard County",59100,562,675,780,870,675,810,936,1044,"NEBRASKA Howard County"]
[null,"NEBRASKA","Jefferson County","Jefferson County",57700,562,675,780,870,675,810,936,1044,"NEBRASKA Jefferson County"]
[null,"NEBRASKA","Johnson County","Johnson County",60300,561,673,777,867,673,808,933,1041,"NEBRASKA Johnson County"]
[null,"NEBRASKA","Kearney County","Kearney County",66100,620,743,859,958,744,892,1031,1150,"NEBRASKA Kearney County"]
[null,"NEBRASKA","Keith County","Keith County",56900,562,675,780,870,675,810,936,1044,"NEBRASKA Keith County"]
[null,"NEBRASKA","Keya Paha County","Keya Paha County",46900,561,673,777,867,673,808,933,1041,"NEBRASKA Keya Paha County"]
[null,"NEBRASKA","Kimball County","Kimball County",55500,561,673,777,867,673,808,933,1041,"NEBRASKA Kimball County"]
[null,"NEBRASKA","Knox County","Knox County",53800,561,673,777,867,673,808,933,1041,"NEBRASKA Knox County"]
[null,"NEBRASKA","Lancaster County","Lancaster County",67800,636,763,881,983,763,916,1058,1180,"NEBRASKA Lancaster County"]
[null,"NEBRASKA","Lincoln County","Lincoln County",69000,636,763,881,983,763,916,1058,1180,"NEBRASKA Lincoln County"]
[null,"NEBRASKA","Logan County","Logan County",52000,561,673,777,867,673,808,933,1041,"NEBRASKA Logan County"]
[null,"NEBRASKA","Loup County","Loup County",44800,561,673,777,867,673,808,933,1041,"NEBRASKA Loup County"]
[null,"NEBRASKA","McPherson County","McPherson County",63600,596,716,826,922,716,859,992,1107,"NEBRASKA McPherson County"]
[null,"NEBRASKA","Madison County","Madison County",62500,586,703,812,906,703,844,975,1087,"NEBRASKA Madison County"]
[null,"NEBRASKA","Merrick County","Merrick County",58600,561,673,777,867,673,808,933,1041,"NEBRASKA Merrick County"]
[null,"NEBRASKA","Morrill County","Morrill County",49900,561,673,777,867,673,808,933,1041,"NEBRASKA Morrill County"]
[null,"NEBRASKA","Nance County","Nance County",53300,561,673,777,867,673,808,933,1041,"NEBRASKA Nance County"]
[null,"NEBRASKA","Nemaha County","Nemaha County",60300,566,678,784,875,679,814,941,1050,"NEBRASKA Nemaha County"]
[null,"NEBRASKA","Nuckolls County","Nuckolls County",45500,561,673,777,867,673,808,933,1041,"NEBRASKA Nuckolls County"]
[null,"NEBRASKA","Otoe County","Otoe County",64400,604,725,837,935,725,870,1005,1122,"NEBRASKA Otoe County"]
[null,"NEBRASKA","Pawnee County","Pawnee County",53300,561,673,777,867,673,808,933,1041,"NEBRASKA Pawnee County"]
[null,"NEBRASKA","Perkins County","Perkins County",68200,609,731,843,941,731,877,1012,1129,"NEBRASKA Perkins County"]
[null,"NEBRASKA","Phelps County","Phelps County",65000,609,731,845,942,731,877,1014,1131,"NEBRASKA Phelps County"]
[null,"NEBRASKA","Pierce County","Pierce County",62400,585,702,811,905,702,843,973,1086,"NEBRASKA Pierce County"]
[null,"NEBRASKA","Platte County","Platte County",63400,595,713,824,920,714,856,989,1104,"NEBRASKA Platte County"]
[null,"NEBRASKA","Polk County","Polk County",62500,586,703,812,906,703,844,975,1087,"NEBRASKA Polk County"]
[null,"NEBRASKA","Red Willow County","Red Willow County",59600,562,675,780,870,675,810,936,1044,"NEBRASKA Red Willow County"]
[null,"NEBRASKA","Richardson County","Richardson County",51500,561,673,777,867,673,808,933,1041,"NEBRASKA Richardson County"]
[null,"NEBRASKA","Rock County","Rock County",51400,561,673,777,867,673,808,933,1041,"NEBRASKA Rock County"]
[null,"NEBRASKA","Saline County","Saline County",56300,562,675,780,870,675,810,936,1044,"NEBRASKA Saline County"]
[null,"NEBRASKA","Sarpy County","Sarpy County",73000,684,821,949,1058,821,985,1139,1270,"NEBRASKA Sarpy County"]
[null,"NEBRASKA","Saunders County","Saunders County",73300,688,825,953,1063,825,990,1143,1276,"NEBRASKA Saunders County"]
[null,"NEBRASKA","Scotts Bluff County","Scotts Bluff County",53600,561,673,777,867,673,808,933,1041,"NEBRASKA Scotts Bluff County"]
[null,"NEBRASKA","Seward County","Seward County",76500,717,861,995,1110,861,1033,1194,1332,"NEBRASKA Seward County"]
[null,"NEBRASKA","Sheridan County","Sheridan County",46000,561,673,777,867,673,808,933,1041,"NEBRASKA Sheridan County"]
[null,"NEBRASKA","Sherman County","Sherman County",53600,561,673,777,867,673,808,933,1041,"NEBRASKA Sherman County"]
[null,"NEBRASKA","Sioux County","Sioux County",55200,561,673,777,867,673,808,933,1041,"NEBRASKA Sioux County"]
[null,"NEBRASKA","Stanton County","Stanton County",61200,574,688,795,887,689,826,954,1065,"NEBRASKA Stanton County"]
[null,"NEBRASKA","Thayer County","Thayer County",54600,561,673,777,867,673,808,933,1041,{"$f":"B2757&\" \"&D2757","v":"NEBRASKA Thayer County"}]
[null,"NEBRASKA","Thomas County","Thomas County",61100,573,687,794,886,687,825,953,1063,"NEBRASKA Thomas County"]
[null,"NEBRASKA","Thurston County","Thurston County",49100,561,673,777,867,673,808,933,1041,"NEBRASKA Thurston County"]
[null,"NEBRASKA","Valley County","Valley County",56000,561,673,777,867,673,808,933,1041,"NEBRASKA Valley County"]
[null,"NEBRASKA","Washington County","Washington County",73000,684,821,949,1058,821,985,1139,1270,"NEBRASKA Washington County"]
[null,"NEBRASKA","Wayne County","Wayne County",61400,576,691,798,891,691,829,958,1069,"NEBRASKA Wayne County"]
[null,"NEBRASKA","Webster County","Webster County",51400,561,673,777,867,673,808,933,1041,"NEBRASKA Webster County"]
[null,"NEBRASKA","Wheeler County","Wheeler County",54400,561,673,777,867,673,808,933,1041,"NEBRASKA Wheeler County"]
[null,"NEBRASKA","York County","York County",62700,588,706,815,910,705,847,978,1092,"NEBRASKA York County"]
[null,"NEVADA","Churchill County","Churchill County",67700,635,762,880,982,762,915,1056,1179,"NEVADA Churchill County"]
[null,"NEVADA","Clark County","Clark County",58000,576,692,800,892,692,831,960,1071,"NEVADA Clark County"]
[null,"NEVADA","Douglas County","Douglas County",74100,697,836,966,1077,837,1003,1159,1293,"NEVADA Douglas County"]
[null,"NEVADA","Elko County","Elko County",78700,738,886,1023,1141,885,1063,1227,1369,"NEVADA Elko County"]
[null,"NEVADA","Esmeralda County","Esmeralda County",60600,576,692,800,892,692,831,960,1071,"NEVADA Esmeralda County"]
[null,"NEVADA","Eureka County","Eureka County",71300,669,802,927,1035,803,963,1113,1242,"NEVADA Eureka County"]
[null,"NEVADA","Humboldt County","Humboldt County",73100,685,822,950,1060,822,987,1140,1272,"NEVADA Humboldt County"]
[null,"NEVADA","Lander County","Lander County",73600,681,818,945,1055,818,982,1134,1266,"NEVADA Lander County"]
[null,"NEVADA","Lincoln County","Lincoln County",53200,576,692,800,892,692,831,960,1071,"NEVADA Lincoln County"]
[null,"NEVADA","Lyon County","Lyon County",56800,576,692,800,892,692,831,960,1071,"NEVADA Lyon County"]
[null,"NEVADA","Mineral County","Mineral County",53200,576,692,800,892,692,831,960,1071,"NEVADA Mineral County"]
[null,"NEVADA","Nye County","Nye County",46800,576,692,800,892,692,831,960,1071,"NEVADA Nye County"]
[null,"NEVADA","Pershing County","Pershing County",66200,621,745,860,960,745,894,1032,1152,"NEVADA Pershing County"]
[null,"NEVADA","Storey County","Storey County",63000,606,727,840,937,727,873,1008,1125,"NEVADA Storey County"]
[null,"NEVADA","Washoe County","Washoe County",63000,606,727,840,937,727,873,1008,1125,"NEVADA Washoe County"]
[null,"NEVADA","White Pine County","White Pine County",65700,616,740,854,953,739,888,1025,1144,"NEVADA White Pine County"]
[null,"NEVADA","Carson City","Carson City",67400,632,758,876,977,759,910,1051,1173,"NEVADA Carson City"]
[null,"NEW HAMPSHIRE","Belknap County","Alton town",70500,661,793,916,1022,793,952,1100,1227,"NEW HAMPSHIRE Alton town"]
[null,"NEW HAMPSHIRE","Belknap County","Barnstead town",70500,661,793,916,1022,793,952,1100,1227,"NEW HAMPSHIRE Barnstead town"]
[null,"NEW HAMPSHIRE","Belknap County","Belmont town",70500,661,793,916,1022,793,952,1100,1227,"NEW HAMPSHIRE Belmont town"]
[null,"NEW HAMPSHIRE","Belknap County","Center Harbor town",70500,661,793,916,1022,793,952,1100,1227,"NEW HAMPSHIRE Center Harbor town"]
[null,"NEW HAMPSHIRE","Belknap County","Gilford town",70500,661,793,916,1022,793,952,1100,1227,"NEW HAMPSHIRE Gilford town"]
[null,"NEW HAMPSHIRE","Belknap County","Gilmanton town",70500,661,793,916,1022,793,952,1100,1227,"NEW HAMPSHIRE Gilmanton town"]
[null,"NEW HAMPSHIRE","Belknap County","Laconia city",70500,661,793,916,1022,793,952,1100,1227,"NEW HAMPSHIRE Laconia city"]
[null,"NEW HAMPSHIRE","Belknap County","Meredith town",70500,661,793,916,1022,793,952,1100,1227,"NEW HAMPSHIRE Meredith town"]
[null,"NEW HAMPSHIRE","Belknap County","New Hampton town",70500,661,793,916,1022,793,952,1100,1227,"NEW HAMPSHIRE New Hampton town"]
[null,"NEW HAMPSHIRE","Belknap County","Sanbornton town",70500,661,793,916,1022,793,952,1100,1227,"NEW HAMPSHIRE Sanbornton town"]
[null,"NEW HAMPSHIRE","Belknap County","Tilton town",70500,661,793,916,1022,793,952,1100,1227,"NEW HAMPSHIRE Tilton town"]
[null,"NEW HAMPSHIRE","Carroll County","Albany town",63000,660,792,915,1021,792,951,1098,1225,"NEW HAMPSHIRE Albany town"]
[null,"NEW HAMPSHIRE","Carroll County","Bartlett town",63000,660,792,915,1021,792,951,1098,1225,"NEW HAMPSHIRE Bartlett town"]
[null,"NEW HAMPSHIRE","Carroll County","Brookfield town",63000,660,792,915,1021,792,951,1098,1225,"NEW HAMPSHIRE Brookfield town"]
[null,"NEW HAMPSHIRE","Carroll County","Chatham town",63000,660,792,915,1021,792,951,1098,1225,"NEW HAMPSHIRE Chatham town"]
[null,"NEW HAMPSHIRE","Carroll County","Conway town",63000,660,792,915,1021,792,951,1098,1225,"NEW HAMPSHIRE Conway town"]
[null,"NEW HAMPSHIRE","Carroll County","Eaton town",63000,660,792,915,1021,792,951,1098,1225,"NEW HAMPSHIRE Eaton town"]
[null,"NEW HAMPSHIRE","Carroll County","Effingham town",63000,660,792,915,1021,792,951,1098,1225,"NEW HAMPSHIRE Effingham town"]
[null,"NEW HAMPSHIRE","Carroll County","Freedom town",63000,660,792,915,1021,792,951,1098,1225,"NEW HAMPSHIRE Freedom town"]
[null,"NEW HAMPSHIRE","Carroll County","Hale's location",63000,660,792,915,1021,792,951,1098,1225,"NEW HAMPSHIRE Hale's location"]
[null,"NEW HAMPSHIRE","Carroll County","Hart's Location town",63000,660,792,915,1021,792,951,1098,1225,"NEW HAMPSHIRE Hart's Location town"]
[null,"NEW HAMPSHIRE","Carroll County","Jackson town",63000,660,792,915,1021,792,951,1098,1225,"NEW HAMPSHIRE Jackson town"]
[null,"NEW HAMPSHIRE","Carroll County","Madison town",63000,660,792,915,1021,792,951,1098,1225,"NEW HAMPSHIRE Madison town"]
[null,"NEW HAMPSHIRE","Carroll County","Moultonborough town",63000,660,792,915,1021,792,951,1098,1225,"NEW HAMPSHIRE Moultonborough town"]
[null,"NEW HAMPSHIRE","Carroll County","Ossipee town",63000,660,792,915,1021,792,951,1098,1225,"NEW HAMPSHIRE Ossipee town"]
[null,"NEW HAMPSHIRE","Carroll County","Sandwich town",63000,660,792,915,1021,792,951,1098,1225,"NEW HAMPSHIRE Sandwich town"]
[null,"NEW HAMPSHIRE","Carroll County","Tamworth town",63000,660,792,915,1021,792,951,1098,1225,"NEW HAMPSHIRE Tamworth town"]
[null,"NEW HAMPSHIRE","Carroll County","Tuftonboro town",63000,660,792,915,1021,792,951,1098,1225,"NEW HAMPSHIRE Tuftonboro town"]
[null,"NEW HAMPSHIRE","Carroll County","Wakefield town",63000,660,792,915,1021,792,951,1098,1225,"NEW HAMPSHIRE Wakefield town"]
[null,"NEW HAMPSHIRE","Carroll County","Wolfeboro town",63000,660,792,915,1021,792,951,1098,1225,"NEW HAMPSHIRE Wolfeboro town"]
[null,"NEW HAMPSHIRE","Cheshire County","Alstead town",70200,660,792,915,1021,792,951,1098,1225,"NEW HAMPSHIRE Alstead town"]
[null,"NEW HAMPSHIRE","Cheshire County","Chesterfield town",70200,660,792,915,1021,792,951,1098,1225,"NEW HAMPSHIRE Chesterfield town"]
[null,"NEW HAMPSHIRE","Cheshire County","Dublin town",70200,660,792,915,1021,792,951,1098,1225,"NEW HAMPSHIRE Dublin town"]
[null,"NEW HAMPSHIRE","Cheshire County","Fitzwilliam town",70200,660,792,915,1021,792,951,1098,1225,"NEW HAMPSHIRE Fitzwilliam town"]
[null,"NEW HAMPSHIRE","Cheshire County","Gilsum town",70200,660,792,915,1021,792,951,1098,1225,"NEW HAMPSHIRE Gilsum town"]
[null,"NEW HAMPSHIRE","Cheshire County","Harrisville town",70200,660,792,915,1021,792,951,1098,1225,"NEW HAMPSHIRE Harrisville town"]
[null,"NEW HAMPSHIRE","Cheshire County","Hinsdale town",70200,660,792,915,1021,792,951,1098,1225,"NEW HAMPSHIRE Hinsdale town"]
[null,"NEW HAMPSHIRE","Cheshire County","Jaffrey town",70200,660,792,915,1021,792,951,1098,1225,"NEW HAMPSHIRE Jaffrey town"]
[null,"NEW HAMPSHIRE","Cheshire County","Keene city",70200,660,792,915,1021,792,951,1098,1225,{"$f":"B2821&\" \"&D2821","v":"NEW HAMPSHIRE Keene city"}]
[null,"NEW HAMPSHIRE","Cheshire County","Marlborough town",70200,660,792,915,1021,792,951,1098,1225,"NEW HAMPSHIRE Marlborough town"]
[null,"NEW HAMPSHIRE","Cheshire County","Marlow town",70200,660,792,915,1021,792,951,1098,1225,"NEW HAMPSHIRE Marlow town"]
[null,"NEW HAMPSHIRE","Cheshire County","Nelson town",70200,660,792,915,1021,792,951,1098,1225,"NEW HAMPSHIRE Nelson town"]
[null,"NEW HAMPSHIRE","Cheshire County","Richmond town",70200,660,792,915,1021,792,951,1098,1225,"NEW HAMPSHIRE Richmond town"]
[null,"NEW HAMPSHIRE","Cheshire County","Rindge town",70200,660,792,915,1021,792,951,1098,1225,"NEW HAMPSHIRE Rindge town"]
[null,"NEW HAMPSHIRE","Cheshire County","Roxbury town",70200,660,792,915,1021,792,951,1098,1225,"NEW HAMPSHIRE Roxbury town"]
[null,"NEW HAMPSHIRE","Cheshire County","Stoddard town",70200,660,792,915,1021,792,951,1098,1225,"NEW HAMPSHIRE Stoddard town"]
[null,"NEW HAMPSHIRE","Cheshire County","Sullivan town",70200,660,792,915,1021,792,951,1098,1225,"NEW HAMPSHIRE Sullivan town"]
[null,"NEW HAMPSHIRE","Cheshire County","Surry town",70200,660,792,915,1021,792,951,1098,1225,"NEW HAMPSHIRE Surry town"]
[null,"NEW HAMPSHIRE","Cheshire County","Swanzey town",70200,660,792,915,1021,792,951,1098,1225,"NEW HAMPSHIRE Swanzey town"]
[null,"NEW HAMPSHIRE","Cheshire County","Troy town",70200,660,792,915,1021,792,951,1098,1225,"NEW HAMPSHIRE Troy town"]
[null,"NEW HAMPSHIRE","Cheshire County","Walpole town",70200,660,792,915,1021,792,951,1098,1225,"NEW HAMPSHIRE Walpole town"]
[null,"NEW HAMPSHIRE","Cheshire County","Westmoreland town",70200,660,792,915,1021,792,951,1098,1225,"NEW HAMPSHIRE Westmoreland town"]
[null,"NEW HAMPSHIRE","Cheshire County","Winchester town",70200,660,792,915,1021,792,951,1098,1225,"NEW HAMPSHIRE Winchester town"]
[null,"NEW HAMPSHIRE","Coos County","Atkinson and Gilmanton Academy grant",54800,660,792,915,1021,792,951,1098,1225,"NEW HAMPSHIRE Atkinson and Gilmanton Academy grant"]
[null,"NEW HAMPSHIRE","Coos County","Beans grant",54800,660,792,915,1021,792,951,1098,1225,"NEW HAMPSHIRE Beans grant"]
[null,"NEW HAMPSHIRE","Coos County","Beans purchase",54800,660,792,915,1021,792,951,1098,1225,"NEW HAMPSHIRE Beans purchase"]
[null,"NEW HAMPSHIRE","Coos County","Berlin city",54800,660,792,915,1021,792,951,1098,1225,"NEW HAMPSHIRE Berlin city"]
[null,"NEW HAMPSHIRE","Coos County","Cambridge township",54800,660,792,915,1021,792,951,1098,1225,"NEW HAMPSHIRE Cambridge township"]
[null,"NEW HAMPSHIRE","Coos County","Carroll town",54800,660,792,915,1021,792,951,1098,1225,"NEW HAMPSHIRE Carroll town"]
[null,"NEW HAMPSHIRE","Coos County","Chandlers purchase",54800,660,792,915,1021,792,951,1098,1225,"NEW HAMPSHIRE Chandlers purchase"]
[null,"NEW HAMPSHIRE","Coos County","Clarksville town",54800,660,792,915,1021,792,951,1098,1225,"NEW HAMPSHIRE Clarksville town"]
[null,"NEW HAMPSHIRE","Coos County","Colebrook town",54800,660,792,915,1021,792,951,1098,1225,"NEW HAMPSHIRE Colebrook town"]
[null,"NEW HAMPSHIRE","Coos County","Columbia town",54800,660,792,915,1021,792,951,1098,1225,"NEW HAMPSHIRE Columbia town"]
[null,"NEW HAMPSHIRE","Coos County","Crawfords purchase",54800,660,792,915,1021,792,951,1098,1225,"NEW HAMPSHIRE Crawfords purchase"]
[null,"NEW HAMPSHIRE","Coos County","Cutts grant",54800,660,792,915,1021,792,951,1098,1225,"NEW HAMPSHIRE Cutts grant"]
[null,"NEW HAMPSHIRE","Coos County","Dalton town",54800,660,792,915,1021,792,951,1098,1225,"NEW HAMPSHIRE Dalton town"]
[null,"NEW HAMPSHIRE","Coos County","Dixs grant",54800,660,792,915,1021,792,951,1098,1225,"NEW HAMPSHIRE Dixs grant"]
[null,"NEW HAMPSHIRE","Coos County","Dixville township",54800,660,792,915,1021,792,951,1098,1225,"NEW HAMPSHIRE Dixville township"]
[null,"NEW HAMPSHIRE","Coos County","Dummer town",54800,660,792,915,1021,792,951,1098,1225,"NEW HAMPSHIRE Dummer town"]
[null,"NEW HAMPSHIRE","Coos County","Errol town",54800,660,792,915,1021,792,951,1098,1225,"NEW HAMPSHIRE Errol town"]
[null,"NEW HAMPSHIRE","Coos County","Ervings location",54800,660,792,915,1021,792,951,1098,1225,"NEW HAMPSHIRE Ervings location"]
[null,"NEW HAMPSHIRE","Coos County","Gorham town",54800,660,792,915,1021,792,951,1098,1225,"NEW HAMPSHIRE Gorham town"]
[null,"NEW HAMPSHIRE","Coos County","Greens grant",54800,660,792,915,1021,792,951,1098,1225,"NEW HAMPSHIRE Greens grant"]
[null,"NEW HAMPSHIRE","Coos County","Hadleys purchase",54800,660,792,915,1021,792,951,1098,1225,"NEW HAMPSHIRE Hadleys purchase"]
[null,"NEW HAMPSHIRE","Coos County","Jefferson town",54800,660,792,915,1021,792,951,1098,1225,"NEW HAMPSHIRE Jefferson town"]
[null,"NEW HAMPSHIRE","Coos County","Kilkenny township",54800,660,792,915,1021,792,951,1098,1225,"NEW HAMPSHIRE Kilkenny township"]
[null,"NEW HAMPSHIRE","Coos County","Lancaster town",54800,660,792,915,1021,792,951,1098,1225,"NEW HAMPSHIRE Lancaster town"]
[null,"NEW HAMPSHIRE","Coos County","Low and Burbanks grant",54800,660,792,915,1021,792,951,1098,1225,"NEW HAMPSHIRE Low and Burbanks grant"]
[null,"NEW HAMPSHIRE","Coos County","Martins location",54800,660,792,915,1021,792,951,1098,1225,"NEW HAMPSHIRE Martins location"]
[null,"NEW HAMPSHIRE","Coos County","Milan town",54800,660,792,915,1021,792,951,1098,1225,"NEW HAMPSHIRE Milan town"]
[null,"NEW HAMPSHIRE","Coos County","Millsfield township",54800,660,792,915,1021,792,951,1098,1225,"NEW HAMPSHIRE Millsfield township"]
[null,"NEW HAMPSHIRE","Coos County","Northumberland town",54800,660,792,915,1021,792,951,1098,1225,"NEW HAMPSHIRE Northumberland town"]
[null,"NEW HAMPSHIRE","Coos County","Odell township",54800,660,792,915,1021,792,951,1098,1225,"NEW HAMPSHIRE Odell township"]
[null,"NEW HAMPSHIRE","Coos County","Pinkhams grant",54800,660,792,915,1021,792,951,1098,1225,"NEW HAMPSHIRE Pinkhams grant"]
[null,"NEW HAMPSHIRE","Coos County","Pittsburg town",54800,660,792,915,1021,792,951,1098,1225,"NEW HAMPSHIRE Pittsburg town"]
[null,"NEW HAMPSHIRE","Coos County","Randolph town",54800,660,792,915,1021,792,951,1098,1225,"NEW HAMPSHIRE Randolph town"]
[null,"NEW HAMPSHIRE","Coos County","Sargents purchase",54800,660,792,915,1021,792,951,1098,1225,"NEW HAMPSHIRE Sargents purchase"]
[null,"NEW HAMPSHIRE","Coos County","Second College grant",54800,660,792,915,1021,792,951,1098,1225,"NEW HAMPSHIRE Second College grant"]
[null,"NEW HAMPSHIRE","Coos County","Shelburne town",54800,660,792,915,1021,792,951,1098,1225,"NEW HAMPSHIRE Shelburne town"]
[null,"NEW HAMPSHIRE","Coos County","Stark town",54800,660,792,915,1021,792,951,1098,1225,"NEW HAMPSHIRE Stark town"]
[null,"NEW HAMPSHIRE","Coos County","Stewartstown town",54800,660,792,915,1021,792,951,1098,1225,"NEW HAMPSHIRE Stewartstown town"]
[null,"NEW HAMPSHIRE","Coos County","Stratford town",54800,660,792,915,1021,792,951,1098,1225,"NEW HAMPSHIRE Stratford town"]
[null,"NEW HAMPSHIRE","Coos County","Success township",54800,660,792,915,1021,792,951,1098,1225,"NEW HAMPSHIRE Success township"]
[null,"NEW HAMPSHIRE","Coos County","Thompson and Meserves purchase",54800,660,792,915,1021,792,951,1098,1225,"NEW HAMPSHIRE Thompson and Meserves purchase"]
[null,"NEW HAMPSHIRE","Coos County","Wentworth location",54800,660,792,915,1021,792,951,1098,1225,"NEW HAMPSHIRE Wentworth location"]
[null,"NEW HAMPSHIRE","Coos County","Whitefield town",54800,660,792,915,1021,792,951,1098,1225,"NEW HAMPSHIRE Whitefield town"]
[null,"NEW HAMPSHIRE","Grafton County","Alexandria town",67200,660,792,915,1021,792,951,1098,1225,"NEW HAMPSHIRE Alexandria town"]
[null,"NEW HAMPSHIRE","Grafton County","Ashland town",67200,660,792,915,1021,792,951,1098,1225,"NEW HAMPSHIRE Ashland town"]
[null,"NEW HAMPSHIRE","Grafton County","Bath town",67200,660,792,915,1021,792,951,1098,1225,"NEW HAMPSHIRE Bath town"]
[null,"NEW HAMPSHIRE","Grafton County","Benton town",67200,660,792,915,1021,792,951,1098,1225,"NEW HAMPSHIRE Benton town"]
[null,"NEW HAMPSHIRE","Grafton County","Bethlehem town",67200,660,792,915,1021,792,951,1098,1225,"NEW HAMPSHIRE Bethlehem town"]
[null,"NEW HAMPSHIRE","Grafton County","Bridgewater town",67200,660,792,915,1021,792,951,1098,1225,"NEW HAMPSHIRE Bridgewater town"]
[null,"NEW HAMPSHIRE","Grafton County","Bristol town",67200,660,792,915,1021,792,951,1098,1225,{"$f":"B2885&\" \"&D2885","v":"NEW HAMPSHIRE Bristol town"}]
[null,"NEW HAMPSHIRE","Grafton County","Campton town",67200,660,792,915,1021,792,951,1098,1225,"NEW HAMPSHIRE Campton town"]
[null,"NEW HAMPSHIRE","Grafton County","Canaan town",67200,660,792,915,1021,792,951,1098,1225,"NEW HAMPSHIRE Canaan town"]
[null,"NEW HAMPSHIRE","Grafton County","Dorchester town",67200,660,792,915,1021,792,951,1098,1225,"NEW HAMPSHIRE Dorchester town"]
[null,"NEW HAMPSHIRE","Grafton County","Easton town",67200,660,792,915,1021,792,951,1098,1225,"NEW HAMPSHIRE Easton town"]
[null,"NEW HAMPSHIRE","Grafton County","Ellsworth town",67200,660,792,915,1021,792,951,1098,1225,"NEW HAMPSHIRE Ellsworth town"]
[null,"NEW HAMPSHIRE","Grafton County","Enfield town",67200,660,792,915,1021,792,951,1098,1225,"NEW HAMPSHIRE Enfield town"]
[null,"NEW HAMPSHIRE","Grafton County","Franconia town",67200,660,792,915,1021,792,951,1098,1225,"NEW HAMPSHIRE Franconia town"]
[null,"NEW HAMPSHIRE","Grafton County","Grafton town",67200,660,792,915,1021,792,951,1098,1225,"NEW HAMPSHIRE Grafton town"]
[null,"NEW HAMPSHIRE","Grafton County","Groton town",67200,660,792,915,1021,792,951,1098,1225,"NEW HAMPSHIRE Groton town"]
[null,"NEW HAMPSHIRE","Grafton County","Hanover town",67200,660,792,915,1021,792,951,1098,1225,"NEW HAMPSHIRE Hanover town"]
[null,"NEW HAMPSHIRE","Grafton County","Haverhill town",67200,660,792,915,1021,792,951,1098,1225,"NEW HAMPSHIRE Haverhill town"]
[null,"NEW HAMPSHIRE","Grafton County","Hebron town",67200,660,792,915,1021,792,951,1098,1225,"NEW HAMPSHIRE Hebron town"]
[null,"NEW HAMPSHIRE","Grafton County","Holderness town",67200,660,792,915,1021,792,951,1098,1225,"NEW HAMPSHIRE Holderness town"]
[null,"NEW HAMPSHIRE","Grafton County","Landaff town",67200,660,792,915,1021,792,951,1098,1225,"NEW HAMPSHIRE Landaff town"]
[null,"NEW HAMPSHIRE","Grafton County","Lebanon city",67200,660,792,915,1021,792,951,1098,1225,"NEW HAMPSHIRE Lebanon city"]
[null,"NEW HAMPSHIRE","Grafton County","Lincoln town",67200,660,792,915,1021,792,951,1098,1225,"NEW HAMPSHIRE Lincoln town"]
[null,"NEW HAMPSHIRE","Grafton County","Lisbon town",67200,660,792,915,1021,792,951,1098,1225,"NEW HAMPSHIRE Lisbon town"]
[null,"NEW HAMPSHIRE","Grafton County","Littleton town",67200,660,792,915,1021,792,951,1098,1225,"NEW HAMPSHIRE Littleton town"]
[null,"NEW HAMPSHIRE","Grafton County","Livermore town",67200,660,792,915,1021,792,951,1098,1225,"NEW HAMPSHIRE Livermore town"]
[null,"NEW HAMPSHIRE","Grafton County","Lyman town",67200,660,792,915,1021,792,951,1098,1225,"NEW HAMPSHIRE Lyman town"]
[null,"NEW HAMPSHIRE","Grafton County","Lyme town",67200,660,792,915,1021,792,951,1098,1225,"NEW HAMPSHIRE Lyme town"]
[null,"NEW HAMPSHIRE","Grafton County","Monroe town",67200,660,792,915,1021,792,951,1098,1225,"NEW HAMPSHIRE Monroe town"]
[null,"NEW HAMPSHIRE","Grafton County","Orange town",67200,660,792,915,1021,792,951,1098,1225,"NEW HAMPSHIRE Orange town"]
[null,"NEW HAMPSHIRE","Grafton County","Orford town",67200,660,792,915,1021,792,951,1098,1225,"NEW HAMPSHIRE Orford town"]
[null,"NEW HAMPSHIRE","Grafton County","Piermont town",67200,660,792,915,1021,792,951,1098,1225,"NEW HAMPSHIRE Piermont town"]
[null,"NEW HAMPSHIRE","Grafton County","Plymouth town",67200,660,792,915,1021,792,951,1098,1225,"NEW HAMPSHIRE Plymouth town"]
[null,"NEW HAMPSHIRE","Grafton County","Rumney town",67200,660,792,915,1021,792,951,1098,1225,"NEW HAMPSHIRE Rumney town"]
[null,"NEW HAMPSHIRE","Grafton County","Sugar Hill town",67200,660,792,915,1021,792,951,1098,1225,"NEW HAMPSHIRE Sugar Hill town"]
[null,"NEW HAMPSHIRE","Grafton County","Thornton town",67200,660,792,915,1021,792,951,1098,1225,"NEW HAMPSHIRE Thornton town"]
[null,"NEW HAMPSHIRE","Grafton County","Warren town",67200,660,792,915,1021,792,951,1098,1225,"NEW HAMPSHIRE Warren town"]
[null,"NEW HAMPSHIRE","Grafton County","Waterville Valley town",67200,660,792,915,1021,792,951,1098,1225,"NEW HAMPSHIRE Waterville Valley town"]
[null,"NEW HAMPSHIRE","Grafton County","Wentworth town",67200,660,792,915,1021,792,951,1098,1225,"NEW HAMPSHIRE Wentworth town"]
[null,"NEW HAMPSHIRE","Grafton County","Woodstock town",67200,660,792,915,1021,792,951,1098,1225,"NEW HAMPSHIRE Woodstock town"]
[null,"NEW HAMPSHIRE","Hillsborough County","Amherst town",93800,880,1056,1220,1361,1056,1267,1464,1633,"NEW HAMPSHIRE Amherst town"]
[null,"NEW HAMPSHIRE","Hillsborough County","Antrim town",82600,775,930,1074,1198,930,1116,1289,1438,"NEW HAMPSHIRE Antrim town"]
[null,"NEW HAMPSHIRE","Hillsborough County","Bedford town",76500,717,861,995,1110,861,1033,1194,1332,"NEW HAMPSHIRE Bedford town"]
[null,"NEW HAMPSHIRE","Hillsborough County","Bennington town",82600,775,930,1074,1198,930,1116,1289,1438,"NEW HAMPSHIRE Bennington town"]
[null,"NEW HAMPSHIRE","Hillsborough County","Brookline town",93800,880,1056,1220,1361,1056,1267,1464,1633,"NEW HAMPSHIRE Brookline town"]
[null,"NEW HAMPSHIRE","Hillsborough County","Deering town",82600,775,930,1074,1198,930,1116,1289,1438,"NEW HAMPSHIRE Deering town"]
[null,"NEW HAMPSHIRE","Hillsborough County","Francestown town",82600,775,930,1074,1198,930,1116,1289,1438,"NEW HAMPSHIRE Francestown town"]
[null,"NEW HAMPSHIRE","Hillsborough County","Goffstown town",76500,717,861,995,1110,861,1033,1194,1332,"NEW HAMPSHIRE Goffstown town"]
[null,"NEW HAMPSHIRE","Hillsborough County","Greenfield town",82600,775,930,1074,1198,930,1116,1289,1438,"NEW HAMPSHIRE Greenfield town"]
[null,"NEW HAMPSHIRE","Hillsborough County","Greenville town",93800,880,1056,1220,1361,1056,1267,1464,1633,"NEW HAMPSHIRE Greenville town"]
[null,"NEW HAMPSHIRE","Hillsborough County","Hancock town",82600,775,930,1074,1198,930,1116,1289,1438,"NEW HAMPSHIRE Hancock town"]
[null,"NEW HAMPSHIRE","Hillsborough County","Hillsborough town",82600,775,930,1074,1198,930,1116,1289,1438,"NEW HAMPSHIRE Hillsborough town"]
[null,"NEW HAMPSHIRE","Hillsborough County","Hollis town",93800,880,1056,1220,1361,1056,1267,1464,1633,"NEW HAMPSHIRE Hollis town"]
[null,"NEW HAMPSHIRE","Hillsborough County","Hudson town",93800,880,1056,1220,1361,1056,1267,1464,1633,"NEW HAMPSHIRE Hudson town"]
[null,"NEW HAMPSHIRE","Hillsborough County","Litchfield town",93800,880,1056,1220,1361,1056,1267,1464,1633,"NEW HAMPSHIRE Litchfield town"]
[null,"NEW HAMPSHIRE","Hillsborough County","Lyndeborough town",82600,775,930,1074,1198,930,1116,1289,1438,"NEW HAMPSHIRE Lyndeborough town"]
[null,"NEW HAMPSHIRE","Hillsborough County","Manchester city",76500,717,861,995,1110,861,1033,1194,1332,"NEW HAMPSHIRE Manchester city"]
[null,"NEW HAMPSHIRE","Hillsborough County","Mason town",93800,880,1056,1220,1361,1056,1267,1464,1633,"NEW HAMPSHIRE Mason town"]
[null,"NEW HAMPSHIRE","Hillsborough County","Merrimack town",93800,880,1056,1220,1361,1056,1267,1464,1633,"NEW HAMPSHIRE Merrimack town"]
[null,"NEW HAMPSHIRE","Hillsborough County","Milford town",93800,880,1056,1220,1361,1056,1267,1464,1633,"NEW HAMPSHIRE Milford town"]
[null,"NEW HAMPSHIRE","Hillsborough County","Mont Vernon town",93800,880,1056,1220,1361,1056,1267,1464,1633,"NEW HAMPSHIRE Mont Vernon town"]
[null,"NEW HAMPSHIRE","Hillsborough County","Nashua city",93800,880,1056,1220,1361,1056,1267,1464,1633,"NEW HAMPSHIRE Nashua city"]
[null,"NEW HAMPSHIRE","Hillsborough County","New Boston town",82600,775,930,1074,1198,930,1116,1289,1438,"NEW HAMPSHIRE New Boston town"]
[null,"NEW HAMPSHIRE","Hillsborough County","New Ipswich town",93800,880,1056,1220,1361,1056,1267,1464,1633,"NEW HAMPSHIRE New Ipswich town"]
[null,"NEW HAMPSHIRE","Hillsborough County","Pelham town",93800,880,1056,1220,1361,1056,1267,1464,1633,"NEW HAMPSHIRE Pelham town"]
[null,"NEW HAMPSHIRE","Hillsborough County","Peterborough town",82600,775,930,1074,1198,930,1116,1289,1438,"NEW HAMPSHIRE Peterborough town"]
[null,"NEW HAMPSHIRE","Hillsborough County","Sharon town",82600,775,930,1074,1198,930,1116,1289,1438,"NEW HAMPSHIRE Sharon town"]
[null,"NEW HAMPSHIRE","Hillsborough County","Temple town",82600,775,930,1074,1198,930,1116,1289,1438,"NEW HAMPSHIRE Temple town"]
[null,"NEW HAMPSHIRE","Hillsborough County","Weare town",76500,717,861,995,1110,861,1033,1194,1332,"NEW HAMPSHIRE Weare town"]
[null,"NEW HAMPSHIRE","Hillsborough County","Wilton town",93800,880,1056,1220,1361,1056,1267,1464,1633,"NEW HAMPSHIRE Wilton town"]
[null,"NEW HAMPSHIRE","Hillsborough County","Windsor town",82600,775,930,1074,1198,930,1116,1289,1438,{"$f":"B2949&\" \"&D2949","v":"NEW HAMPSHIRE Windsor town"}]
[null,"NEW HAMPSHIRE","Merrimack County","Allenstown town",83300,781,937,1083,1208,938,1125,1299,1450,"NEW HAMPSHIRE Allenstown town"]
[null,"NEW HAMPSHIRE","Merrimack County","Andover town",83300,781,937,1083,1208,938,1125,1299,1450,"NEW HAMPSHIRE Andover town"]
[null,"NEW HAMPSHIRE","Merrimack County","Boscawen town",83300,781,937,1083,1208,938,1125,1299,1450,"NEW HAMPSHIRE Boscawen town"]
[null,"NEW HAMPSHIRE","Merrimack County","Bow town",83300,781,937,1083,1208,938,1125,1299,1450,"NEW HAMPSHIRE Bow town"]
[null,"NEW HAMPSHIRE","Merrimack County","Bradford town",83300,781,937,1083,1208,938,1125,1299,1450,"NEW HAMPSHIRE Bradford town"]
[null,"NEW HAMPSHIRE","Merrimack County","Canterbury town",83300,781,937,1083,1208,938,1125,1299,1450,"NEW HAMPSHIRE Canterbury town"]
[null,"NEW HAMPSHIRE","Merrimack County","Chichester town",83300,781,937,1083,1208,938,1125,1299,1450,"NEW HAMPSHIRE Chichester town"]
[null,"NEW HAMPSHIRE","Merrimack County","Concord city",83300,781,937,1083,1208,938,1125,1299,1450,"NEW HAMPSHIRE Concord city"]
[null,"NEW HAMPSHIRE","Merrimack County","Danbury town",83300,781,937,1083,1208,938,1125,1299,1450,"NEW HAMPSHIRE Danbury town"]
[null,"NEW HAMPSHIRE","Merrimack County","Dunbarton town",83300,781,937,1083,1208,938,1125,1299,1450,"NEW HAMPSHIRE Dunbarton town"]
[null,"NEW HAMPSHIRE","Merrimack County","Epsom town",83300,781,937,1083,1208,938,1125,1299,1450,"NEW HAMPSHIRE Epsom town"]
[null,"NEW HAMPSHIRE","Merrimack County","Franklin city",83300,781,937,1083,1208,938,1125,1299,1450,"NEW HAMPSHIRE Franklin city"]
[null,"NEW HAMPSHIRE","Merrimack County","Henniker town",83300,781,937,1083,1208,938,1125,1299,1450,"NEW HAMPSHIRE Henniker town"]
[null,"NEW HAMPSHIRE","Merrimack County","Hill town",83300,781,937,1083,1208,938,1125,1299,1450,"NEW HAMPSHIRE Hill town"]
[null,"NEW HAMPSHIRE","Merrimack County","Hooksett town",83300,781,937,1083,1208,938,1125,1299,1450,"NEW HAMPSHIRE Hooksett town"]
[null,"NEW HAMPSHIRE","Merrimack County","Hopkinton town",83300,781,937,1083,1208,938,1125,1299,1450,"NEW HAMPSHIRE Hopkinton town"]
[null,"NEW HAMPSHIRE","Merrimack County","Loudon town",83300,781,937,1083,1208,938,1125,1299,1450,"NEW HAMPSHIRE Loudon town"]
[null,"NEW HAMPSHIRE","Merrimack County","Newbury town",83300,781,937,1083,1208,938,1125,1299,1450,"NEW HAMPSHIRE Newbury town"]
[null,"NEW HAMPSHIRE","Merrimack County","New London town",83300,781,937,1083,1208,938,1125,1299,1450,"NEW HAMPSHIRE New London town"]
[null,"NEW HAMPSHIRE","Merrimack County","Northfield town",83300,781,937,1083,1208,938,1125,1299,1450,"NEW HAMPSHIRE Northfield town"]
[null,"NEW HAMPSHIRE","Merrimack County","Pembroke town",83300,781,937,1083,1208,938,1125,1299,1450,"NEW HAMPSHIRE Pembroke town"]
[null,"NEW HAMPSHIRE","Merrimack County","Pittsfield town",83300,781,937,1083,1208,938,1125,1299,1450,"NEW HAMPSHIRE Pittsfield town"]
[null,"NEW HAMPSHIRE","Merrimack County","Salisbury town",83300,781,937,1083,1208,938,1125,1299,1450,"NEW HAMPSHIRE Salisbury town"]
[null,"NEW HAMPSHIRE","Merrimack County","Sutton town",83300,781,937,1083,1208,938,1125,1299,1450,"NEW HAMPSHIRE Sutton town"]
[null,"NEW HAMPSHIRE","Merrimack County","Warner town",83300,781,937,1083,1208,938,1125,1299,1450,"NEW HAMPSHIRE Warner town"]
[null,"NEW HAMPSHIRE","Merrimack County","Webster town",83300,781,937,1083,1208,938,1125,1299,1450,"NEW HAMPSHIRE Webster town"]
[null,"NEW HAMPSHIRE","Merrimack County","Wilmot town",83300,781,937,1083,1208,938,1125,1299,1450,"NEW HAMPSHIRE Wilmot town"]
[null,"NEW HAMPSHIRE","Rockingham County","Atkinson town",82800,826,991,1145,1277,991,1189,1374,1533,"NEW HAMPSHIRE Atkinson town"]
[null,"NEW HAMPSHIRE","Rockingham County","Auburn town",106300,977,1172,1355,1511,1173,1407,1626,1813,"NEW HAMPSHIRE Auburn town"]
[null,"NEW HAMPSHIRE","Rockingham County","Brentwood town",84300,826,991,1145,1277,991,1189,1374,1533,"NEW HAMPSHIRE Brentwood town"]
[null,"NEW HAMPSHIRE","Rockingham County","Candia town",106300,977,1172,1355,1511,1173,1407,1626,1813,"NEW HAMPSHIRE Candia town"]
[null,"NEW HAMPSHIRE","Rockingham County","Chester town",82800,826,991,1145,1277,991,1189,1374,1533,"NEW HAMPSHIRE Chester town"]
[null,"NEW HAMPSHIRE","Rockingham County","Danville town",82800,826,991,1145,1277,991,1189,1374,1533,"NEW HAMPSHIRE Danville town"]
[null,"NEW HAMPSHIRE","Rockingham County","Deerfield town",106300,977,1172,1355,1511,1173,1407,1626,1813,"NEW HAMPSHIRE Deerfield town"]
[null,"NEW HAMPSHIRE","Rockingham County","Derry town",82800,826,991,1145,1277,991,1189,1374,1533,"NEW HAMPSHIRE Derry town"]
[null,"NEW HAMPSHIRE","Rockingham County","East Kingston town",84300,826,991,1145,1277,991,1189,1374,1533,"NEW HAMPSHIRE East Kingston town"]
[null,"NEW HAMPSHIRE","Rockingham County","Epping town",84300,826,991,1145,1277,991,1189,1374,1533,"NEW HAMPSHIRE Epping town"]
[null,"NEW HAMPSHIRE","Rockingham County","Exeter town",84300,826,991,1145,1277,991,1189,1374,1533,"NEW HAMPSHIRE Exeter town"]
[null,"NEW HAMPSHIRE","Rockingham County","Fremont town",82800,826,991,1145,1277,991,1189,1374,1533,"NEW HAMPSHIRE Fremont town"]
[null,"NEW HAMPSHIRE","Rockingham County","Greenland town",84300,826,991,1145,1277,991,1189,1374,1533,"NEW HAMPSHIRE Greenland town"]
[null,"NEW HAMPSHIRE","Rockingham County","Hampstead town",82800,826,991,1145,1277,991,1189,1374,1533,"NEW HAMPSHIRE Hampstead town"]
[null,"NEW HAMPSHIRE","Rockingham County","Hampton town",84300,826,991,1145,1277,991,1189,1374,1533,"NEW HAMPSHIRE Hampton town"]
[null,"NEW HAMPSHIRE","Rockingham County","Hampton Falls town",84300,826,991,1145,1277,991,1189,1374,1533,"NEW HAMPSHIRE Hampton Falls town"]
[null,"NEW HAMPSHIRE","Rockingham County","Kensington town",84300,826,991,1145,1277,991,1189,1374,1533,"NEW HAMPSHIRE Kensington town"]
[null,"NEW HAMPSHIRE","Rockingham County","Kingston town",82800,826,991,1145,1277,991,1189,1374,1533,"NEW HAMPSHIRE Kingston town"]
[null,"NEW HAMPSHIRE","Rockingham County","Londonderry town",106300,977,1172,1355,1511,1173,1407,1626,1813,"NEW HAMPSHIRE Londonderry town"]
[null,"NEW HAMPSHIRE","Rockingham County","New Castle town",84300,826,991,1145,1277,991,1189,1374,1533,"NEW HAMPSHIRE New Castle town"]
[null,"NEW HAMPSHIRE","Rockingham County","Newfields town",84300,826,991,1145,1277,991,1189,1374,1533,"NEW HAMPSHIRE Newfields town"]
[null,"NEW HAMPSHIRE","Rockingham County","Newington town",84300,826,991,1145,1277,991,1189,1374,1533,"NEW HAMPSHIRE Newington town"]
[null,"NEW HAMPSHIRE","Rockingham County","Newmarket town",84300,826,991,1145,1277,991,1189,1374,1533,"NEW HAMPSHIRE Newmarket town"]
[null,"NEW HAMPSHIRE","Rockingham County","Newton town",82800,826,991,1145,1277,991,1189,1374,1533,"NEW HAMPSHIRE Newton town"]
[null,"NEW HAMPSHIRE","Rockingham County","North Hampton town",84300,826,991,1145,1277,991,1189,1374,1533,"NEW HAMPSHIRE North Hampton town"]
[null,"NEW HAMPSHIRE","Rockingham County","Northwood town",106300,977,1172,1355,1511,1173,1407,1626,1813,"NEW HAMPSHIRE Northwood town"]
[null,"NEW HAMPSHIRE","Rockingham County","Nottingham town",106300,977,1172,1355,1511,1173,1407,1626,1813,"NEW HAMPSHIRE Nottingham town"]
[null,"NEW HAMPSHIRE","Rockingham County","Plaistow town",82800,826,991,1145,1277,991,1189,1374,1533,"NEW HAMPSHIRE Plaistow town"]
[null,"NEW HAMPSHIRE","Rockingham County","Portsmouth city",84300,826,991,1145,1277,991,1189,1374,1533,"NEW HAMPSHIRE Portsmouth city"]
[null,"NEW HAMPSHIRE","Rockingham County","Raymond town",82800,826,991,1145,1277,991,1189,1374,1533,"NEW HAMPSHIRE Raymond town"]
[null,"NEW HAMPSHIRE","Rockingham County","Rye town",84300,826,991,1145,1277,991,1189,1374,1533,"NEW HAMPSHIRE Rye town"]
[null,"NEW HAMPSHIRE","Rockingham County","Salem town",82800,826,991,1145,1277,991,1189,1374,1533,"NEW HAMPSHIRE Salem town"]
[null,"NEW HAMPSHIRE","Rockingham County","Sandown town",82800,826,991,1145,1277,991,1189,1374,1533,"NEW HAMPSHIRE Sandown town"]
[null,"NEW HAMPSHIRE","Rockingham County","Seabrook town",94100,882,1058,1223,1365,1059,1270,1468,1638,"NEW HAMPSHIRE Seabrook town"]
[null,"NEW HAMPSHIRE","Rockingham County","South Hampton town",94100,882,1058,1223,1365,1059,1270,1468,1638,"NEW HAMPSHIRE South Hampton town"]
[null,"NEW HAMPSHIRE","Rockingham County","Stratham town",84300,826,991,1145,1277,991,1189,1374,1533,"NEW HAMPSHIRE Stratham town"]
[null,"NEW HAMPSHIRE","Rockingham County","Windham town",82800,826,991,1145,1277,991,1189,1374,1533,{"$f":"B3013&\" \"&D3013","v":"NEW HAMPSHIRE Windham town"}]
[null,"NEW HAMPSHIRE","Strafford County","Barrington town",84300,826,991,1145,1277,991,1189,1374,1533,"NEW HAMPSHIRE Barrington town"]
[null,"NEW HAMPSHIRE","Strafford County","Dover city",84300,826,991,1145,1277,991,1189,1374,1533,"NEW HAMPSHIRE Dover city"]
[null,"NEW HAMPSHIRE","Strafford County","Durham town",84300,826,991,1145,1277,991,1189,1374,1533,"NEW HAMPSHIRE Durham town"]
[null,"NEW HAMPSHIRE","Strafford County","Farmington town",84300,826,991,1145,1277,991,1189,1374,1533,"NEW HAMPSHIRE Farmington town"]
[null,"NEW HAMPSHIRE","Strafford County","Lee town",84300,826,991,1145,1277,991,1189,1374,1533,"NEW HAMPSHIRE Lee town"]
[null,"NEW HAMPSHIRE","Strafford County","Madbury town",84300,826,991,1145,1277,991,1189,1374,1533,"NEW HAMPSHIRE Madbury town"]
[null,"NEW HAMPSHIRE","Strafford County","Middleton town",84300,826,991,1145,1277,991,1189,1374,1533,"NEW HAMPSHIRE Middleton town"]
[null,"NEW HAMPSHIRE","Strafford County","Milton town",84300,826,991,1145,1277,991,1189,1374,1533,"NEW HAMPSHIRE Milton town"]
[null,"NEW HAMPSHIRE","Strafford County","New Durham town",84300,826,991,1145,1277,991,1189,1374,1533,"NEW HAMPSHIRE New Durham town"]
[null,"NEW HAMPSHIRE","Strafford County","Rochester city",84300,826,991,1145,1277,991,1189,1374,1533,"NEW HAMPSHIRE Rochester city"]
[null,"NEW HAMPSHIRE","Strafford County","Rollinsford town",84300,826,991,1145,1277,991,1189,1374,1533,"NEW HAMPSHIRE Rollinsford town"]
[null,"NEW HAMPSHIRE","Strafford County","Somersworth city",84300,826,991,1145,1277,991,1189,1374,1533,"NEW HAMPSHIRE Somersworth city"]
[null,"NEW HAMPSHIRE","Strafford County","Strafford town",84300,826,991,1145,1277,991,1189,1374,1533,"NEW HAMPSHIRE Strafford town"]
[null,"NEW HAMPSHIRE","Sullivan County","Acworth town",66200,660,792,915,1021,792,951,1098,1225,"NEW HAMPSHIRE Acworth town"]
[null,"NEW HAMPSHIRE","Sullivan County","Charlestown town",66200,660,792,915,1021,792,951,1098,1225,"NEW HAMPSHIRE Charlestown town"]
[null,"NEW HAMPSHIRE","Sullivan County","Claremont city",66200,660,792,915,1021,792,951,1098,1225,"NEW HAMPSHIRE Claremont city"]
[null,"NEW HAMPSHIRE","Sullivan County","Cornish town",66200,660,792,915,1021,792,951,1098,1225,"NEW HAMPSHIRE Cornish town"]
[null,"NEW HAMPSHIRE","Sullivan County","Croydon town",66200,660,792,915,1021,792,951,1098,1225,"NEW HAMPSHIRE Croydon town"]
[null,"NEW HAMPSHIRE","Sullivan County","Goshen town",66200,660,792,915,1021,792,951,1098,1225,"NEW HAMPSHIRE Goshen town"]
[null,"NEW HAMPSHIRE","Sullivan County","Grantham town",66200,660,792,915,1021,792,951,1098,1225,"NEW HAMPSHIRE Grantham town"]
[null,"NEW HAMPSHIRE","Sullivan County","Langdon town",66200,660,792,915,1021,792,951,1098,1225,"NEW HAMPSHIRE Langdon town"]
[null,"NEW HAMPSHIRE","Sullivan County","Lempster town",66200,660,792,915,1021,792,951,1098,1225,"NEW HAMPSHIRE Lempster town"]
[null,"NEW HAMPSHIRE","Sullivan County","Newport town",66200,660,792,915,1021,792,951,1098,1225,"NEW HAMPSHIRE Newport town"]
[null,"NEW HAMPSHIRE","Sullivan County","Plainfield town",66200,660,792,915,1021,792,951,1098,1225,"NEW HAMPSHIRE Plainfield town"]
[null,"NEW HAMPSHIRE","Sullivan County","Springfield town",66200,660,792,915,1021,792,951,1098,1225,"NEW HAMPSHIRE Springfield town"]
[null,"NEW HAMPSHIRE","Sullivan County","Sunapee town",66200,660,792,915,1021,792,951,1098,1225,"NEW HAMPSHIRE Sunapee town"]
[null,"NEW HAMPSHIRE","Sullivan County","Unity town",66200,660,792,915,1021,792,951,1098,1225,"NEW HAMPSHIRE Unity town"]
[null,"NEW HAMPSHIRE","Sullivan County","Washington town",66200,660,792,915,1021,792,951,1098,1225,"NEW HAMPSHIRE Washington town"]
[null,"NEW JERSEY","Atlantic County","Atlantic County",68100,638,766,885,987,766,919,1062,1185,"NEW JERSEY Atlantic County"]
[null,"NEW JERSEY","Bergen County","Bergen County",87500,820,985,1137,1268,984,1182,1365,1522,"NEW JERSEY Bergen County"]
[null,"NEW JERSEY","Burlington County","Burlington County",78800,739,887,1025,1143,887,1065,1230,1372,"NEW JERSEY Burlington County"]
[null,"NEW JERSEY","Camden County","Camden County",78800,739,887,1025,1143,887,1065,1230,1372,"NEW JERSEY Camden County"]
[null,"NEW JERSEY","Cape May County","Cape May County",73500,689,827,955,1066,827,993,1146,1279,"NEW JERSEY Cape May County"]
[null,"NEW JERSEY","Cumberland County","Cumberland County",59700,591,710,820,915,710,852,984,1098,"NEW JERSEY Cumberland County"]
[null,"NEW JERSEY","Essex County","Essex County",87700,822,987,1140,1272,987,1185,1368,1527,"NEW JERSEY Essex County"]
[null,"NEW JERSEY","Gloucester County","Gloucester County",78800,739,887,1025,1143,887,1065,1230,1372,"NEW JERSEY Gloucester County"]
[null,"NEW JERSEY","Hudson County","Hudson County",63300,705,846,978,1091,846,1015,1173,1309,"NEW JERSEY Hudson County"]
[null,"NEW JERSEY","Hunterdon County","Hunterdon County",100500,942,1131,1306,1457,1131,1357,1568,1749,"NEW JERSEY Hunterdon County"]
[null,"NEW JERSEY","Mercer County","Mercer County",95900,895,1075,1241,1385,1074,1290,1490,1662,"NEW JERSEY Mercer County"]
[null,"NEW JERSEY","Middlesex County","Middlesex County",100500,942,1131,1306,1457,1131,1357,1568,1749,"NEW JERSEY Middlesex County"]
[null,"NEW JERSEY","Monmouth County","Monmouth County",86100,819,982,1135,1266,983,1179,1362,1519,"NEW JERSEY Monmouth County"]
[null,"NEW JERSEY","Morris County","Morris County",87700,822,987,1140,1272,987,1185,1368,1527,"NEW JERSEY Morris County"]
[null,"NEW JERSEY","Ocean County","Ocean County",86100,819,982,1135,1266,983,1179,1362,1519,"NEW JERSEY Ocean County"]
[null,"NEW JERSEY","Passaic County","Passaic County",87500,820,985,1137,1268,984,1182,1365,1522,"NEW JERSEY Passaic County"]
[null,"NEW JERSEY","Salem County","Salem County",78800,739,887,1025,1143,887,1065,1230,1372,"NEW JERSEY Salem County"]
[null,"NEW JERSEY","Somerset County","Somerset County",100500,942,1131,1306,1457,1131,1357,1568,1749,"NEW JERSEY Somerset County"]
[null,"NEW JERSEY","Sussex County","Sussex County",87700,822,987,1140,1272,987,1185,1368,1527,"NEW JERSEY Sussex County"]
[null,"NEW JERSEY","Union County","Union County",87700,822,987,1140,1272,987,1185,1368,1527,"NEW JERSEY Union County"]
[null,"NEW JERSEY","Warren County","Warren County",82900,825,990,1144,1276,990,1188,1373,1531,"NEW JERSEY Warren County"]
[null,"NEW MEXICO","Bernalillo County","Bernalillo County",57800,561,673,777,867,673,808,933,1041,"NEW MEXICO Bernalillo County"]
[null,"NEW MEXICO","Catron County","Catron County",48400,454,545,629,702,545,654,755,843,"NEW MEXICO Catron County"]
[null,"NEW MEXICO","Chaves County","Chaves County",47000,443,531,613,685,531,637,736,822,"NEW MEXICO Chaves County"]
[null,"NEW MEXICO","Cibola County","Cibola County",41500,443,531,613,685,531,637,736,822,"NEW MEXICO Cibola County"]
[null,"NEW MEXICO","Colfax County","Colfax County",48600,459,551,637,711,551,661,765,853,"NEW MEXICO Colfax County"]
[null,"NEW MEXICO","Curry County","Curry County",54100,492,591,682,761,591,709,819,913,"NEW MEXICO Curry County"]
[null,"NEW MEXICO","De Baca County","De Baca County",42200,443,531,613,685,531,637,736,822,"NEW MEXICO De Baca County"]
[null,"NEW MEXICO","Dona Ana County","Dona Ana County",44000,443,531,613,685,531,637,736,822,"NEW MEXICO Dona Ana County"]
[null,"NEW MEXICO","Eddy County","Eddy County",60500,567,681,786,877,681,817,944,1053,"NEW MEXICO Eddy County"]
[null,"NEW MEXICO","Grant County","Grant County",46900,443,531,613,685,531,637,736,822,"NEW MEXICO Grant County"]
[null,"NEW MEXICO","Guadalupe County","Guadalupe County",36800,443,531,613,685,531,637,736,822,"NEW MEXICO Guadalupe County"]
[null,"NEW MEXICO","Harding County","Harding County",45200,458,550,635,708,549,660,762,850,"NEW MEXICO Harding County"]
[null,"NEW MEXICO","Hidalgo County","Hidalgo County",43700,443,531,613,685,531,637,736,822,"NEW MEXICO Hidalgo County"]
[null,"NEW MEXICO","Lea County","Lea County",60700,507,608,703,785,609,730,844,942,"NEW MEXICO Lea County"]
[null,"NEW MEXICO","Lincoln County","Lincoln County",54600,512,615,710,792,615,738,852,951,{"$f":"B3077&\" \"&D3077","v":"NEW MEXICO Lincoln County"}]
[null,"NEW MEXICO","Los Alamos County","Los Alamos County",126300,958,1150,1328,1482,1150,1380,1594,1779,"NEW MEXICO Los Alamos County"]
[null,"NEW MEXICO","Luna County","Luna County",37700,443,531,613,685,531,637,736,822,"NEW MEXICO Luna County"]
[null,"NEW MEXICO","McKinley County","McKinley County",36900,443,531,613,685,531,637,736,822,"NEW MEXICO McKinley County"]
[null,"NEW MEXICO","Mora County","Mora County",45700,443,531,613,685,531,637,736,822,"NEW MEXICO Mora County"]
[null,"NEW MEXICO","Otero County","Otero County",44600,443,531,613,685,531,637,736,822,"NEW MEXICO Otero County"]
[null,"NEW MEXICO","Quay County","Quay County",41700,443,531,613,685,531,637,736,822,"NEW MEXICO Quay County"]
[null,"NEW MEXICO","Rio Arriba County","Rio Arriba County",48300,453,543,628,701,544,652,753,841,"NEW MEXICO Rio Arriba County"]
[null,"NEW MEXICO","Roosevelt County","Roosevelt County",44800,443,531,613,685,531,637,736,822,"NEW MEXICO Roosevelt County"]
[null,"NEW MEXICO","Sandoval County","Sandoval County",57800,561,673,777,867,673,808,933,1041,"NEW MEXICO Sandoval County"]
[null,"NEW MEXICO","San Juan County","San Juan County",65700,543,652,754,841,652,783,905,1009,"NEW MEXICO San Juan County"]
[null,"NEW MEXICO","San Miguel County","San Miguel County",43000,443,531,613,685,531,637,736,822,"NEW MEXICO San Miguel County"]
[null,"NEW MEXICO","Santa Fe County","Santa Fe County",65300,613,735,849,947,735,882,1019,1137,"NEW MEXICO Santa Fe County"]
[null,"NEW MEXICO","Sierra County","Sierra County",45400,443,531,613,685,531,637,736,822,"NEW MEXICO Sierra County"]
[null,"NEW MEXICO","Socorro County","Socorro County",45300,443,531,613,685,531,637,736,822,"NEW MEXICO Socorro County"]
[null,"NEW MEXICO","Taos County","Taos County",47200,478,573,661,738,573,688,794,886,"NEW MEXICO Taos County"]
[null,"NEW MEXICO","Torrance County","Torrance County",57800,561,673,777,867,673,808,933,1041,"NEW MEXICO Torrance County"]
[null,"NEW MEXICO","Union County","Union County",48000,450,540,624,696,540,648,749,835,"NEW MEXICO Union County"]
[null,"NEW MEXICO","Valencia County","Valencia County",57800,561,673,777,867,673,808,933,1041,"NEW MEXICO Valencia County"]
[null,"NEW YORK","Albany County","Albany County",78300,735,881,1018,1136,882,1057,1221,1363,"NEW YORK Albany County"]
[null,"NEW YORK","Allegany County","Allegany County",52600,531,637,736,821,637,765,883,985,"NEW YORK Allegany County"]
[null,"NEW YORK","Bronx County","Bronx County",62500,787,945,1091,1217,945,1134,1309,1461,"NEW YORK Bronx County"]
[null,"NEW YORK","Broome County","Broome County",62900,578,695,802,895,694,834,963,1074,"NEW YORK Broome County"]
[null,"NEW YORK","Cattaraugus County","Cattaraugus County",49800,531,637,736,821,637,765,883,985,"NEW YORK Cattaraugus County"]
[null,"NEW YORK","Cayuga County","Cayuga County",62600,586,703,812,906,703,844,975,1087,"NEW YORK Cayuga County"]
[null,"NEW YORK","Chautauqua County","Chautauqua County",50900,531,637,736,821,637,765,883,985,"NEW YORK Chautauqua County"]
[null,"NEW YORK","Chemung County","Chemung County",63400,576,692,800,892,692,831,960,1071,"NEW YORK Chemung County"]
[null,"NEW YORK","Chenango County","Chenango County",56200,531,637,736,821,637,765,883,985,"NEW YORK Chenango County"]
[null,"NEW YORK","Clinton County","Clinton County",66000,618,742,858,957,742,891,1029,1149,"NEW YORK Clinton County"]
[null,"NEW YORK","Columbia County","Columbia County",74000,693,832,962,1073,832,999,1155,1288,"NEW YORK Columbia County"]
[null,"NEW YORK","Cortland County","Cortland County",60100,563,676,781,872,676,811,938,1047,"NEW YORK Cortland County"]
[null,"NEW YORK","Delaware County","Delaware County",57500,539,647,747,833,647,777,897,1000,"NEW YORK Delaware County"]
[null,"NEW YORK","Dutchess County","Dutchess County",83100,779,935,1080,1205,935,1122,1296,1446,"NEW YORK Dutchess County"]
[null,"NEW YORK","Erie County","Erie County",63900,600,720,831,927,720,864,997,1113,"NEW YORK Erie County"]
[null,"NEW YORK","Essex County","Essex County",59500,558,670,773,863,669,804,928,1036,"NEW YORK Essex County"]
[null,"NEW YORK","Franklin County","Franklin County",54600,531,637,736,821,637,765,883,985,"NEW YORK Franklin County"]
[null,"NEW YORK","Fulton County","Fulton County",55500,531,637,736,821,637,765,883,985,"NEW YORK Fulton County"]
[null,"NEW YORK","Genesee County","Genesee County",65300,613,735,849,947,735,882,1019,1137,"NEW YORK Genesee County"]
[null,"NEW YORK","Greene County","Greene County",58400,548,657,759,847,657,789,911,1017,"NEW YORK Greene County"]
[null,"NEW YORK","Hamilton County","Hamilton County",64100,601,721,833,930,721,865,1000,1116,"NEW YORK Hamilton County"]
[null,"NEW YORK","Herkimer County","Herkimer County",59500,558,670,773,863,669,804,928,1036,"NEW YORK Herkimer County"]
[null,"NEW YORK","Jefferson County","Jefferson County",54000,553,663,767,856,663,796,921,1027,"NEW YORK Jefferson County"]
[null,"NEW YORK","Kings County","Kings County",62500,787,945,1091,1217,945,1134,1309,1461,"NEW YORK Kings County"]
[null,"NEW YORK","Lewis County","Lewis County",55900,531,637,736,821,637,765,883,985,"NEW YORK Lewis County"]
[null,"NEW YORK","Livingston County","Livingston County",67000,628,753,871,972,753,904,1045,1167,"NEW YORK Livingston County"]
[null,"NEW YORK","Madison County","Madison County",67700,635,762,880,982,762,915,1056,1179,"NEW YORK Madison County"]
[null,"NEW YORK","Monroe County","Monroe County",67000,628,753,871,972,753,904,1045,1167,"NEW YORK Monroe County"]
[null,"NEW YORK","Montgomery County","Montgomery County",57000,534,641,741,827,641,769,889,993,"NEW YORK Montgomery County"]
[null,"NEW YORK","Nassau County","Nassau County",105100,985,1182,1366,1525,1182,1419,1640,1830,"NEW YORK Nassau County"]
[null,"NEW YORK","New York County","New York County",62500,787,945,1091,1217,945,1134,1309,1461,"NEW YORK New York County"]
[null,"NEW YORK","Niagara County","Niagara County",63900,600,720,831,927,720,864,997,1113,"NEW YORK Niagara County"]
[null,"NEW YORK","Oneida County","Oneida County",59500,558,670,773,863,669,804,928,1036,"NEW YORK Oneida County"]
[null,"NEW YORK","Onondaga County","Onondaga County",67700,635,762,880,982,762,915,1056,1179,"NEW YORK Onondaga County"]
[null,"NEW YORK","Ontario County","Ontario County",67000,628,753,871,972,753,904,1045,1167,"NEW YORK Ontario County"]
[null,"NEW YORK","Orange County","Orange County",83100,779,935,1080,1205,935,1122,1296,1446,"NEW YORK Orange County"]
[null,"NEW YORK","Orleans County","Orleans County",67000,628,753,871,972,753,904,1045,1167,"NEW YORK Orleans County"]
[null,"NEW YORK","Oswego County","Oswego County",67700,635,762,880,982,762,915,1056,1179,"NEW YORK Oswego County"]
[null,"NEW YORK","Otsego County","Otsego County",60600,568,682,788,878,682,819,945,1054,"NEW YORK Otsego County"]
[null,"NEW YORK","Putnam County","Putnam County",62500,787,945,1091,1217,945,1134,1309,1461,"NEW YORK Putnam County"]
[null,"NEW YORK","Queens County","Queens County",62500,787,945,1091,1217,945,1134,1309,1461,"NEW YORK Queens County"]
[null,"NEW YORK","Rensselaer County","Rensselaer County",78300,735,881,1018,1136,882,1057,1221,1363,"NEW YORK Rensselaer County"]
[null,"NEW YORK","Richmond County","Richmond County",62500,787,945,1091,1217,945,1134,1309,1461,"NEW YORK Richmond County"]
[null,"NEW YORK","Rockland County","Rockland County",94900,940,1127,1303,1453,1128,1353,1563,1744,"NEW YORK Rockland County"]
[null,"NEW YORK","St. Lawrence County","St. Lawrence County",54000,531,637,736,821,637,765,883,985,"NEW YORK St. Lawrence County"]
[null,"NEW YORK","Saratoga County","Saratoga County",78300,735,881,1018,1136,882,1057,1221,1363,{"$f":"B3141&\" \"&D3141","v":"NEW YORK Saratoga County"}]
[null,"NEW YORK","Schenectady County","Schenectady County",78300,735,881,1018,1136,882,1057,1221,1363,"NEW YORK Schenectady County"]
[null,"NEW YORK","Schoharie County","Schoharie County",78300,735,881,1018,1136,882,1057,1221,1363,"NEW YORK Schoharie County"]
[null,"NEW YORK","Schuyler County","Schuyler County",57300,538,645,745,831,645,774,894,997,"NEW YORK Schuyler County"]
[null,"NEW YORK","Seneca County","Seneca County",57700,541,650,750,837,649,780,900,1005,"NEW YORK Seneca County"]
[null,"NEW YORK","Steuben County","Steuben County",54500,531,637,736,821,637,765,883,985,"NEW YORK Steuben County"]
[null,"NEW YORK","Suffolk County","Suffolk County",105100,985,1182,1366,1525,1182,1419,1640,1830,"NEW YORK Suffolk County"]
[null,"NEW YORK","Sullivan County","Sullivan County",63200,590,708,819,913,708,850,983,1096,"NEW YORK Sullivan County"]
[null,"NEW YORK","Tioga County","Tioga County",62900,578,695,802,895,694,834,963,1074,"NEW YORK Tioga County"]
[null,"NEW YORK","Tompkins County","Tompkins County",78800,739,887,1025,1143,887,1065,1230,1372,"NEW YORK Tompkins County"]
[null,"NEW YORK","Ulster County","Ulster County",71300,669,802,927,1035,803,963,1113,1242,"NEW YORK Ulster County"]
[null,"NEW YORK","Warren County","Warren County",62900,590,708,818,912,708,850,981,1095,"NEW YORK Warren County"]
[null,"NEW YORK","Washington County","Washington County",62900,590,708,818,912,708,850,981,1095,"NEW YORK Washington County"]
[null,"NEW YORK","Wayne County","Wayne County",67000,628,753,871,972,753,904,1045,1167,"NEW YORK Wayne County"]
[null,"NEW YORK","Westchester County","Westchester County",103700,972,1167,1348,1503,1167,1401,1617,1804,"NEW YORK Westchester County"]
[null,"NEW YORK","Wyoming County","Wyoming County",62600,587,705,814,908,705,846,977,1090,"NEW YORK Wyoming County"]
[null,"NEW YORK","Yates County","Yates County",60900,571,686,791,883,686,823,950,1060,"NEW YORK Yates County"]
[null,"NORTH CAROLINA","Alamance County","Alamance County",53900,506,607,701,782,607,729,841,939,"NORTH CAROLINA Alamance County"]
[null,"NORTH CAROLINA","Alexander County","Alexander County",48800,463,556,642,717,556,667,771,861,"NORTH CAROLINA Alexander County"]
[null,"NORTH CAROLINA","Alleghany County","Alleghany County",41700,463,556,642,717,556,667,771,861,"NORTH CAROLINA Alleghany County"]
[null,"NORTH CAROLINA","Anson County","Anson County",41600,463,556,642,717,556,667,771,861,"NORTH CAROLINA Anson County"]
[null,"NORTH CAROLINA","Ashe County","Ashe County",49600,465,558,645,720,558,670,774,864,"NORTH CAROLINA Ashe County"]
[null,"NORTH CAROLINA","Avery County","Avery County",50100,470,563,651,727,564,676,782,873,"NORTH CAROLINA Avery County"]
[null,"NORTH CAROLINA","Beaufort County","Beaufort County",53300,500,600,693,773,600,720,831,928,"NORTH CAROLINA Beaufort County"]
[null,"NORTH CAROLINA","Bertie County","Bertie County",42700,463,556,642,717,556,667,771,861,"NORTH CAROLINA Bertie County"]
[null,"NORTH CAROLINA","Bladen County","Bladen County",43800,463,556,642,717,556,667,771,861,"NORTH CAROLINA Bladen County"]
[null,"NORTH CAROLINA","Brunswick County","Brunswick County",58700,559,671,775,865,671,805,930,1038,"NORTH CAROLINA Brunswick County"]
[null,"NORTH CAROLINA","Buncombe County","Buncombe County",56000,525,630,728,812,630,756,873,975,"NORTH CAROLINA Buncombe County"]
[null,"NORTH CAROLINA","Burke County","Burke County",48800,463,556,642,717,556,667,771,861,"NORTH CAROLINA Burke County"]
[null,"NORTH CAROLINA","Cabarrus County","Cabarrus County",64200,602,722,835,931,723,867,1002,1117,"NORTH CAROLINA Cabarrus County"]
[null,"NORTH CAROLINA","Caldwell County","Caldwell County",48800,463,556,642,717,556,667,771,861,"NORTH CAROLINA Caldwell County"]
[null,"NORTH CAROLINA","Camden County","Camden County",78000,641,770,889,992,770,924,1067,1191,"NORTH CAROLINA Camden County"]
[null,"NORTH CAROLINA","Carteret County","Carteret County",58200,546,655,756,845,655,786,908,1014,"NORTH CAROLINA Carteret County"]
[null,"NORTH CAROLINA","Caswell County","Caswell County",48300,463,556,642,717,556,667,771,861,"NORTH CAROLINA Caswell County"]
[null,"NORTH CAROLINA","Catawba County","Catawba County",48800,463,556,642,717,556,667,771,861,"NORTH CAROLINA Catawba County"]
[null,"NORTH CAROLINA","Chatham County","Chatham County",65700,616,740,854,953,739,888,1025,1144,"NORTH CAROLINA Chatham County"]
[null,"NORTH CAROLINA","Cherokee County","Cherokee County",46700,463,556,642,717,556,667,771,861,"NORTH CAROLINA Cherokee County"]
[null,"NORTH CAROLINA","Chowan County","Chowan County",44800,463,556,642,717,556,667,771,861,"NORTH CAROLINA Chowan County"]
[null,"NORTH CAROLINA","Clay County","Clay County",44800,463,556,642,717,556,667,771,861,"NORTH CAROLINA Clay County"]
[null,"NORTH CAROLINA","Cleveland County","Cleveland County",48600,463,556,642,717,556,667,771,861,"NORTH CAROLINA Cleveland County"]
[null,"NORTH CAROLINA","Columbus County","Columbus County",47600,463,556,642,717,556,667,771,861,"NORTH CAROLINA Columbus County"]
[null,"NORTH CAROLINA","Craven County","Craven County",63000,542,651,751,838,651,781,902,1006,"NORTH CAROLINA Craven County"]
[null,"NORTH CAROLINA","Cumberland County","Cumberland County",52800,495,595,686,766,594,714,824,919,"NORTH CAROLINA Cumberland County"]
[null,"NORTH CAROLINA","Currituck County","Currituck County",70600,662,795,918,1023,795,954,1101,1228,"NORTH CAROLINA Currituck County"]
[null,"NORTH CAROLINA","Dare County","Dare County",69300,650,780,901,1005,780,936,1081,1206,"NORTH CAROLINA Dare County"]
[null,"NORTH CAROLINA","Davidson County","Davidson County",52600,493,592,684,763,592,711,821,916,"NORTH CAROLINA Davidson County"]
[null,"NORTH CAROLINA","Davie County","Davie County",56000,531,637,736,821,637,765,883,985,"NORTH CAROLINA Davie County"]
[null,"NORTH CAROLINA","Duplin County","Duplin County",43200,463,556,642,717,556,667,771,861,"NORTH CAROLINA Duplin County"]
[null,"NORTH CAROLINA","Durham County","Durham County",65700,616,740,854,953,739,888,1025,1144,"NORTH CAROLINA Durham County"]
[null,"NORTH CAROLINA","Edgecombe County","Edgecombe County",49600,470,563,651,727,564,676,782,873,"NORTH CAROLINA Edgecombe County"]
[null,"NORTH CAROLINA","Forsyth County","Forsyth County",56000,531,637,736,821,637,765,883,985,"NORTH CAROLINA Forsyth County"]
[null,"NORTH CAROLINA","Franklin County","Franklin County",75800,711,853,985,1100,853,1024,1182,1320,"NORTH CAROLINA Franklin County"]
[null,"NORTH CAROLINA","Gaston County","Gaston County",64200,602,722,835,931,723,867,1002,1117,"NORTH CAROLINA Gaston County"]
[null,"NORTH CAROLINA","Gates County","Gates County",58600,550,660,761,850,660,792,914,1020,"NORTH CAROLINA Gates County"]
[null,"NORTH CAROLINA","Graham County","Graham County",40300,463,556,642,717,556,667,771,861,"NORTH CAROLINA Graham County"]
[null,"NORTH CAROLINA","Granville County","Granville County",59700,560,672,776,866,672,807,931,1039,"NORTH CAROLINA Granville County"]
[null,"NORTH CAROLINA","Greene County","Greene County",52900,496,596,688,767,596,715,825,921,"NORTH CAROLINA Greene County"]
[null,"NORTH CAROLINA","Guilford County","Guilford County",55100,516,620,716,800,620,744,860,960,"NORTH CAROLINA Guilford County"]
[null,"NORTH CAROLINA","Halifax County","Halifax County",42800,463,556,642,717,556,667,771,861,"NORTH CAROLINA Halifax County"]
[null,"NORTH CAROLINA","Harnett County","Harnett County",51100,479,575,664,741,575,690,797,889,"NORTH CAROLINA Harnett County"]
[null,"NORTH CAROLINA","Haywood County","Haywood County",54500,511,613,708,791,613,736,850,949,"NORTH CAROLINA Haywood County"]
[null,"NORTH CAROLINA","Henderson County","Henderson County",56000,525,630,728,812,630,756,873,975,"NORTH CAROLINA Henderson County"]
[null,"NORTH CAROLINA","Hertford County","Hertford County",42100,463,556,642,717,556,667,771,861,"NORTH CAROLINA Hertford County"]
[null,"NORTH CAROLINA","Hoke County","Hoke County",54300,495,595,686,766,594,714,824,919,"NORTH CAROLINA Hoke County"]
[null,"NORTH CAROLINA","Hyde County","Hyde County",43800,463,556,642,717,556,667,771,861,{"$f":"B3205&\" \"&D3205","v":"NORTH CAROLINA Hyde County"}]
[null,"NORTH CAROLINA","Iredell County","Iredell County",61000,571,686,793,885,686,823,951,1062,"NORTH CAROLINA Iredell County"]
[null,"NORTH CAROLINA","Jackson County","Jackson County",51800,486,583,673,751,583,700,808,901,"NORTH CAROLINA Jackson County"]
[null,"NORTH CAROLINA","Johnston County","Johnston County",75800,711,853,985,1100,853,1024,1182,1320,"NORTH CAROLINA Johnston County"]
[null,"NORTH CAROLINA","Jones County","Jones County",51300,480,576,665,742,576,691,798,891,"NORTH CAROLINA Jones County"]
[null,"NORTH CAROLINA","Lee County","Lee County",55600,521,626,723,806,626,751,867,967,"NORTH CAROLINA Lee County"]
[null,"NORTH CAROLINA","Lenoir County","Lenoir County",45100,463,556,642,717,556,667,771,861,"NORTH CAROLINA Lenoir County"]
[null,"NORTH CAROLINA","Lincoln County","Lincoln County",64800,543,652,754,841,652,783,905,1009,"NORTH CAROLINA Lincoln County"]
[null,"NORTH CAROLINA","McDowell County","McDowell County",48100,463,556,642,717,556,667,771,861,"NORTH CAROLINA McDowell County"]
[null,"NORTH CAROLINA","Macon County","Macon County",50800,476,572,660,737,572,687,792,885,"NORTH CAROLINA Macon County"]
[null,"NORTH CAROLINA","Madison County","Madison County",56000,525,630,728,812,630,756,873,975,"NORTH CAROLINA Madison County"]
[null,"NORTH CAROLINA","Martin County","Martin County",47300,463,556,642,717,556,667,771,861,"NORTH CAROLINA Martin County"]
[null,"NORTH CAROLINA","Mecklenburg County","Mecklenburg County",64200,602,722,835,931,723,867,1002,1117,"NORTH CAROLINA Mecklenburg County"]
[null,"NORTH CAROLINA","Mitchell County","Mitchell County",45400,463,556,642,717,556,667,771,861,"NORTH CAROLINA Mitchell County"]
[null,"NORTH CAROLINA","Montgomery County","Montgomery County",44400,463,556,642,717,556,667,771,861,"NORTH CAROLINA Montgomery County"]
[null,"NORTH CAROLINA","Moore County","Moore County",60100,567,681,786,877,681,817,944,1053,"NORTH CAROLINA Moore County"]
[null,"NORTH CAROLINA","Nash County","Nash County",49600,470,563,651,727,564,676,782,873,"NORTH CAROLINA Nash County"]
[null,"NORTH CAROLINA","New Hanover County","New Hanover County",58700,559,671,775,865,671,805,930,1038,"NORTH CAROLINA New Hanover County"]
[null,"NORTH CAROLINA","Northampton County","Northampton County",40300,463,556,642,717,556,667,771,861,"NORTH CAROLINA Northampton County"]
[null,"NORTH CAROLINA","Onslow County","Onslow County",53200,480,576,665,742,576,691,798,891,"NORTH CAROLINA Onslow County"]
[null,"NORTH CAROLINA","Orange County","Orange County",65700,616,740,854,953,739,888,1025,1144,"NORTH CAROLINA Orange County"]
[null,"NORTH CAROLINA","Pamlico County","Pamlico County",56500,519,622,719,802,623,747,863,963,"NORTH CAROLINA Pamlico County"]
[null,"NORTH CAROLINA","Pasquotank County","Pasquotank County",59300,556,667,771,860,668,801,925,1032,"NORTH CAROLINA Pasquotank County"]
[null,"NORTH CAROLINA","Pender County","Pender County",56700,531,638,737,822,638,766,885,987,"NORTH CAROLINA Pender County"]
[null,"NORTH CAROLINA","Perquimans County","Perquimans County",51300,481,577,667,745,578,693,801,894,"NORTH CAROLINA Perquimans County"]
[null,"NORTH CAROLINA","Person County","Person County",54600,519,622,719,802,623,747,863,963,"NORTH CAROLINA Person County"]
[null,"NORTH CAROLINA","Pitt County","Pitt County",55200,518,621,718,801,621,745,861,961,"NORTH CAROLINA Pitt County"]
[null,"NORTH CAROLINA","Polk County","Polk County",55900,523,628,725,810,628,754,870,972,"NORTH CAROLINA Polk County"]
[null,"NORTH CAROLINA","Randolph County","Randolph County",55100,516,620,716,800,620,744,860,960,"NORTH CAROLINA Randolph County"]
[null,"NORTH CAROLINA","Richmond County","Richmond County",42300,463,556,642,717,556,667,771,861,"NORTH CAROLINA Richmond County"]
[null,"NORTH CAROLINA","Robeson County","Robeson County",37100,463,556,642,717,556,667,771,861,"NORTH CAROLINA Robeson County"]
[null,"NORTH CAROLINA","Rockingham County","Rockingham County",46100,463,556,642,717,556,667,771,861,"NORTH CAROLINA Rockingham County"]
[null,"NORTH CAROLINA","Rowan County","Rowan County",48500,483,580,670,747,579,696,804,897,"NORTH CAROLINA Rowan County"]
[null,"NORTH CAROLINA","Rutherford County","Rutherford County",45700,463,556,642,717,556,667,771,861,"NORTH CAROLINA Rutherford County"]
[null,"NORTH CAROLINA","Sampson County","Sampson County",46800,463,556,642,717,556,667,771,861,"NORTH CAROLINA Sampson County"]
[null,"NORTH CAROLINA","Scotland County","Scotland County",39200,463,556,642,717,556,667,771,861,"NORTH CAROLINA Scotland County"]
[null,"NORTH CAROLINA","Stanly County","Stanly County",59400,557,668,772,862,669,802,927,1035,"NORTH CAROLINA Stanly County"]
[null,"NORTH CAROLINA","Stokes County","Stokes County",56000,531,637,736,821,637,765,883,985,"NORTH CAROLINA Stokes County"]
[null,"NORTH CAROLINA","Surry County","Surry County",42800,463,556,642,717,556,667,771,861,"NORTH CAROLINA Surry County"]
[null,"NORTH CAROLINA","Swain County","Swain County",52900,496,596,688,767,596,715,825,921,"NORTH CAROLINA Swain County"]
[null,"NORTH CAROLINA","Transylvania County","Transylvania County",55600,521,626,723,806,626,751,867,967,"NORTH CAROLINA Transylvania County"]
[null,"NORTH CAROLINA","Tyrrell County","Tyrrell County",47000,463,556,642,717,556,667,771,861,"NORTH CAROLINA Tyrrell County"]
[null,"NORTH CAROLINA","Union County","Union County",64200,602,722,835,931,723,867,1002,1117,"NORTH CAROLINA Union County"]
[null,"NORTH CAROLINA","Vance County","Vance County",43300,463,556,642,717,556,667,771,861,"NORTH CAROLINA Vance County"]
[null,"NORTH CAROLINA","Wake County","Wake County",75800,711,853,985,1100,853,1024,1182,1320,"NORTH CAROLINA Wake County"]
[null,"NORTH CAROLINA","Warren County","Warren County",44900,463,556,642,717,556,667,771,861,"NORTH CAROLINA Warren County"]
[null,"NORTH CAROLINA","Washington County","Washington County",49900,468,562,648,723,562,675,778,868,"NORTH CAROLINA Washington County"]
[null,"NORTH CAROLINA","Watauga County","Watauga County",62200,583,700,808,902,700,840,970,1083,"NORTH CAROLINA Watauga County"]
[null,"NORTH CAROLINA","Wayne County","Wayne County",49800,478,573,661,738,573,688,794,886,"NORTH CAROLINA Wayne County"]
[null,"NORTH CAROLINA","Wilkes County","Wilkes County",37600,463,556,642,717,556,667,771,861,"NORTH CAROLINA Wilkes County"]
[null,"NORTH CAROLINA","Wilson County","Wilson County",43100,463,556,642,717,556,667,771,861,"NORTH CAROLINA Wilson County"]
[null,"NORTH CAROLINA","Yadkin County","Yadkin County",56000,531,637,736,821,637,765,883,985,"NORTH CAROLINA Yadkin County"]
[null,"NORTH CAROLINA","Yancey County","Yancey County",48500,463,556,642,717,556,667,771,861,"NORTH CAROLINA Yancey County"]
[null,"NORTH DAKOTA","Adams County","Adams County",54800,623,748,865,965,748,898,1038,1158,"NORTH DAKOTA Adams County"]
[null,"NORTH DAKOTA","Barnes County","Barnes County",66200,623,748,865,965,748,898,1038,1158,"NORTH DAKOTA Barnes County"]
[null,"NORTH DAKOTA","Benson County","Benson County",39900,623,748,865,965,748,898,1038,1158,"NORTH DAKOTA Benson County"]
[null,"NORTH DAKOTA","Billings County","Billings County",71200,635,762,880,982,762,915,1056,1179,"NORTH DAKOTA Billings County"]
[null,"NORTH DAKOTA","Bottineau County","Bottineau County",66300,623,748,865,965,748,898,1038,1158,"NORTH DAKOTA Bottineau County"]
[null,"NORTH DAKOTA","Bowman County","Bowman County",72600,635,762,880,982,762,915,1056,1179,"NORTH DAKOTA Bowman County"]
[null,"NORTH DAKOTA","Burke County","Burke County",72000,635,762,880,982,762,915,1056,1179,"NORTH DAKOTA Burke County"]
[null,"NORTH DAKOTA","Burleigh County","Burleigh County",76700,719,863,997,1112,863,1036,1197,1335,"NORTH DAKOTA Burleigh County"]
[null,"NORTH DAKOTA","Cass County","Cass County",72100,676,811,937,1046,811,973,1125,1255,"NORTH DAKOTA Cass County"]
[null,"NORTH DAKOTA","Cavalier County","Cavalier County",63400,623,748,865,965,748,898,1038,1158,"NORTH DAKOTA Cavalier County"]
[null,"NORTH DAKOTA","Dickey County","Dickey County",61400,623,748,865,965,748,898,1038,1158,"NORTH DAKOTA Dickey County"]
[null,"NORTH DAKOTA","Divide County","Divide County",67700,635,762,880,982,762,915,1056,1179,{"$f":"B3269&\" \"&D3269","v":"NORTH DAKOTA Divide County"}]
[null,"NORTH DAKOTA","Dunn County","Dunn County",73500,635,762,880,982,762,915,1056,1179,"NORTH DAKOTA Dunn County"]
[null,"NORTH DAKOTA","Eddy County","Eddy County",53500,623,748,865,965,748,898,1038,1158,"NORTH DAKOTA Eddy County"]
[null,"NORTH DAKOTA","Emmons County","Emmons County",47200,623,748,865,965,748,898,1038,1158,"NORTH DAKOTA Emmons County"]
[null,"NORTH DAKOTA","Foster County","Foster County",68000,637,765,884,986,765,918,1061,1183,"NORTH DAKOTA Foster County"]
[null,"NORTH DAKOTA","Golden Valley County","Golden Valley County",62800,623,748,865,965,748,898,1038,1158,"NORTH DAKOTA Golden Valley County"]
[null,"NORTH DAKOTA","Grand Forks County","Grand Forks County",69800,655,786,907,1012,786,943,1089,1215,"NORTH DAKOTA Grand Forks County"]
[null,"NORTH DAKOTA","Grant County","Grant County",58600,623,748,865,965,748,898,1038,1158,"NORTH DAKOTA Grant County"]
[null,"NORTH DAKOTA","Griggs County","Griggs County",58000,623,748,865,965,748,898,1038,1158,"NORTH DAKOTA Griggs County"]
[null,"NORTH DAKOTA","Hettinger County","Hettinger County",51900,623,748,865,965,748,898,1038,1158,"NORTH DAKOTA Hettinger County"]
[null,"NORTH DAKOTA","Kidder County","Kidder County",52800,623,748,865,965,748,898,1038,1158,"NORTH DAKOTA Kidder County"]
[null,"NORTH DAKOTA","LaMoure County","LaMoure County",65200,623,748,865,965,748,898,1038,1158,"NORTH DAKOTA LaMoure County"]
[null,"NORTH DAKOTA","Logan County","Logan County",56600,623,748,865,965,748,898,1038,1158,"NORTH DAKOTA Logan County"]
[null,"NORTH DAKOTA","McHenry County","McHenry County",59400,623,748,865,965,748,898,1038,1158,"NORTH DAKOTA McHenry County"]
[null,"NORTH DAKOTA","McIntosh County","McIntosh County",51900,623,748,865,965,748,898,1038,1158,"NORTH DAKOTA McIntosh County"]
[null,"NORTH DAKOTA","McKenzie County","McKenzie County",65400,623,748,865,965,748,898,1038,1158,"NORTH DAKOTA McKenzie County"]
[null,"NORTH DAKOTA","McLean County","McLean County",66800,626,752,868,968,752,903,1042,1162,"NORTH DAKOTA McLean County"]
[null,"NORTH DAKOTA","Mercer County","Mercer County",77000,721,866,1001,1117,866,1039,1201,1341,"NORTH DAKOTA Mercer County"]
[null,"NORTH DAKOTA","Morton County","Morton County",76700,719,863,997,1112,863,1036,1197,1335,"NORTH DAKOTA Morton County"]
[null,"NORTH DAKOTA","Mountrail County","Mountrail County",69600,635,762,880,982,762,915,1056,1179,"NORTH DAKOTA Mountrail County"]
[null,"NORTH DAKOTA","Nelson County","Nelson County",64100,623,748,865,965,748,898,1038,1158,"NORTH DAKOTA Nelson County"]
[null,"NORTH DAKOTA","Oliver County","Oliver County",77000,721,866,1001,1117,866,1039,1201,1341,"NORTH DAKOTA Oliver County"]
[null,"NORTH DAKOTA","Pembina County","Pembina County",66700,625,751,867,967,750,901,1041,1161,"NORTH DAKOTA Pembina County"]
[null,"NORTH DAKOTA","Pierce County","Pierce County",63300,623,748,865,965,748,898,1038,1158,"NORTH DAKOTA Pierce County"]
[null,"NORTH DAKOTA","Ramsey County","Ramsey County",62300,623,748,865,965,748,898,1038,1158,"NORTH DAKOTA Ramsey County"]
[null,"NORTH DAKOTA","Ransom County","Ransom County",66800,626,752,868,968,752,903,1042,1162,"NORTH DAKOTA Ransom County"]
[null,"NORTH DAKOTA","Renville County","Renville County",66300,623,748,865,965,748,898,1038,1158,"NORTH DAKOTA Renville County"]
[null,"NORTH DAKOTA","Richland County","Richland County",70700,663,796,919,1026,795,955,1103,1231,"NORTH DAKOTA Richland County"]
[null,"NORTH DAKOTA","Rolette County","Rolette County",35200,623,748,865,965,748,898,1038,1158,"NORTH DAKOTA Rolette County"]
[null,"NORTH DAKOTA","Sargent County","Sargent County",67600,634,761,879,981,761,913,1055,1177,"NORTH DAKOTA Sargent County"]
[null,"NORTH DAKOTA","Sheridan County","Sheridan County",42500,623,748,865,965,748,898,1038,1158,"NORTH DAKOTA Sheridan County"]
[null,"NORTH DAKOTA","Sioux County","Sioux County",34900,623,748,865,965,748,898,1038,1158,"NORTH DAKOTA Sioux County"]
[null,"NORTH DAKOTA","Slope County","Slope County",72600,635,762,880,982,762,915,1056,1179,"NORTH DAKOTA Slope County"]
[null,"NORTH DAKOTA","Stark County","Stark County",70300,655,786,907,1012,786,943,1089,1215,"NORTH DAKOTA Stark County"]
[null,"NORTH DAKOTA","Steele County","Steele County",64100,623,748,865,965,748,898,1038,1158,"NORTH DAKOTA Steele County"]
[null,"NORTH DAKOTA","Stutsman County","Stutsman County",64500,623,748,865,965,748,898,1038,1158,"NORTH DAKOTA Stutsman County"]
[null,"NORTH DAKOTA","Towner County","Towner County",62100,623,748,865,965,748,898,1038,1158,"NORTH DAKOTA Towner County"]
[null,"NORTH DAKOTA","Traill County","Traill County",65800,623,748,865,965,748,898,1038,1158,"NORTH DAKOTA Traill County"]
[null,"NORTH DAKOTA","Walsh County","Walsh County",62600,623,748,865,965,748,898,1038,1158,"NORTH DAKOTA Walsh County"]
[null,"NORTH DAKOTA","Ward County","Ward County",65700,623,748,865,965,748,898,1038,1158,"NORTH DAKOTA Ward County"]
[null,"NORTH DAKOTA","Wells County","Wells County",55400,623,748,865,965,748,898,1038,1158,"NORTH DAKOTA Wells County"]
[null,"NORTH DAKOTA","Williams County","Williams County",79000,635,762,880,982,762,915,1056,1179,"NORTH DAKOTA Williams County"]
[null,"OHIO","Adams County","Adams County",43500,510,611,706,787,612,733,847,945,"OHIO Adams County"]
[null,"OHIO","Allen County","Allen County",54800,514,617,712,795,617,741,855,954,"OHIO Allen County"]
[null,"OHIO","Ashland County","Ashland County",56800,533,640,738,823,639,768,886,988,"OHIO Ashland County"]
[null,"OHIO","Ashtabula County","Ashtabula County",48300,510,611,706,787,612,733,847,945,"OHIO Ashtabula County"]
[null,"OHIO","Athens County","Athens County",52000,510,611,706,787,612,733,847,945,"OHIO Athens County"]
[null,"OHIO","Auglaize County","Auglaize County",63600,596,716,826,922,716,859,992,1107,"OHIO Auglaize County"]
[null,"OHIO","Belmont County","Belmont County",56200,508,610,705,786,610,732,846,943,"OHIO Belmont County"]
[null,"OHIO","Brown County","Brown County",57000,534,641,741,827,641,769,889,993,"OHIO Brown County"]
[null,"OHIO","Butler County","Butler County",68500,642,771,890,993,771,925,1068,1192,"OHIO Butler County"]
[null,"OHIO","Carroll County","Carroll County",56000,525,630,728,812,630,756,873,975,"OHIO Carroll County"]
[null,"OHIO","Champaign County","Champaign County",59300,556,667,771,860,668,801,925,1032,"OHIO Champaign County"]
[null,"OHIO","Clark County","Clark County",52700,510,611,706,787,612,733,847,945,"OHIO Clark County"]
[null,"OHIO","Clermont County","Clermont County",68500,642,771,890,993,771,925,1068,1192,"OHIO Clermont County"]
[null,"OHIO","Clinton County","Clinton County",59700,560,672,776,866,672,807,931,1039,"OHIO Clinton County"]
[null,"OHIO","Columbiana County","Columbiana County",54600,512,615,710,792,615,738,852,951,"OHIO Columbiana County"]
[null,"OHIO","Coshocton County","Coshocton County",49800,510,611,706,787,612,733,847,945,"OHIO Coshocton County"]
[null,"OHIO","Crawford County","Crawford County",51100,510,611,706,787,612,733,847,945,"OHIO Crawford County"]
[null,"OHIO","Cuyahoga County","Cuyahoga County",62600,587,705,814,908,705,846,977,1090,"OHIO Cuyahoga County"]
[null,"OHIO","Darke County","Darke County",56500,530,636,735,820,636,763,882,984,"OHIO Darke County"]
[null,"OHIO","Defiance County","Defiance County",58100,545,653,755,842,654,784,906,1011,"OHIO Defiance County"]
[null,"OHIO","Delaware County","Delaware County",70000,656,787,910,1015,787,945,1092,1218,"OHIO Delaware County"]
[null,"OHIO","Erie County","Erie County",61100,573,687,794,886,687,825,953,1063,"OHIO Erie County"]
[null,"OHIO","Fairfield County","Fairfield County",70000,656,787,910,1015,787,945,1092,1218,{"$f":"B3333&\" \"&D3333","v":"OHIO Fairfield County"}]
[null,"OHIO","Fayette County","Fayette County",48600,510,611,706,787,612,733,847,945,"OHIO Fayette County"]
[null,"OHIO","Franklin County","Franklin County",70000,656,787,910,1015,787,945,1092,1218,"OHIO Franklin County"]
[null,"OHIO","Fulton County","Fulton County",57100,535,642,742,828,642,771,891,994,"OHIO Fulton County"]
[null,"OHIO","Gallia County","Gallia County",47800,510,611,706,787,612,733,847,945,"OHIO Gallia County"]
[null,"OHIO","Geauga County","Geauga County",62600,587,705,814,908,705,846,977,1090,"OHIO Geauga County"]
[null,"OHIO","Greene County","Greene County",60200,565,677,783,873,678,813,939,1048,"OHIO Greene County"]
[null,"OHIO","Guernsey County","Guernsey County",51000,510,611,706,787,612,733,847,945,"OHIO Guernsey County"]
[null,"OHIO","Hamilton County","Hamilton County",68500,642,771,890,993,771,925,1068,1192,"OHIO Hamilton County"]
[null,"OHIO","Hancock County","Hancock County",62500,586,703,812,906,703,844,975,1087,"OHIO Hancock County"]
[null,"OHIO","Hardin County","Hardin County",55000,523,628,725,810,628,754,870,972,"OHIO Hardin County"]
[null,"OHIO","Harrison County","Harrison County",46700,510,611,706,787,612,733,847,945,"OHIO Harrison County"]
[null,"OHIO","Henry County","Henry County",63300,594,712,823,918,713,855,987,1102,"OHIO Henry County"]
[null,"OHIO","Highland County","Highland County",50000,510,611,706,787,612,733,847,945,"OHIO Highland County"]
[null,"OHIO","Hocking County","Hocking County",53800,510,611,706,787,612,733,847,945,"OHIO Hocking County"]
[null,"OHIO","Holmes County","Holmes County",51500,510,611,706,787,612,733,847,945,"OHIO Holmes County"]
[null,"OHIO","Huron County","Huron County",57600,540,648,749,836,648,778,899,1003,"OHIO Huron County"]
[null,"OHIO","Jackson County","Jackson County",47300,510,611,706,787,612,733,847,945,"OHIO Jackson County"]
[null,"OHIO","Jefferson County","Jefferson County",52500,510,611,706,787,612,733,847,945,"OHIO Jefferson County"]
[null,"OHIO","Knox County","Knox County",60400,566,680,785,876,680,816,942,1051,"OHIO Knox County"]
[null,"OHIO","Lake County","Lake County",62600,587,705,814,908,705,846,977,1090,"OHIO Lake County"]
[null,"OHIO","Lawrence County","Lawrence County",51000,478,573,663,740,573,688,795,888,"OHIO Lawrence County"]
[null,"OHIO","Licking County","Licking County",70000,656,787,910,1015,787,945,1092,1218,"OHIO Licking County"]
[null,"OHIO","Logan County","Logan County",56000,525,630,728,812,630,756,873,975,"OHIO Logan County"]
[null,"OHIO","Lorain County","Lorain County",62600,587,705,814,908,705,846,977,1090,"OHIO Lorain County"]
[null,"OHIO","Lucas County","Lucas County",57100,535,642,742,828,642,771,891,994,"OHIO Lucas County"]
[null,"OHIO","Madison County","Madison County",70000,656,787,910,1015,787,945,1092,1218,"OHIO Madison County"]
[null,"OHIO","Mahoning County","Mahoning County",52700,510,611,706,787,612,733,847,945,"OHIO Mahoning County"]
[null,"OHIO","Marion County","Marion County",52900,510,611,706,787,612,733,847,945,"OHIO Marion County"]
[null,"OHIO","Medina County","Medina County",62600,587,705,814,908,705,846,977,1090,"OHIO Medina County"]
[null,"OHIO","Meigs County","Meigs County",43600,510,611,706,787,612,733,847,945,"OHIO Meigs County"]
[null,"OHIO","Mercer County","Mercer County",64200,602,722,835,931,723,867,1002,1117,"OHIO Mercer County"]
[null,"OHIO","Miami County","Miami County",60200,565,677,783,873,678,813,939,1048,"OHIO Miami County"]
[null,"OHIO","Monroe County","Monroe County",46900,510,611,706,787,612,733,847,945,"OHIO Monroe County"]
[null,"OHIO","Montgomery County","Montgomery County",60200,565,677,783,873,678,813,939,1048,"OHIO Montgomery County"]
[null,"OHIO","Morgan County","Morgan County",43000,510,611,706,787,612,733,847,945,"OHIO Morgan County"]
[null,"OHIO","Morrow County","Morrow County",70000,656,787,910,1015,787,945,1092,1218,"OHIO Morrow County"]
[null,"OHIO","Muskingum County","Muskingum County",51700,510,611,706,787,612,733,847,945,"OHIO Muskingum County"]
[null,"OHIO","Noble County","Noble County",45500,510,611,706,787,612,733,847,945,"OHIO Noble County"]
[null,"OHIO","Ottawa County","Ottawa County",57100,535,642,742,828,642,771,891,994,"OHIO Ottawa County"]
[null,"OHIO","Paulding County","Paulding County",58500,548,658,760,848,658,790,912,1018,"OHIO Paulding County"]
[null,"OHIO","Perry County","Perry County",53100,510,611,706,787,612,733,847,945,"OHIO Perry County"]
[null,"OHIO","Pickaway County","Pickaway County",70000,656,787,910,1015,787,945,1092,1218,"OHIO Pickaway County"]
[null,"OHIO","Pike County","Pike County",48000,510,611,706,787,612,733,847,945,"OHIO Pike County"]
[null,"OHIO","Portage County","Portage County",62100,582,698,807,901,699,838,969,1081,"OHIO Portage County"]
[null,"OHIO","Preble County","Preble County",59800,561,673,777,867,673,808,933,1041,"OHIO Preble County"]
[null,"OHIO","Putnam County","Putnam County",72800,683,820,946,1056,819,984,1136,1267,"OHIO Putnam County"]
[null,"OHIO","Richland County","Richland County",53700,510,611,706,787,612,733,847,945,"OHIO Richland County"]
[null,"OHIO","Ross County","Ross County",56800,521,626,723,806,626,751,867,967,"OHIO Ross County"]
[null,"OHIO","Sandusky County","Sandusky County",59400,557,668,772,862,669,802,927,1035,"OHIO Sandusky County"]
[null,"OHIO","Scioto County","Scioto County",43000,510,611,706,787,612,733,847,945,"OHIO Scioto County"]
[null,"OHIO","Seneca County","Seneca County",53600,510,611,706,787,612,733,847,945,"OHIO Seneca County"]
[null,"OHIO","Shelby County","Shelby County",64600,606,727,840,937,727,873,1008,1125,"OHIO Shelby County"]
[null,"OHIO","Stark County","Stark County",56000,525,630,728,812,630,756,873,975,"OHIO Stark County"]
[null,"OHIO","Summit County","Summit County",62100,582,698,807,901,699,838,969,1081,"OHIO Summit County"]
[null,"OHIO","Trumbull County","Trumbull County",52700,510,611,706,787,612,733,847,945,"OHIO Trumbull County"]
[null,"OHIO","Tuscarawas County","Tuscarawas County",54600,512,615,710,792,615,738,852,951,"OHIO Tuscarawas County"]
[null,"OHIO","Union County","Union County",82700,775,931,1075,1200,930,1117,1290,1440,"OHIO Union County"]
[null,"OHIO","Van Wert County","Van Wert County",54800,514,617,712,795,617,741,855,954,"OHIO Van Wert County"]
[null,"OHIO","Vinton County","Vinton County",38700,510,611,706,787,612,733,847,945,"OHIO Vinton County"]
[null,"OHIO","Warren County","Warren County",68500,642,771,890,993,771,925,1068,1192,"OHIO Warren County"]
[null,"OHIO","Washington County","Washington County",53700,503,605,698,778,604,726,837,934,"OHIO Washington County"]
[null,"OHIO","Wayne County","Wayne County",58400,548,657,759,847,657,789,911,1017,"OHIO Wayne County"]
[null,"OHIO","Williams County","Williams County",56300,528,633,732,817,634,760,879,981,"OHIO Williams County"]
[null,"OHIO","Wood County","Wood County",57100,535,642,742,828,642,771,891,994,{"$f":"B3397&\" \"&D3397","v":"OHIO Wood County"}]
[null,"OHIO","Wyandot County","Wyandot County",61600,578,693,801,893,693,832,961,1072,"OHIO Wyandot County"]
[null,"OKLAHOMA","Adair County","Adair County",38800,473,567,655,731,567,681,786,877,"OKLAHOMA Adair County"]
[null,"OKLAHOMA","Alfalfa County","Alfalfa County",58700,535,642,742,828,642,771,891,994,"OKLAHOMA Alfalfa County"]
[null,"OKLAHOMA","Atoka County","Atoka County",42500,473,567,655,731,567,681,786,877,"OKLAHOMA Atoka County"]
[null,"OKLAHOMA","Beaver County","Beaver County",56700,531,638,737,822,638,766,885,987,"OKLAHOMA Beaver County"]
[null,"OKLAHOMA","Beckham County","Beckham County",59600,535,642,742,828,642,771,891,994,"OKLAHOMA Beckham County"]
[null,"OKLAHOMA","Blaine County","Blaine County",50900,485,582,672,750,582,699,807,900,"OKLAHOMA Blaine County"]
[null,"OKLAHOMA","Bryan County","Bryan County",47100,473,567,655,731,567,681,786,877,"OKLAHOMA Bryan County"]
[null,"OKLAHOMA","Caddo County","Caddo County",47500,473,567,655,731,567,681,786,877,"OKLAHOMA Caddo County"]
[null,"OKLAHOMA","Canadian County","Canadian County",61400,576,691,798,891,691,829,958,1069,"OKLAHOMA Canadian County"]
[null,"OKLAHOMA","Carter County","Carter County",50500,473,568,656,732,568,682,788,879,"OKLAHOMA Carter County"]
[null,"OKLAHOMA","Cherokee County","Cherokee County",45900,473,567,655,731,567,681,786,877,"OKLAHOMA Cherokee County"]
[null,"OKLAHOMA","Choctaw County","Choctaw County",39200,473,567,655,731,567,681,786,877,"OKLAHOMA Choctaw County"]
[null,"OKLAHOMA","Cimarron County","Cimarron County",41500,473,567,655,731,567,681,786,877,"OKLAHOMA Cimarron County"]
[null,"OKLAHOMA","Cleveland County","Cleveland County",61400,576,691,798,891,691,829,958,1069,"OKLAHOMA Cleveland County"]
[null,"OKLAHOMA","Coal County","Coal County",45000,473,567,655,731,567,681,786,877,"OKLAHOMA Coal County"]
[null,"OKLAHOMA","Comanche County","Comanche County",53800,505,606,700,781,606,727,840,937,"OKLAHOMA Comanche County"]
[null,"OKLAHOMA","Cotton County","Cotton County",54700,513,616,711,793,615,739,853,952,"OKLAHOMA Cotton County"]
[null,"OKLAHOMA","Craig County","Craig County",51300,481,577,667,745,578,693,801,894,"OKLAHOMA Craig County"]
[null,"OKLAHOMA","Creek County","Creek County",59200,555,666,770,858,666,799,924,1030,"OKLAHOMA Creek County"]
[null,"OKLAHOMA","Custer County","Custer County",56300,525,630,728,812,630,756,873,975,"OKLAHOMA Custer County"]
[null,"OKLAHOMA","Delaware County","Delaware County",45000,473,567,655,731,567,681,786,877,"OKLAHOMA Delaware County"]
[null,"OKLAHOMA","Dewey County","Dewey County",56100,506,607,702,783,607,729,843,940,"OKLAHOMA Dewey County"]
[null,"OKLAHOMA","Ellis County","Ellis County",57500,535,642,742,828,642,771,891,994,"OKLAHOMA Ellis County"]
[null,"OKLAHOMA","Garfield County","Garfield County",54400,510,612,707,790,612,735,849,948,"OKLAHOMA Garfield County"]
[null,"OKLAHOMA","Garvin County","Garvin County",49700,473,567,655,731,567,681,786,877,"OKLAHOMA Garvin County"]
[null,"OKLAHOMA","Grady County","Grady County",58200,546,655,756,845,655,786,908,1014,"OKLAHOMA Grady County"]
[null,"OKLAHOMA","Grant County","Grant County",55100,516,620,716,800,620,744,860,960,"OKLAHOMA Grant County"]
[null,"OKLAHOMA","Greer County","Greer County",51400,482,578,668,746,579,694,802,895,"OKLAHOMA Greer County"]
[null,"OKLAHOMA","Harmon County","Harmon County",42000,473,567,655,731,567,681,786,877,"OKLAHOMA Harmon County"]
[null,"OKLAHOMA","Harper County","Harper County",53600,503,603,696,777,603,724,836,933,"OKLAHOMA Harper County"]
[null,"OKLAHOMA","Haskell County","Haskell County",49500,473,567,655,731,567,681,786,877,"OKLAHOMA Haskell County"]
[null,"OKLAHOMA","Hughes County","Hughes County",44300,473,567,655,731,567,681,786,877,"OKLAHOMA Hughes County"]
[null,"OKLAHOMA","Jackson County","Jackson County",54000,506,607,702,783,607,729,843,940,"OKLAHOMA Jackson County"]
[null,"OKLAHOMA","Jefferson County","Jefferson County",44900,473,567,655,731,567,681,786,877,"OKLAHOMA Jefferson County"]
[null,"OKLAHOMA","Johnston County","Johnston County",41600,473,567,655,731,567,681,786,877,"OKLAHOMA Johnston County"]
[null,"OKLAHOMA","Kay County","Kay County",53400,501,601,694,775,601,721,833,930,"OKLAHOMA Kay County"]
[null,"OKLAHOMA","Kingfisher County","Kingfisher County",61400,576,691,798,891,691,829,958,1069,"OKLAHOMA Kingfisher County"]
[null,"OKLAHOMA","Kiowa County","Kiowa County",45500,473,567,655,731,567,681,786,877,"OKLAHOMA Kiowa County"]
[null,"OKLAHOMA","Latimer County","Latimer County",53700,503,605,698,778,604,726,837,934,"OKLAHOMA Latimer County"]
[null,"OKLAHOMA","Le Flore County","Le Flore County",46500,436,523,605,675,523,628,726,810,"OKLAHOMA Le Flore County"]
[null,"OKLAHOMA","Lincoln County","Lincoln County",54000,506,607,702,783,607,729,843,940,"OKLAHOMA Lincoln County"]
[null,"OKLAHOMA","Logan County","Logan County",61400,576,691,798,891,691,829,958,1069,"OKLAHOMA Logan County"]
[null,"OKLAHOMA","Love County","Love County",53400,501,601,694,775,601,721,833,930,"OKLAHOMA Love County"]
[null,"OKLAHOMA","McClain County","McClain County",61400,576,691,798,891,691,829,958,1069,"OKLAHOMA McClain County"]
[null,"OKLAHOMA","McCurtain County","McCurtain County",43600,473,567,655,731,567,681,786,877,"OKLAHOMA McCurtain County"]
[null,"OKLAHOMA","McIntosh County","McIntosh County",41200,473,567,655,731,567,681,786,877,"OKLAHOMA McIntosh County"]
[null,"OKLAHOMA","Major County","Major County",58900,553,663,766,855,663,796,919,1026,"OKLAHOMA Major County"]
[null,"OKLAHOMA","Marshall County","Marshall County",49700,473,567,655,731,567,681,786,877,"OKLAHOMA Marshall County"]
[null,"OKLAHOMA","Mayes County","Mayes County",54600,512,615,710,792,615,738,852,951,"OKLAHOMA Mayes County"]
[null,"OKLAHOMA","Murray County","Murray County",50100,473,567,655,731,567,681,786,877,"OKLAHOMA Murray County"]
[null,"OKLAHOMA","Muskogee County","Muskogee County",43500,473,567,655,731,567,681,786,877,"OKLAHOMA Muskogee County"]
[null,"OKLAHOMA","Noble County","Noble County",53200,499,598,691,772,599,718,830,927,"OKLAHOMA Noble County"]
[null,"OKLAHOMA","Nowata County","Nowata County",52200,490,587,678,757,588,705,814,909,"OKLAHOMA Nowata County"]
[null,"OKLAHOMA","Okfuskee County","Okfuskee County",44800,473,567,655,731,567,681,786,877,"OKLAHOMA Okfuskee County"]
[null,"OKLAHOMA","Oklahoma County","Oklahoma County",61400,576,691,798,891,691,829,958,1069,"OKLAHOMA Oklahoma County"]
[null,"OKLAHOMA","Okmulgee County","Okmulgee County",51200,480,576,665,742,576,691,798,891,"OKLAHOMA Okmulgee County"]
[null,"OKLAHOMA","Osage County","Osage County",59200,555,666,770,858,666,799,924,1030,"OKLAHOMA Osage County"]
[null,"OKLAHOMA","Ottawa County","Ottawa County",46200,473,567,655,731,567,681,786,877,"OKLAHOMA Ottawa County"]
[null,"OKLAHOMA","Pawnee County","Pawnee County",51100,479,575,664,741,575,690,797,889,"OKLAHOMA Pawnee County"]
[null,"OKLAHOMA","Payne County","Payne County",52900,513,616,711,793,615,739,853,952,"OKLAHOMA Payne County"]
[null,"OKLAHOMA","Pittsburg County","Pittsburg County",53400,501,601,694,775,601,721,833,930,"OKLAHOMA Pittsburg County"]
[null,"OKLAHOMA","Pontotoc County","Pontotoc County",54300,506,607,702,783,607,729,843,940,"OKLAHOMA Pontotoc County"]
[null,"OKLAHOMA","Pottawatomie County","Pottawatomie County",55900,491,588,680,758,589,706,816,910,{"$f":"B3461&\" \"&D3461","v":"OKLAHOMA Pottawatomie County"}]
[null,"OKLAHOMA","Pushmataha County","Pushmataha County",38400,473,567,655,731,567,681,786,877,"OKLAHOMA Pushmataha County"]
[null,"OKLAHOMA","Roger Mills County","Roger Mills County",64500,542,651,751,838,651,781,902,1006,"OKLAHOMA Roger Mills County"]
[null,"OKLAHOMA","Rogers County","Rogers County",59200,555,666,770,858,666,799,924,1030,"OKLAHOMA Rogers County"]
[null,"OKLAHOMA","Seminole County","Seminole County",47000,473,567,655,731,567,681,786,877,"OKLAHOMA Seminole County"]
[null,"OKLAHOMA","Sequoyah County","Sequoyah County",46800,439,527,608,678,527,633,730,814,"OKLAHOMA Sequoyah County"]
[null,"OKLAHOMA","Stephens County","Stephens County",57300,538,645,745,831,645,774,894,997,"OKLAHOMA Stephens County"]
[null,"OKLAHOMA","Texas County","Texas County",60600,568,682,788,878,682,819,945,1054,"OKLAHOMA Texas County"]
[null,"OKLAHOMA","Tillman County","Tillman County",42200,473,567,655,731,567,681,786,877,"OKLAHOMA Tillman County"]
[null,"OKLAHOMA","Tulsa County","Tulsa County",59200,555,666,770,858,666,799,924,1030,"OKLAHOMA Tulsa County"]
[null,"OKLAHOMA","Wagoner County","Wagoner County",59200,555,666,770,858,666,799,924,1030,"OKLAHOMA Wagoner County"]
[null,"OKLAHOMA","Washington County","Washington County",59700,560,672,776,866,672,807,931,1039,"OKLAHOMA Washington County"]
[null,"OKLAHOMA","Washita County","Washita County",58900,538,645,745,831,645,774,894,997,"OKLAHOMA Washita County"]
[null,"OKLAHOMA","Woods County","Woods County",62900,590,708,818,912,708,850,981,1095,"OKLAHOMA Woods County"]
[null,"OKLAHOMA","Woodward County","Woodward County",63100,585,702,811,905,702,843,973,1086,"OKLAHOMA Woodward County"]
[null,"OREGON","Baker County","Baker County",53700,503,605,698,778,604,726,837,934,"OREGON Baker County"]
[null,"OREGON","Benton County","Benton County",69400,695,833,963,1075,834,1000,1156,1290,"OREGON Benton County"]
[null,"OREGON","Clackamas County","Clackamas County",69400,651,781,902,1007,781,937,1083,1209,"OREGON Clackamas County"]
[null,"OREGON","Clatsop County","Clatsop County",55500,520,625,721,805,624,750,866,966,"OREGON Clatsop County"]
[null,"OREGON","Columbia County","Columbia County",69400,651,781,902,1007,781,937,1083,1209,"OREGON Columbia County"]
[null,"OREGON","Coos County","Coos County",49500,473,568,656,732,568,682,788,879,"OREGON Coos County"]
[null,"OREGON","Crook County","Crook County",52800,498,597,690,770,597,717,828,924,"OREGON Crook County"]
[null,"OREGON","Curry County","Curry County",56700,531,638,737,822,638,766,885,987,"OREGON Curry County"]
[null,"OREGON","Deschutes County","Deschutes County",62400,585,702,811,905,702,843,973,1086,"OREGON Deschutes County"]
[null,"OREGON","Douglas County","Douglas County",46600,473,568,656,732,568,682,788,879,"OREGON Douglas County"]
[null,"OREGON","Gilliam County","Gilliam County",57600,540,648,749,836,648,778,899,1003,"OREGON Gilliam County"]
[null,"OREGON","Grant County","Grant County",45500,473,568,656,732,568,682,788,879,"OREGON Grant County"]
[null,"OREGON","Harney County","Harney County",50500,473,568,656,732,568,682,788,879,"OREGON Harney County"]
[null,"OREGON","Hood River County","Hood River County",64000,597,717,828,923,717,861,993,1108,"OREGON Hood River County"]
[null,"OREGON","Jackson County","Jackson County",50500,496,596,688,767,596,715,825,921,"OREGON Jackson County"]
[null,"OREGON","Jefferson County","Jefferson County",49400,473,568,656,732,568,682,788,879,"OREGON Jefferson County"]
[null,"OREGON","Josephine County","Josephine County",45200,473,568,656,732,568,682,788,879,"OREGON Josephine County"]
[null,"OREGON","Klamath County","Klamath County",47500,473,568,656,732,568,682,788,879,"OREGON Klamath County"]
[null,"OREGON","Lake County","Lake County",52300,491,588,680,758,589,706,816,910,"OREGON Lake County"]
[null,"OREGON","Lane County","Lane County",55200,518,621,718,801,621,745,861,961,"OREGON Lane County"]
[null,"OREGON","Lincoln County","Lincoln County",55700,522,627,724,808,627,753,869,970,"OREGON Lincoln County"]
[null,"OREGON","Linn County","Linn County",51600,498,597,690,770,597,717,828,924,"OREGON Linn County"]
[null,"OREGON","Malheur County","Malheur County",49000,473,568,656,732,568,682,788,879,"OREGON Malheur County"]
[null,"OREGON","Marion County","Marion County",55800,523,628,725,810,628,754,870,972,"OREGON Marion County"]
[null,"OREGON","Morrow County","Morrow County",52400,491,590,681,760,590,708,817,912,"OREGON Morrow County"]
[null,"OREGON","Multnomah County","Multnomah County",69400,651,781,902,1007,781,937,1083,1209,"OREGON Multnomah County"]
[null,"OREGON","Polk County","Polk County",55800,523,628,725,810,628,754,870,972,"OREGON Polk County"]
[null,"OREGON","Sherman County","Sherman County",60500,548,657,759,847,657,789,911,1017,"OREGON Sherman County"]
[null,"OREGON","Tillamook County","Tillamook County",53500,501,602,695,776,602,723,834,931,"OREGON Tillamook County"]
[null,"OREGON","Umatilla County","Umatilla County",59700,560,672,776,866,672,807,931,1039,"OREGON Umatilla County"]
[null,"OREGON","Union County","Union County",53100,499,598,691,772,599,718,830,927,"OREGON Union County"]
[null,"OREGON","Wallowa County","Wallowa County",53200,499,598,691,772,599,718,830,927,"OREGON Wallowa County"]
[null,"OREGON","Wasco County","Wasco County",55300,519,622,719,802,623,747,863,963,"OREGON Wasco County"]
[null,"OREGON","Washington County","Washington County",69400,651,781,902,1007,781,937,1083,1209,"OREGON Washington County"]
[null,"OREGON","Wheeler County","Wheeler County",46400,473,568,656,732,568,682,788,879,"OREGON Wheeler County"]
[null,"OREGON","Yamhill County","Yamhill County",69400,651,781,902,1007,781,937,1083,1209,"OREGON Yamhill County"]
[null,"PENNSYLVANIA","Adams County","Adams County",64100,609,731,845,942,731,877,1014,1131,"PENNSYLVANIA Adams County"]
[null,"PENNSYLVANIA","Allegheny County","Allegheny County",65600,615,738,853,951,738,886,1023,1141,"PENNSYLVANIA Allegheny County"]
[null,"PENNSYLVANIA","Armstrong County","Armstrong County",55600,534,641,740,826,641,769,888,991,"PENNSYLVANIA Armstrong County"]
[null,"PENNSYLVANIA","Beaver County","Beaver County",65600,615,738,853,951,738,886,1023,1141,"PENNSYLVANIA Beaver County"]
[null,"PENNSYLVANIA","Bedford County","Bedford County",52100,534,641,740,826,641,769,888,991,"PENNSYLVANIA Bedford County"]
[null,"PENNSYLVANIA","Berks County","Berks County",66900,628,753,870,971,753,904,1044,1165,"PENNSYLVANIA Berks County"]
[null,"PENNSYLVANIA","Blair County","Blair County",55200,534,641,740,826,641,769,888,991,"PENNSYLVANIA Blair County"]
[null,"PENNSYLVANIA","Bradford County","Bradford County",54500,534,641,740,826,641,769,888,991,"PENNSYLVANIA Bradford County"]
[null,"PENNSYLVANIA","Bucks County","Bucks County",78800,739,887,1025,1143,887,1065,1230,1372,"PENNSYLVANIA Bucks County"]
[null,"PENNSYLVANIA","Butler County","Butler County",65600,615,738,853,951,738,886,1023,1141,"PENNSYLVANIA Butler County"]
[null,"PENNSYLVANIA","Cambria County","Cambria County",53800,534,641,740,826,641,769,888,991,"PENNSYLVANIA Cambria County"]
[null,"PENNSYLVANIA","Cameron County","Cameron County",53800,534,641,740,826,641,769,888,991,"PENNSYLVANIA Cameron County"]
[null,"PENNSYLVANIA","Carbon County","Carbon County",68800,645,775,895,998,774,930,1074,1198,"PENNSYLVANIA Carbon County"]
[null,"PENNSYLVANIA","Centre County","Centre County",78300,657,788,911,1017,789,946,1094,1221,{"$f":"B3525&\" \"&D3525","v":"PENNSYLVANIA Centre County"}]
[null,"PENNSYLVANIA","Chester County","Chester County",78800,739,887,1025,1143,887,1065,1230,1372,"PENNSYLVANIA Chester County"]
[null,"PENNSYLVANIA","Clarion County","Clarion County",55200,534,641,740,826,641,769,888,991,"PENNSYLVANIA Clarion County"]
[null,"PENNSYLVANIA","Clearfield County","Clearfield County",57700,541,650,750,837,649,780,900,1005,"PENNSYLVANIA Clearfield County"]
[null,"PENNSYLVANIA","Clinton County","Clinton County",53700,534,641,740,826,641,769,888,991,"PENNSYLVANIA Clinton County"]
[null,"PENNSYLVANIA","Columbia County","Columbia County",53400,534,641,740,826,641,769,888,991,"PENNSYLVANIA Columbia County"]
[null,"PENNSYLVANIA","Crawford County","Crawford County",55900,534,641,740,826,641,769,888,991,"PENNSYLVANIA Crawford County"]
[null,"PENNSYLVANIA","Cumberland County","Cumberland County",71500,670,805,930,1037,804,966,1116,1245,"PENNSYLVANIA Cumberland County"]
[null,"PENNSYLVANIA","Dauphin County","Dauphin County",71500,670,805,930,1037,804,966,1116,1245,"PENNSYLVANIA Dauphin County"]
[null,"PENNSYLVANIA","Delaware County","Delaware County",78800,739,887,1025,1143,887,1065,1230,1372,"PENNSYLVANIA Delaware County"]
[null,"PENNSYLVANIA","Elk County","Elk County",53600,534,641,740,826,641,769,888,991,"PENNSYLVANIA Elk County"]
[null,"PENNSYLVANIA","Erie County","Erie County",55500,536,643,743,830,644,772,892,996,"PENNSYLVANIA Erie County"]
[null,"PENNSYLVANIA","Fayette County","Fayette County",65600,615,738,853,951,738,886,1023,1141,"PENNSYLVANIA Fayette County"]
[null,"PENNSYLVANIA","Forest County","Forest County",46400,534,641,740,826,641,769,888,991,"PENNSYLVANIA Forest County"]
[null,"PENNSYLVANIA","Franklin County","Franklin County",60800,570,685,790,882,684,822,948,1059,"PENNSYLVANIA Franklin County"]
[null,"PENNSYLVANIA","Fulton County","Fulton County",56400,534,641,740,826,641,769,888,991,"PENNSYLVANIA Fulton County"]
[null,"PENNSYLVANIA","Greene County","Greene County",55200,534,641,740,826,641,769,888,991,"PENNSYLVANIA Greene County"]
[null,"PENNSYLVANIA","Huntingdon County","Huntingdon County",56100,534,641,740,826,641,769,888,991,"PENNSYLVANIA Huntingdon County"]
[null,"PENNSYLVANIA","Indiana County","Indiana County",59200,555,666,770,858,666,799,924,1030,"PENNSYLVANIA Indiana County"]
[null,"PENNSYLVANIA","Jefferson County","Jefferson County",52000,534,641,740,826,641,769,888,991,"PENNSYLVANIA Jefferson County"]
[null,"PENNSYLVANIA","Juniata County","Juniata County",55200,534,641,740,826,641,769,888,991,"PENNSYLVANIA Juniata County"]
[null,"PENNSYLVANIA","Lackawanna County","Lackawanna County",58200,546,655,756,845,655,786,908,1014,"PENNSYLVANIA Lackawanna County"]
[null,"PENNSYLVANIA","Lancaster County","Lancaster County",67200,630,756,873,975,756,907,1048,1170,"PENNSYLVANIA Lancaster County"]
[null,"PENNSYLVANIA","Lawrence County","Lawrence County",56400,534,641,740,826,641,769,888,991,"PENNSYLVANIA Lawrence County"]
[null,"PENNSYLVANIA","Lebanon County","Lebanon County",65500,614,737,851,950,737,885,1022,1140,"PENNSYLVANIA Lebanon County"]
[null,"PENNSYLVANIA","Lehigh County","Lehigh County",68800,645,775,895,998,774,930,1074,1198,"PENNSYLVANIA Lehigh County"]
[null,"PENNSYLVANIA","Luzerne County","Luzerne County",58200,546,655,756,845,655,786,908,1014,"PENNSYLVANIA Luzerne County"]
[null,"PENNSYLVANIA","Lycoming County","Lycoming County",56400,534,641,740,826,641,769,888,991,"PENNSYLVANIA Lycoming County"]
[null,"PENNSYLVANIA","McKean County","McKean County",52500,534,641,740,826,641,769,888,991,"PENNSYLVANIA McKean County"]
[null,"PENNSYLVANIA","Mercer County","Mercer County",53400,510,611,706,787,612,733,847,945,"PENNSYLVANIA Mercer County"]
[null,"PENNSYLVANIA","Mifflin County","Mifflin County",49300,534,641,740,826,641,769,888,991,"PENNSYLVANIA Mifflin County"]
[null,"PENNSYLVANIA","Monroe County","Monroe County",63200,596,716,826,922,716,859,992,1107,"PENNSYLVANIA Monroe County"]
[null,"PENNSYLVANIA","Montgomery County","Montgomery County",78800,739,887,1025,1143,887,1065,1230,1372,"PENNSYLVANIA Montgomery County"]
[null,"PENNSYLVANIA","Montour County","Montour County",60400,566,680,785,876,680,816,942,1051,"PENNSYLVANIA Montour County"]
[null,"PENNSYLVANIA","Northampton County","Northampton County",68800,645,775,895,998,774,930,1074,1198,"PENNSYLVANIA Northampton County"]
[null,"PENNSYLVANIA","Northumberland County","Northumberland County",53700,534,641,740,826,641,769,888,991,"PENNSYLVANIA Northumberland County"]
[null,"PENNSYLVANIA","Perry County","Perry County",71500,670,805,930,1037,804,966,1116,1245,"PENNSYLVANIA Perry County"]
[null,"PENNSYLVANIA","Philadelphia County","Philadelphia County",78800,739,887,1025,1143,887,1065,1230,1372,"PENNSYLVANIA Philadelphia County"]
[null,"PENNSYLVANIA","Pike County","Pike County",69500,651,782,903,1008,782,939,1084,1210,"PENNSYLVANIA Pike County"]
[null,"PENNSYLVANIA","Potter County","Potter County",50500,534,641,740,826,641,769,888,991,"PENNSYLVANIA Potter County"]
[null,"PENNSYLVANIA","Schuylkill County","Schuylkill County",60600,543,652,754,841,652,783,905,1009,"PENNSYLVANIA Schuylkill County"]
[null,"PENNSYLVANIA","Snyder County","Snyder County",55700,534,641,740,826,641,769,888,991,"PENNSYLVANIA Snyder County"]
[null,"PENNSYLVANIA","Somerset County","Somerset County",51600,534,641,740,826,641,769,888,991,"PENNSYLVANIA Somerset County"]
[null,"PENNSYLVANIA","Sullivan County","Sullivan County",51800,534,641,740,826,641,769,888,991,"PENNSYLVANIA Sullivan County"]
[null,"PENNSYLVANIA","Susquehanna County","Susquehanna County",57000,534,641,741,827,641,769,889,993,"PENNSYLVANIA Susquehanna County"]
[null,"PENNSYLVANIA","Tioga County","Tioga County",52900,534,641,740,826,641,769,888,991,"PENNSYLVANIA Tioga County"]
[null,"PENNSYLVANIA","Union County","Union County",56700,534,641,740,826,641,769,888,991,"PENNSYLVANIA Union County"]
[null,"PENNSYLVANIA","Venango County","Venango County",52100,534,641,740,826,641,769,888,991,"PENNSYLVANIA Venango County"]
[null,"PENNSYLVANIA","Warren County","Warren County",56200,534,641,740,826,641,769,888,991,"PENNSYLVANIA Warren County"]
[null,"PENNSYLVANIA","Washington County","Washington County",65600,615,738,853,951,738,886,1023,1141,"PENNSYLVANIA Washington County"]
[null,"PENNSYLVANIA","Wayne County","Wayne County",58700,550,661,763,851,660,793,915,1021,"PENNSYLVANIA Wayne County"]
[null,"PENNSYLVANIA","Westmoreland County","Westmoreland County",65600,615,738,853,951,738,886,1023,1141,"PENNSYLVANIA Westmoreland County"]
[null,"PENNSYLVANIA","Wyoming County","Wyoming County",58200,546,655,756,845,655,786,908,1014,"PENNSYLVANIA Wyoming County"]
[null,"PENNSYLVANIA","York County","York County",68700,644,773,893,996,773,928,1071,1195,"PENNSYLVANIA York County"]
[null,"RHODE ISLAND","Bristol County","Barrington town",72200,677,812,938,1047,813,975,1126,1257,"RHODE ISLAND Barrington town"]
[null,"RHODE ISLAND","Bristol County","Bristol town",72200,677,812,938,1047,813,975,1126,1257,"RHODE ISLAND Bristol town"]
[null,"RHODE ISLAND","Bristol County","Warren town",72200,677,812,938,1047,813,975,1126,1257,"RHODE ISLAND Warren town"]
[null,"RHODE ISLAND","Kent County","Coventry town",72200,677,812,938,1047,813,975,1126,1257,"RHODE ISLAND Coventry town"]
[null,"RHODE ISLAND","Kent County","East Greenwich town",72200,677,812,938,1047,813,975,1126,1257,"RHODE ISLAND East Greenwich town"]
[null,"RHODE ISLAND","Kent County","Warwick city",72200,677,812,938,1047,813,975,1126,1257,"RHODE ISLAND Warwick city"]
[null,"RHODE ISLAND","Kent County","West Greenwich town",72200,677,812,938,1047,813,975,1126,1257,"RHODE ISLAND West Greenwich town"]
[null,"RHODE ISLAND","Kent County","West Warwick town",72200,677,812,938,1047,813,975,1126,1257,"RHODE ISLAND West Warwick town"]
[null,"RHODE ISLAND","Newport County","Jamestown town",72200,677,812,938,1047,813,975,1126,1257,"RHODE ISLAND Jamestown town"]
[null,"RHODE ISLAND","Newport County","Little Compton town",72200,677,812,938,1047,813,975,1126,1257,"RHODE ISLAND Little Compton town"]
[null,"RHODE ISLAND","Newport County","Middletown town",90000,843,1012,1170,1305,1012,1215,1404,1566,{"$f":"B3589&\" \"&D3589","v":"RHODE ISLAND Middletown town"}]
[null,"RHODE ISLAND","Newport County","Newport city",90000,843,1012,1170,1305,1012,1215,1404,1566,"RHODE ISLAND Newport city"]
[null,"RHODE ISLAND","Newport County","Portsmouth town",90000,843,1012,1170,1305,1012,1215,1404,1566,"RHODE ISLAND Portsmouth town"]
[null,"RHODE ISLAND","Newport County","Tiverton town",72200,677,812,938,1047,813,975,1126,1257,"RHODE ISLAND Tiverton town"]
[null,"RHODE ISLAND","Providence County","Burrillville town",72200,677,812,938,1047,813,975,1126,1257,"RHODE ISLAND Burrillville town"]
[null,"RHODE ISLAND","Providence County","Central Falls city",72200,677,812,938,1047,813,975,1126,1257,"RHODE ISLAND Central Falls city"]
[null,"RHODE ISLAND","Providence County","Cranston city",72200,677,812,938,1047,813,975,1126,1257,"RHODE ISLAND Cranston city"]
[null,"RHODE ISLAND","Providence County","Cumberland town",72200,677,812,938,1047,813,975,1126,1257,"RHODE ISLAND Cumberland town"]
[null,"RHODE ISLAND","Providence County","East Providence city",72200,677,812,938,1047,813,975,1126,1257,"RHODE ISLAND East Providence city"]
[null,"RHODE ISLAND","Providence County","Foster town",72200,677,812,938,1047,813,975,1126,1257,"RHODE ISLAND Foster town"]
[null,"RHODE ISLAND","Providence County","Glocester town",72200,677,812,938,1047,813,975,1126,1257,"RHODE ISLAND Glocester town"]
[null,"RHODE ISLAND","Providence County","Johnston town",72200,677,812,938,1047,813,975,1126,1257,"RHODE ISLAND Johnston town"]
[null,"RHODE ISLAND","Providence County","Lincoln town",72200,677,812,938,1047,813,975,1126,1257,"RHODE ISLAND Lincoln town"]
[null,"RHODE ISLAND","Providence County","North Providence town",72200,677,812,938,1047,813,975,1126,1257,"RHODE ISLAND North Providence town"]
[null,"RHODE ISLAND","Providence County","North Smithfield town",72200,677,812,938,1047,813,975,1126,1257,"RHODE ISLAND North Smithfield town"]
[null,"RHODE ISLAND","Providence County","Pawtucket city",72200,677,812,938,1047,813,975,1126,1257,"RHODE ISLAND Pawtucket city"]
[null,"RHODE ISLAND","Providence County","Providence city",72200,677,812,938,1047,813,975,1126,1257,"RHODE ISLAND Providence city"]
[null,"RHODE ISLAND","Providence County","Scituate town",72200,677,812,938,1047,813,975,1126,1257,"RHODE ISLAND Scituate town"]
[null,"RHODE ISLAND","Providence County","Smithfield town",72200,677,812,938,1047,813,975,1126,1257,"RHODE ISLAND Smithfield town"]
[null,"RHODE ISLAND","Providence County","Woonsocket city",72200,677,812,938,1047,813,975,1126,1257,"RHODE ISLAND Woonsocket city"]
[null,"RHODE ISLAND","Washington County","Charlestown town",72200,677,812,938,1047,813,975,1126,1257,"RHODE ISLAND Charlestown town"]
[null,"RHODE ISLAND","Washington County","Exeter town",72200,677,812,938,1047,813,975,1126,1257,"RHODE ISLAND Exeter town"]
[null,"RHODE ISLAND","Washington County","Hopkinton town",85600,803,963,1113,1241,963,1156,1335,1489,"RHODE ISLAND Hopkinton town"]
[null,"RHODE ISLAND","Washington County","Narragansett town",72200,677,812,938,1047,813,975,1126,1257,"RHODE ISLAND Narragansett town"]
[null,"RHODE ISLAND","Washington County","New Shoreham town",85600,803,963,1113,1241,963,1156,1335,1489,"RHODE ISLAND New Shoreham town"]
[null,"RHODE ISLAND","Washington County","North Kingstown town",72200,677,812,938,1047,813,975,1126,1257,"RHODE ISLAND North Kingstown town"]
[null,"RHODE ISLAND","Washington County","Richmond town",72200,677,812,938,1047,813,975,1126,1257,"RHODE ISLAND Richmond town"]
[null,"RHODE ISLAND","Washington County","South Kingstown town",72200,677,812,938,1047,813,975,1126,1257,"RHODE ISLAND South Kingstown town"]
[null,"RHODE ISLAND","Washington County","Westerly town",85600,803,963,1113,1241,963,1156,1335,1489,"RHODE ISLAND Westerly town"]
[null,"SOUTH CAROLINA","Abbeville County","Abbeville County",48700,456,548,633,706,548,658,759,847,"SOUTH CAROLINA Abbeville County"]
[null,"SOUTH CAROLINA","Aiken County","Aiken County",55900,525,630,726,811,630,756,872,973,"SOUTH CAROLINA Aiken County"]
[null,"SOUTH CAROLINA","Allendale County","Allendale County",27200,447,537,620,692,537,645,744,831,"SOUTH CAROLINA Allendale County"]
[null,"SOUTH CAROLINA","Anderson County","Anderson County",54200,508,610,705,786,610,732,846,943,"SOUTH CAROLINA Anderson County"]
[null,"SOUTH CAROLINA","Bamberg County","Bamberg County",43200,447,537,620,692,537,645,744,831,"SOUTH CAROLINA Bamberg County"]
[null,"SOUTH CAROLINA","Barnwell County","Barnwell County",46000,447,537,620,692,537,645,744,831,"SOUTH CAROLINA Barnwell County"]
[null,"SOUTH CAROLINA","Beaufort County","Beaufort County",63400,597,717,828,923,717,861,993,1108,"SOUTH CAROLINA Beaufort County"]
[null,"SOUTH CAROLINA","Berkeley County","Berkeley County",61900,581,697,805,898,697,837,966,1078,"SOUTH CAROLINA Berkeley County"]
[null,"SOUTH CAROLINA","Calhoun County","Calhoun County",58000,547,656,758,846,657,787,909,1015,"SOUTH CAROLINA Calhoun County"]
[null,"SOUTH CAROLINA","Charleston County","Charleston County",61900,581,697,805,898,697,837,966,1078,"SOUTH CAROLINA Charleston County"]
[null,"SOUTH CAROLINA","Cherokee County","Cherokee County",47300,447,537,620,692,537,645,744,831,"SOUTH CAROLINA Cherokee County"]
[null,"SOUTH CAROLINA","Chester County","Chester County",42700,447,537,620,692,537,645,744,831,"SOUTH CAROLINA Chester County"]
[null,"SOUTH CAROLINA","Chesterfield County","Chesterfield County",43400,447,537,620,692,537,645,744,831,"SOUTH CAROLINA Chesterfield County"]
[null,"SOUTH CAROLINA","Clarendon County","Clarendon County",42800,447,537,620,692,537,645,744,831,"SOUTH CAROLINA Clarendon County"]
[null,"SOUTH CAROLINA","Colleton County","Colleton County",42900,447,537,620,692,537,645,744,831,"SOUTH CAROLINA Colleton County"]
[null,"SOUTH CAROLINA","Darlington County","Darlington County",49800,467,561,647,722,561,673,777,867,"SOUTH CAROLINA Darlington County"]
[null,"SOUTH CAROLINA","Dillon County","Dillon County",31900,447,537,620,692,537,645,744,831,"SOUTH CAROLINA Dillon County"]
[null,"SOUTH CAROLINA","Dorchester County","Dorchester County",61900,581,697,805,898,697,837,966,1078,"SOUTH CAROLINA Dorchester County"]
[null,"SOUTH CAROLINA","Edgefield County","Edgefield County",55900,525,630,726,811,630,756,872,973,"SOUTH CAROLINA Edgefield County"]
[null,"SOUTH CAROLINA","Fairfield County","Fairfield County",58000,547,656,758,846,657,787,909,1015,"SOUTH CAROLINA Fairfield County"]
[null,"SOUTH CAROLINA","Florence County","Florence County",50800,476,572,660,737,572,687,792,885,"SOUTH CAROLINA Florence County"]
[null,"SOUTH CAROLINA","Georgetown County","Georgetown County",56700,531,638,737,822,638,766,885,987,"SOUTH CAROLINA Georgetown County"]
[null,"SOUTH CAROLINA","Greenville County","Greenville County",58200,546,655,756,845,655,786,908,1014,"SOUTH CAROLINA Greenville County"]
[null,"SOUTH CAROLINA","Greenwood County","Greenwood County",52200,490,587,678,757,588,705,814,909,"SOUTH CAROLINA Greenwood County"]
[null,"SOUTH CAROLINA","Hampton County","Hampton County",43800,447,537,620,692,537,645,744,831,"SOUTH CAROLINA Hampton County"]
[null,"SOUTH CAROLINA","Horry County","Horry County",49300,466,560,646,721,559,672,775,865,"SOUTH CAROLINA Horry County"]
[null,"SOUTH CAROLINA","Jasper County","Jasper County",45000,447,537,620,692,537,645,744,831,"SOUTH CAROLINA Jasper County"]
[null,"SOUTH CAROLINA","Kershaw County","Kershaw County",54200,508,610,705,786,610,732,846,943,"SOUTH CAROLINA Kershaw County"]
[null,"SOUTH CAROLINA","Lancaster County","Lancaster County",52600,476,572,660,737,572,687,792,885,"SOUTH CAROLINA Lancaster County"]
[null,"SOUTH CAROLINA","Laurens County","Laurens County",44900,451,541,625,697,541,649,750,837,"SOUTH CAROLINA Laurens County"]
[null,"SOUTH CAROLINA","Lee County","Lee County",43200,447,537,620,692,537,645,744,831,"SOUTH CAROLINA Lee County"]
[null,"SOUTH CAROLINA","Lexington County","Lexington County",58000,547,656,758,846,657,787,909,1015,"SOUTH CAROLINA Lexington County"]
[null,"SOUTH CAROLINA","McCormick County","McCormick County",48100,451,541,625,697,541,649,750,837,"SOUTH CAROLINA McCormick County"]
[null,"SOUTH CAROLINA","Marion County","Marion County",42100,447,537,620,692,537,645,744,831,"SOUTH CAROLINA Marion County"]
[null,"SOUTH CAROLINA","Marlboro County","Marlboro County",33600,447,537,620,692,537,645,744,831,"SOUTH CAROLINA Marlboro County"]
[null,"SOUTH CAROLINA","Newberry County","Newberry County",55100,516,620,716,800,620,744,860,960,{"$f":"B3653&\" \"&D3653","v":"SOUTH CAROLINA Newberry County"}]
[null,"SOUTH CAROLINA","Oconee County","Oconee County",54800,507,608,703,785,609,730,844,942,"SOUTH CAROLINA Oconee County"]
[null,"SOUTH CAROLINA","Orangeburg County","Orangeburg County",42700,447,537,620,692,537,645,744,831,"SOUTH CAROLINA Orangeburg County"]
[null,"SOUTH CAROLINA","Pickens County","Pickens County",58200,546,655,756,845,655,786,908,1014,"SOUTH CAROLINA Pickens County"]
[null,"SOUTH CAROLINA","Richland County","Richland County",58000,547,656,758,846,657,787,909,1015,"SOUTH CAROLINA Richland County"]
[null,"SOUTH CAROLINA","Saluda County","Saluda County",58000,547,656,758,846,657,787,909,1015,"SOUTH CAROLINA Saluda County"]
[null,"SOUTH CAROLINA","Spartanburg County","Spartanburg County",52500,492,591,682,761,591,709,819,913,"SOUTH CAROLINA Spartanburg County"]
[null,"SOUTH CAROLINA","Sumter County","Sumter County",51100,467,561,647,722,561,673,777,867,"SOUTH CAROLINA Sumter County"]
[null,"SOUTH CAROLINA","Union County","Union County",44400,447,537,620,692,537,645,744,831,"SOUTH CAROLINA Union County"]
[null,"SOUTH CAROLINA","Williamsburg County","Williamsburg County",36800,447,537,620,692,537,645,744,831,"SOUTH CAROLINA Williamsburg County"]
[null,"SOUTH CAROLINA","York County","York County",64200,602,722,835,931,723,867,1002,1117,"SOUTH CAROLINA York County"]
[null,"SOUTH DAKOTA","Aurora County","Aurora County",61800,580,696,803,896,696,835,964,1075,"SOUTH DAKOTA Aurora County"]
[null,"SOUTH DAKOTA","Beadle County","Beadle County",60200,565,677,783,873,678,813,939,1048,"SOUTH DAKOTA Beadle County"]
[null,"SOUTH DAKOTA","Bennett County","Bennett County",36400,553,663,767,856,663,796,921,1027,"SOUTH DAKOTA Bennett County"]
[null,"SOUTH DAKOTA","Bon Homme County","Bon Homme County",57200,553,663,767,856,663,796,921,1027,"SOUTH DAKOTA Bon Homme County"]
[null,"SOUTH DAKOTA","Brookings County","Brookings County",66600,625,750,866,966,750,900,1039,1159,"SOUTH DAKOTA Brookings County"]
[null,"SOUTH DAKOTA","Brown County","Brown County",64400,604,725,837,935,725,870,1005,1122,"SOUTH DAKOTA Brown County"]
[null,"SOUTH DAKOTA","Brule County","Brule County",62200,583,700,808,902,700,840,970,1083,"SOUTH DAKOTA Brule County"]
[null,"SOUTH DAKOTA","Buffalo County","Buffalo County",30900,553,663,767,856,663,796,921,1027,"SOUTH DAKOTA Buffalo County"]
[null,"SOUTH DAKOTA","Butte County","Butte County",55500,553,663,767,856,663,796,921,1027,"SOUTH DAKOTA Butte County"]
[null,"SOUTH DAKOTA","Campbell County","Campbell County",52600,553,663,767,856,663,796,921,1027,"SOUTH DAKOTA Campbell County"]
[null,"SOUTH DAKOTA","Charles Mix County","Charles Mix County",51700,553,663,767,856,663,796,921,1027,"SOUTH DAKOTA Charles Mix County"]
[null,"SOUTH DAKOTA","Clark County","Clark County",60400,566,680,785,876,680,816,942,1051,"SOUTH DAKOTA Clark County"]
[null,"SOUTH DAKOTA","Clay County","Clay County",66300,615,738,853,951,738,886,1023,1141,"SOUTH DAKOTA Clay County"]
[null,"SOUTH DAKOTA","Codington County","Codington County",64200,602,722,835,931,723,867,1002,1117,"SOUTH DAKOTA Codington County"]
[null,"SOUTH DAKOTA","Corson County","Corson County",39500,553,663,767,856,663,796,921,1027,"SOUTH DAKOTA Corson County"]
[null,"SOUTH DAKOTA","Custer County","Custer County",61000,571,686,793,885,686,823,951,1062,"SOUTH DAKOTA Custer County"]
[null,"SOUTH DAKOTA","Davison County","Davison County",61900,581,697,805,898,697,837,966,1078,"SOUTH DAKOTA Davison County"]
[null,"SOUTH DAKOTA","Day County","Day County",51500,553,663,767,856,663,796,921,1027,"SOUTH DAKOTA Day County"]
[null,"SOUTH DAKOTA","Deuel County","Deuel County",60800,570,685,790,882,684,822,948,1059,"SOUTH DAKOTA Deuel County"]
[null,"SOUTH DAKOTA","Dewey County","Dewey County",38900,553,663,767,856,663,796,921,1027,"SOUTH DAKOTA Dewey County"]
[null,"SOUTH DAKOTA","Douglas County","Douglas County",56500,553,663,767,856,663,796,921,1027,"SOUTH DAKOTA Douglas County"]
[null,"SOUTH DAKOTA","Edmunds County","Edmunds County",61700,578,695,802,895,694,834,963,1074,"SOUTH DAKOTA Edmunds County"]
[null,"SOUTH DAKOTA","Fall River County","Fall River County",56700,553,663,767,856,663,796,921,1027,"SOUTH DAKOTA Fall River County"]
[null,"SOUTH DAKOTA","Faulk County","Faulk County",57800,553,663,767,856,663,796,921,1027,"SOUTH DAKOTA Faulk County"]
[null,"SOUTH DAKOTA","Grant County","Grant County",60700,569,683,789,881,683,820,947,1057,"SOUTH DAKOTA Grant County"]
[null,"SOUTH DAKOTA","Gregory County","Gregory County",46000,553,663,767,856,663,796,921,1027,"SOUTH DAKOTA Gregory County"]
[null,"SOUTH DAKOTA","Haakon County","Haakon County",73400,611,733,848,946,734,880,1017,1135,"SOUTH DAKOTA Haakon County"]
[null,"SOUTH DAKOTA","Hamlin County","Hamlin County",61200,574,688,795,887,689,826,954,1065,"SOUTH DAKOTA Hamlin County"]
[null,"SOUTH DAKOTA","Hand County","Hand County",54100,553,663,767,856,663,796,921,1027,"SOUTH DAKOTA Hand County"]
[null,"SOUTH DAKOTA","Hanson County","Hanson County",55700,553,663,767,856,663,796,921,1027,"SOUTH DAKOTA Hanson County"]
[null,"SOUTH DAKOTA","Harding County","Harding County",59500,558,670,773,863,669,804,928,1036,"SOUTH DAKOTA Harding County"]
[null,"SOUTH DAKOTA","Hughes County","Hughes County",81700,736,883,1020,1138,883,1060,1224,1366,"SOUTH DAKOTA Hughes County"]
[null,"SOUTH DAKOTA","Hutchinson County","Hutchinson County",60300,566,678,784,875,679,814,941,1050,"SOUTH DAKOTA Hutchinson County"]
[null,"SOUTH DAKOTA","Hyde County","Hyde County",59600,559,671,775,865,671,805,930,1038,"SOUTH DAKOTA Hyde County"]
[null,"SOUTH DAKOTA","Jackson County","Jackson County",49600,553,663,767,856,663,796,921,1027,"SOUTH DAKOTA Jackson County"]
[null,"SOUTH DAKOTA","Jerauld County","Jerauld County",52400,553,663,767,856,663,796,921,1027,"SOUTH DAKOTA Jerauld County"]
[null,"SOUTH DAKOTA","Jones County","Jones County",66300,591,710,820,915,710,852,984,1098,"SOUTH DAKOTA Jones County"]
[null,"SOUTH DAKOTA","Kingsbury County","Kingsbury County",62600,587,705,814,908,705,846,977,1090,"SOUTH DAKOTA Kingsbury County"]
[null,"SOUTH DAKOTA","Lake County","Lake County",62700,588,706,815,910,705,847,978,1092,"SOUTH DAKOTA Lake County"]
[null,"SOUTH DAKOTA","Lawrence County","Lawrence County",66600,620,743,859,958,744,892,1031,1150,"SOUTH DAKOTA Lawrence County"]
[null,"SOUTH DAKOTA","Lincoln County","Lincoln County",72200,677,812,938,1047,813,975,1126,1257,"SOUTH DAKOTA Lincoln County"]
[null,"SOUTH DAKOTA","Lyman County","Lyman County",54100,553,663,767,856,663,796,921,1027,"SOUTH DAKOTA Lyman County"]
[null,"SOUTH DAKOTA","McCook County","McCook County",72200,677,812,938,1047,813,975,1126,1257,"SOUTH DAKOTA McCook County"]
[null,"SOUTH DAKOTA","McPherson County","McPherson County",46800,553,663,767,856,663,796,921,1027,"SOUTH DAKOTA McPherson County"]
[null,"SOUTH DAKOTA","Marshall County","Marshall County",58800,553,663,767,856,663,796,921,1027,"SOUTH DAKOTA Marshall County"]
[null,"SOUTH DAKOTA","Meade County","Meade County",60500,567,681,786,877,681,817,944,1053,"SOUTH DAKOTA Meade County"]
[null,"SOUTH DAKOTA","Mellette County","Mellette County",37100,553,663,767,856,663,796,921,1027,"SOUTH DAKOTA Mellette County"]
[null,"SOUTH DAKOTA","Miner County","Miner County",56100,553,663,767,856,663,796,921,1027,"SOUTH DAKOTA Miner County"]
[null,"SOUTH DAKOTA","Minnehaha County","Minnehaha County",72200,677,812,938,1047,813,975,1126,1257,"SOUTH DAKOTA Minnehaha County"]
[null,"SOUTH DAKOTA","Moody County","Moody County",63300,594,712,823,918,713,855,987,1102,"SOUTH DAKOTA Moody County"]
[null,"SOUTH DAKOTA","Pennington County","Pennington County",66100,600,720,832,928,720,864,999,1114,"SOUTH DAKOTA Pennington County"]
[null,"SOUTH DAKOTA","Perkins County","Perkins County",54500,553,663,767,856,663,796,921,1027,"SOUTH DAKOTA Perkins County"]
[null,"SOUTH DAKOTA","Potter County","Potter County",57200,553,663,767,856,663,796,921,1027,"SOUTH DAKOTA Potter County"]
[null,"SOUTH DAKOTA","Roberts County","Roberts County",50300,553,663,767,856,663,796,921,1027,{"$f":"B3717&\" \"&D3717","v":"SOUTH DAKOTA Roberts County"}]
[null,"SOUTH DAKOTA","Sanborn County","Sanborn County",61400,576,691,798,891,691,829,958,1069,"SOUTH DAKOTA Sanborn County"]
[null,"SOUTH DAKOTA","Shannon County","Shannon County",26900,553,663,767,856,663,796,921,1027,"SOUTH DAKOTA Shannon County"]
[null,"SOUTH DAKOTA","Spink County","Spink County",64800,608,730,842,940,729,876,1011,1128,"SOUTH DAKOTA Spink County"]
[null,"SOUTH DAKOTA","Stanley County","Stanley County",58800,553,663,767,856,663,796,921,1027,"SOUTH DAKOTA Stanley County"]
[null,"SOUTH DAKOTA","Sully County","Sully County",64500,605,726,838,936,726,871,1006,1123,"SOUTH DAKOTA Sully County"]
[null,"SOUTH DAKOTA","Todd County","Todd County",31800,553,663,767,856,663,796,921,1027,"SOUTH DAKOTA Todd County"]
[null,"SOUTH DAKOTA","Tripp County","Tripp County",50800,553,663,767,856,663,796,921,1027,"SOUTH DAKOTA Tripp County"]
[null,"SOUTH DAKOTA","Turner County","Turner County",72200,677,812,938,1047,813,975,1126,1257,"SOUTH DAKOTA Turner County"]
[null,"SOUTH DAKOTA","Union County","Union County",58500,559,671,775,865,671,805,930,1038,"SOUTH DAKOTA Union County"]
[null,"SOUTH DAKOTA","Walworth County","Walworth County",53200,553,663,767,856,663,796,921,1027,"SOUTH DAKOTA Walworth County"]
[null,"SOUTH DAKOTA","Yankton County","Yankton County",68500,630,756,873,975,756,907,1048,1170,"SOUTH DAKOTA Yankton County"]
[null,"SOUTH DAKOTA","Ziebach County","Ziebach County",29100,553,663,767,856,663,796,921,1027,"SOUTH DAKOTA Ziebach County"]
[null,"TENNESSEE","Anderson County","Anderson County",60500,567,681,786,877,681,817,944,1053,"TENNESSEE Anderson County"]
[null,"TENNESSEE","Bedford County","Bedford County",49300,463,555,641,715,555,666,769,858,"TENNESSEE Bedford County"]
[null,"TENNESSEE","Benton County","Benton County",41500,426,512,591,660,512,615,710,792,"TENNESSEE Benton County"]
[null,"TENNESSEE","Bledsoe County","Bledsoe County",38700,426,512,591,660,512,615,710,792,"TENNESSEE Bledsoe County"]
[null,"TENNESSEE","Blount County","Blount County",60500,567,681,786,877,681,817,944,1053,"TENNESSEE Blount County"]
[null,"TENNESSEE","Bradley County","Bradley County",53700,486,583,673,751,583,700,808,901,"TENNESSEE Bradley County"]
[null,"TENNESSEE","Campbell County","Campbell County",39700,426,512,591,660,512,615,710,792,"TENNESSEE Campbell County"]
[null,"TENNESSEE","Cannon County","Cannon County",64000,600,720,832,928,720,864,999,1114,"TENNESSEE Cannon County"]
[null,"TENNESSEE","Carroll County","Carroll County",47400,445,533,616,687,534,640,739,825,"TENNESSEE Carroll County"]
[null,"TENNESSEE","Carter County","Carter County",51300,480,576,665,742,576,691,798,891,"TENNESSEE Carter County"]
[null,"TENNESSEE","Cheatham County","Cheatham County",64000,600,720,832,928,720,864,999,1114,"TENNESSEE Cheatham County"]
[null,"TENNESSEE","Chester County","Chester County",51400,482,578,668,746,579,694,802,895,"TENNESSEE Chester County"]
[null,"TENNESSEE","Claiborne County","Claiborne County",44100,426,512,591,660,512,615,710,792,"TENNESSEE Claiborne County"]
[null,"TENNESSEE","Clay County","Clay County",44200,426,512,591,660,512,615,710,792,"TENNESSEE Clay County"]
[null,"TENNESSEE","Cocke County","Cocke County",39600,426,512,591,660,512,615,710,792,"TENNESSEE Cocke County"]
[null,"TENNESSEE","Coffee County","Coffee County",51100,479,575,664,741,575,690,797,889,"TENNESSEE Coffee County"]
[null,"TENNESSEE","Crockett County","Crockett County",45900,431,517,596,666,517,621,716,799,"TENNESSEE Crockett County"]
[null,"TENNESSEE","Cumberland County","Cumberland County",45800,430,516,595,665,516,619,714,798,"TENNESSEE Cumberland County"]
[null,"TENNESSEE","Davidson County","Davidson County",64000,600,720,832,928,720,864,999,1114,"TENNESSEE Davidson County"]
[null,"TENNESSEE","Decatur County","Decatur County",49900,459,551,637,711,551,661,765,853,"TENNESSEE Decatur County"]
[null,"TENNESSEE","DeKalb County","DeKalb County",48200,452,542,626,700,543,651,752,840,"TENNESSEE DeKalb County"]
[null,"TENNESSEE","Dickson County","Dickson County",64000,600,720,832,928,720,864,999,1114,"TENNESSEE Dickson County"]
[null,"TENNESSEE","Dyer County","Dyer County",48900,459,551,636,710,551,661,763,852,"TENNESSEE Dyer County"]
[null,"TENNESSEE","Fayette County","Fayette County",56700,531,638,737,822,638,766,885,987,"TENNESSEE Fayette County"]
[null,"TENNESSEE","Fentress County","Fentress County",41300,426,512,591,660,512,615,710,792,"TENNESSEE Fentress County"]
[null,"TENNESSEE","Franklin County","Franklin County",53600,503,603,696,777,603,724,836,933,"TENNESSEE Franklin County"]
[null,"TENNESSEE","Gibson County","Gibson County",51100,479,575,664,741,575,690,797,889,"TENNESSEE Gibson County"]
[null,"TENNESSEE","Giles County","Giles County",48200,452,542,626,700,543,651,752,840,"TENNESSEE Giles County"]
[null,"TENNESSEE","Grainger County","Grainger County",46200,433,520,600,670,520,624,720,804,"TENNESSEE Grainger County"]
[null,"TENNESSEE","Greene County","Greene County",43400,431,517,596,666,517,621,716,799,"TENNESSEE Greene County"]
[null,"TENNESSEE","Grundy County","Grundy County",35600,426,512,591,660,512,615,710,792,"TENNESSEE Grundy County"]
[null,"TENNESSEE","Hamblen County","Hamblen County",46200,433,520,600,670,520,624,720,804,"TENNESSEE Hamblen County"]
[null,"TENNESSEE","Hamilton County","Hamilton County",54200,516,620,716,800,620,744,860,960,"TENNESSEE Hamilton County"]
[null,"TENNESSEE","Hancock County","Hancock County",32100,426,512,591,660,512,615,710,792,"TENNESSEE Hancock County"]
[null,"TENNESSEE","Hardeman County","Hardeman County",45000,426,512,591,660,512,615,710,792,"TENNESSEE Hardeman County"]
[null,"TENNESSEE","Hardin County","Hardin County",39500,426,512,591,660,512,615,710,792,"TENNESSEE Hardin County"]
[null,"TENNESSEE","Hawkins County","Hawkins County",50600,475,570,658,733,570,684,789,880,"TENNESSEE Hawkins County"]
[null,"TENNESSEE","Haywood County","Haywood County",43200,426,512,591,660,512,615,710,792,"TENNESSEE Haywood County"]
[null,"TENNESSEE","Henderson County","Henderson County",48000,450,540,624,696,540,648,749,835,"TENNESSEE Henderson County"]
[null,"TENNESSEE","Henry County","Henry County",49600,465,558,645,720,558,670,774,864,"TENNESSEE Henry County"]
[null,"TENNESSEE","Hickman County","Hickman County",53200,487,585,675,753,585,702,810,904,"TENNESSEE Hickman County"]
[null,"TENNESSEE","Houston County","Houston County",45800,430,516,595,665,516,619,714,798,"TENNESSEE Houston County"]
[null,"TENNESSEE","Humphreys County","Humphreys County",51700,485,582,672,750,582,699,807,900,"TENNESSEE Humphreys County"]
[null,"TENNESSEE","Jackson County","Jackson County",41500,426,512,591,660,512,615,710,792,"TENNESSEE Jackson County"]
[null,"TENNESSEE","Jefferson County","Jefferson County",46200,433,520,600,670,520,624,720,804,"TENNESSEE Jefferson County"]
[null,"TENNESSEE","Johnson County","Johnson County",37900,426,512,591,660,512,615,710,792,"TENNESSEE Johnson County"]
[null,"TENNESSEE","Knox County","Knox County",60500,567,681,786,877,681,817,944,1053,"TENNESSEE Knox County"]
[null,"TENNESSEE","Lake County","Lake County",40000,426,512,591,660,512,615,710,792,"TENNESSEE Lake County"]
[null,"TENNESSEE","Lauderdale County","Lauderdale County",41200,426,512,591,660,512,615,710,792,"TENNESSEE Lauderdale County"]
[null,"TENNESSEE","Lawrence County","Lawrence County",46000,431,517,598,667,517,621,717,801,"TENNESSEE Lawrence County"]
[null,"TENNESSEE","Lewis County","Lewis County",43700,431,517,596,666,517,621,716,799,"TENNESSEE Lewis County"]
[null,"TENNESSEE","Lincoln County","Lincoln County",53600,503,603,696,777,603,724,836,933,{"$f":"B3781&\" \"&D3781","v":"TENNESSEE Lincoln County"}]
[null,"TENNESSEE","Loudon County","Loudon County",60500,567,681,786,877,681,817,944,1053,"TENNESSEE Loudon County"]
[null,"TENNESSEE","McMinn County","McMinn County",50500,473,568,656,732,568,682,788,879,"TENNESSEE McMinn County"]
[null,"TENNESSEE","McNairy County","McNairy County",44600,426,512,591,660,512,615,710,792,"TENNESSEE McNairy County"]
[null,"TENNESSEE","Macon County","Macon County",42700,426,512,591,660,512,615,710,792,"TENNESSEE Macon County"]
[null,"TENNESSEE","Madison County","Madison County",51400,482,578,668,746,579,694,802,895,"TENNESSEE Madison County"]
[null,"TENNESSEE","Marion County","Marion County",54200,516,620,716,800,620,744,860,960,"TENNESSEE Marion County"]
[null,"TENNESSEE","Marshall County","Marshall County",51900,487,585,675,753,585,702,810,904,"TENNESSEE Marshall County"]
[null,"TENNESSEE","Maury County","Maury County",53100,503,605,698,778,604,726,837,934,"TENNESSEE Maury County"]
[null,"TENNESSEE","Meigs County","Meigs County",49200,459,551,637,711,551,661,765,853,"TENNESSEE Meigs County"]
[null,"TENNESSEE","Monroe County","Monroe County",45400,426,512,591,660,512,615,710,792,"TENNESSEE Monroe County"]
[null,"TENNESSEE","Montgomery County","Montgomery County",54100,507,608,703,785,609,730,844,942,"TENNESSEE Montgomery County"]
[null,"TENNESSEE","Moore County","Moore County",62100,582,698,807,901,699,838,969,1081,"TENNESSEE Moore County"]
[null,"TENNESSEE","Morgan County","Morgan County",47900,450,540,623,695,540,648,747,834,"TENNESSEE Morgan County"]
[null,"TENNESSEE","Obion County","Obion County",50200,471,565,653,728,565,678,783,874,"TENNESSEE Obion County"]
[null,"TENNESSEE","Overton County","Overton County",44600,426,512,591,660,512,615,710,792,"TENNESSEE Overton County"]
[null,"TENNESSEE","Perry County","Perry County",43400,426,512,591,660,512,615,710,792,"TENNESSEE Perry County"]
[null,"TENNESSEE","Pickett County","Pickett County",46800,439,527,608,678,527,633,730,814,"TENNESSEE Pickett County"]
[null,"TENNESSEE","Polk County","Polk County",53700,486,583,673,751,583,700,808,901,"TENNESSEE Polk County"]
[null,"TENNESSEE","Putnam County","Putnam County",47700,450,540,623,695,540,648,747,834,"TENNESSEE Putnam County"]
[null,"TENNESSEE","Rhea County","Rhea County",47300,444,532,615,686,533,639,738,823,"TENNESSEE Rhea County"]
[null,"TENNESSEE","Roane County","Roane County",54700,513,616,711,793,615,739,853,952,"TENNESSEE Roane County"]
[null,"TENNESSEE","Robertson County","Robertson County",64000,600,720,832,928,720,864,999,1114,"TENNESSEE Robertson County"]
[null,"TENNESSEE","Rutherford County","Rutherford County",64000,600,720,832,928,720,864,999,1114,"TENNESSEE Rutherford County"]
[null,"TENNESSEE","Scott County","Scott County",41600,426,512,591,660,512,615,710,792,"TENNESSEE Scott County"]
[null,"TENNESSEE","Sequatchie County","Sequatchie County",54200,516,620,716,800,620,744,860,960,"TENNESSEE Sequatchie County"]
[null,"TENNESSEE","Sevier County","Sevier County",53400,501,601,694,775,601,721,833,930,"TENNESSEE Sevier County"]
[null,"TENNESSEE","Shelby County","Shelby County",56700,531,638,737,822,638,766,885,987,"TENNESSEE Shelby County"]
[null,"TENNESSEE","Smith County","Smith County",54700,513,616,711,793,615,739,853,952,"TENNESSEE Smith County"]
[null,"TENNESSEE","Stewart County","Stewart County",55100,493,592,684,763,592,711,821,916,"TENNESSEE Stewart County"]
[null,"TENNESSEE","Sullivan County","Sullivan County",50600,475,570,658,733,570,684,789,880,"TENNESSEE Sullivan County"]
[null,"TENNESSEE","Sumner County","Sumner County",64000,600,720,832,928,720,864,999,1114,"TENNESSEE Sumner County"]
[null,"TENNESSEE","Tipton County","Tipton County",56700,531,638,737,822,638,766,885,987,"TENNESSEE Tipton County"]
[null,"TENNESSEE","Trousdale County","Trousdale County",64000,600,720,832,928,720,864,999,1114,"TENNESSEE Trousdale County"]
[null,"TENNESSEE","Unicoi County","Unicoi County",51300,480,576,665,742,576,691,798,891,"TENNESSEE Unicoi County"]
[null,"TENNESSEE","Union County","Union County",60500,567,681,786,877,681,817,944,1053,"TENNESSEE Union County"]
[null,"TENNESSEE","Van Buren County","Van Buren County",39500,426,512,591,660,512,615,710,792,"TENNESSEE Van Buren County"]
[null,"TENNESSEE","Warren County","Warren County",45400,426,512,591,660,512,615,710,792,"TENNESSEE Warren County"]
[null,"TENNESSEE","Washington County","Washington County",51300,480,576,665,742,576,691,798,891,"TENNESSEE Washington County"]
[null,"TENNESSEE","Wayne County","Wayne County",46300,435,521,602,672,522,625,723,807,"TENNESSEE Wayne County"]
[null,"TENNESSEE","Weakley County","Weakley County",48700,456,548,633,706,548,658,759,847,"TENNESSEE Weakley County"]
[null,"TENNESSEE","White County","White County",42600,426,512,591,660,512,615,710,792,"TENNESSEE White County"]
[null,"TENNESSEE","Williamson County","Williamson County",64000,600,720,832,928,720,864,999,1114,"TENNESSEE Williamson County"]
[null,"TENNESSEE","Wilson County","Wilson County",64000,600,720,832,928,720,864,999,1114,"TENNESSEE Wilson County"]
[null,"TEXAS","Anderson County","Anderson County",54200,508,610,705,786,610,732,846,943,"TEXAS Anderson County"]
[null,"TEXAS","Andrews County","Andrews County",63300,538,645,745,831,645,774,894,997,"TEXAS Andrews County"]
[null,"TEXAS","Angelina County","Angelina County",45900,471,565,653,728,565,678,783,874,"TEXAS Angelina County"]
[null,"TEXAS","Aransas County","Aransas County",54900,515,618,713,796,618,742,856,955,"TEXAS Aransas County"]
[null,"TEXAS","Archer County","Archer County",54900,515,618,713,796,618,742,856,955,"TEXAS Archer County"]
[null,"TEXAS","Armstrong County","Armstrong County",63400,595,713,824,920,714,856,989,1104,"TEXAS Armstrong County"]
[null,"TEXAS","Atascosa County","Atascosa County",52600,493,592,684,763,592,711,821,916,"TEXAS Atascosa County"]
[null,"TEXAS","Austin County","Austin County",67500,633,760,877,978,759,912,1053,1174,"TEXAS Austin County"]
[null,"TEXAS","Bailey County","Bailey County",54500,511,613,708,791,613,736,850,949,"TEXAS Bailey County"]
[null,"TEXAS","Bandera County","Bandera County",58800,551,662,765,853,662,795,918,1024,"TEXAS Bandera County"]
[null,"TEXAS","Bastrop County","Bastrop County",75400,707,848,980,1093,849,1018,1176,1312,"TEXAS Bastrop County"]
[null,"TEXAS","Baylor County","Baylor County",55400,518,621,718,801,621,745,861,961,"TEXAS Baylor County"]
[null,"TEXAS","Bee County","Bee County",46000,471,565,653,728,565,678,783,874,"TEXAS Bee County"]
[null,"TEXAS","Bell County","Bell County",58900,553,663,766,855,663,796,919,1026,"TEXAS Bell County"]
[null,"TEXAS","Bexar County","Bexar County",58800,551,662,765,853,662,795,918,1024,"TEXAS Bexar County"]
[null,"TEXAS","Blanco County","Blanco County",67000,628,753,871,972,753,904,1045,1167,"TEXAS Blanco County"]
[null,"TEXAS","Borden County","Borden County",66800,529,635,733,818,635,762,880,982,"TEXAS Borden County"]
[null,"TEXAS","Bosque County","Bosque County",55600,521,626,723,806,626,751,867,967,"TEXAS Bosque County"]
[null,"TEXAS","Bowie County","Bowie County",53300,500,600,693,773,600,720,831,928,"TEXAS Bowie County"]
[null,"TEXAS","Brazoria County","Brazoria County",75800,711,853,985,1100,853,1024,1182,1320,"TEXAS Brazoria County"]
[null,"TEXAS","Brazos County","Brazos County",57500,539,647,747,833,647,777,897,1000,{"$f":"B3845&\" \"&D3845","v":"TEXAS Brazos County"}]
[null,"TEXAS","Brewster County","Brewster County",59600,528,633,732,817,634,760,879,981,"TEXAS Brewster County"]
[null,"TEXAS","Briscoe County","Briscoe County",41900,471,565,653,728,565,678,783,874,"TEXAS Briscoe County"]
[null,"TEXAS","Brooks County","Brooks County",25800,471,565,653,728,565,678,783,874,"TEXAS Brooks County"]
[null,"TEXAS","Brown County","Brown County",51200,480,576,665,742,576,691,798,891,"TEXAS Brown County"]
[null,"TEXAS","Burleson County","Burleson County",57500,539,647,747,833,647,777,897,1000,"TEXAS Burleson County"]
[null,"TEXAS","Burnet County","Burnet County",59400,557,668,772,862,669,802,927,1035,"TEXAS Burnet County"]
[null,"TEXAS","Caldwell County","Caldwell County",75400,707,848,980,1093,849,1018,1176,1312,"TEXAS Caldwell County"]
[null,"TEXAS","Calhoun County","Calhoun County",55500,520,625,721,805,624,750,866,966,"TEXAS Calhoun County"]
[null,"TEXAS","Callahan County","Callahan County",52500,492,591,682,761,591,709,819,913,"TEXAS Callahan County"]
[null,"TEXAS","Cameron County","Cameron County",36000,471,565,653,728,565,678,783,874,"TEXAS Cameron County"]
[null,"TEXAS","Camp County","Camp County",45400,471,565,653,728,565,678,783,874,"TEXAS Camp County"]
[null,"TEXAS","Carson County","Carson County",63400,595,713,824,920,714,856,989,1104,"TEXAS Carson County"]
[null,"TEXAS","Cass County","Cass County",48200,471,565,653,728,565,678,783,874,"TEXAS Cass County"]
[null,"TEXAS","Castro County","Castro County",42600,471,565,653,728,565,678,783,874,"TEXAS Castro County"]
[null,"TEXAS","Chambers County","Chambers County",66600,625,750,866,966,750,900,1039,1159,"TEXAS Chambers County"]
[null,"TEXAS","Cherokee County","Cherokee County",48100,471,565,653,728,565,678,783,874,"TEXAS Cherokee County"]
[null,"TEXAS","Childress County","Childress County",57200,508,610,705,786,610,732,846,943,"TEXAS Childress County"]
[null,"TEXAS","Clay County","Clay County",54900,515,618,713,796,618,742,856,955,"TEXAS Clay County"]
[null,"TEXAS","Cochran County","Cochran County",48700,471,565,653,728,565,678,783,874,"TEXAS Cochran County"]
[null,"TEXAS","Coke County","Coke County",56100,508,610,705,786,610,732,846,943,"TEXAS Coke County"]
[null,"TEXAS","Coleman County","Coleman County",37700,471,565,653,728,565,678,783,874,"TEXAS Coleman County"]
[null,"TEXAS","Collin County","Collin County",67900,637,765,883,985,765,918,1059,1182,"TEXAS Collin County"]
[null,"TEXAS","Collingsworth County","Collingsworth County",46500,473,567,655,731,567,681,786,877,"TEXAS Collingsworth County"]
[null,"TEXAS","Colorado County","Colorado County",56400,529,635,733,818,635,762,880,982,"TEXAS Colorado County"]
[null,"TEXAS","Comal County","Comal County",58800,551,662,765,853,662,795,918,1024,"TEXAS Comal County"]
[null,"TEXAS","Comanche County","Comanche County",50800,476,572,660,737,572,687,792,885,"TEXAS Comanche County"]
[null,"TEXAS","Concho County","Concho County",59000,534,641,740,826,641,769,888,991,"TEXAS Concho County"]
[null,"TEXAS","Cooke County","Cooke County",60900,571,686,791,883,686,823,950,1060,"TEXAS Cooke County"]
[null,"TEXAS","Coryell County","Coryell County",58900,553,663,766,855,663,796,919,1026,"TEXAS Coryell County"]
[null,"TEXAS","Cottle County","Cottle County",44000,471,565,653,728,565,678,783,874,"TEXAS Cottle County"]
[null,"TEXAS","Crane County","Crane County",57700,533,640,738,823,639,768,886,988,"TEXAS Crane County"]
[null,"TEXAS","Crockett County","Crockett County",53800,505,606,700,781,606,727,840,937,"TEXAS Crockett County"]
[null,"TEXAS","Crosby County","Crosby County",58900,553,663,766,855,663,796,919,1026,"TEXAS Crosby County"]
[null,"TEXAS","Culberson County","Culberson County",43500,471,565,653,728,565,678,783,874,"TEXAS Culberson County"]
[null,"TEXAS","Dallam County","Dallam County",54500,511,613,708,791,613,736,850,949,"TEXAS Dallam County"]
[null,"TEXAS","Dallas County","Dallas County",67900,637,765,883,985,765,918,1059,1182,"TEXAS Dallas County"]
[null,"TEXAS","Dawson County","Dawson County",47800,471,565,653,728,565,678,783,874,"TEXAS Dawson County"]
[null,"TEXAS","Deaf Smith County","Deaf Smith County",52300,491,588,680,758,589,706,816,910,"TEXAS Deaf Smith County"]
[null,"TEXAS","Delta County","Delta County",67900,637,765,883,985,765,918,1059,1182,"TEXAS Delta County"]
[null,"TEXAS","Denton County","Denton County",67900,637,765,883,985,765,918,1059,1182,"TEXAS Denton County"]
[null,"TEXAS","DeWitt County","DeWitt County",55900,525,630,726,811,630,756,872,973,"TEXAS DeWitt County"]
[null,"TEXAS","Dickens County","Dickens County",51900,487,585,675,753,585,702,810,904,"TEXAS Dickens County"]
[null,"TEXAS","Dimmit County","Dimmit County",35000,471,565,653,728,565,678,783,874,"TEXAS Dimmit County"]
[null,"TEXAS","Donley County","Donley County",64000,522,627,724,808,627,753,869,970,"TEXAS Donley County"]
[null,"TEXAS","Duval County","Duval County",38700,471,565,653,728,565,678,783,874,"TEXAS Duval County"]
[null,"TEXAS","Eastland County","Eastland County",46800,471,565,653,728,565,678,783,874,"TEXAS Eastland County"]
[null,"TEXAS","Ector County","Ector County",60300,528,633,732,817,634,760,879,981,"TEXAS Ector County"]
[null,"TEXAS","Edwards County","Edwards County",47100,471,565,653,728,565,678,783,874,"TEXAS Edwards County"]
[null,"TEXAS","Ellis County","Ellis County",67900,637,765,883,985,765,918,1059,1182,"TEXAS Ellis County"]
[null,"TEXAS","El Paso County","El Paso County",44800,471,565,653,728,565,678,783,874,"TEXAS El Paso County"]
[null,"TEXAS","Erath County","Erath County",54800,514,617,712,795,617,741,855,954,"TEXAS Erath County"]
[null,"TEXAS","Falls County","Falls County",44300,471,565,653,728,565,678,783,874,"TEXAS Falls County"]
[null,"TEXAS","Fannin County","Fannin County",56000,525,630,728,812,630,756,873,975,"TEXAS Fannin County"]
[null,"TEXAS","Fayette County","Fayette County",59700,560,672,776,866,672,807,931,1039,"TEXAS Fayette County"]
[null,"TEXAS","Fisher County","Fisher County",55600,519,622,719,802,623,747,863,963,"TEXAS Fisher County"]
[null,"TEXAS","Floyd County","Floyd County",45900,471,565,653,728,565,678,783,874,"TEXAS Floyd County"]
[null,"TEXAS","Foard County","Foard County",42400,471,565,653,728,565,678,783,874,"TEXAS Foard County"]
[null,"TEXAS","Fort Bend County","Fort Bend County",66600,625,750,866,966,750,900,1039,1159,"TEXAS Fort Bend County"]
[null,"TEXAS","Franklin County","Franklin County",61100,538,645,745,831,645,774,894,997,"TEXAS Franklin County"]
[null,"TEXAS","Freestone County","Freestone County",58300,547,656,758,846,657,787,909,1015,"TEXAS Freestone County"]
[null,"TEXAS","Frio County","Frio County",42700,471,565,653,728,565,678,783,874,"TEXAS Frio County"]
[null,"TEXAS","Gaines County","Gaines County",53900,506,607,701,782,607,729,841,939,"TEXAS Gaines County"]
[null,"TEXAS","Galveston County","Galveston County",66600,625,750,866,966,750,900,1039,1159,"TEXAS Galveston County"]
[null,"TEXAS","Garza County","Garza County",53600,503,603,696,777,603,724,836,933,{"$f":"B3909&\" \"&D3909","v":"TEXAS Garza County"}]
[null,"TEXAS","Gillespie County","Gillespie County",65600,615,738,853,951,738,886,1023,1141,"TEXAS Gillespie County"]
[null,"TEXAS","Glasscock County","Glasscock County",96400,617,741,855,955,741,889,1026,1146,"TEXAS Glasscock County"]
[null,"TEXAS","Goliad County","Goliad County",54200,508,610,705,786,610,732,846,943,"TEXAS Goliad County"]
[null,"TEXAS","Gonzales County","Gonzales County",47500,471,565,653,728,565,678,783,874,"TEXAS Gonzales County"]
[null,"TEXAS","Gray County","Gray County",55500,518,621,718,801,621,745,861,961,"TEXAS Gray County"]
[null,"TEXAS","Grayson County","Grayson County",58700,550,661,763,851,660,793,915,1021,"TEXAS Grayson County"]
[null,"TEXAS","Gregg County","Gregg County",55300,519,622,719,802,623,747,863,963,"TEXAS Gregg County"]
[null,"TEXAS","Grimes County","Grimes County",53800,505,606,700,781,606,727,840,937,"TEXAS Grimes County"]
[null,"TEXAS","Guadalupe County","Guadalupe County",58800,551,662,765,853,662,795,918,1024,"TEXAS Guadalupe County"]
[null,"TEXAS","Hale County","Hale County",48700,471,565,653,728,565,678,783,874,"TEXAS Hale County"]
[null,"TEXAS","Hall County","Hall County",38700,471,565,653,728,565,678,783,874,"TEXAS Hall County"]
[null,"TEXAS","Hamilton County","Hamilton County",54500,511,613,708,791,613,736,850,949,"TEXAS Hamilton County"]
[null,"TEXAS","Hansford County","Hansford County",61500,573,687,794,886,687,825,953,1063,"TEXAS Hansford County"]
[null,"TEXAS","Hardeman County","Hardeman County",42800,471,565,653,728,565,678,783,874,"TEXAS Hardeman County"]
[null,"TEXAS","Hardin County","Hardin County",53900,506,607,701,782,607,729,841,939,"TEXAS Hardin County"]
[null,"TEXAS","Harris County","Harris County",66600,625,750,866,966,750,900,1039,1159,"TEXAS Harris County"]
[null,"TEXAS","Harrison County","Harrison County",54600,512,615,710,792,615,738,852,951,"TEXAS Harrison County"]
[null,"TEXAS","Hartley County","Hartley County",81100,740,888,1027,1146,888,1066,1233,1375,"TEXAS Hartley County"]
[null,"TEXAS","Haskell County","Haskell County",51500,483,580,670,747,579,696,804,897,"TEXAS Haskell County"]
[null,"TEXAS","Hays County","Hays County",75400,707,848,980,1093,849,1018,1176,1312,"TEXAS Hays County"]
[null,"TEXAS","Hemphill County","Hemphill County",79300,611,733,848,946,734,880,1017,1135,"TEXAS Hemphill County"]
[null,"TEXAS","Henderson County","Henderson County",50500,473,568,656,732,568,682,788,879,"TEXAS Henderson County"]
[null,"TEXAS","Hidalgo County","Hidalgo County",35000,471,565,653,728,565,678,783,874,"TEXAS Hidalgo County"]
[null,"TEXAS","Hill County","Hill County",53900,506,607,701,782,607,729,841,939,"TEXAS Hill County"]
[null,"TEXAS","Hockley County","Hockley County",57700,528,633,732,817,634,760,879,981,"TEXAS Hockley County"]
[null,"TEXAS","Hood County","Hood County",65300,623,747,863,963,747,897,1036,1156,"TEXAS Hood County"]
[null,"TEXAS","Hopkins County","Hopkins County",54900,515,618,713,796,618,742,856,955,"TEXAS Hopkins County"]
[null,"TEXAS","Houston County","Houston County",48400,471,565,653,728,565,678,783,874,"TEXAS Houston County"]
[null,"TEXAS","Howard County","Howard County",57800,520,623,720,803,624,748,864,964,"TEXAS Howard County"]
[null,"TEXAS","Hudspeth County","Hudspeth County",27800,471,565,653,728,565,678,783,874,"TEXAS Hudspeth County"]
[null,"TEXAS","Hunt County","Hunt County",67900,637,765,883,985,765,918,1059,1182,"TEXAS Hunt County"]
[null,"TEXAS","Hutchinson County","Hutchinson County",55600,521,626,723,806,626,751,867,967,"TEXAS Hutchinson County"]
[null,"TEXAS","Irion County","Irion County",56100,526,631,729,813,631,757,875,976,"TEXAS Irion County"]
[null,"TEXAS","Jack County","Jack County",64100,542,651,751,838,651,781,902,1006,"TEXAS Jack County"]
[null,"TEXAS","Jackson County","Jackson County",63700,597,717,828,923,717,861,993,1108,"TEXAS Jackson County"]
[null,"TEXAS","Jasper County","Jasper County",49700,471,565,653,728,565,678,783,874,"TEXAS Jasper County"]
[null,"TEXAS","Jeff Davis County","Jeff Davis County",55800,508,610,705,786,610,732,846,943,"TEXAS Jeff Davis County"]
[null,"TEXAS","Jefferson County","Jefferson County",53900,506,607,701,782,607,729,841,939,"TEXAS Jefferson County"]
[null,"TEXAS","Jim Hogg County","Jim Hogg County",40200,471,565,653,728,565,678,783,874,"TEXAS Jim Hogg County"]
[null,"TEXAS","Jim Wells County","Jim Wells County",45300,471,565,653,728,565,678,783,874,"TEXAS Jim Wells County"]
[null,"TEXAS","Johnson County","Johnson County",65800,617,741,855,955,741,889,1026,1146,"TEXAS Johnson County"]
[null,"TEXAS","Jones County","Jones County",52500,492,591,682,761,591,709,819,913,"TEXAS Jones County"]
[null,"TEXAS","Karnes County","Karnes County",53400,501,601,694,775,601,721,833,930,"TEXAS Karnes County"]
[null,"TEXAS","Kaufman County","Kaufman County",67900,637,765,883,985,765,918,1059,1182,"TEXAS Kaufman County"]
[null,"TEXAS","Kendall County","Kendall County",86900,815,978,1130,1261,978,1174,1356,1513,"TEXAS Kendall County"]
[null,"TEXAS","Kenedy County","Kenedy County",60400,508,610,705,786,610,732,846,943,"TEXAS Kenedy County"]
[null,"TEXAS","Kent County","Kent County",56300,508,610,705,786,610,732,846,943,"TEXAS Kent County"]
[null,"TEXAS","Kerr County","Kerr County",58400,548,657,759,847,657,789,911,1017,"TEXAS Kerr County"]
[null,"TEXAS","Kimble County","Kimble County",51400,482,578,668,746,579,694,802,895,"TEXAS Kimble County"]
[null,"TEXAS","King County","King County",86700,530,636,735,820,636,763,882,984,"TEXAS King County"]
[null,"TEXAS","Kinney County","Kinney County",36400,471,565,653,728,565,678,783,874,"TEXAS Kinney County"]
[null,"TEXAS","Kleberg County","Kleberg County",50500,473,568,656,732,568,682,788,879,"TEXAS Kleberg County"]
[null,"TEXAS","Knox County","Knox County",46400,471,565,653,728,565,678,783,874,"TEXAS Knox County"]
[null,"TEXAS","Lamar County","Lamar County",52500,492,591,682,761,591,709,819,913,"TEXAS Lamar County"]
[null,"TEXAS","Lamb County","Lamb County",44000,471,565,653,728,565,678,783,874,"TEXAS Lamb County"]
[null,"TEXAS","Lampasas County","Lampasas County",59100,554,665,768,857,665,798,922,1029,"TEXAS Lampasas County"]
[null,"TEXAS","La Salle County","La Salle County",35700,471,565,653,728,565,678,783,874,"TEXAS La Salle County"]
[null,"TEXAS","Lavaca County","Lavaca County",56600,531,637,736,821,637,765,883,985,"TEXAS Lavaca County"]
[null,"TEXAS","Lee County","Lee County",62000,581,697,806,900,697,837,967,1080,"TEXAS Lee County"]
[null,"TEXAS","Leon County","Leon County",54600,512,615,710,792,615,738,852,951,"TEXAS Leon County"]
[null,"TEXAS","Liberty County","Liberty County",66600,625,750,866,966,750,900,1039,1159,"TEXAS Liberty County"]
[null,"TEXAS","Limestone County","Limestone County",55500,520,625,721,805,624,750,866,966,"TEXAS Limestone County"]
[null,"TEXAS","Lipscomb County","Lipscomb County",60800,570,685,790,882,684,822,948,1059,"TEXAS Lipscomb County"]
[null,"TEXAS","Live Oak County","Live Oak County",54300,510,611,706,787,612,733,847,945,{"$f":"B3973&\" \"&D3973","v":"TEXAS Live Oak County"}]
[null,"TEXAS","Llano County","Llano County",61600,553,663,767,856,663,796,921,1027,"TEXAS Llano County"]
[null,"TEXAS","Loving County","Loving County",79300,744,892,1031,1150,893,1071,1237,1380,"TEXAS Loving County"]
[null,"TEXAS","Lubbock County","Lubbock County",58900,553,663,766,855,663,796,919,1026,"TEXAS Lubbock County"]
[null,"TEXAS","Lynn County","Lynn County",51700,485,582,672,750,582,699,807,900,"TEXAS Lynn County"]
[null,"TEXAS","McCulloch County","McCulloch County",50200,471,565,653,728,565,678,783,874,"TEXAS McCulloch County"]
[null,"TEXAS","McLennan County","McLennan County",51700,485,582,672,750,582,699,807,900,"TEXAS McLennan County"]
[null,"TEXAS","McMullen County","McMullen County",50700,475,571,659,736,570,685,791,883,"TEXAS McMullen County"]
[null,"TEXAS","Madison County","Madison County",48700,471,565,653,728,565,678,783,874,"TEXAS Madison County"]
[null,"TEXAS","Marion County","Marion County",43500,471,565,653,728,565,678,783,874,"TEXAS Marion County"]
[null,"TEXAS","Martin County","Martin County",52400,491,590,681,760,590,708,817,912,"TEXAS Martin County"]
[null,"TEXAS","Mason County","Mason County",62800,553,663,767,856,663,796,921,1027,"TEXAS Mason County"]
[null,"TEXAS","Matagorda County","Matagorda County",52800,495,595,686,766,594,714,824,919,"TEXAS Matagorda County"]
[null,"TEXAS","Maverick County","Maverick County",33900,471,565,653,728,565,678,783,874,"TEXAS Maverick County"]
[null,"TEXAS","Medina County","Medina County",62200,583,700,808,902,700,840,970,1083,"TEXAS Medina County"]
[null,"TEXAS","Menard County","Menard County",57500,528,633,732,817,634,760,879,981,"TEXAS Menard County"]
[null,"TEXAS","Midland County","Midland County",70200,641,768,888,991,769,922,1065,1189,"TEXAS Midland County"]
[null,"TEXAS","Milam County","Milam County",52300,491,588,680,758,589,706,816,910,"TEXAS Milam County"]
[null,"TEXAS","Mills County","Mills County",51000,478,573,663,740,573,688,795,888,"TEXAS Mills County"]
[null,"TEXAS","Mitchell County","Mitchell County",56000,496,596,689,768,596,715,827,922,"TEXAS Mitchell County"]
[null,"TEXAS","Montague County","Montague County",58000,543,652,754,841,652,783,905,1009,"TEXAS Montague County"]
[null,"TEXAS","Montgomery County","Montgomery County",66600,625,750,866,966,750,900,1039,1159,"TEXAS Montgomery County"]
[null,"TEXAS","Moore County","Moore County",55600,508,610,705,786,610,732,846,943,"TEXAS Moore County"]
[null,"TEXAS","Morris County","Morris County",51300,481,577,667,745,578,693,801,894,"TEXAS Morris County"]
[null,"TEXAS","Motley County","Motley County",41000,471,565,653,728,565,678,783,874,"TEXAS Motley County"]
[null,"TEXAS","Nacogdoches County","Nacogdoches County",55900,496,596,689,768,596,715,827,922,"TEXAS Nacogdoches County"]
[null,"TEXAS","Navarro County","Navarro County",53100,498,597,690,770,597,717,828,924,"TEXAS Navarro County"]
[null,"TEXAS","Newton County","Newton County",47500,471,565,653,728,565,678,783,874,"TEXAS Newton County"]
[null,"TEXAS","Nolan County","Nolan County",50200,471,565,653,728,565,678,783,874,"TEXAS Nolan County"]
[null,"TEXAS","Nueces County","Nueces County",52600,493,592,684,763,592,711,821,916,"TEXAS Nueces County"]
[null,"TEXAS","Ochiltree County","Ochiltree County",62400,585,702,811,905,702,843,973,1086,"TEXAS Ochiltree County"]
[null,"TEXAS","Oldham County","Oldham County",69400,566,680,785,876,680,816,942,1051,"TEXAS Oldham County"]
[null,"TEXAS","Orange County","Orange County",53900,506,607,701,782,607,729,841,939,"TEXAS Orange County"]
[null,"TEXAS","Palo Pinto County","Palo Pinto County",49900,471,565,653,728,565,678,783,874,"TEXAS Palo Pinto County"]
[null,"TEXAS","Panola County","Panola County",56800,520,625,721,805,624,750,866,966,"TEXAS Panola County"]
[null,"TEXAS","Parker County","Parker County",65800,617,741,855,955,741,889,1026,1146,"TEXAS Parker County"]
[null,"TEXAS","Parmer County","Parmer County",47000,471,565,653,728,565,678,783,874,"TEXAS Parmer County"]
[null,"TEXAS","Pecos County","Pecos County",50300,472,566,654,730,567,679,785,876,"TEXAS Pecos County"]
[null,"TEXAS","Polk County","Polk County",44300,471,565,653,728,565,678,783,874,"TEXAS Polk County"]
[null,"TEXAS","Potter County","Potter County",63400,595,713,824,920,714,856,989,1104,"TEXAS Potter County"]
[null,"TEXAS","Presidio County","Presidio County",34700,471,565,653,728,565,678,783,874,"TEXAS Presidio County"]
[null,"TEXAS","Rains County","Rains County",54000,506,607,702,783,607,729,843,940,"TEXAS Rains County"]
[null,"TEXAS","Randall County","Randall County",63400,595,713,824,920,714,856,989,1104,"TEXAS Randall County"]
[null,"TEXAS","Reagan County","Reagan County",61300,534,641,740,826,641,769,888,991,"TEXAS Reagan County"]
[null,"TEXAS","Real County","Real County",31200,471,565,653,728,565,678,783,874,"TEXAS Real County"]
[null,"TEXAS","Red River County","Red River County",47300,471,565,653,728,565,678,783,874,"TEXAS Red River County"]
[null,"TEXAS","Reeves County","Reeves County",45700,471,565,653,728,565,678,783,874,"TEXAS Reeves County"]
[null,"TEXAS","Refugio County","Refugio County",55000,508,610,705,786,610,732,846,943,"TEXAS Refugio County"]
[null,"TEXAS","Roberts County","Roberts County",85000,663,796,919,1026,795,955,1103,1231,"TEXAS Roberts County"]
[null,"TEXAS","Robertson County","Robertson County",57500,539,647,747,833,647,777,897,1000,"TEXAS Robertson County"]
[null,"TEXAS","Rockwall County","Rockwall County",67900,637,765,883,985,765,918,1059,1182,"TEXAS Rockwall County"]
[null,"TEXAS","Runnels County","Runnels County",47300,471,565,653,728,565,678,783,874,"TEXAS Runnels County"]
[null,"TEXAS","Rusk County","Rusk County",58700,550,661,763,851,660,793,915,1021,"TEXAS Rusk County"]
[null,"TEXAS","Sabine County","Sabine County",38500,471,565,653,728,565,678,783,874,"TEXAS Sabine County"]
[null,"TEXAS","San Augustine County","San Augustine County",43100,471,565,653,728,565,678,783,874,"TEXAS San Augustine County"]
[null,"TEXAS","San Jacinto County","San Jacinto County",66600,625,750,866,966,750,900,1039,1159,"TEXAS San Jacinto County"]
[null,"TEXAS","San Patricio County","San Patricio County",52600,493,592,684,763,592,711,821,916,"TEXAS San Patricio County"]
[null,"TEXAS","San Saba County","San Saba County",49400,471,565,653,728,565,678,783,874,"TEXAS San Saba County"]
[null,"TEXAS","Schleicher County","Schleicher County",60000,543,652,753,840,652,783,903,1008,"TEXAS Schleicher County"]
[null,"TEXAS","Scurry County","Scurry County",60700,548,657,759,847,657,789,911,1017,"TEXAS Scurry County"]
[null,"TEXAS","Shackelford County","Shackelford County",58400,548,657,759,847,657,789,911,1017,"TEXAS Shackelford County"]
[null,"TEXAS","Shelby County","Shelby County",43500,471,565,653,728,565,678,783,874,"TEXAS Shelby County"]
[null,"TEXAS","Sherman County","Sherman County",61500,563,676,781,872,676,811,938,1047,"TEXAS Sherman County"]
[null,"TEXAS","Smith County","Smith County",54600,550,660,761,850,660,792,914,1020,"TEXAS Smith County"]
[null,"TEXAS","Somervell County","Somervell County",63000,609,731,845,942,731,877,1014,1131,{"$f":"B4037&\" \"&D4037","v":"TEXAS Somervell County"}]
[null,"TEXAS","Starr County","Starr County",29900,471,565,653,728,565,678,783,874,"TEXAS Starr County"]
[null,"TEXAS","Stephens County","Stephens County",48800,471,565,653,728,565,678,783,874,"TEXAS Stephens County"]
[null,"TEXAS","Sterling County","Sterling County",53800,505,606,700,781,606,727,840,937,"TEXAS Sterling County"]
[null,"TEXAS","Stonewall County","Stonewall County",59300,528,633,732,817,634,760,879,981,"TEXAS Stonewall County"]
[null,"TEXAS","Sutton County","Sutton County",66400,553,663,767,856,663,796,921,1027,"TEXAS Sutton County"]
[null,"TEXAS","Swisher County","Swisher County",49200,471,565,653,728,565,678,783,874,"TEXAS Swisher County"]
[null,"TEXAS","Tarrant County","Tarrant County",65800,617,741,855,955,741,889,1026,1146,"TEXAS Tarrant County"]
[null,"TEXAS","Taylor County","Taylor County",52500,492,591,682,761,591,709,819,913,"TEXAS Taylor County"]
[null,"TEXAS","Terrell County","Terrell County",46400,471,565,653,728,565,678,783,874,"TEXAS Terrell County"]
[null,"TEXAS","Terry County","Terry County",49400,471,565,653,728,565,678,783,874,"TEXAS Terry County"]
[null,"TEXAS","Throckmorton County","Throckmorton County",45800,471,565,653,728,565,678,783,874,"TEXAS Throckmorton County"]
[null,"TEXAS","Titus County","Titus County",47800,471,565,653,728,565,678,783,874,"TEXAS Titus County"]
[null,"TEXAS","Tom Green County","Tom Green County",56100,526,631,729,813,631,757,875,976,"TEXAS Tom Green County"]
[null,"TEXAS","Travis County","Travis County",75400,707,848,980,1093,849,1018,1176,1312,"TEXAS Travis County"]
[null,"TEXAS","Trinity County","Trinity County",50800,476,572,660,737,572,687,792,885,"TEXAS Trinity County"]
[null,"TEXAS","Tyler County","Tyler County",43200,471,565,653,728,565,678,783,874,"TEXAS Tyler County"]
[null,"TEXAS","Upshur County","Upshur County",55300,519,622,719,802,623,747,863,963,"TEXAS Upshur County"]
[null,"TEXAS","Upton County","Upton County",59400,535,642,742,828,642,771,891,994,"TEXAS Upton County"]
[null,"TEXAS","Uvalde County","Uvalde County",40400,471,565,653,728,565,678,783,874,"TEXAS Uvalde County"]
[null,"TEXAS","Val Verde County","Val Verde County",43900,471,565,653,728,565,678,783,874,"TEXAS Val Verde County"]
[null,"TEXAS","Van Zandt County","Van Zandt County",53700,503,605,698,778,604,726,837,934,"TEXAS Van Zandt County"]
[null,"TEXAS","Victoria County","Victoria County",54200,508,610,705,786,610,732,846,943,"TEXAS Victoria County"]
[null,"TEXAS","Walker County","Walker County",60300,508,610,705,786,610,732,846,943,"TEXAS Walker County"]
[null,"TEXAS","Waller County","Waller County",66600,625,750,866,966,750,900,1039,1159,"TEXAS Waller County"]
[null,"TEXAS","Ward County","Ward County",51300,481,577,667,745,578,693,801,894,"TEXAS Ward County"]
[null,"TEXAS","Washington County","Washington County",59900,562,675,778,868,675,810,934,1042,"TEXAS Washington County"]
[null,"TEXAS","Webb County","Webb County",39000,471,565,653,728,565,678,783,874,"TEXAS Webb County"]
[null,"TEXAS","Wharton County","Wharton County",54000,506,607,702,783,607,729,843,940,"TEXAS Wharton County"]
[null,"TEXAS","Wheeler County","Wheeler County",62100,538,645,745,831,645,774,894,997,"TEXAS Wheeler County"]
[null,"TEXAS","Wichita County","Wichita County",54900,515,618,713,796,618,742,856,955,"TEXAS Wichita County"]
[null,"TEXAS","Wilbarger County","Wilbarger County",49800,471,565,653,728,565,678,783,874,"TEXAS Wilbarger County"]
[null,"TEXAS","Willacy County","Willacy County",28500,471,565,653,728,565,678,783,874,"TEXAS Willacy County"]
[null,"TEXAS","Williamson County","Williamson County",75400,707,848,980,1093,849,1018,1176,1312,"TEXAS Williamson County"]
[null,"TEXAS","Wilson County","Wilson County",58800,551,662,765,853,662,795,918,1024,"TEXAS Wilson County"]
[null,"TEXAS","Winkler County","Winkler County",54500,506,607,701,782,607,729,841,939,"TEXAS Winkler County"]
[null,"TEXAS","Wise County","Wise County",70400,660,792,915,1021,792,951,1098,1225,"TEXAS Wise County"]
[null,"TEXAS","Wood County","Wood County",53500,501,602,695,776,602,723,834,931,"TEXAS Wood County"]
[null,"TEXAS","Yoakum County","Yoakum County",55900,525,630,726,811,630,756,872,973,"TEXAS Yoakum County"]
[null,"TEXAS","Young County","Young County",53700,503,605,698,778,604,726,837,934,"TEXAS Young County"]
[null,"TEXAS","Zapata County","Zapata County",28700,471,565,653,728,565,678,783,874,"TEXAS Zapata County"]
[null,"TEXAS","Zavala County","Zavala County",29500,471,565,653,728,565,678,783,874,"TEXAS Zavala County"]
[null,"UTAH","Beaver County","Beaver County",52600,548,657,759,847,657,789,911,1017,"UTAH Beaver County"]
[null,"UTAH","Box Elder County","Box Elder County",63400,595,713,824,920,714,856,989,1104,"UTAH Box Elder County"]
[null,"UTAH","Cache County","Cache County",58300,548,657,759,847,657,789,911,1017,"UTAH Cache County"]
[null,"UTAH","Carbon County","Carbon County",57900,548,657,759,847,657,789,911,1017,"UTAH Carbon County"]
[null,"UTAH","Daggett County","Daggett County",59400,557,668,772,862,669,802,927,1035,"UTAH Daggett County"]
[null,"UTAH","Davis County","Davis County",71300,669,802,927,1035,803,963,1113,1242,"UTAH Davis County"]
[null,"UTAH","Duchesne County","Duchesne County",65000,602,722,835,931,723,867,1002,1117,"UTAH Duchesne County"]
[null,"UTAH","Emery County","Emery County",62600,587,705,814,908,705,846,977,1090,"UTAH Emery County"]
[null,"UTAH","Garfield County","Garfield County",59900,562,675,778,868,675,810,934,1042,"UTAH Garfield County"]
[null,"UTAH","Grand County","Grand County",55500,548,657,759,847,657,789,911,1017,"UTAH Grand County"]
[null,"UTAH","Iron County","Iron County",49900,548,657,759,847,657,789,911,1017,"UTAH Iron County"]
[null,"UTAH","Juab County","Juab County",64200,602,722,835,931,723,867,1002,1117,"UTAH Juab County"]
[null,"UTAH","Kane County","Kane County",61700,567,681,786,877,681,817,944,1053,"UTAH Kane County"]
[null,"UTAH","Millard County","Millard County",59500,558,670,773,863,669,804,928,1036,"UTAH Millard County"]
[null,"UTAH","Morgan County","Morgan County",71300,669,802,927,1035,803,963,1113,1242,"UTAH Morgan County"]
[null,"UTAH","Piute County","Piute County",47800,548,657,759,847,657,789,911,1017,"UTAH Piute County"]
[null,"UTAH","Rich County","Rich County",60400,566,680,785,876,680,816,942,1051,"UTAH Rich County"]
[null,"UTAH","Salt Lake County","Salt Lake County",68700,644,773,893,996,773,928,1071,1195,"UTAH Salt Lake County"]
[null,"UTAH","San Juan County","San Juan County",45900,548,657,759,847,657,789,911,1017,"UTAH San Juan County"]
[null,"UTAH","Sanpete County","Sanpete County",54000,548,657,759,847,657,789,911,1017,"UTAH Sanpete County"]
[null,"UTAH","Sevier County","Sevier County",54700,548,657,759,847,657,789,911,1017,"UTAH Sevier County"]
[null,"UTAH","Summit County","Summit County",98000,918,1102,1274,1421,1102,1323,1529,1705,"UTAH Summit County"]
[null,"UTAH","Tooele County","Tooele County",71000,665,798,923,1030,798,958,1107,1236,{"$f":"B4101&\" \"&D4101","v":"UTAH Tooele County"}]
[null,"UTAH","Uintah County","Uintah County",70800,630,756,873,975,756,907,1048,1170,"UTAH Uintah County"]
[null,"UTAH","Utah County","Utah County",64200,602,722,835,931,723,867,1002,1117,"UTAH Utah County"]
[null,"UTAH","Wasatch County","Wasatch County",73700,691,830,958,1068,829,996,1149,1282,"UTAH Wasatch County"]
[null,"UTAH","Washington County","Washington County",53800,548,657,759,847,657,789,911,1017,"UTAH Washington County"]
[null,"UTAH","Wayne County","Wayne County",53800,548,657,759,847,657,789,911,1017,"UTAH Wayne County"]
[null,"UTAH","Weber County","Weber County",71300,669,802,927,1035,803,963,1113,1242,"UTAH Weber County"]
[null,"VERMONT","Addison County","Addison town",72600,681,817,944,1053,817,981,1133,1264,"VERMONT Addison town"]
[null,"VERMONT","Addison County","Bridport town",72600,681,817,944,1053,817,981,1133,1264,"VERMONT Bridport town"]
[null,"VERMONT","Addison County","Bristol town",72600,681,817,944,1053,817,981,1133,1264,"VERMONT Bristol town"]
[null,"VERMONT","Addison County","Cornwall town",72600,681,817,944,1053,817,981,1133,1264,"VERMONT Cornwall town"]
[null,"VERMONT","Addison County","Ferrisburgh town",72600,681,817,944,1053,817,981,1133,1264,"VERMONT Ferrisburgh town"]
[null,"VERMONT","Addison County","Goshen town",72600,681,817,944,1053,817,981,1133,1264,"VERMONT Goshen town"]
[null,"VERMONT","Addison County","Granville town",72600,681,817,944,1053,817,981,1133,1264,"VERMONT Granville town"]
[null,"VERMONT","Addison County","Hancock town",72600,681,817,944,1053,817,981,1133,1264,"VERMONT Hancock town"]
[null,"VERMONT","Addison County","Leicester town",72600,681,817,944,1053,817,981,1133,1264,"VERMONT Leicester town"]
[null,"VERMONT","Addison County","Lincoln town",72600,681,817,944,1053,817,981,1133,1264,"VERMONT Lincoln town"]
[null,"VERMONT","Addison County","Middlebury town",72600,681,817,944,1053,817,981,1133,1264,"VERMONT Middlebury town"]
[null,"VERMONT","Addison County","Monkton town",72600,681,817,944,1053,817,981,1133,1264,"VERMONT Monkton town"]
[null,"VERMONT","Addison County","New Haven town",72600,681,817,944,1053,817,981,1133,1264,"VERMONT New Haven town"]
[null,"VERMONT","Addison County","Orwell town",72600,681,817,944,1053,817,981,1133,1264,"VERMONT Orwell town"]
[null,"VERMONT","Addison County","Panton town",72600,681,817,944,1053,817,981,1133,1264,"VERMONT Panton town"]
[null,"VERMONT","Addison County","Ripton town",72600,681,817,944,1053,817,981,1133,1264,"VERMONT Ripton town"]
[null,"VERMONT","Addison County","Salisbury town",72600,681,817,944,1053,817,981,1133,1264,"VERMONT Salisbury town"]
[null,"VERMONT","Addison County","Shoreham town",72600,681,817,944,1053,817,981,1133,1264,"VERMONT Shoreham town"]
[null,"VERMONT","Addison County","Starksboro town",72600,681,817,944,1053,817,981,1133,1264,"VERMONT Starksboro town"]
[null,"VERMONT","Addison County","Vergennes city",72600,681,817,944,1053,817,981,1133,1264,"VERMONT Vergennes city"]
[null,"VERMONT","Addison County","Waltham town",72600,681,817,944,1053,817,981,1133,1264,"VERMONT Waltham town"]
[null,"VERMONT","Addison County","Weybridge town",72600,681,817,944,1053,817,981,1133,1264,"VERMONT Weybridge town"]
[null,"VERMONT","Addison County","Whiting town",72600,681,817,944,1053,817,981,1133,1264,"VERMONT Whiting town"]
[null,"VERMONT","Bennington County","Arlington town",63900,601,721,833,930,721,865,1000,1116,"VERMONT Arlington town"]
[null,"VERMONT","Bennington County","Bennington town",63900,601,721,833,930,721,865,1000,1116,"VERMONT Bennington town"]
[null,"VERMONT","Bennington County","Dorset town",63900,601,721,833,930,721,865,1000,1116,"VERMONT Dorset town"]
[null,"VERMONT","Bennington County","Glastenbury town",63900,601,721,833,930,721,865,1000,1116,"VERMONT Glastenbury town"]
[null,"VERMONT","Bennington County","Landgrove town",63900,601,721,833,930,721,865,1000,1116,"VERMONT Landgrove town"]
[null,"VERMONT","Bennington County","Manchester town",63900,601,721,833,930,721,865,1000,1116,"VERMONT Manchester town"]
[null,"VERMONT","Bennington County","Peru town",63900,601,721,833,930,721,865,1000,1116,"VERMONT Peru town"]
[null,"VERMONT","Bennington County","Pownal town",63900,601,721,833,930,721,865,1000,1116,"VERMONT Pownal town"]
[null,"VERMONT","Bennington County","Readsboro town",63900,601,721,833,930,721,865,1000,1116,"VERMONT Readsboro town"]
[null,"VERMONT","Bennington County","Rupert town",63900,601,721,833,930,721,865,1000,1116,"VERMONT Rupert town"]
[null,"VERMONT","Bennington County","Sandgate town",63900,601,721,833,930,721,865,1000,1116,"VERMONT Sandgate town"]
[null,"VERMONT","Bennington County","Searsburg town",63900,601,721,833,930,721,865,1000,1116,"VERMONT Searsburg town"]
[null,"VERMONT","Bennington County","Shaftsbury town",63900,601,721,833,930,721,865,1000,1116,"VERMONT Shaftsbury town"]
[null,"VERMONT","Bennington County","Stamford town",63900,601,721,833,930,721,865,1000,1116,"VERMONT Stamford town"]
[null,"VERMONT","Bennington County","Sunderland town",63900,601,721,833,930,721,865,1000,1116,"VERMONT Sunderland town"]
[null,"VERMONT","Bennington County","Winhall town",63900,601,721,833,930,721,865,1000,1116,"VERMONT Winhall town"]
[null,"VERMONT","Bennington County","Woodford town",63900,601,721,833,930,721,865,1000,1116,"VERMONT Woodford town"]
[null,"VERMONT","Caledonia County","Barnet town",54900,601,721,833,930,721,865,1000,1116,"VERMONT Barnet town"]
[null,"VERMONT","Caledonia County","Burke town",54900,601,721,833,930,721,865,1000,1116,"VERMONT Burke town"]
[null,"VERMONT","Caledonia County","Danville town",54900,601,721,833,930,721,865,1000,1116,"VERMONT Danville town"]
[null,"VERMONT","Caledonia County","Groton town",54900,601,721,833,930,721,865,1000,1116,"VERMONT Groton town"]
[null,"VERMONT","Caledonia County","Hardwick town",54900,601,721,833,930,721,865,1000,1116,"VERMONT Hardwick town"]
[null,"VERMONT","Caledonia County","Kirby town",54900,601,721,833,930,721,865,1000,1116,"VERMONT Kirby town"]
[null,"VERMONT","Caledonia County","Lyndon town",54900,601,721,833,930,721,865,1000,1116,"VERMONT Lyndon town"]
[null,"VERMONT","Caledonia County","Newark town",54900,601,721,833,930,721,865,1000,1116,"VERMONT Newark town"]
[null,"VERMONT","Caledonia County","Peacham town",54900,601,721,833,930,721,865,1000,1116,"VERMONT Peacham town"]
[null,"VERMONT","Caledonia County","Ryegate town",54900,601,721,833,930,721,865,1000,1116,"VERMONT Ryegate town"]
[null,"VERMONT","Caledonia County","St. Johnsbury town",54900,601,721,833,930,721,865,1000,1116,"VERMONT St. Johnsbury town"]
[null,"VERMONT","Caledonia County","Sheffield town",54900,601,721,833,930,721,865,1000,1116,"VERMONT Sheffield town"]
[null,"VERMONT","Caledonia County","Stannard town",54900,601,721,833,930,721,865,1000,1116,"VERMONT Stannard town"]
[null,"VERMONT","Caledonia County","Sutton town",54900,601,721,833,930,721,865,1000,1116,"VERMONT Sutton town"]
[null,"VERMONT","Caledonia County","Walden town",54900,601,721,833,930,721,865,1000,1116,"VERMONT Walden town"]
[null,"VERMONT","Caledonia County","Waterford town",54900,601,721,833,930,721,865,1000,1116,"VERMONT Waterford town"]
[null,"VERMONT","Caledonia County","Wheelock town",54900,601,721,833,930,721,865,1000,1116,"VERMONT Wheelock town"]
[null,"VERMONT","Chittenden County","Bolton town",80200,752,902,1043,1163,903,1083,1251,1396,{"$f":"B4165&\" \"&D4165","v":"VERMONT Bolton town"}]
[null,"VERMONT","Chittenden County","Buels gore",80200,752,902,1043,1163,903,1083,1251,1396,"VERMONT Buels gore"]
[null,"VERMONT","Chittenden County","Burlington city",80200,752,902,1043,1163,903,1083,1251,1396,"VERMONT Burlington city"]
[null,"VERMONT","Chittenden County","Charlotte town",80200,752,902,1043,1163,903,1083,1251,1396,"VERMONT Charlotte town"]
[null,"VERMONT","Chittenden County","Colchester town",80200,752,902,1043,1163,903,1083,1251,1396,"VERMONT Colchester town"]
[null,"VERMONT","Chittenden County","Essex town",80200,752,902,1043,1163,903,1083,1251,1396,"VERMONT Essex town"]
[null,"VERMONT","Chittenden County","Hinesburg town",80200,752,902,1043,1163,903,1083,1251,1396,"VERMONT Hinesburg town"]
[null,"VERMONT","Chittenden County","Huntington town",80200,752,902,1043,1163,903,1083,1251,1396,"VERMONT Huntington town"]
[null,"VERMONT","Chittenden County","Jericho town",80200,752,902,1043,1163,903,1083,1251,1396,"VERMONT Jericho town"]
[null,"VERMONT","Chittenden County","Milton town",80200,752,902,1043,1163,903,1083,1251,1396,"VERMONT Milton town"]
[null,"VERMONT","Chittenden County","Richmond town",80200,752,902,1043,1163,903,1083,1251,1396,"VERMONT Richmond town"]
[null,"VERMONT","Chittenden County","St. George town",80200,752,902,1043,1163,903,1083,1251,1396,"VERMONT St. George town"]
[null,"VERMONT","Chittenden County","Shelburne town",80200,752,902,1043,1163,903,1083,1251,1396,"VERMONT Shelburne town"]
[null,"VERMONT","Chittenden County","South Burlington city",80200,752,902,1043,1163,903,1083,1251,1396,"VERMONT South Burlington city"]
[null,"VERMONT","Chittenden County","Underhill town",80200,752,902,1043,1163,903,1083,1251,1396,"VERMONT Underhill town"]
[null,"VERMONT","Chittenden County","Westford town",80200,752,902,1043,1163,903,1083,1251,1396,"VERMONT Westford town"]
[null,"VERMONT","Chittenden County","Williston town",80200,752,902,1043,1163,903,1083,1251,1396,"VERMONT Williston town"]
[null,"VERMONT","Chittenden County","Winooski city",80200,752,902,1043,1163,903,1083,1251,1396,"VERMONT Winooski city"]
[null,"VERMONT","Essex County","Averill town",47300,601,721,833,930,721,865,1000,1116,"VERMONT Averill town"]
[null,"VERMONT","Essex County","Avery's gore",47300,601,721,833,930,721,865,1000,1116,"VERMONT Avery's gore"]
[null,"VERMONT","Essex County","Bloomfield town",47300,601,721,833,930,721,865,1000,1116,"VERMONT Bloomfield town"]
[null,"VERMONT","Essex County","Brighton town",47300,601,721,833,930,721,865,1000,1116,"VERMONT Brighton town"]
[null,"VERMONT","Essex County","Brunswick town",47300,601,721,833,930,721,865,1000,1116,"VERMONT Brunswick town"]
[null,"VERMONT","Essex County","Canaan town",47300,601,721,833,930,721,865,1000,1116,"VERMONT Canaan town"]
[null,"VERMONT","Essex County","Concord town",47300,601,721,833,930,721,865,1000,1116,"VERMONT Concord town"]
[null,"VERMONT","Essex County","East Haven town",47300,601,721,833,930,721,865,1000,1116,"VERMONT East Haven town"]
[null,"VERMONT","Essex County","Ferdinand town",47300,601,721,833,930,721,865,1000,1116,"VERMONT Ferdinand town"]
[null,"VERMONT","Essex County","Granby town",47300,601,721,833,930,721,865,1000,1116,"VERMONT Granby town"]
[null,"VERMONT","Essex County","Guildhall town",47300,601,721,833,930,721,865,1000,1116,"VERMONT Guildhall town"]
[null,"VERMONT","Essex County","Lemington town",47300,601,721,833,930,721,865,1000,1116,"VERMONT Lemington town"]
[null,"VERMONT","Essex County","Lewis town",47300,601,721,833,930,721,865,1000,1116,"VERMONT Lewis town"]
[null,"VERMONT","Essex County","Lunenburg town",47300,601,721,833,930,721,865,1000,1116,"VERMONT Lunenburg town"]
[null,"VERMONT","Essex County","Maidstone town",47300,601,721,833,930,721,865,1000,1116,"VERMONT Maidstone town"]
[null,"VERMONT","Essex County","Norton town",47300,601,721,833,930,721,865,1000,1116,"VERMONT Norton town"]
[null,"VERMONT","Essex County","Victory town",47300,601,721,833,930,721,865,1000,1116,"VERMONT Victory town"]
[null,"VERMONT","Essex County","Warner's grant",47300,601,721,833,930,721,865,1000,1116,"VERMONT Warner's grant"]
[null,"VERMONT","Essex County","Warren's gore",47300,601,721,833,930,721,865,1000,1116,"VERMONT Warren's gore"]
[null,"VERMONT","Franklin County","Bakersfield town",80200,752,902,1043,1163,903,1083,1251,1396,"VERMONT Bakersfield town"]
[null,"VERMONT","Franklin County","Berkshire town",80200,752,902,1043,1163,903,1083,1251,1396,"VERMONT Berkshire town"]
[null,"VERMONT","Franklin County","Enosburg town",80200,752,902,1043,1163,903,1083,1251,1396,"VERMONT Enosburg town"]
[null,"VERMONT","Franklin County","Fairfax town",80200,752,902,1043,1163,903,1083,1251,1396,"VERMONT Fairfax town"]
[null,"VERMONT","Franklin County","Fairfield town",80200,752,902,1043,1163,903,1083,1251,1396,"VERMONT Fairfield town"]
[null,"VERMONT","Franklin County","Fletcher town",80200,752,902,1043,1163,903,1083,1251,1396,"VERMONT Fletcher town"]
[null,"VERMONT","Franklin County","Franklin town",80200,752,902,1043,1163,903,1083,1251,1396,"VERMONT Franklin town"]
[null,"VERMONT","Franklin County","Georgia town",80200,752,902,1043,1163,903,1083,1251,1396,"VERMONT Georgia town"]
[null,"VERMONT","Franklin County","Highgate town",80200,752,902,1043,1163,903,1083,1251,1396,"VERMONT Highgate town"]
[null,"VERMONT","Franklin County","Montgomery town",80200,752,902,1043,1163,903,1083,1251,1396,"VERMONT Montgomery town"]
[null,"VERMONT","Franklin County","Richford town",80200,752,902,1043,1163,903,1083,1251,1396,"VERMONT Richford town"]
[null,"VERMONT","Franklin County","St. Albans city",80200,752,902,1043,1163,903,1083,1251,1396,"VERMONT St. Albans city"]
[null,"VERMONT","Franklin County","St. Albans town",80200,752,902,1043,1163,903,1083,1251,1396,"VERMONT St. Albans town"]
[null,"VERMONT","Franklin County","Sheldon town",80200,752,902,1043,1163,903,1083,1251,1396,"VERMONT Sheldon town"]
[null,"VERMONT","Franklin County","Swanton town",80200,752,902,1043,1163,903,1083,1251,1396,"VERMONT Swanton town"]
[null,"VERMONT","Grand Isle County","Alburg town",80200,752,902,1043,1163,903,1083,1251,1396,"VERMONT Alburg town"]
[null,"VERMONT","Grand Isle County","Grand Isle town",80200,752,902,1043,1163,903,1083,1251,1396,"VERMONT Grand Isle town"]
[null,"VERMONT","Grand Isle County","Isle La Motte town",80200,752,902,1043,1163,903,1083,1251,1396,"VERMONT Isle La Motte town"]
[null,"VERMONT","Grand Isle County","North Hero town",80200,752,902,1043,1163,903,1083,1251,1396,"VERMONT North Hero town"]
[null,"VERMONT","Grand Isle County","South Hero town",80200,752,902,1043,1163,903,1083,1251,1396,"VERMONT South Hero town"]
[null,"VERMONT","Lamoille County","Belvidere town",67200,630,756,873,975,756,907,1048,1170,"VERMONT Belvidere town"]
[null,"VERMONT","Lamoille County","Cambridge town",67200,630,756,873,975,756,907,1048,1170,"VERMONT Cambridge town"]
[null,"VERMONT","Lamoille County","Eden town",67200,630,756,873,975,756,907,1048,1170,"VERMONT Eden town"]
[null,"VERMONT","Lamoille County","Elmore town",67200,630,756,873,975,756,907,1048,1170,"VERMONT Elmore town"]
[null,"VERMONT","Lamoille County","Hyde Park town",67200,630,756,873,975,756,907,1048,1170,"VERMONT Hyde Park town"]
[null,"VERMONT","Lamoille County","Johnson town",67200,630,756,873,975,756,907,1048,1170,"VERMONT Johnson town"]
[null,"VERMONT","Lamoille County","Morristown town",67200,630,756,873,975,756,907,1048,1170,"VERMONT Morristown town"]
[null,"VERMONT","Lamoille County","Stowe town",67200,630,756,873,975,756,907,1048,1170,{"$f":"B4229&\" \"&D4229","v":"VERMONT Stowe town"}]
[null,"VERMONT","Lamoille County","Waterville town",67200,630,756,873,975,756,907,1048,1170,"VERMONT Waterville town"]
[null,"VERMONT","Lamoille County","Wolcott town",67200,630,756,873,975,756,907,1048,1170,"VERMONT Wolcott town"]
[null,"VERMONT","Orange County","Bradford town",65000,609,731,845,942,731,877,1014,1131,"VERMONT Bradford town"]
[null,"VERMONT","Orange County","Braintree town",65000,609,731,845,942,731,877,1014,1131,"VERMONT Braintree town"]
[null,"VERMONT","Orange County","Brookfield town",65000,609,731,845,942,731,877,1014,1131,"VERMONT Brookfield town"]
[null,"VERMONT","Orange County","Chelsea town",65000,609,731,845,942,731,877,1014,1131,"VERMONT Chelsea town"]
[null,"VERMONT","Orange County","Corinth town",65000,609,731,845,942,731,877,1014,1131,"VERMONT Corinth town"]
[null,"VERMONT","Orange County","Fairlee town",65000,609,731,845,942,731,877,1014,1131,"VERMONT Fairlee town"]
[null,"VERMONT","Orange County","Newbury town",65000,609,731,845,942,731,877,1014,1131,"VERMONT Newbury town"]
[null,"VERMONT","Orange County","Orange town",65000,609,731,845,942,731,877,1014,1131,"VERMONT Orange town"]
[null,"VERMONT","Orange County","Randolph town",65000,609,731,845,942,731,877,1014,1131,"VERMONT Randolph town"]
[null,"VERMONT","Orange County","Strafford town",65000,609,731,845,942,731,877,1014,1131,"VERMONT Strafford town"]
[null,"VERMONT","Orange County","Thetford town",65000,609,731,845,942,731,877,1014,1131,"VERMONT Thetford town"]
[null,"VERMONT","Orange County","Topsham town",65000,609,731,845,942,731,877,1014,1131,"VERMONT Topsham town"]
[null,"VERMONT","Orange County","Tunbridge town",65000,609,731,845,942,731,877,1014,1131,"VERMONT Tunbridge town"]
[null,"VERMONT","Orange County","Vershire town",65000,609,731,845,942,731,877,1014,1131,"VERMONT Vershire town"]
[null,"VERMONT","Orange County","Washington town",65000,609,731,845,942,731,877,1014,1131,"VERMONT Washington town"]
[null,"VERMONT","Orange County","West Fairlee town",65000,609,731,845,942,731,877,1014,1131,"VERMONT West Fairlee town"]
[null,"VERMONT","Orange County","Williamstown town",65000,609,731,845,942,731,877,1014,1131,"VERMONT Williamstown town"]
[null,"VERMONT","Orleans County","Albany town",52000,601,721,833,930,721,865,1000,1116,"VERMONT Albany town"]
[null,"VERMONT","Orleans County","Barton town",52000,601,721,833,930,721,865,1000,1116,"VERMONT Barton town"]
[null,"VERMONT","Orleans County","Brownington town",52000,601,721,833,930,721,865,1000,1116,"VERMONT Brownington town"]
[null,"VERMONT","Orleans County","Charleston town",52000,601,721,833,930,721,865,1000,1116,"VERMONT Charleston town"]
[null,"VERMONT","Orleans County","Coventry town",52000,601,721,833,930,721,865,1000,1116,"VERMONT Coventry town"]
[null,"VERMONT","Orleans County","Craftsbury town",52000,601,721,833,930,721,865,1000,1116,"VERMONT Craftsbury town"]
[null,"VERMONT","Orleans County","Derby town",52000,601,721,833,930,721,865,1000,1116,"VERMONT Derby town"]
[null,"VERMONT","Orleans County","Glover town",52000,601,721,833,930,721,865,1000,1116,"VERMONT Glover town"]
[null,"VERMONT","Orleans County","Greensboro town",52000,601,721,833,930,721,865,1000,1116,"VERMONT Greensboro town"]
[null,"VERMONT","Orleans County","Holland town",52000,601,721,833,930,721,865,1000,1116,"VERMONT Holland town"]
[null,"VERMONT","Orleans County","Irasburg town",52000,601,721,833,930,721,865,1000,1116,"VERMONT Irasburg town"]
[null,"VERMONT","Orleans County","Jay town",52000,601,721,833,930,721,865,1000,1116,"VERMONT Jay town"]
[null,"VERMONT","Orleans County","Lowell town",52000,601,721,833,930,721,865,1000,1116,"VERMONT Lowell town"]
[null,"VERMONT","Orleans County","Morgan town",52000,601,721,833,930,721,865,1000,1116,"VERMONT Morgan town"]
[null,"VERMONT","Orleans County","Newport city",52000,601,721,833,930,721,865,1000,1116,"VERMONT Newport city"]
[null,"VERMONT","Orleans County","Newport town",52000,601,721,833,930,721,865,1000,1116,"VERMONT Newport town"]
[null,"VERMONT","Orleans County","Troy town",52000,601,721,833,930,721,865,1000,1116,"VERMONT Troy town"]
[null,"VERMONT","Orleans County","Westfield town",52000,601,721,833,930,721,865,1000,1116,"VERMONT Westfield town"]
[null,"VERMONT","Orleans County","Westmore town",52000,601,721,833,930,721,865,1000,1116,"VERMONT Westmore town"]
[null,"VERMONT","Rutland County","Benson town",63600,601,721,833,930,721,865,1000,1116,"VERMONT Benson town"]
[null,"VERMONT","Rutland County","Brandon town",63600,601,721,833,930,721,865,1000,1116,"VERMONT Brandon town"]
[null,"VERMONT","Rutland County","Castleton town",63600,601,721,833,930,721,865,1000,1116,"VERMONT Castleton town"]
[null,"VERMONT","Rutland County","Chittenden town",63600,601,721,833,930,721,865,1000,1116,"VERMONT Chittenden town"]
[null,"VERMONT","Rutland County","Clarendon town",63600,601,721,833,930,721,865,1000,1116,"VERMONT Clarendon town"]
[null,"VERMONT","Rutland County","Danby town",63600,601,721,833,930,721,865,1000,1116,"VERMONT Danby town"]
[null,"VERMONT","Rutland County","Fair Haven town",63600,601,721,833,930,721,865,1000,1116,"VERMONT Fair Haven town"]
[null,"VERMONT","Rutland County","Hubbardton town",63600,601,721,833,930,721,865,1000,1116,"VERMONT Hubbardton town"]
[null,"VERMONT","Rutland County","Ira town",63600,601,721,833,930,721,865,1000,1116,"VERMONT Ira town"]
[null,"VERMONT","Rutland County","Killington town",63600,601,721,833,930,721,865,1000,1116,"VERMONT Killington town"]
[null,"VERMONT","Rutland County","Mendon town",63600,601,721,833,930,721,865,1000,1116,"VERMONT Mendon town"]
[null,"VERMONT","Rutland County","Middletown Springs town",63600,601,721,833,930,721,865,1000,1116,"VERMONT Middletown Springs town"]
[null,"VERMONT","Rutland County","Mount Holly town",63600,601,721,833,930,721,865,1000,1116,"VERMONT Mount Holly town"]
[null,"VERMONT","Rutland County","Mount Tabor town",63600,601,721,833,930,721,865,1000,1116,"VERMONT Mount Tabor town"]
[null,"VERMONT","Rutland County","Pawlet town",63600,601,721,833,930,721,865,1000,1116,"VERMONT Pawlet town"]
[null,"VERMONT","Rutland County","Pittsfield town",63600,601,721,833,930,721,865,1000,1116,"VERMONT Pittsfield town"]
[null,"VERMONT","Rutland County","Pittsford town",63600,601,721,833,930,721,865,1000,1116,"VERMONT Pittsford town"]
[null,"VERMONT","Rutland County","Poultney town",63600,601,721,833,930,721,865,1000,1116,"VERMONT Poultney town"]
[null,"VERMONT","Rutland County","Proctor town",63600,601,721,833,930,721,865,1000,1116,"VERMONT Proctor town"]
[null,"VERMONT","Rutland County","Rutland city",63600,601,721,833,930,721,865,1000,1116,"VERMONT Rutland city"]
[null,"VERMONT","Rutland County","Rutland town",63600,601,721,833,930,721,865,1000,1116,"VERMONT Rutland town"]
[null,"VERMONT","Rutland County","Shrewsbury town",63600,601,721,833,930,721,865,1000,1116,"VERMONT Shrewsbury town"]
[null,"VERMONT","Rutland County","Sudbury town",63600,601,721,833,930,721,865,1000,1116,"VERMONT Sudbury town"]
[null,"VERMONT","Rutland County","Tinmouth town",63600,601,721,833,930,721,865,1000,1116,"VERMONT Tinmouth town"]
[null,"VERMONT","Rutland County","Wallingford town",63600,601,721,833,930,721,865,1000,1116,"VERMONT Wallingford town"]
[null,"VERMONT","Rutland County","Wells town",63600,601,721,833,930,721,865,1000,1116,{"$f":"B4293&\" \"&D4293","v":"VERMONT Wells town"}]
[null,"VERMONT","Rutland County","West Haven town",63600,601,721,833,930,721,865,1000,1116,"VERMONT West Haven town"]
[null,"VERMONT","Rutland County","West Rutland town",63600,601,721,833,930,721,865,1000,1116,"VERMONT West Rutland town"]
[null,"VERMONT","Washington County","Barre city",72000,675,810,936,1045,810,972,1123,1254,"VERMONT Barre city"]
[null,"VERMONT","Washington County","Barre town",72000,675,810,936,1045,810,972,1123,1254,"VERMONT Barre town"]
[null,"VERMONT","Washington County","Berlin town",72000,675,810,936,1045,810,972,1123,1254,"VERMONT Berlin town"]
[null,"VERMONT","Washington County","Cabot town",72000,675,810,936,1045,810,972,1123,1254,"VERMONT Cabot town"]
[null,"VERMONT","Washington County","Calais town",72000,675,810,936,1045,810,972,1123,1254,"VERMONT Calais town"]
[null,"VERMONT","Washington County","Duxbury town",72000,675,810,936,1045,810,972,1123,1254,"VERMONT Duxbury town"]
[null,"VERMONT","Washington County","East Montpelier town",72000,675,810,936,1045,810,972,1123,1254,"VERMONT East Montpelier town"]
[null,"VERMONT","Washington County","Fayston town",72000,675,810,936,1045,810,972,1123,1254,"VERMONT Fayston town"]
[null,"VERMONT","Washington County","Marshfield town",72000,675,810,936,1045,810,972,1123,1254,"VERMONT Marshfield town"]
[null,"VERMONT","Washington County","Middlesex town",72000,675,810,936,1045,810,972,1123,1254,"VERMONT Middlesex town"]
[null,"VERMONT","Washington County","Montpelier city",72000,675,810,936,1045,810,972,1123,1254,"VERMONT Montpelier city"]
[null,"VERMONT","Washington County","Moretown town",72000,675,810,936,1045,810,972,1123,1254,"VERMONT Moretown town"]
[null,"VERMONT","Washington County","Northfield town",72000,675,810,936,1045,810,972,1123,1254,"VERMONT Northfield town"]
[null,"VERMONT","Washington County","Plainfield town",72000,675,810,936,1045,810,972,1123,1254,"VERMONT Plainfield town"]
[null,"VERMONT","Washington County","Roxbury town",72000,675,810,936,1045,810,972,1123,1254,"VERMONT Roxbury town"]
[null,"VERMONT","Washington County","Waitsfield town",72000,675,810,936,1045,810,972,1123,1254,"VERMONT Waitsfield town"]
[null,"VERMONT","Washington County","Warren town",72000,675,810,936,1045,810,972,1123,1254,"VERMONT Warren town"]
[null,"VERMONT","Washington County","Waterbury town",72000,675,810,936,1045,810,972,1123,1254,"VERMONT Waterbury town"]
[null,"VERMONT","Washington County","Woodbury town",72000,675,810,936,1045,810,972,1123,1254,"VERMONT Woodbury town"]
[null,"VERMONT","Washington County","Worcester town",72000,675,810,936,1045,810,972,1123,1254,"VERMONT Worcester town"]
[null,"VERMONT","Windham County","Athens town",63700,601,721,833,930,721,865,1000,1116,"VERMONT Athens town"]
[null,"VERMONT","Windham County","Brattleboro town",63700,601,721,833,930,721,865,1000,1116,"VERMONT Brattleboro town"]
[null,"VERMONT","Windham County","Brookline town",63700,601,721,833,930,721,865,1000,1116,"VERMONT Brookline town"]
[null,"VERMONT","Windham County","Dover town",63700,601,721,833,930,721,865,1000,1116,"VERMONT Dover town"]
[null,"VERMONT","Windham County","Dummerston town",63700,601,721,833,930,721,865,1000,1116,"VERMONT Dummerston town"]
[null,"VERMONT","Windham County","Grafton town",63700,601,721,833,930,721,865,1000,1116,"VERMONT Grafton town"]
[null,"VERMONT","Windham County","Guilford town",63700,601,721,833,930,721,865,1000,1116,"VERMONT Guilford town"]
[null,"VERMONT","Windham County","Halifax town",63700,601,721,833,930,721,865,1000,1116,"VERMONT Halifax town"]
[null,"VERMONT","Windham County","Jamaica town",63700,601,721,833,930,721,865,1000,1116,"VERMONT Jamaica town"]
[null,"VERMONT","Windham County","Londonderry town",63700,601,721,833,930,721,865,1000,1116,"VERMONT Londonderry town"]
[null,"VERMONT","Windham County","Marlboro town",63700,601,721,833,930,721,865,1000,1116,"VERMONT Marlboro town"]
[null,"VERMONT","Windham County","Newfane town",63700,601,721,833,930,721,865,1000,1116,"VERMONT Newfane town"]
[null,"VERMONT","Windham County","Putney town",63700,601,721,833,930,721,865,1000,1116,"VERMONT Putney town"]
[null,"VERMONT","Windham County","Rockingham town",63700,601,721,833,930,721,865,1000,1116,"VERMONT Rockingham town"]
[null,"VERMONT","Windham County","Somerset town",63700,601,721,833,930,721,865,1000,1116,"VERMONT Somerset town"]
[null,"VERMONT","Windham County","Stratton town",63700,601,721,833,930,721,865,1000,1116,"VERMONT Stratton town"]
[null,"VERMONT","Windham County","Townshend town",63700,601,721,833,930,721,865,1000,1116,"VERMONT Townshend town"]
[null,"VERMONT","Windham County","Vernon town",63700,601,721,833,930,721,865,1000,1116,"VERMONT Vernon town"]
[null,"VERMONT","Windham County","Wardsboro town",63700,601,721,833,930,721,865,1000,1116,"VERMONT Wardsboro town"]
[null,"VERMONT","Windham County","Westminster town",63700,601,721,833,930,721,865,1000,1116,"VERMONT Westminster town"]
[null,"VERMONT","Windham County","Whitingham town",63700,601,721,833,930,721,865,1000,1116,"VERMONT Whitingham town"]
[null,"VERMONT","Windham County","Wilmington town",63700,601,721,833,930,721,865,1000,1116,"VERMONT Wilmington town"]
[null,"VERMONT","Windham County","Windham town",63700,601,721,833,930,721,865,1000,1116,"VERMONT Windham town"]
[null,"VERMONT","Windsor County","Andover town",69600,653,783,905,1010,783,940,1086,1212,"VERMONT Andover town"]
[null,"VERMONT","Windsor County","Baltimore town",69600,653,783,905,1010,783,940,1086,1212,"VERMONT Baltimore town"]
[null,"VERMONT","Windsor County","Barnard town",69600,653,783,905,1010,783,940,1086,1212,"VERMONT Barnard town"]
[null,"VERMONT","Windsor County","Bethel town",69600,653,783,905,1010,783,940,1086,1212,"VERMONT Bethel town"]
[null,"VERMONT","Windsor County","Bridgewater town",69600,653,783,905,1010,783,940,1086,1212,"VERMONT Bridgewater town"]
[null,"VERMONT","Windsor County","Cavendish town",69600,653,783,905,1010,783,940,1086,1212,"VERMONT Cavendish town"]
[null,"VERMONT","Windsor County","Chester town",69600,653,783,905,1010,783,940,1086,1212,"VERMONT Chester town"]
[null,"VERMONT","Windsor County","Hartford town",69600,653,783,905,1010,783,940,1086,1212,"VERMONT Hartford town"]
[null,"VERMONT","Windsor County","Hartland town",69600,653,783,905,1010,783,940,1086,1212,"VERMONT Hartland town"]
[null,"VERMONT","Windsor County","Ludlow town",69600,653,783,905,1010,783,940,1086,1212,"VERMONT Ludlow town"]
[null,"VERMONT","Windsor County","Norwich town",69600,653,783,905,1010,783,940,1086,1212,"VERMONT Norwich town"]
[null,"VERMONT","Windsor County","Plymouth town",69600,653,783,905,1010,783,940,1086,1212,"VERMONT Plymouth town"]
[null,"VERMONT","Windsor County","Pomfret town",69600,653,783,905,1010,783,940,1086,1212,"VERMONT Pomfret town"]
[null,"VERMONT","Windsor County","Reading town",69600,653,783,905,1010,783,940,1086,1212,"VERMONT Reading town"]
[null,"VERMONT","Windsor County","Rochester town",69600,653,783,905,1010,783,940,1086,1212,"VERMONT Rochester town"]
[null,"VERMONT","Windsor County","Royalton town",69600,653,783,905,1010,783,940,1086,1212,"VERMONT Royalton town"]
[null,"VERMONT","Windsor County","Sharon town",69600,653,783,905,1010,783,940,1086,1212,"VERMONT Sharon town"]
[null,"VERMONT","Windsor County","Springfield town",69600,653,783,905,1010,783,940,1086,1212,"VERMONT Springfield town"]
[null,"VERMONT","Windsor County","Stockbridge town",69600,653,783,905,1010,783,940,1086,1212,{"$f":"B4357&\" \"&D4357","v":"VERMONT Stockbridge town"}]
[null,"VERMONT","Windsor County","Weathersfield town",69600,653,783,905,1010,783,940,1086,1212,"VERMONT Weathersfield town"]
[null,"VERMONT","Windsor County","Weston town",69600,653,783,905,1010,783,940,1086,1212,"VERMONT Weston town"]
[null,"VERMONT","Windsor County","West Windsor town",69600,653,783,905,1010,783,940,1086,1212,"VERMONT West Windsor town"]
[null,"VERMONT","Windsor County","Windsor town",69600,653,783,905,1010,783,940,1086,1212,"VERMONT Windsor town"]
[null,"VERMONT","Windsor County","Woodstock town",69600,653,783,905,1010,783,940,1086,1212,"VERMONT Woodstock town"]
[null,"VIRGINIA","Accomack County","Accomack County",52700,494,593,685,765,593,712,822,918,"VIRGINIA Accomack County"]
[null,"VIRGINIA","Albemarle County","Albemarle County",82600,763,915,1057,1180,915,1098,1269,1416,"VIRGINIA Albemarle County"]
[null,"VIRGINIA","Alleghany County","Alleghany County",54300,510,611,706,787,612,733,847,945,"VIRGINIA Alleghany County"]
[null,"VIRGINIA","Amelia County","Amelia County",72900,684,821,948,1057,821,985,1137,1269,"VIRGINIA Amelia County"]
[null,"VIRGINIA","Amherst County","Amherst County",60500,567,681,786,877,681,817,944,1053,"VIRGINIA Amherst County"]
[null,"VIRGINIA","Appomattox County","Appomattox County",60500,567,681,786,877,681,817,944,1053,"VIRGINIA Appomattox County"]
[null,"VIRGINIA","Arlington County","Arlington County",107000,1003,1203,1391,1552,1203,1444,1669,1863,"VIRGINIA Arlington County"]
[null,"VIRGINIA","Augusta County","Augusta County",58900,559,671,775,865,671,805,930,1038,"VIRGINIA Augusta County"]
[null,"VIRGINIA","Bath County","Bath County",55900,525,630,726,811,630,756,872,973,"VIRGINIA Bath County"]
[null,"VIRGINIA","Bedford County","Bedford County",60500,567,681,786,877,681,817,944,1053,"VIRGINIA Bedford County"]
[null,"VIRGINIA","Bland County","Bland County",51900,491,588,680,758,589,706,816,910,"VIRGINIA Bland County"]
[null,"VIRGINIA","Botetourt County","Botetourt County",62900,590,708,818,912,708,850,981,1095,"VIRGINIA Botetourt County"]
[null,"VIRGINIA","Brunswick County","Brunswick County",45500,491,588,680,758,589,706,816,910,"VIRGINIA Brunswick County"]
[null,"VIRGINIA","Buchanan County","Buchanan County",41400,491,588,680,758,589,706,816,910,"VIRGINIA Buchanan County"]
[null,"VIRGINIA","Buckingham County","Buckingham County",47900,491,588,680,758,589,706,816,910,"VIRGINIA Buckingham County"]
[null,"VIRGINIA","Campbell County","Campbell County",60500,567,681,786,877,681,817,944,1053,"VIRGINIA Campbell County"]
[null,"VIRGINIA","Caroline County","Caroline County",72900,684,821,948,1057,821,985,1137,1269,"VIRGINIA Caroline County"]
[null,"VIRGINIA","Carroll County","Carroll County",47100,491,588,680,758,589,706,816,910,"VIRGINIA Carroll County"]
[null,"VIRGINIA","Charles City County","Charles City County",72900,684,821,948,1057,821,985,1137,1269,"VIRGINIA Charles City County"]
[null,"VIRGINIA","Charlotte County","Charlotte County",52700,494,593,685,765,593,712,822,918,"VIRGINIA Charlotte County"]
[null,"VIRGINIA","Chesterfield County","Chesterfield County",72900,684,821,948,1057,821,985,1137,1269,"VIRGINIA Chesterfield County"]
[null,"VIRGINIA","Clarke County","Clarke County",107000,1003,1203,1391,1552,1203,1444,1669,1863,"VIRGINIA Clarke County"]
[null,"VIRGINIA","Craig County","Craig County",62900,590,708,818,912,708,850,981,1095,"VIRGINIA Craig County"]
[null,"VIRGINIA","Culpeper County","Culpeper County",82000,768,922,1066,1190,922,1107,1279,1428,"VIRGINIA Culpeper County"]
[null,"VIRGINIA","Cumberland County","Cumberland County",72900,684,821,948,1057,821,985,1137,1269,"VIRGINIA Cumberland County"]
[null,"VIRGINIA","Dickenson County","Dickenson County",38900,491,588,680,758,589,706,816,910,"VIRGINIA Dickenson County"]
[null,"VIRGINIA","Dinwiddie County","Dinwiddie County",72900,684,821,948,1057,821,985,1137,1269,"VIRGINIA Dinwiddie County"]
[null,"VIRGINIA","Essex County","Essex County",55000,515,618,715,797,618,742,858,957,"VIRGINIA Essex County"]
[null,"VIRGINIA","Fairfax County","Fairfax County",107000,1003,1203,1391,1552,1203,1444,1669,1863,"VIRGINIA Fairfax County"]
[null,"VIRGINIA","Fauquier County","Fauquier County",107000,1003,1203,1391,1552,1203,1444,1669,1863,"VIRGINIA Fauquier County"]
[null,"VIRGINIA","Floyd County","Floyd County",52800,495,595,686,766,594,714,824,919,"VIRGINIA Floyd County"]
[null,"VIRGINIA","Fluvanna County","Fluvanna County",82600,763,915,1057,1180,915,1098,1269,1416,"VIRGINIA Fluvanna County"]
[null,"VIRGINIA","Franklin County","Franklin County",57300,538,645,745,831,645,774,894,997,"VIRGINIA Franklin County"]
[null,"VIRGINIA","Frederick County","Frederick County",67600,634,761,879,981,761,913,1055,1177,"VIRGINIA Frederick County"]
[null,"VIRGINIA","Giles County","Giles County",53000,496,596,689,768,596,715,827,922,"VIRGINIA Giles County"]
[null,"VIRGINIA","Gloucester County","Gloucester County",70600,662,795,918,1023,795,954,1101,1228,"VIRGINIA Gloucester County"]
[null,"VIRGINIA","Goochland County","Goochland County",72900,684,821,948,1057,821,985,1137,1269,"VIRGINIA Goochland County"]
[null,"VIRGINIA","Grayson County","Grayson County",41400,491,588,680,758,589,706,816,910,"VIRGINIA Grayson County"]
[null,"VIRGINIA","Greene County","Greene County",82600,763,915,1057,1180,915,1098,1269,1416,"VIRGINIA Greene County"]
[null,"VIRGINIA","Greensville County","Greensville County",46100,491,588,680,758,589,706,816,910,"VIRGINIA Greensville County"]
[null,"VIRGINIA","Halifax County","Halifax County",48100,491,588,680,758,589,706,816,910,"VIRGINIA Halifax County"]
[null,"VIRGINIA","Hanover County","Hanover County",72900,684,821,948,1057,821,985,1137,1269,"VIRGINIA Hanover County"]
[null,"VIRGINIA","Henrico County","Henrico County",72900,684,821,948,1057,821,985,1137,1269,"VIRGINIA Henrico County"]
[null,"VIRGINIA","Henry County","Henry County",41100,491,588,680,758,589,706,816,910,"VIRGINIA Henry County"]
[null,"VIRGINIA","Highland County","Highland County",55600,521,626,723,806,626,751,867,967,"VIRGINIA Highland County"]
[null,"VIRGINIA","Isle of Wight County","Isle of Wight County",70600,662,795,918,1023,795,954,1101,1228,"VIRGINIA Isle of Wight County"]
[null,"VIRGINIA","James City County","James City County",70600,662,795,918,1023,795,954,1101,1228,"VIRGINIA James City County"]
[null,"VIRGINIA","King and Queen County","King and Queen County",72900,684,821,948,1057,821,985,1137,1269,"VIRGINIA King and Queen County"]
[null,"VIRGINIA","King George County","King George County",93000,871,1046,1209,1348,1046,1255,1451,1618,"VIRGINIA King George County"]
[null,"VIRGINIA","King William County","King William County",72900,684,821,948,1057,821,985,1137,1269,"VIRGINIA King William County"]
[null,"VIRGINIA","Lancaster County","Lancaster County",62600,576,691,798,891,691,829,958,1069,"VIRGINIA Lancaster County"]
[null,"VIRGINIA","Lee County","Lee County",43300,491,588,680,758,589,706,816,910,"VIRGINIA Lee County"]
[null,"VIRGINIA","Loudoun County","Loudoun County",107000,1003,1203,1391,1552,1203,1444,1669,1863,"VIRGINIA Loudoun County"]
[null,"VIRGINIA","Louisa County","Louisa County",68100,638,766,885,987,766,919,1062,1185,"VIRGINIA Louisa County"]
[null,"VIRGINIA","Lunenburg County","Lunenburg County",43200,491,588,680,758,589,706,816,910,"VIRGINIA Lunenburg County"]
[null,"VIRGINIA","Madison County","Madison County",69400,651,781,902,1007,781,937,1083,1209,"VIRGINIA Madison County"]
[null,"VIRGINIA","Mathews County","Mathews County",70600,662,795,918,1023,795,954,1101,1228,"VIRGINIA Mathews County"]
[null,"VIRGINIA","Mecklenburg County","Mecklenburg County",47800,491,588,680,758,589,706,816,910,"VIRGINIA Mecklenburg County"]
[null,"VIRGINIA","Middlesex County","Middlesex County",69900,656,787,908,1013,787,945,1090,1216,{"$f":"B4421&\" \"&D4421","v":"VIRGINIA Middlesex County"}]
[null,"VIRGINIA","Montgomery County","Montgomery County",70900,665,798,921,1028,798,958,1106,1234,"VIRGINIA Montgomery County"]
[null,"VIRGINIA","Nelson County","Nelson County",82600,763,915,1057,1180,915,1098,1269,1416,"VIRGINIA Nelson County"]
[null,"VIRGINIA","New Kent County","New Kent County",72900,684,821,948,1057,821,985,1137,1269,"VIRGINIA New Kent County"]
[null,"VIRGINIA","Northampton County","Northampton County",52700,494,593,685,765,593,712,822,918,"VIRGINIA Northampton County"]
[null,"VIRGINIA","Northumberland County","Northumberland County",63200,593,711,821,917,711,853,986,1101,"VIRGINIA Northumberland County"]
[null,"VIRGINIA","Nottoway County","Nottoway County",48400,491,588,680,758,589,706,816,910,"VIRGINIA Nottoway County"]
[null,"VIRGINIA","Orange County","Orange County",67800,636,763,881,983,763,916,1058,1180,"VIRGINIA Orange County"]
[null,"VIRGINIA","Page County","Page County",55100,516,620,716,800,620,744,860,960,"VIRGINIA Page County"]
[null,"VIRGINIA","Patrick County","Patrick County",44300,491,588,680,758,589,706,816,910,"VIRGINIA Patrick County"]
[null,"VIRGINIA","Pittsylvania County","Pittsylvania County",45800,491,588,680,758,589,706,816,910,"VIRGINIA Pittsylvania County"]
[null,"VIRGINIA","Powhatan County","Powhatan County",72900,684,821,948,1057,821,985,1137,1269,"VIRGINIA Powhatan County"]
[null,"VIRGINIA","Prince Edward County","Prince Edward County",52300,491,588,680,758,589,706,816,910,"VIRGINIA Prince Edward County"]
[null,"VIRGINIA","Prince George County","Prince George County",72900,684,821,948,1057,821,985,1137,1269,"VIRGINIA Prince George County"]
[null,"VIRGINIA","Prince William County","Prince William County",107000,1003,1203,1391,1552,1203,1444,1669,1863,"VIRGINIA Prince William County"]
[null,"VIRGINIA","Pulaski County","Pulaski County",52600,493,592,684,763,592,711,821,916,"VIRGINIA Pulaski County"]
[null,"VIRGINIA","Rappahannock County","Rappahannock County",82000,768,922,1065,1188,922,1107,1278,1426,"VIRGINIA Rappahannock County"]
[null,"VIRGINIA","Richmond County","Richmond County",69200,608,730,842,940,729,876,1011,1128,"VIRGINIA Richmond County"]
[null,"VIRGINIA","Roanoke County","Roanoke County",62900,590,708,818,912,708,850,981,1095,"VIRGINIA Roanoke County"]
[null,"VIRGINIA","Rockbridge County","Rockbridge County",54100,507,608,703,785,609,730,844,942,"VIRGINIA Rockbridge County"]
[null,"VIRGINIA","Rockingham County","Rockingham County",59300,556,667,771,860,668,801,925,1032,"VIRGINIA Rockingham County"]
[null,"VIRGINIA","Russell County","Russell County",44000,491,588,680,758,589,706,816,910,"VIRGINIA Russell County"]
[null,"VIRGINIA","Scott County","Scott County",50600,475,570,658,733,570,684,789,880,"VIRGINIA Scott County"]
[null,"VIRGINIA","Shenandoah County","Shenandoah County",64100,601,721,833,930,721,865,1000,1116,"VIRGINIA Shenandoah County"]
[null,"VIRGINIA","Smyth County","Smyth County",44900,491,588,680,758,589,706,816,910,"VIRGINIA Smyth County"]
[null,"VIRGINIA","Southampton County","Southampton County",55700,522,627,724,808,627,753,869,970,"VIRGINIA Southampton County"]
[null,"VIRGINIA","Spotsylvania County","Spotsylvania County",107000,1003,1203,1391,1552,1203,1444,1669,1863,"VIRGINIA Spotsylvania County"]
[null,"VIRGINIA","Stafford County","Stafford County",107000,1003,1203,1391,1552,1203,1444,1669,1863,"VIRGINIA Stafford County"]
[null,"VIRGINIA","Surry County","Surry County",70600,662,795,918,1023,795,954,1101,1228,"VIRGINIA Surry County"]
[null,"VIRGINIA","Sussex County","Sussex County",72900,684,821,948,1057,821,985,1137,1269,"VIRGINIA Sussex County"]
[null,"VIRGINIA","Tazewell County","Tazewell County",47400,491,588,680,758,589,706,816,910,"VIRGINIA Tazewell County"]
[null,"VIRGINIA","Warren County","Warren County",75500,708,850,981,1095,849,1020,1178,1314,"VIRGINIA Warren County"]
[null,"VIRGINIA","Washington County","Washington County",50600,475,570,658,733,570,684,789,880,"VIRGINIA Washington County"]
[null,"VIRGINIA","Westmoreland County","Westmoreland County",62700,588,706,815,910,705,847,978,1092,"VIRGINIA Westmoreland County"]
[null,"VIRGINIA","Wise County","Wise County",45700,491,588,680,758,589,706,816,910,"VIRGINIA Wise County"]
[null,"VIRGINIA","Wythe County","Wythe County",51200,491,588,680,758,589,706,816,910,"VIRGINIA Wythe County"]
[null,"VIRGINIA","York County","York County",70600,662,795,918,1023,795,954,1101,1228,"VIRGINIA York County"]
[null,"VIRGINIA","Alexandria city","Alexandria city",107000,1003,1203,1391,1552,1203,1444,1669,1863,"VIRGINIA Alexandria city"]
[null,"VIRGINIA","Bedford city","Bedford city",60500,567,681,786,877,681,817,944,1053,"VIRGINIA Bedford city"]
[null,"VIRGINIA","Bristol city","Bristol city",50600,475,570,658,733,570,684,789,880,"VIRGINIA Bristol city"]
[null,"VIRGINIA","Buena Vista city","Buena Vista city",54100,507,608,703,785,609,730,844,942,"VIRGINIA Buena Vista city"]
[null,"VIRGINIA","Charlottesville city","Charlottesville city",82600,763,915,1057,1180,915,1098,1269,1416,"VIRGINIA Charlottesville city"]
[null,"VIRGINIA","Chesapeake city","Chesapeake city",70600,662,795,918,1023,795,954,1101,1228,"VIRGINIA Chesapeake city"]
[null,"VIRGINIA","Clifton Forge city","Clifton Forge city",54300,510,611,706,787,612,733,847,945,"VIRGINIA Clifton Forge city"]
[null,"VIRGINIA","Colonial Heights city","Colonial Heights city",72900,684,821,948,1057,821,985,1137,1269,"VIRGINIA Colonial Heights city"]
[null,"VIRGINIA","Covington city","Covington city",54300,510,611,706,787,612,733,847,945,"VIRGINIA Covington city"]
[null,"VIRGINIA","Danville city","Danville city",45800,491,588,680,758,589,706,816,910,"VIRGINIA Danville city"]
[null,"VIRGINIA","Emporia city","Emporia city",46100,491,588,680,758,589,706,816,910,"VIRGINIA Emporia city"]
[null,"VIRGINIA","Fairfax city","Fairfax city",107000,1003,1203,1391,1552,1203,1444,1669,1863,"VIRGINIA Fairfax city"]
[null,"VIRGINIA","Falls Church city","Falls Church city",107000,1003,1203,1391,1552,1203,1444,1669,1863,"VIRGINIA Falls Church city"]
[null,"VIRGINIA","Franklin city","Franklin city",55700,522,627,724,808,627,753,869,970,"VIRGINIA Franklin city"]
[null,"VIRGINIA","Fredericksburg city","Fredericksburg city",107000,1003,1203,1391,1552,1203,1444,1669,1863,"VIRGINIA Fredericksburg city"]
[null,"VIRGINIA","Galax city","Galax city",47100,491,588,680,758,589,706,816,910,"VIRGINIA Galax city"]
[null,"VIRGINIA","Hampton city","Hampton city",70600,662,795,918,1023,795,954,1101,1228,"VIRGINIA Hampton city"]
[null,"VIRGINIA","Harrisonburg city","Harrisonburg city",59300,556,667,771,860,668,801,925,1032,"VIRGINIA Harrisonburg city"]
[null,"VIRGINIA","Hopewell city","Hopewell city",72900,684,821,948,1057,821,985,1137,1269,"VIRGINIA Hopewell city"]
[null,"VIRGINIA","Lexington city","Lexington city",54100,507,608,703,785,609,730,844,942,"VIRGINIA Lexington city"]
[null,"VIRGINIA","Lynchburg city","Lynchburg city",60500,567,681,786,877,681,817,944,1053,"VIRGINIA Lynchburg city"]
[null,"VIRGINIA","Manassas city","Manassas city",107000,1003,1203,1391,1552,1203,1444,1669,1863,"VIRGINIA Manassas city"]
[null,"VIRGINIA","Manassas Park city","Manassas Park city",107000,1003,1203,1391,1552,1203,1444,1669,1863,"VIRGINIA Manassas Park city"]
[null,"VIRGINIA","Martinsville city","Martinsville city",41100,491,588,680,758,589,706,816,910,"VIRGINIA Martinsville city"]
[null,"VIRGINIA","Newport News city","Newport News city",70600,662,795,918,1023,795,954,1101,1228,"VIRGINIA Newport News city"]
[null,"VIRGINIA","Norfolk city","Norfolk city",70600,662,795,918,1023,795,954,1101,1228,"VIRGINIA Norfolk city"]
[null,"VIRGINIA","Norton city","Norton city",45700,491,588,680,758,589,706,816,910,"VIRGINIA Norton city"]
[null,"VIRGINIA","Petersburg city","Petersburg city",72900,684,821,948,1057,821,985,1137,1269,{"$f":"B4485&\" \"&D4485","v":"VIRGINIA Petersburg city"}]
[null,"VIRGINIA","Poquoson city","Poquoson city",70600,662,795,918,1023,795,954,1101,1228,"VIRGINIA Poquoson city"]
[null,"VIRGINIA","Portsmouth city","Portsmouth city",70600,662,795,918,1023,795,954,1101,1228,"VIRGINIA Portsmouth city"]
[null,"VIRGINIA","Radford city","Radford city",70900,665,798,921,1028,798,958,1106,1234,"VIRGINIA Radford city"]
[null,"VIRGINIA","Richmond city","Richmond city",72900,684,821,948,1057,821,985,1137,1269,"VIRGINIA Richmond city"]
[null,"VIRGINIA","Roanoke city","Roanoke city",62900,590,708,818,912,708,850,981,1095,"VIRGINIA Roanoke city"]
[null,"VIRGINIA","Salem city","Salem city",62900,590,708,818,912,708,850,981,1095,"VIRGINIA Salem city"]
[null,"VIRGINIA","Staunton city","Staunton city",58900,559,671,775,865,671,805,930,1038,"VIRGINIA Staunton city"]
[null,"VIRGINIA","Suffolk city","Suffolk city",70600,662,795,918,1023,795,954,1101,1228,"VIRGINIA Suffolk city"]
[null,"VIRGINIA","Virginia Beach city","Virginia Beach city",70600,662,795,918,1023,795,954,1101,1228,"VIRGINIA Virginia Beach city"]
[null,"VIRGINIA","Waynesboro city","Waynesboro city",58900,559,671,775,865,671,805,930,1038,"VIRGINIA Waynesboro city"]
[null,"VIRGINIA","Williamsburg city","Williamsburg city",70600,662,795,918,1023,795,954,1101,1228,"VIRGINIA Williamsburg city"]
[null,"VIRGINIA","Winchester city","Winchester city",67600,634,761,879,981,761,913,1055,1177,"VIRGINIA Winchester city"]
[null,"WASHINGTON","Adams County","Adams County",45600,527,632,730,815,633,759,876,978,"WASHINGTON Adams County"]
[null,"WASHINGTON","Asotin County","Asotin County",56800,533,640,738,823,639,768,886,988,"WASHINGTON Asotin County"]
[null,"WASHINGTON","Benton County","Benton County",66900,628,753,870,971,753,904,1044,1165,"WASHINGTON Benton County"]
[null,"WASHINGTON","Chelan County","Chelan County",57800,542,651,751,838,651,781,902,1006,"WASHINGTON Chelan County"]
[null,"WASHINGTON","Clallam County","Clallam County",64800,558,670,773,863,669,804,928,1036,"WASHINGTON Clallam County"]
[null,"WASHINGTON","Clark County","Clark County",69400,651,781,902,1007,781,937,1083,1209,"WASHINGTON Clark County"]
[null,"WASHINGTON","Columbia County","Columbia County",55600,527,632,730,815,633,759,876,978,"WASHINGTON Columbia County"]
[null,"WASHINGTON","Cowlitz County","Cowlitz County",54600,527,632,730,815,633,759,876,978,"WASHINGTON Cowlitz County"]
[null,"WASHINGTON","Douglas County","Douglas County",57800,542,651,751,838,651,781,902,1006,"WASHINGTON Douglas County"]
[null,"WASHINGTON","Ferry County","Ferry County",43000,527,632,730,815,633,759,876,978,"WASHINGTON Ferry County"]
[null,"WASHINGTON","Franklin County","Franklin County",66900,628,753,870,971,753,904,1044,1165,"WASHINGTON Franklin County"]
[null,"WASHINGTON","Garfield County","Garfield County",62300,583,700,808,902,700,840,970,1083,"WASHINGTON Garfield County"]
[null,"WASHINGTON","Grant County","Grant County",52700,527,632,730,815,633,759,876,978,"WASHINGTON Grant County"]
[null,"WASHINGTON","Grays Harbor County","Grays Harbor County",52000,527,632,730,815,633,759,876,978,"WASHINGTON Grays Harbor County"]
[null,"WASHINGTON","Island County","Island County",73000,678,813,940,1048,814,976,1128,1258,"WASHINGTON Island County"]
[null,"WASHINGTON","Jefferson County","Jefferson County",63200,593,711,821,917,711,853,986,1101,"WASHINGTON Jefferson County"]
[null,"WASHINGTON","King County","King County",88200,827,992,1146,1280,993,1191,1376,1536,"WASHINGTON King County"]
[null,"WASHINGTON","Kitsap County","Kitsap County",74000,693,832,962,1073,832,999,1155,1288,"WASHINGTON Kitsap County"]
[null,"WASHINGTON","Kittitas County","Kittitas County",65600,615,738,853,951,738,886,1023,1141,"WASHINGTON Kittitas County"]
[null,"WASHINGTON","Klickitat County","Klickitat County",48800,527,632,730,815,633,759,876,978,"WASHINGTON Klickitat County"]
[null,"WASHINGTON","Lewis County","Lewis County",51800,527,632,730,815,633,759,876,978,"WASHINGTON Lewis County"]
[null,"WASHINGTON","Lincoln County","Lincoln County",58700,545,653,755,842,654,784,906,1011,"WASHINGTON Lincoln County"]
[null,"WASHINGTON","Mason County","Mason County",59300,556,667,771,860,668,801,925,1032,"WASHINGTON Mason County"]
[null,"WASHINGTON","Okanogan County","Okanogan County",51300,527,632,730,815,633,759,876,978,"WASHINGTON Okanogan County"]
[null,"WASHINGTON","Pacific County","Pacific County",53900,527,632,730,815,633,759,876,978,"WASHINGTON Pacific County"]
[null,"WASHINGTON","Pend Oreille County","Pend Oreille County",50600,527,632,730,815,633,759,876,978,"WASHINGTON Pend Oreille County"]
[null,"WASHINGTON","Pierce County","Pierce County",67000,628,753,871,972,753,904,1045,1167,"WASHINGTON Pierce County"]
[null,"WASHINGTON","San Juan County","San Juan County",62500,586,703,812,906,703,844,975,1087,"WASHINGTON San Juan County"]
[null,"WASHINGTON","Skagit County","Skagit County",67200,630,756,873,975,756,907,1048,1170,"WASHINGTON Skagit County"]
[null,"WASHINGTON","Skamania County","Skamania County",69400,651,781,902,1007,781,937,1083,1209,"WASHINGTON Skamania County"]
[null,"WASHINGTON","Snohomish County","Snohomish County",88200,827,992,1146,1280,993,1191,1376,1536,"WASHINGTON Snohomish County"]
[null,"WASHINGTON","Spokane County","Spokane County",63400,595,713,824,920,714,856,989,1104,"WASHINGTON Spokane County"]
[null,"WASHINGTON","Stevens County","Stevens County",54400,527,632,730,815,633,759,876,978,"WASHINGTON Stevens County"]
[null,"WASHINGTON","Thurston County","Thurston County",74200,696,835,965,1076,835,1002,1158,1291,"WASHINGTON Thurston County"]
[null,"WASHINGTON","Wahkiakum County","Wahkiakum County",50700,527,632,730,815,633,759,876,978,"WASHINGTON Wahkiakum County"]
[null,"WASHINGTON","Walla Walla County","Walla Walla County",60200,565,677,783,873,678,813,939,1048,"WASHINGTON Walla Walla County"]
[null,"WASHINGTON","Whatcom County","Whatcom County",66700,625,751,867,967,750,901,1041,1161,"WASHINGTON Whatcom County"]
[null,"WASHINGTON","Whitman County","Whitman County",64700,606,728,841,938,728,874,1009,1126,"WASHINGTON Whitman County"]
[null,"WASHINGTON","Yakima County","Yakima County",48900,527,632,730,815,633,759,876,978,"WASHINGTON Yakima County"]
[null,"WEST VIRGINIA","Barbour County","Barbour County",42000,445,533,616,687,534,640,739,825,"WEST VIRGINIA Barbour County"]
[null,"WEST VIRGINIA","Berkeley County","Berkeley County",55900,698,837,967,1080,837,1005,1161,1296,"WEST VIRGINIA Berkeley County"]
[null,"WEST VIRGINIA","Boone County","Boone County",52300,491,588,680,758,589,706,816,910,"WEST VIRGINIA Boone County"]
[null,"WEST VIRGINIA","Braxton County","Braxton County",43200,445,533,616,687,534,640,739,825,"WEST VIRGINIA Braxton County"]
[null,"WEST VIRGINIA","Brooke County","Brooke County",52500,510,611,706,787,612,733,847,945,"WEST VIRGINIA Brooke County"]
[null,"WEST VIRGINIA","Cabell County","Cabell County",51000,478,573,663,740,573,688,795,888,"WEST VIRGINIA Cabell County"]
[null,"WEST VIRGINIA","Calhoun County","Calhoun County",36600,445,533,616,687,534,640,739,825,"WEST VIRGINIA Calhoun County"]
[null,"WEST VIRGINIA","Clay County","Clay County",55800,523,628,725,810,628,754,870,972,"WEST VIRGINIA Clay County"]
[null,"WEST VIRGINIA","Doddridge County","Doddridge County",38800,445,533,616,687,534,640,739,825,"WEST VIRGINIA Doddridge County"]
[null,"WEST VIRGINIA","Fayette County","Fayette County",44900,445,533,616,687,534,640,739,825,"WEST VIRGINIA Fayette County"]
[null,"WEST VIRGINIA","Gilmer County","Gilmer County",48200,452,542,626,700,543,651,752,840,"WEST VIRGINIA Gilmer County"]
[null,"WEST VIRGINIA","Grant County","Grant County",52100,483,580,670,747,579,696,804,897,"WEST VIRGINIA Grant County"]
[null,"WEST VIRGINIA","Greenbrier County","Greenbrier County",46500,445,533,616,687,534,640,739,825,{"$f":"B4549&\" \"&D4549","v":"WEST VIRGINIA Greenbrier County"}]
[null,"WEST VIRGINIA","Hampshire County","Hampshire County",67600,634,761,879,981,761,913,1055,1177,"WEST VIRGINIA Hampshire County"]
[null,"WEST VIRGINIA","Hancock County","Hancock County",52500,510,611,706,787,612,733,847,945,"WEST VIRGINIA Hancock County"]
[null,"WEST VIRGINIA","Hardy County","Hardy County",42700,445,533,616,687,534,640,739,825,"WEST VIRGINIA Hardy County"]
[null,"WEST VIRGINIA","Harrison County","Harrison County",55500,520,623,720,803,624,748,864,964,"WEST VIRGINIA Harrison County"]
[null,"WEST VIRGINIA","Jackson County","Jackson County",54700,513,616,711,793,615,739,853,952,"WEST VIRGINIA Jackson County"]
[null,"WEST VIRGINIA","Jefferson County","Jefferson County",79300,744,892,1031,1150,893,1071,1237,1380,"WEST VIRGINIA Jefferson County"]
[null,"WEST VIRGINIA","Kanawha County","Kanawha County",55800,523,628,725,810,628,754,870,972,"WEST VIRGINIA Kanawha County"]
[null,"WEST VIRGINIA","Lewis County","Lewis County",45200,445,533,616,687,534,640,739,825,"WEST VIRGINIA Lewis County"]
[null,"WEST VIRGINIA","Lincoln County","Lincoln County",55800,523,628,725,810,628,754,870,972,"WEST VIRGINIA Lincoln County"]
[null,"WEST VIRGINIA","Logan County","Logan County",45700,445,533,616,687,534,640,739,825,"WEST VIRGINIA Logan County"]
[null,"WEST VIRGINIA","McDowell County","McDowell County",29900,445,533,616,687,534,640,739,825,"WEST VIRGINIA McDowell County"]
[null,"WEST VIRGINIA","Marion County","Marion County",53600,503,603,696,777,603,724,836,933,"WEST VIRGINIA Marion County"]
[null,"WEST VIRGINIA","Marshall County","Marshall County",56200,508,610,705,786,610,732,846,943,"WEST VIRGINIA Marshall County"]
[null,"WEST VIRGINIA","Mason County","Mason County",43700,445,533,616,687,534,640,739,825,"WEST VIRGINIA Mason County"]
[null,"WEST VIRGINIA","Mercer County","Mercer County",46200,445,533,616,687,534,640,739,825,"WEST VIRGINIA Mercer County"]
[null,"WEST VIRGINIA","Mineral County","Mineral County",54100,698,837,967,1080,837,1005,1161,1296,"WEST VIRGINIA Mineral County"]
[null,"WEST VIRGINIA","Mingo County","Mingo County",43400,445,533,616,687,534,640,739,825,"WEST VIRGINIA Mingo County"]
[null,"WEST VIRGINIA","Monongalia County","Monongalia County",61000,571,686,793,885,686,823,951,1062,"WEST VIRGINIA Monongalia County"]
[null,"WEST VIRGINIA","Monroe County","Monroe County",46700,445,533,616,687,534,640,739,825,"WEST VIRGINIA Monroe County"]
[null,"WEST VIRGINIA","Morgan County","Morgan County",55900,698,837,967,1080,837,1005,1161,1296,"WEST VIRGINIA Morgan County"]
[null,"WEST VIRGINIA","Nicholas County","Nicholas County",48700,456,548,633,706,548,658,759,847,"WEST VIRGINIA Nicholas County"]
[null,"WEST VIRGINIA","Ohio County","Ohio County",56200,508,610,705,786,610,732,846,943,"WEST VIRGINIA Ohio County"]
[null,"WEST VIRGINIA","Pendleton County","Pendleton County",49700,470,563,651,727,564,676,782,873,"WEST VIRGINIA Pendleton County"]
[null,"WEST VIRGINIA","Pleasants County","Pleasants County",53700,503,605,698,778,604,726,837,934,"WEST VIRGINIA Pleasants County"]
[null,"WEST VIRGINIA","Pocahontas County","Pocahontas County",44400,445,533,616,687,534,640,739,825,"WEST VIRGINIA Pocahontas County"]
[null,"WEST VIRGINIA","Preston County","Preston County",61000,571,686,793,885,686,823,951,1062,"WEST VIRGINIA Preston County"]
[null,"WEST VIRGINIA","Putnam County","Putnam County",55800,523,628,725,810,628,754,870,972,"WEST VIRGINIA Putnam County"]
[null,"WEST VIRGINIA","Raleigh County","Raleigh County",49800,482,578,668,746,579,694,802,895,"WEST VIRGINIA Raleigh County"]
[null,"WEST VIRGINIA","Randolph County","Randolph County",49600,465,558,645,720,558,670,774,864,"WEST VIRGINIA Randolph County"]
[null,"WEST VIRGINIA","Ritchie County","Ritchie County",43000,445,533,616,687,534,640,739,825,"WEST VIRGINIA Ritchie County"]
[null,"WEST VIRGINIA","Roane County","Roane County",40000,445,533,616,687,534,640,739,825,"WEST VIRGINIA Roane County"]
[null,"WEST VIRGINIA","Summers County","Summers County",42900,445,533,616,687,534,640,739,825,"WEST VIRGINIA Summers County"]
[null,"WEST VIRGINIA","Taylor County","Taylor County",50000,468,562,650,725,562,675,780,870,"WEST VIRGINIA Taylor County"]
[null,"WEST VIRGINIA","Tucker County","Tucker County",46800,445,533,616,687,534,640,739,825,"WEST VIRGINIA Tucker County"]
[null,"WEST VIRGINIA","Tyler County","Tyler County",49600,454,545,629,702,545,654,755,843,"WEST VIRGINIA Tyler County"]
[null,"WEST VIRGINIA","Upshur County","Upshur County",48100,451,541,625,697,541,649,750,837,"WEST VIRGINIA Upshur County"]
[null,"WEST VIRGINIA","Wayne County","Wayne County",51000,478,573,663,740,573,688,795,888,"WEST VIRGINIA Wayne County"]
[null,"WEST VIRGINIA","Webster County","Webster County",33100,445,533,616,687,534,640,739,825,"WEST VIRGINIA Webster County"]
[null,"WEST VIRGINIA","Wetzel County","Wetzel County",55100,507,608,703,785,609,730,844,942,"WEST VIRGINIA Wetzel County"]
[null,"WEST VIRGINIA","Wirt County","Wirt County",53700,503,605,698,778,604,726,837,934,"WEST VIRGINIA Wirt County"]
[null,"WEST VIRGINIA","Wood County","Wood County",53700,503,605,698,778,604,726,837,934,"WEST VIRGINIA Wood County"]
[null,"WEST VIRGINIA","Wyoming County","Wyoming County",49400,463,556,642,717,556,667,771,861,"WEST VIRGINIA Wyoming County"]
[null,"WISCONSIN","Adams County","Adams County",49500,553,663,766,855,663,796,919,1026,"WISCONSIN Adams County"]
[null,"WISCONSIN","Ashland County","Ashland County",47300,553,663,766,855,663,796,919,1026,"WISCONSIN Ashland County"]
[null,"WISCONSIN","Barron County","Barron County",56000,553,663,766,855,663,796,919,1026,"WISCONSIN Barron County"]
[null,"WISCONSIN","Bayfield County","Bayfield County",57800,553,663,766,855,663,796,919,1026,"WISCONSIN Bayfield County"]
[null,"WISCONSIN","Brown County","Brown County",68200,640,767,886,990,768,921,1064,1188,"WISCONSIN Brown County"]
[null,"WISCONSIN","Buffalo County","Buffalo County",57200,553,663,766,855,663,796,919,1026,"WISCONSIN Buffalo County"]
[null,"WISCONSIN","Burnett County","Burnett County",49400,553,663,766,855,663,796,919,1026,"WISCONSIN Burnett County"]
[null,"WISCONSIN","Calumet County","Calumet County",71200,668,801,925,1032,801,961,1110,1239,"WISCONSIN Calumet County"]
[null,"WISCONSIN","Chippewa County","Chippewa County",64800,608,730,842,940,729,876,1011,1128,"WISCONSIN Chippewa County"]
[null,"WISCONSIN","Clark County","Clark County",54100,553,663,766,855,663,796,919,1026,"WISCONSIN Clark County"]
[null,"WISCONSIN","Columbia County","Columbia County",70800,664,797,920,1027,797,957,1104,1233,"WISCONSIN Columbia County"]
[null,"WISCONSIN","Crawford County","Crawford County",54900,553,663,766,855,663,796,919,1026,"WISCONSIN Crawford County"]
[null,"WISCONSIN","Dane County","Dane County",80800,758,910,1050,1172,909,1092,1260,1407,"WISCONSIN Dane County"]
[null,"WISCONSIN","Dodge County","Dodge County",66300,622,746,862,962,747,895,1035,1155,"WISCONSIN Dodge County"]
[null,"WISCONSIN","Door County","Door County",63500,595,715,825,921,714,858,990,1105,"WISCONSIN Door County"]
[null,"WISCONSIN","Douglas County","Douglas County",64300,603,723,836,932,724,868,1003,1119,"WISCONSIN Douglas County"]
[null,"WISCONSIN","Dunn County","Dunn County",63900,600,720,831,927,720,864,997,1113,"WISCONSIN Dunn County"]
[null,"WISCONSIN","Eau Claire County","Eau Claire County",64800,608,730,842,940,729,876,1011,1128,"WISCONSIN Eau Claire County"]
[null,"WISCONSIN","Florence County","Florence County",50800,553,663,766,855,663,796,919,1026,"WISCONSIN Florence County"]
[null,"WISCONSIN","Fond du Lac County","Fond du Lac County",66800,626,752,868,968,752,903,1042,1162,"WISCONSIN Fond du Lac County"]
[null,"WISCONSIN","Forest County","Forest County",48200,553,663,766,855,663,796,919,1026,"WISCONSIN Forest County"]
[null,"WISCONSIN","Grant County","Grant County",58300,553,663,766,855,663,796,919,1026,{"$f":"B4613&\" \"&D4613","v":"WISCONSIN Grant County"}]
[null,"WISCONSIN","Green County","Green County",67200,630,756,873,975,756,907,1048,1170,"WISCONSIN Green County"]
[null,"WISCONSIN","Green Lake County","Green Lake County",65800,617,741,855,955,741,889,1026,1146,"WISCONSIN Green Lake County"]
[null,"WISCONSIN","Iowa County","Iowa County",71900,675,810,935,1043,810,972,1122,1252,"WISCONSIN Iowa County"]
[null,"WISCONSIN","Iron County","Iron County",49100,553,663,766,855,663,796,919,1026,"WISCONSIN Iron County"]
[null,"WISCONSIN","Jackson County","Jackson County",54300,553,663,766,855,663,796,919,1026,"WISCONSIN Jackson County"]
[null,"WISCONSIN","Jefferson County","Jefferson County",68700,644,773,893,996,773,928,1071,1195,"WISCONSIN Jefferson County"]
[null,"WISCONSIN","Juneau County","Juneau County",56600,553,663,766,855,663,796,919,1026,"WISCONSIN Juneau County"]
[null,"WISCONSIN","Kenosha County","Kenosha County",63500,621,745,860,960,745,894,1032,1152,"WISCONSIN Kenosha County"]
[null,"WISCONSIN","Kewaunee County","Kewaunee County",68200,640,767,886,990,768,921,1064,1188,"WISCONSIN Kewaunee County"]
[null,"WISCONSIN","La Crosse County","La Crosse County",66300,622,746,862,962,747,895,1035,1155,"WISCONSIN La Crosse County"]
[null,"WISCONSIN","Lafayette County","Lafayette County",62000,581,697,806,900,697,837,967,1080,"WISCONSIN Lafayette County"]
[null,"WISCONSIN","Langlade County","Langlade County",52600,553,663,766,855,663,796,919,1026,"WISCONSIN Langlade County"]
[null,"WISCONSIN","Lincoln County","Lincoln County",62400,585,702,811,905,702,843,973,1086,"WISCONSIN Lincoln County"]
[null,"WISCONSIN","Manitowoc County","Manitowoc County",61400,578,695,802,895,694,834,963,1074,"WISCONSIN Manitowoc County"]
[null,"WISCONSIN","Marathon County","Marathon County",65400,613,736,850,948,736,883,1020,1138,"WISCONSIN Marathon County"]
[null,"WISCONSIN","Marinette County","Marinette County",55900,553,663,766,855,663,796,919,1026,"WISCONSIN Marinette County"]
[null,"WISCONSIN","Marquette County","Marquette County",56600,553,663,766,855,663,796,919,1026,"WISCONSIN Marquette County"]
[null,"WISCONSIN","Menominee County","Menominee County",37500,553,663,766,855,663,796,919,1026,"WISCONSIN Menominee County"]
[null,"WISCONSIN","Milwaukee County","Milwaukee County",70300,660,791,914,1020,792,949,1097,1224,"WISCONSIN Milwaukee County"]
[null,"WISCONSIN","Monroe County","Monroe County",62800,589,707,816,911,707,849,980,1093,"WISCONSIN Monroe County"]
[null,"WISCONSIN","Oconto County","Oconto County",60400,566,680,785,876,680,816,942,1051,"WISCONSIN Oconto County"]
[null,"WISCONSIN","Oneida County","Oneida County",58100,553,663,766,855,663,796,919,1026,"WISCONSIN Oneida County"]
[null,"WISCONSIN","Outagamie County","Outagamie County",71200,668,801,925,1032,801,961,1110,1239,"WISCONSIN Outagamie County"]
[null,"WISCONSIN","Ozaukee County","Ozaukee County",70300,660,791,914,1020,792,949,1097,1224,"WISCONSIN Ozaukee County"]
[null,"WISCONSIN","Pepin County","Pepin County",61500,576,692,800,892,692,831,960,1071,"WISCONSIN Pepin County"]
[null,"WISCONSIN","Pierce County","Pierce County",82900,778,933,1078,1202,933,1120,1293,1443,"WISCONSIN Pierce County"]
[null,"WISCONSIN","Polk County","Polk County",61900,581,697,805,898,697,837,966,1078,"WISCONSIN Polk County"]
[null,"WISCONSIN","Portage County","Portage County",63700,603,723,836,932,724,868,1003,1119,"WISCONSIN Portage County"]
[null,"WISCONSIN","Price County","Price County",57500,553,663,766,855,663,796,919,1026,"WISCONSIN Price County"]
[null,"WISCONSIN","Racine County","Racine County",68600,643,772,891,995,772,927,1070,1194,"WISCONSIN Racine County"]
[null,"WISCONSIN","Richland County","Richland County",57400,553,663,766,855,663,796,919,1026,"WISCONSIN Richland County"]
[null,"WISCONSIN","Rock County","Rock County",61000,571,686,793,885,686,823,951,1062,"WISCONSIN Rock County"]
[null,"WISCONSIN","Rusk County","Rusk County",50200,553,663,766,855,663,796,919,1026,"WISCONSIN Rusk County"]
[null,"WISCONSIN","St. Croix County","St. Croix County",82900,778,933,1078,1202,933,1120,1293,1443,"WISCONSIN St. Croix County"]
[null,"WISCONSIN","Sauk County","Sauk County",67400,632,758,876,977,759,910,1051,1173,"WISCONSIN Sauk County"]
[null,"WISCONSIN","Sawyer County","Sawyer County",50100,553,663,766,855,663,796,919,1026,"WISCONSIN Sawyer County"]
[null,"WISCONSIN","Shawano County","Shawano County",56100,553,663,766,855,663,796,919,1026,"WISCONSIN Shawano County"]
[null,"WISCONSIN","Sheboygan County","Sheboygan County",65100,610,732,846,945,732,879,1016,1134,"WISCONSIN Sheboygan County"]
[null,"WISCONSIN","Taylor County","Taylor County",58000,553,663,766,855,663,796,919,1026,"WISCONSIN Taylor County"]
[null,"WISCONSIN","Trempealeau County","Trempealeau County",61600,578,693,801,893,693,832,961,1072,"WISCONSIN Trempealeau County"]
[null,"WISCONSIN","Vernon County","Vernon County",58100,553,663,766,855,663,796,919,1026,"WISCONSIN Vernon County"]
[null,"WISCONSIN","Vilas County","Vilas County",53800,553,663,766,855,663,796,919,1026,"WISCONSIN Vilas County"]
[null,"WISCONSIN","Walworth County","Walworth County",70700,663,796,919,1026,795,955,1103,1231,"WISCONSIN Walworth County"]
[null,"WISCONSIN","Washburn County","Washburn County",52200,553,663,766,855,663,796,919,1026,"WISCONSIN Washburn County"]
[null,"WISCONSIN","Washington County","Washington County",70300,660,791,914,1020,792,949,1097,1224,"WISCONSIN Washington County"]
[null,"WISCONSIN","Waukesha County","Waukesha County",70300,660,791,914,1020,792,949,1097,1224,"WISCONSIN Waukesha County"]
[null,"WISCONSIN","Waupaca County","Waupaca County",62700,588,706,815,910,705,847,978,1092,"WISCONSIN Waupaca County"]
[null,"WISCONSIN","Waushara County","Waushara County",53700,553,663,766,855,663,796,919,1026,"WISCONSIN Waushara County"]
[null,"WISCONSIN","Winnebago County","Winnebago County",68800,641,768,888,991,769,922,1065,1189,"WISCONSIN Winnebago County"]
[null,"WISCONSIN","Wood County","Wood County",60300,566,678,784,875,679,814,941,1050,"WISCONSIN Wood County"]
[null,"WYOMING","Albany County","Albany County",73700,691,830,958,1068,829,996,1149,1282,"WYOMING Albany County"]
[null,"WYOMING","Big Horn County","Big Horn County",63900,663,796,919,1026,795,955,1103,1231,"WYOMING Big Horn County"]
[null,"WYOMING","Campbell County","Campbell County",87900,825,990,1143,1275,990,1188,1371,1530,"WYOMING Campbell County"]
[null,"WYOMING","Carbon County","Carbon County",72500,680,816,942,1051,816,979,1131,1261,"WYOMING Carbon County"]
[null,"WYOMING","Converse County","Converse County",74100,695,833,963,1075,834,1000,1156,1290,"WYOMING Converse County"]
[null,"WYOMING","Crook County","Crook County",57000,663,796,919,1026,795,955,1103,1231,"WYOMING Crook County"]
[null,"WYOMING","Fremont County","Fremont County",60600,663,796,919,1026,795,955,1103,1231,"WYOMING Fremont County"]
[null,"WYOMING","Goshen County","Goshen County",54400,663,796,919,1026,795,955,1103,1231,"WYOMING Goshen County"]
[null,"WYOMING","Hot Springs County","Hot Springs County",60900,663,796,919,1026,795,955,1103,1231,"WYOMING Hot Springs County"]
[null,"WYOMING","Johnson County","Johnson County",64200,663,796,919,1026,795,955,1103,1231,"WYOMING Johnson County"]
[null,"WYOMING","Laramie County","Laramie County",74500,698,838,968,1081,838,1006,1162,1297,"WYOMING Laramie County"]
[null,"WYOMING","Lincoln County","Lincoln County",71500,670,805,930,1037,804,966,1116,1245,"WYOMING Lincoln County"]
[null,"WYOMING","Natrona County","Natrona County",67500,663,796,919,1026,795,955,1103,1231,"WYOMING Natrona County"]
[null,"WYOMING","Niobrara County","Niobrara County",60500,663,796,919,1026,795,955,1103,1231,{"$f":"B4677&\" \"&D4677","v":"WYOMING Niobrara County"}]
[null,"WYOMING","Park County","Park County",63500,663,796,919,1026,795,955,1103,1231,"WYOMING Park County"]
[null,"WYOMING","Platte County","Platte County",59200,663,796,919,1026,795,955,1103,1231,"WYOMING Platte County"]
[null,"WYOMING","Sheridan County","Sheridan County",68700,663,796,919,1026,795,955,1103,1231,"WYOMING Sheridan County"]
[null,"WYOMING","Sublette County","Sublette County",87200,748,898,1037,1157,898,1078,1245,1389,"WYOMING Sublette County"]
[null,"WYOMING","Sweetwater County","Sweetwater County",84900,796,956,1103,1231,956,1147,1324,1477,"WYOMING Sweetwater County"]
[null,"WYOMING","Teton County","Teton County",96800,908,1090,1258,1403,1089,1308,1510,1684,"WYOMING Teton County"]
[null,"WYOMING","Uinta County","Uinta County",75800,711,853,985,1100,853,1024,1182,1320,"WYOMING Uinta County"]
[null,"WYOMING","Washakie County","Washakie County",67700,663,796,919,1026,795,955,1103,1231,"WYOMING Washakie County"]
[null,"WYOMING","Weston County","Weston County",75700,705,846,978,1091,846,1015,1173,1309,"WYOMING Weston County"]
[null,"GUAM","Guam","Pacific Islands",51900,573,687,794,886,687,825,953,1063,"GUAM Pacific Islands"]
[null,"PUERTO RICO","Adjuntas Municipio","Adjuntas Municipio",18100,231,278,321,358,278,334,385,430,"PUERTO RICO Adjuntas Municipio"]
[null,"PUERTO RICO","Aguada Municipio","Aguada Municipio",17700,238,285,329,367,285,342,395,441,"PUERTO RICO Aguada Municipio"]
[null,"PUERTO RICO","Aguadilla Municipio","Aguadilla Municipio",17700,238,285,329,367,285,342,395,441,"PUERTO RICO Aguadilla Municipio"]
[null,"PUERTO RICO","Aguas Buenas Municipio","Aguas Buenas Municipio",25900,323,387,447,500,387,465,537,600,"PUERTO RICO Aguas Buenas Municipio"]
[null,"PUERTO RICO","Aibonito Municipio","Aibonito Municipio",19300,247,296,342,382,297,355,411,459,"PUERTO RICO Aibonito Municipio"]
[null,"PUERTO RICO","Añasco Municipio","Añasco Municipio",17700,238,285,329,367,285,342,395,441,"PUERTO RICO Añasco Municipio"]
[null,"PUERTO RICO","Arecibo Municipio","Arecibo Municipio",21700,276,332,383,428,332,399,460,514,"PUERTO RICO Arecibo Municipio"]
[null,"PUERTO RICO","Arroyo Municipio","Arroyo Municipio",18500,276,332,383,428,332,399,460,514,"PUERTO RICO Arroyo Municipio"]
[null,"PUERTO RICO","Barceloneta Municipio","Barceloneta Municipio",25900,323,387,447,500,387,465,537,600,"PUERTO RICO Barceloneta Municipio"]
[null,"PUERTO RICO","Barranquitas Municipio","Barranquitas Municipio",19300,247,296,342,382,297,355,411,459,"PUERTO RICO Barranquitas Municipio"]
[null,"PUERTO RICO","Bayamón Municipio","Bayamón Municipio",25900,323,387,447,500,387,465,537,600,"PUERTO RICO Bayamón Municipio"]
[null,"PUERTO RICO","Cabo Rojo Municipio","Cabo Rojo Municipio",20200,234,281,325,362,281,337,390,435,"PUERTO RICO Cabo Rojo Municipio"]
[null,"PUERTO RICO","Caguas Municipio","Caguas Municipio",26500,293,351,405,452,351,421,486,543,"PUERTO RICO Caguas Municipio"]
[null,"PUERTO RICO","Camuy Municipio","Camuy Municipio",21700,276,332,383,428,332,399,460,514,"PUERTO RICO Camuy Municipio"]
[null,"PUERTO RICO","Canóvanas Municipio","Canóvanas Municipio",25900,323,387,447,500,387,465,537,600,"PUERTO RICO Canóvanas Municipio"]
[null,"PUERTO RICO","Carolina Municipio","Carolina Municipio",25900,323,387,447,500,387,465,537,600,"PUERTO RICO Carolina Municipio"]
[null,"PUERTO RICO","Cataño Municipio","Cataño Municipio",25900,323,387,447,500,387,465,537,600,"PUERTO RICO Cataño Municipio"]
[null,"PUERTO RICO","Cayey Municipio","Cayey Municipio",26500,293,351,405,452,351,421,486,543,"PUERTO RICO Cayey Municipio"]
[null,"PUERTO RICO","Ceiba Municipio","Ceiba Municipio",22700,285,342,395,441,342,411,474,529,"PUERTO RICO Ceiba Municipio"]
[null,"PUERTO RICO","Ciales Municipio","Ciales Municipio",19300,247,296,342,382,297,355,411,459,"PUERTO RICO Ciales Municipio"]
[null,"PUERTO RICO","Cidra Municipio","Cidra Municipio",26500,293,351,405,452,351,421,486,543,"PUERTO RICO Cidra Municipio"]
[null,"PUERTO RICO","Coamo Municipio","Coamo Municipio",18100,231,278,321,358,278,334,385,430,"PUERTO RICO Coamo Municipio"]
[null,"PUERTO RICO","Comerío Municipio","Comerío Municipio",25900,323,387,447,500,387,465,537,600,"PUERTO RICO Comerío Municipio"]
[null,"PUERTO RICO","Corozal Municipio","Corozal Municipio",25900,323,387,447,500,387,465,537,600,"PUERTO RICO Corozal Municipio"]
[null,"PUERTO RICO","Culebra Municipio","Culebra Municipio",18100,231,278,321,358,278,334,385,430,"PUERTO RICO Culebra Municipio"]
[null,"PUERTO RICO","Dorado Municipio","Dorado Municipio",25900,323,387,447,500,387,465,537,600,"PUERTO RICO Dorado Municipio"]
[null,"PUERTO RICO","Fajardo Municipio","Fajardo Municipio",22700,285,342,395,441,342,411,474,529,"PUERTO RICO Fajardo Municipio"]
[null,"PUERTO RICO","Florida Municipio","Florida Municipio",25900,323,387,447,500,387,465,537,600,"PUERTO RICO Florida Municipio"]
[null,"PUERTO RICO","Guánica Municipio","Guánica Municipio",17200,231,278,321,358,278,334,385,430,"PUERTO RICO Guánica Municipio"]
[null,"PUERTO RICO","Guayama Municipio","Guayama Municipio",18500,276,332,383,428,332,399,460,514,"PUERTO RICO Guayama Municipio"]
[null,"PUERTO RICO","Guayanilla Municipio","Guayanilla Municipio",17200,231,278,321,358,278,334,385,430,"PUERTO RICO Guayanilla Municipio"]
[null,"PUERTO RICO","Guaynabo Municipio","Guaynabo Municipio",25900,323,387,447,500,387,465,537,600,"PUERTO RICO Guaynabo Municipio"]
[null,"PUERTO RICO","Gurabo Municipio","Gurabo Municipio",26500,293,351,405,452,351,421,486,543,"PUERTO RICO Gurabo Municipio"]
[null,"PUERTO RICO","Hatillo Municipio","Hatillo Municipio",21700,276,332,383,428,332,399,460,514,"PUERTO RICO Hatillo Municipio"]
[null,"PUERTO RICO","Hormigueros Municipio","Hormigueros Municipio",20500,271,326,377,421,326,391,453,505,"PUERTO RICO Hormigueros Municipio"]
[null,"PUERTO RICO","Humacao Municipio","Humacao Municipio",25900,323,387,447,500,387,465,537,600,"PUERTO RICO Humacao Municipio"]
[null,"PUERTO RICO","Isabela Municipio","Isabela Municipio",17700,238,285,329,367,285,342,395,441,"PUERTO RICO Isabela Municipio"]
[null,"PUERTO RICO","Jayuya Municipio","Jayuya Municipio",18100,231,278,321,358,278,334,385,430,"PUERTO RICO Jayuya Municipio"]
[null,"PUERTO RICO","Juana Díaz Municipio","Juana Díaz Municipio",19200,290,348,401,448,348,418,482,538,"PUERTO RICO Juana Díaz Municipio"]
[null,"PUERTO RICO","Juncos Municipio","Juncos Municipio",25900,323,387,447,500,387,465,537,600,"PUERTO RICO Juncos Municipio"]
[null,"PUERTO RICO","Lajas Municipio","Lajas Municipio",20200,234,281,325,362,281,337,390,435,"PUERTO RICO Lajas Municipio"]
[null,"PUERTO RICO","Lares Municipio","Lares Municipio",17700,238,285,329,367,285,342,395,441,"PUERTO RICO Lares Municipio"]
[null,"PUERTO RICO","Las Marías Municipio","Las Marías Municipio",18100,231,278,321,358,278,334,385,430,"PUERTO RICO Las Marías Municipio"]
[null,"PUERTO RICO","Las Piedras Municipio","Las Piedras Municipio",25900,323,387,447,500,387,465,537,600,"PUERTO RICO Las Piedras Municipio"]
[null,"PUERTO RICO","Loíza Municipio","Loíza Municipio",25900,323,387,447,500,387,465,537,600,"PUERTO RICO Loíza Municipio"]
[null,"PUERTO RICO","Luquillo Municipio","Luquillo Municipio",22700,285,342,395,441,342,411,474,529,"PUERTO RICO Luquillo Municipio"]
[null,"PUERTO RICO","Manatí Municipio","Manatí Municipio",25900,323,387,447,500,387,465,537,600,"PUERTO RICO Manatí Municipio"]
[null,"PUERTO RICO","Maricao Municipio","Maricao Municipio",18100,231,278,321,358,278,334,385,430,"PUERTO RICO Maricao Municipio"]
[null,"PUERTO RICO","Maunabo Municipio","Maunabo Municipio",19300,247,296,342,382,297,355,411,459,"PUERTO RICO Maunabo Municipio"]
[null,"PUERTO RICO","Mayagüez Municipio","Mayagüez Municipio",20500,271,326,377,421,326,391,453,505,"PUERTO RICO Mayagüez Municipio"]
[null,"PUERTO RICO","Moca Municipio","Moca Municipio",17700,238,285,329,367,285,342,395,441,"PUERTO RICO Moca Municipio"]
[null,"PUERTO RICO","Morovis Municipio","Morovis Municipio",25900,323,387,447,500,387,465,537,600,"PUERTO RICO Morovis Municipio"]
[null,"PUERTO RICO","Naguabo Municipio","Naguabo Municipio",25900,323,387,447,500,387,465,537,600,"PUERTO RICO Naguabo Municipio"]
[null,"PUERTO RICO","Naranjito Municipio","Naranjito Municipio",25900,323,387,447,500,387,465,537,600,{"$f":"B4741&\" \"&D4741","v":"PUERTO RICO Naranjito Municipio"}]
[null,"PUERTO RICO","Orocovis Municipio","Orocovis Municipio",19300,247,296,342,382,297,355,411,459,"PUERTO RICO Orocovis Municipio"]
[null,"PUERTO RICO","Patillas Municipio","Patillas Municipio",18500,276,332,383,428,332,399,460,514,"PUERTO RICO Patillas Municipio"]
[null,"PUERTO RICO","Peñuelas Municipio","Peñuelas Municipio",17200,231,278,321,358,278,334,385,430,"PUERTO RICO Peñuelas Municipio"]
[null,"PUERTO RICO","Ponce Municipio","Ponce Municipio",19200,290,348,401,448,348,418,482,538,"PUERTO RICO Ponce Municipio"]
[null,"PUERTO RICO","Quebradillas Municipio","Quebradillas Municipio",19300,247,296,342,382,297,355,411,459,"PUERTO RICO Quebradillas Municipio"]
[null,"PUERTO RICO","Rincón Municipio","Rincón Municipio",17700,238,285,329,367,285,342,395,441,"PUERTO RICO Rincón Municipio"]
[null,"PUERTO RICO","Río Grande Municipio","Río Grande Municipio",25900,323,387,447,500,387,465,537,600,"PUERTO RICO Río Grande Municipio"]
[null,"PUERTO RICO","Sabana Grande Municipio","Sabana Grande Municipio",20200,234,281,325,362,281,337,390,435,"PUERTO RICO Sabana Grande Municipio"]
[null,"PUERTO RICO","Salinas Municipio","Salinas Municipio",18100,231,278,321,358,278,334,385,430,"PUERTO RICO Salinas Municipio"]
[null,"PUERTO RICO","San Germán Municipio","San Germán Municipio",20200,234,281,325,362,281,337,390,435,"PUERTO RICO San Germán Municipio"]
[null,"PUERTO RICO","San Juan Municipio","San Juan Municipio",25900,323,387,447,500,387,465,537,600,"PUERTO RICO San Juan Municipio"]
[null,"PUERTO RICO","San Lorenzo Municipio","San Lorenzo Municipio",26500,293,351,405,452,351,421,486,543,"PUERTO RICO San Lorenzo Municipio"]
[null,"PUERTO RICO","San Sebastián Municipio","San Sebastián Municipio",17700,238,285,329,367,285,342,395,441,"PUERTO RICO San Sebastián Municipio"]
[null,"PUERTO RICO","Santa Isabel Municipio","Santa Isabel Municipio",18100,231,278,321,358,278,334,385,430,"PUERTO RICO Santa Isabel Municipio"]
[null,"PUERTO RICO","Toa Alta Municipio","Toa Alta Municipio",25900,323,387,447,500,387,465,537,600,"PUERTO RICO Toa Alta Municipio"]
[null,"PUERTO RICO","Toa Baja Municipio","Toa Baja Municipio",25900,323,387,447,500,387,465,537,600,"PUERTO RICO Toa Baja Municipio"]
[null,"PUERTO RICO","Trujillo Alto Municipio","Trujillo Alto Municipio",25900,323,387,447,500,387,465,537,600,"PUERTO RICO Trujillo Alto Municipio"]
[null,"PUERTO RICO","Utuado Municipio","Utuado Municipio",18100,231,278,321,358,278,334,385,430,"PUERTO RICO Utuado Municipio"]
[null,"PUERTO RICO","Vega Alta Municipio","Vega Alta Municipio",25900,323,387,447,500,387,465,537,600,"PUERTO RICO Vega Alta Municipio"]
[null,"PUERTO RICO","Vega Baja Municipio","Vega Baja Municipio",25900,323,387,447,500,387,465,537,600,"PUERTO RICO Vega Baja Municipio"]
[null,"PUERTO RICO","Vieques Municipio","Vieques Municipio",18100,231,278,321,358,278,334,385,430,"PUERTO RICO Vieques Municipio"]
[null,"PUERTO RICO","Villalba Municipio","Villalba Municipio",19200,290,348,401,448,348,418,482,538,"PUERTO RICO Villalba Municipio"]
[null,"PUERTO RICO","Yabucoa Municipio","Yabucoa Municipio",25900,323,387,447,500,387,465,537,600,"PUERTO RICO Yabucoa Municipio"]
[null,"PUERTO RICO","Yauco Municipio","Yauco Municipio",17200,231,278,321,358,278,334,385,430,"PUERTO RICO Yauco Municipio"]
[null,"VIRGIN ISLANDS","St. Croix","St. Croix",30900,405,486,561,627,486,583,674,753,"VIRGIN ISLANDS St. Croix"]
[null,"VIRGIN ISLANDS","St. John","St. John",41500,562,675,778,868,675,810,934,1042,"VIRGIN ISLANDS St. John"]
[null,"VIRGIN ISLANDS","St. Thomas","St. Thomas",41500,562,675,778,868,675,810,934,1042,"VIRGIN ISLANDS St. Thomas"]
[null,"National NonMetro","National NonMetro","National NonMetro",52500,492,591,682,761,591,709,819,913,"National NonMetro for Rural 9% Rent Floor"]

{"sheet":"Bev's Work Space","index":34,"n_rows":29,"n_cols":13,"rows_kept":29,"cut":false,"hidden":true,"merged":[[8,12,10,12],[8,6,10,6],[8,7,10,7],[8,8,10,8],[8,9,10,9],[8,10,10,10],[8,1,10,1],[8,3,10,3],[8,4,10,4],[8,5,10,5],[8,11,10,11]]}
[]
[]
[]
[null,"(Bonnie's Report - Deferred Loans Only)",null,null,null,null,null,"Preservation/Revitalization Evaluation Process - PREP"]
[]
[]
[null,"(AMAS Headers)"]
[null,"State","Project Name","Borrower ID,   and Project  Number","LN_GRT_AMT","REPYMT_PRD","NXTINSTL_AMT","DTECLSG_YMD"]
[null,"State","Project Name","Borrower ID,   and Project  Number","Loan Number Deferred","Original Loan Amount","Original Loan Term","Original Monthly Loan Payment","Original Closing Date","Amt UPB to be Deferred","Current Note Rate","Adusted Terms = Deferral Length","Estimated Period - Oblg to Closing  "]
[]
[]
[]
[]
[]
[]
[]
[]
[]
[]
[]
[]
[]
[]
[]
[null,"Type Below other Test - Validations you would like to see built into this spreadsheet "]
[]
[null,null,"Raw Data Page for Print Merge of Documents & Forms"]
[null,null,"Summary Page for Portfolio"]
[null,null,"Executive Summary Big Picture Page with key points for marketing and sales pitch of our results"]

{"sheet":"Servicing Info Print Page","index":35,"n_rows":9,"n_cols":1,"rows_kept":9,"cut":false,"hidden":true,"merged":[]}
["Loan Agreement "]
["RTO"]
["Reserve"]
[]
["Cushion Operations & Incidentals:"]
[]
["Additonal Deposits to the Reserve"]
[]
["Additonal Deposits to the General Fund"]